{"text_format":"1","workbook":"xlsx","n_sheets":16,"sheets":["HOME","GETTING STARTED","CUSTOMIZATIONS","SUB AGENCY & INTERNAL TOOL","INTERNAL PLAN REVIEW","AGENCY DETAILS","AGENCY WORKFORCE","PROFILE SUMMARY","CENTRAL DATA","CENTRAL ANALYSIS","REPORTDATA","DHRM ADMIN","IMPORTED DATA","TRANSFORMED DATA","DATA EXPORT","INTERNAL TOOL SETTINGS"],"not_rendered":{"charts":11,"images":64,"macros":1,"external_links":0,"defined_names":13,"comments":0,"pivot_tables":0},"unopened":[],"bounds":{"document_bytes":16777216,"sheet_cells":100000,"rows_first":2000,"rows_last":500,"rows_between":2000,"halvings":0,"cell_chars":16384,"cell_head_chars":4096},"cells_cut":0,"cells_raw":0,"read":"whole","date_system":"1900"}

{"sheet":"HOME","index":0,"n_rows":38,"n_cols":30,"rows_kept":38,"cut":false,"hidden":false,"merged":[[0,24,3,27],[37,4,37,19],[23,13,34,16],[15,13,15,16],[10,10,11,21],[12,15,12,21],[15,7,15,10],[23,1,31,4],[23,19,34,22],[23,7,34,10],[19,1,21,4],[19,7,21,10],[19,19,21,22],[19,13,21,16],[32,2,34,4],[4,25,5,27]]}
[null,null,null,null,null,null,null,null,null,null,null,null,null,null,null,null,null,null,null,null,null,null,null,null,"DHRM ADMIN"]
[]
[]
[]
[null,null,null,null,null,null,null,null,null,null,null,null,null,null,null,null,null,null,null,null,null,null,null,null,null,{"$f":"AD6","v":"LOCKED"}]
[null,null,null,null,null,null,null,null,null,null,null,null,null,null,null,null,null,null,null,null,null,null,null,null,null,null,null,null,null,"LOCKED"]
[]
[]
[]
[]
[null,null,null,null,null,null,null,null,null,null,{"$f":"IF('AGENCY DETAILS'!J26=\"\",\"\",'AGENCY DETAILS'!J26)","v":""}]
[]
[null,null,null,null,null,null,null,null,null,null,null,null,null,null,null,{"$f":"IF(K11=\"\",\"\",CONCATENATE(\"Fiscal Year \",'DHRM ADMIN'!P15))","v":""}]
[]
[]
[null,null,null,null,null,null,null,"STEP % COMPLETION",null,null,null,null,null,"STEP % COMPLETION"]
[]
[]
[]
[null,"GETTING STARTED",null,null,null,null,null,"CUSTOMIZATIONS",null,null,null,null,null,"AGENCY DETAILS & WORKFORCE",null,null,null,null,null,"AGENCY PROFILE SUMMARY"]
[]
[]
[]
[null,"It is highly recommended first time users start here. \n\n\n reviews important features, setup, and instructions for using this tool to its full potential. \n\n\n",null,null,null,null,null,"\nidentifies aspects of the workforce planning tools and templates that can be customized to the specific agency, such as employee classifications and executive team positions.\n\nEnable use of the Sub-Agency, Internal Department, or Team Input Tool\n\n",null,null,null,null,null,"\nidentifies general agency information, such as name, secretariat, number, positions, and strategic plan. Though some data elements are optional, they may be required to utilize other tools or templates.\n\n\nidentifies the workforce demographic information for employees, leaders, and executives at the agency.\n\n",null,null,null,null,null,"\nprovides a brief workforce insights summary of the agency profile, with options to filter between fiscal years and employee demographics (non-leader, leader, or executive).\n\nThe workforce insights summary can also be exported as a standalone PDF report."]
[]
[]
[]
[]
[]
[]
[]
[]
[null,null,"Users can also import data from other tools on the Getting Started Tab."]
[]
[]
[]
[]
[null,null,null,null,"For questions using this tool, please contact DHRM Workforce Planning at dhrm.wfp@dhrm.virginia.gov.",null,null,null,null,null,null,null,null,null,null,null,null,null,null,null,null,null,"Version 2023.2"]

{"sheet":"GETTING STARTED","index":1,"n_rows":180,"n_cols":16,"rows_kept":180,"cut":false,"hidden":false,"merged":[[141,1,145,15],[179,1,179,9],[179,10,179,14],[147,1,148,15],[178,10,178,15],[157,10,157,11],[158,10,158,11],[159,10,159,11],[160,10,160,11],[161,10,161,11],[162,10,162,11],[150,2,151,12],[150,13,151,15],[152,2,155,15],[165,2,166,12],[165,13,166,15],[78,5,86,13],[138,1,138,15],[139,1,140,15],[91,1,93,15],[101,1,102,15],[103,1,107,15],[116,10,116,15],[117,1,117,9],[117,10,117,14],[134,10,134,15],[135,1,135,9],[135,10,135,14],[119,1,120,15],[121,1,124,15],[167,2,168,15],[5,2,7,14],[8,2,11,14],[12,1,13,15],[14,1,16,15],[35,1,36,15],[37,1,38,15],[40,3,45,7],[40,11,45,15],[47,3,52,7],[47,11,52,15],[54,3,59,7],[54,11,59,15],[61,5,66,13],[68,5,76,13],[89,1,90,15]]}
[]
[]
[]
[]
[]
[null,null,"GETTING STARTED"]
[]
[]
[null,null,"This tab reviews key features of this tool and steps required in order to utilize all features. Taking the time to review each section will significantly enhance your understanding of the design and your ability to use the tool efficiently.\nIt is highly recommended first time users review this tab."]
[]
[]
[]
[null,"Step 1: Review Overall Setup"]
[]
[null,"To use this tool, it is recommended to follow the tabs in order from left to right, completing each step in order. For each step, instructions are included underneath. Some steps also provide sub-steps with additional instructions. Information required to be entered is noted by a yellow color and labeled either to the left or above the cell."]
[]
[]
[]
[]
[]
[]
[]
[]
[]
[]
[]
[]
[]
[]
[]
[]
[]
[]
[]
[]
[null,"Step 2: Review Important Features of This Tool"]
[]
[null,"This tool utilizes various features to assist with entering and interpreting workforce information. Below are descriptions of the tool's key features and design. "]
[]
[]
[null,null,null,"USE OF EXCEL MACROS\nThis tool utilizes a series of excel macros, which are custom actions used to automate specific tasks. This tool performs best when using Excel 2016 or later.  \nNOTE: MACROS MUST BE ENABLED TO USE THEM. SEE BELOW TO LEARN HOW.",null,null,null,null,null,null,null,"EASY FILE NAVIGATION\nEach excel worksheet, or tab, houses related information which is compiled together into a single report. Links to each are frozen at the top of each tab. See the HOME tab for descriptions of each."]
[]
[]
[]
[]
[]
[]
[null,null,null,"COLOR GUIDED DATA ENTRY\nColors are used to identify what data should be entered and where. Yellow indicates required information, Green indicates optional information, and Gray indicates information that is not required",null,null,null,null,null,null,null,"BUILT-IN HELP FEATURE\nThis tool has a built-in help feature, noted by a question mark in a blue circle. Simply click on the question mark to gain additional information, definitions, and steps to complete each section. (NOTE: Cannot edit template while a help box is open)"]
[]
[]
[]
[]
[]
[]
[null,null,null,"PROGRESS INDICATORS\nThe home tab shows the overall progress for each stage of developing the Agency Profile. Each tab also has indicators for each specific step to show if they are complete or incomplete. ",null,null,null,null,null,null,null,"ONLINE INSTRUCTIONS\nA full step by step guide and data definitions can be found on the DHRM Workforce Planning website. "]
[]
[]
[]
[]
[]
[]
[null,null,null,null,null,"ADVANCED FEATURE: DATA IMPORT\nThis template is part of an suite of integrated workforce planning and development tools. Using these tools allows for information to easily be imported from one tool to the next. Data cannot be imported unless using a specific template, provided by DHRM upon request.\n MACROS MUST BE ENABLED TO UTILIZE THIS FEATURE."]
[]
[]
[]
[]
[]
[]
[null,null,null,null,null,"TOOL VERSIONS\nAs we continue to enhance this tool, integrate it with other elements of workforce planning and development, or as changes to any mandates or guidance occurs, new versions of this tool may be released. The version number is located on the home tab in the bottom right corner. \n\nIt is important to be using the most up to date version, which will be noted on the DHRM Workforce Planning Website. As new versions are released, the prior version data can be imported so that no progress is lost."]
[]
[]
[]
[]
[]
[]
[]
[]
[]
[null,null,null,null,null,"INCREASING LEVELS OF ANALYSIS\nTo better assist with navigating the landscape of workforce planning and development, the suite of integrated tools and templates provide indicators for three levels of analysis: foundational, in-depth, and comprehensive. These levels are used to better identify why information is collected and how it can be used throughout the tools and templates.\n\nAll foundational level elements are required and both the in-depth and comprehensive elements are highly encouraged, but optional."]
[]
[]
[]
[]
[]
[]
[]
[]
[]
[]
[null,"(Optional) Step 3: Enable Macros to Utilize Full Functionality"]
[]
[null,"When first opening the file, or anytime the filename changes, you will see a \"Security Warning\" at the top (shown in the picture below) indicating Macros have been disabled. Click the \"Enable Content\" button to enable macros for the file."]
[]
[]
[]
[]
[]
[]
[]
[]
[]
[null,"(Optional) Step 4: Import Data from a Previous Version of the Agency Profile"]
[]
[null,"If using the Agency Profile Template for the first time or using the current version, this step can be skipped. For efficiency and integration, data from prior versions of the Agency Profile can be imported. Imported data will automatically enter the information into the respective cells. Agencies are encouraged to still review the data for accuracy. Complete this step first to ensure no progress is lost. Importing data from other sources before a prior version of the Agency Profile may result in data being overwritten."]
[]
[]
[]
[]
[]
[]
[]
[]
[]
[]
[]
[]
[null,"Last Uploaded Date and Time",null,null,null,null,null,null,null,null,"Upload Status"]
[null,null,null,null,null,null,null,null,null,null,null,null,null,null,null,{"$f":"IF(K118=\"upload complete\",3,IF(K118=\"pending\",0,IF(K118=\"upload incomplete\",-1,\"\")))","v":""}]
[]
[null,"(Optional) Step 5: Import Data from the Prior Year Agency Profile"]
[]
[null,"For efficiency and integration, data from the prior year Agency Profile can be imported. Imported data will automatically enter the information into the respective cells. Agencies are encouraged to still review the data for accuracy. Any imported information can still be updated by the Agency. Information imported includes all data elements from the prior years, agency customizations previously used, and the future direction (strategic objectives and actions) that were entered in the prior year."]
[]
[]
[]
[]
[]
[]
[]
[]
[]
[]
[]
[]
[null,"Last Uploaded Date and Time",null,null,null,null,null,null,null,null,"Upload Status"]
[null,null,null,null,null,null,null,null,null,null,null,null,null,null,null,{"$f":"IF(K136=\"upload complete\",3,IF(K136=\"pending\",0,IF(K136=\"upload incomplete\",-1,\"\")))","v":""}]
[]
[]
[]
[null,"(Optional) Step 6: Import Data from Other Sources After Entering Agency Customizations (Follow Order)"]
[]
[null,"For efficiency and integration, the strategy objectives and action items from the most recent Employment Opportunities Plan templates can be imported. Imported data will automatically enter the information into the respective cells. Agencies are encouraged to still review the data for accuracy. Any information imported can still be updated by the Agency. Before importing data, please indicate which objectives of the Employment Opportunities Plan should be imported, whether they should be added to the existing Future Direction Section on the Agency Details Tab, or if they should replace specific objectives already entered in the Future Direction Section in Step 6(a) below."]
[]
[]
[]
[]
[]
[null,"The Employment Opportunities Plan Strategic Plan Objectives and Actions can be Imported "]
[]
[]
[null,null,"Step 6(a): Identify which Objectives from the EOP to Include"]
[]
[null,null,"INSTRUCTIONS: Identify which objectives from the EOP to include by selecting \"yes\" from the dropdown menu of the \"Include\" column below for the respective EOP objectives to include. Next, identify if the objective should be added to the existing strategic objectives for the Future Direction section on the Agency Details tab, or if it should replace an existing objective. If replacing an objective, identify which objective should be replaced by entering the objective number in the \"Replace\" column."]
[]
[]
[]
[]
[null,null,null,null,null,null,null,null,null,"Include","Add or Replace",null,null,null,null,"Replace"]
[null,null,null,null,null,null,null,null,"EOP Objective 1",null,null,null,null,null,"Replace Which Profile Obj."]
[null,null,null,null,null,null,null,null,"EOP Objective 2",null,null,null,null,null,"Replace Which Profile Obj."]
[null,null,null,null,null,null,null,null,"EOP Objective 3",null,null,null,null,null,"Replace Which Profile Obj."]
[null,null,null,null,null,null,null,null,"EOP Objective 4",null,null,null,null,null,"Replace Which Profile Obj."]
[null,null,null,null,null,null,null,null,"EOP Objective 5",null,null,null,null,null,"Replace Which Profile Obj."]
[]
[]
[null,null,"Step 6(b): Import the most recent Employment Opportunities Plan"]
[]
[null,null,"INSTRUCTIONS: Import the most recent Employment Opportunities Plan by clicking the import data icon (white paper with green arrow) and selecting the employment opportunities plan. "]
[]
[]
[]
[]
[]
[]
[]
[]
[]
[]
[null,"Last Uploaded Date and Time",null,null,null,null,null,null,null,null,"Upload Status"]
[null,null,null,null,null,null,null,null,null,null,null,null,null,null,null,{"$f":"IF(K180=\"upload complete\",3,IF(K180=\"pending\",0,IF(K180=\"upload incomplete\",-1,\"\")))","v":""}]

{"sheet":"CUSTOMIZATIONS","index":2,"n_rows":142,"n_cols":23,"rows_kept":142,"cut":false,"hidden":false,"merged":[[105,14,105,15],[101,14,101,15],[98,4,98,10],[98,11,98,13],[98,14,98,15],[100,4,100,10],[98,2,98,3],[99,2,99,3],[110,2,111,13],[104,14,104,15],[105,4,105,10],[102,4,102,10],[102,11,102,13],[102,14,102,15],[105,11,105,13],[103,4,103,10],[103,11,103,13],[103,14,103,15],[104,4,104,10],[104,11,104,13],[100,11,100,13],[100,14,100,15],[101,4,101,10],[101,11,101,13],[112,2,115,15],[106,4,106,10],[106,11,106,13],[106,14,106,15],[107,4,107,10],[107,11,107,13],[107,14,107,15],[108,4,108,10],[108,11,108,13],[108,14,108,15],[94,4,94,10],[94,11,94,13],[94,14,94,15],[99,4,99,10],[99,11,99,13],[99,14,99,15],[97,4,97,10],[97,11,97,13],[97,14,97,15],[95,4,95,10],[95,11,95,13],[95,14,95,15],[96,4,96,10],[96,11,96,13],[96,14,96,15],[89,4,89,10],[89,11,89,13],[89,14,89,15],[93,4,93,10],[93,11,93,13],[93,14,93,15],[90,11,90,13],[90,14,90,15],[91,4,91,10],[91,11,91,13],[91,14,91,15],[92,4,92,10],[92,11,92,13],[92,14,92,15],[90,4,90,10],[80,14,80,15],[81,4,81,10],[81,11,81,13],[81,14,81,15],[83,4,83,10],[87,11,87,13],[87,14,87,15],[88,4,88,10],[88,11,88,13],[88,14,88,15],[96,2,96,3],[97,2,97,3],[94,2,94,3],[95,2,95,3],[92,2,92,3],[93,2,93,3],[90,2,90,3],[91,2,91,3],[108,2,108,3],[106,2,106,3],[107,2,107,3],[104,2,104,3],[105,2,105,3],[102,2,102,3],[103,2,103,3],[100,2,100,3],[101,2,101,3],[76,4,76,10],[71,4,71,10],[72,4,72,10],[74,4,74,10],[87,4,87,10],[44,2,45,13],[46,2,49,15],[35,2,35,5],[35,6,35,15],[36,2,36,5],[78,2,78,3],[79,2,79,3],[83,11,83,13],[83,14,83,15],[84,4,84,10],[84,11,84,13],[84,14,84,15],[85,4,85,10],[85,11,85,13],[85,14,85,15],[79,11,79,13],[79,14,79,15],[80,4,80,10],[80,11,80,13],[88,2,88,3],[89,2,89,3],[86,2,86,3],[87,2,87,3],[84,2,84,3],[85,2,85,3],[82,2,82,3],[83,2,83,3],[81,2,81,3],[70,11,70,13],[70,14,70,15],[60,4,63,15],[68,4,68,10],[68,11,68,13],[68,14,68,15],[69,4,69,10],[29,2,29,5],[30,2,30,5],[34,2,34,5],[34,6,34,15],[29,6,29,15],[41,2,41,5],[41,6,41,15],[38,2,38,5],[38,6,38,15],[39,2,39,5],[60,1,63,3],[70,2,70,3],[71,2,71,3],[68,2,68,3],[69,2,69,3],[69,11,69,13],[54,1,55,12],[54,13,55,15],[56,1,58,15],[5,2,7,14],[8,2,11,14],[69,14,69,15],[26,2,26,5],[26,6,26,15],[27,2,27,5],[27,6,27,15],[28,2,28,5],[28,6,28,15],[16,1,17,12],[16,13,17,15],[18,1,21,15],[32,2,32,5],[32,6,32,15],[33,2,33,5],[33,6,33,15],[70,4,70,10],[78,4,78,10],[78,11,78,13],[78,14,78,15],[79,4,79,10],[77,4,77,10],[80,2,80,3],[77,11,77,13],[77,14,77,15],[71,14,71,15],[72,11,72,13],[72,14,72,15],[76,2,76,3],[77,2,77,3],[74,2,74,3],[75,2,75,3],[72,2,72,3],[73,2,73,3],[74,11,74,13],[74,14,74,15],[75,11,75,13],[75,14,75,15],[76,11,76,13],[76,14,76,15],[75,4,75,10],[121,1,122,15],[123,1,126,15],[137,2,139,14],[14,1,15,3],[52,1,53,3],[40,6,40,15],[36,6,36,15],[30,6,30,15],[31,2,31,5],[31,6,31,15],[73,4,73,10],[73,11,73,13],[73,14,73,15],[71,11,71,13],[37,2,37,5],[37,6,37,15],[86,4,86,10],[86,11,86,13],[86,14,86,15],[39,6,39,15],[40,2,40,5],[82,4,82,10],[82,11,82,13],[82,14,82,15]]}
[null,null,null,null,null,null,null,null,null,null,null,null,null,null,null,null,null,null,null,null,null,null,1]
[null,null,null,null,null,null,null,null,null,null,null,null,null,null,null,null,null,null,null,null,null,null,1]
[null,null,null,null,null,null,null,null,null,null,null,null,null,null,null,null,null,null,null,null,null,null,1]
[null,null,null,null,null,null,null,null,null,null,null,null,null,null,null,null,null,null,null,null,null,null,1]
[null,null,null,null,null,null,null,null,null,null,null,null,null,null,null,null,null,null,null,null,null,null,1]
[null,null,"AGENCY CUSTOMIZATION",null,null,null,null,null,null,null,null,null,null,null,null,null,null,null,null,null,null,null,1]
[null,null,null,null,null,null,null,null,null,null,null,null,null,null,null,null,null,null,null,null,null,null,1]
[null,null,null,null,null,null,null,null,null,null,null,null,null,null,null,null,null,null,null,null,null,null,1]
[null,null,"This tab allows the agency to customize the employee classifications, the positions identified as part of the executive team, and whether to enable using the Internal Sub-Agency, Department, or Team Tool to support the workforce planning process. ",null,null,null,null,null,null,null,null,null,null,null,null,null,null,null,null,null,null,null,1]
[null,null,null,null,null,null,null,null,null,null,null,null,null,null,null,null,null,null,null,null,null,null,0]
[null,null,null,null,null,null,null,null,null,null,null,null,null,null,null,null,null,null,null,null,null,null,0]
[null,null,null,null,null,null,null,null,null,null,null,null,null,null,null,null,null,null,null,null,null,null,1]
[null,null,null,null,null,null,null,null,null,null,null,null,null,null,null,null,null,null,null,null,null,null,1]
[null,null,null,null,null,null,null,null,null,null,null,null,null,null,null,null,null,null,null,null,null,null,1]
[null,null,null,null,null,null,null,null,null,null,null,null,null,null,null,null,null,null,null,null,null,null,1]
[null,null,null,null,null,null,null,null,null,null,null,null,null,null,null,null,null,null,null,null,null,null,1]
[null,"Step 1: Identify Employee Classifications",null,null,null,null,null,null,null,null,null,null,null,{"$f":"IF(SUM(W27:W42)>1,\"Complete\",\"Incomplete\")","v":"Incomplete"},null,null,null,null,null,null,null,null,1]
[null,null,null,null,null,null,null,null,null,null,null,null,null,null,null,null,null,null,null,null,null,null,1]
[null,"INSTRUCTIONS: Please enter the different employee classifications at the agency, even if they include only one employee, such as classified, wage, faculty, etc., the agency is including in their workforce analysis and strategy by clicking the \"add classification\" blue button below. Up to 15 different employee classifications can be added. To remove the last classification, click the \"remove last classification\" blue button below. ",null,null,null,null,null,null,null,null,null,null,null,null,null,null,null,null,null,null,null,null,1]
[null,null,null,null,null,null,null,null,null,null,null,null,null,null,null,null,null,null,null,null,null,null,1]
[null,null,null,null,null,null,null,null,null,null,null,null,null,null,null,null,null,null,null,null,null,null,1]
[null,null,null,null,null,null,null,null,null,null,null,null,null,null,null,null,null,null,null,null,null,null,1]
[null,null,null,null,null,null,null,null,null,null,null,null,null,null,null,null,null,null,null,null,null,null,1]
[null,null,null,null,null,null,null,null,null,null,null,null,null,null,null,null,null,null,null,null,null,null,1]
[null,null,null,null,null,null,null,null,null,null,null,null,null,null,null,null,null,null,null,null,null,null,1]
[null,null,null,null,null,null,null,null,null,null,null,null,null,null,null,null,null,null,null,null,null,null,1]
[null,null,"Classification Title",null,null,null,"Description (Very Brief)",null,null,null,null,null,null,null,null,null,null,null,null,null,null,null,{"$f":"IF('CENTRAL ANALYSIS'!$C$23>=1,1,0)","v":0}]
[null,null,null,null,null,null,null,null,null,null,null,null,null,null,null,null,null,{"$f":"IF(AND(C28<>\"\",W28=1),1,0)","v":0},null,null,null,null,{"$f":"IF('CENTRAL ANALYSIS'!$C$23>=1,1,0)","v":0}]
[null,null,null,null,null,null,null,null,null,null,null,null,null,null,null,null,null,{"$f":"IF(AND(C29<>\"\",W29=1),1,0)","v":0},null,null,null,null,{"$f":"IF('CENTRAL ANALYSIS'!$C$23>=2,1,0)","v":0}]
[null,null,"",null,null,null,"",null,null,null,null,null,null,null,null,null,null,0,null,null,null,null,{"$f":"IF('CENTRAL ANALYSIS'!$C$23>=3,1,0)","v":0}]
[null,null,"",null,null,null,"",null,null,null,null,null,null,null,null,null,null,0,null,null,null,null,{"$f":"IF('CENTRAL ANALYSIS'!$C$23>=4,1,0)","v":0}]
[null,null,"",null,null,null,"",null,null,null,null,null,null,null,null,null,null,0,null,null,null,null,{"$f":"IF('CENTRAL ANALYSIS'!$C$23>=5,1,0)","v":0}]
[null,null,"",null,null,null,"",null,null,null,null,null,null,null,null,null,null,0,null,null,null,null,{"$f":"IF('CENTRAL ANALYSIS'!$C$23>=6,1,0)","v":0}]
[null,null,"",null,null,null,"",null,null,null,null,null,null,null,null,null,null,0,null,null,null,null,{"$f":"IF('CENTRAL ANALYSIS'!$C$23>=7,1,0)","v":0}]
[null,null,"",null,null,null,"",null,null,null,null,null,null,null,null,null,null,0,null,null,null,null,{"$f":"IF('CENTRAL ANALYSIS'!$C$23>=8,1,0)","v":0}]
[null,null,"",null,null,null,"",null,null,null,null,null,null,null,null,null,null,0,null,null,null,null,{"$f":"IF('CENTRAL ANALYSIS'!$C$23>=9,1,0)","v":0}]
[null,null,"",null,null,null,"",null,null,null,null,null,null,null,null,null,null,0,null,null,null,null,{"$f":"IF('CENTRAL ANALYSIS'!$C$23>=10,1,0)","v":0}]
[null,null,"",null,null,null,"",null,null,null,null,null,null,null,null,null,null,0,null,null,null,null,{"$f":"IF('CENTRAL ANALYSIS'!$C$23>=11,1,0)","v":0}]
[null,null,"",null,null,null,"",null,null,null,null,null,null,null,null,null,null,0,null,null,null,null,{"$f":"IF('CENTRAL ANALYSIS'!$C$23>=12,1,0)","v":0}]
[null,null,"",null,null,null,"",null,null,null,null,null,null,null,null,null,null,0,null,null,null,null,{"$f":"IF('CENTRAL ANALYSIS'!$C$23>=13,1,0)","v":0}]
[null,null,"",null,null,null,"",null,null,null,null,null,null,null,null,null,null,0,null,null,null,null,{"$f":"IF('CENTRAL ANALYSIS'!$C$23>=14,1,0)","v":0}]
[null,null,"",null,null,null,"",null,null,null,null,null,null,null,null,null,null,0,null,null,null,null,{"$f":"IF('CENTRAL ANALYSIS'!$C$23>=15,1,0)","v":0}]
[null,null,null,null,null,null,null,null,null,null,null,null,null,null,null,null,null,null,null,null,null,null,1]
[null,null,null,null,null,null,null,null,null,null,null,null,null,null,null,null,null,null,null,null,null,null,1]
[null,null,"(Optional) Step 1(b): Enter Employee Classifications if Not Using Macros",null,null,null,null,null,null,null,null,null,null,null,null,null,null,null,null,null,null,null,1]
[null,null,null,null,null,null,null,null,null,null,null,null,null,null,null,null,null,null,null,null,null,null,1]
[null,null,"If chosen not to use Macros, please enter the total number of employee classifications below. The worksheet will then need to be filtered manually by going to cell \"W1\" and clicking the Filter Icon. This will display a menu where the checkbox next to \"0\" should be empty. If it is, click the \"OK\" button to display the objective and action item entry cells above. Enter the employee classification information in the cells above.",null,null,null,null,null,null,null,null,null,null,null,null,null,null,null,null,null,null,null,1]
[null,null,null,null,null,null,null,null,null,null,null,null,null,null,null,null,null,null,null,null,null,null,1]
[null,null,null,null,null,null,null,null,null,null,null,null,null,null,null,null,null,null,null,null,null,null,1]
[null,null,null,null,null,null,null,null,null,null,null,null,null,null,null,null,null,null,null,null,null,null,1]
[null,null,null,null,null,null,null,null,null,null,null,null,null,null,"Total Number of Employee Classifications ",null,null,null,null,null,null,null,1]
[null,null,null,null,null,null,null,null,null,null,null,null,null,null,null,null,null,null,null,null,null,null,1]
[null,null,null,null,null,null,null,null,null,null,null,null,null,null,null,null,null,null,null,null,null,null,1]
[null,null,null,null,null,null,null,null,null,null,null,null,null,null,null,null,null,null,null,null,null,null,1]
[null,"Step 2: Identify Agency Executive Team",null,null,null,null,null,null,null,null,null,null,null,{"$f":"IF(AND(E61<>\"\",SUM(W69:W109)>1),\"Complete\",\"Incomplete\")","v":"Incomplete"},null,null,null,null,null,null,null,null,1]
[null,null,null,null,null,null,null,null,null,null,null,null,null,null,null,null,null,null,null,null,null,null,1]
[null,"INSTRUCTIONS: Please enter a brief description on how the agency identifies the Executive Team. After, please identify the specific positions considered to be a part of the executive team by clicking the \"add position\" button. Please enter the position number, working title, the degree of separation (position levels) from the agency head and if they are in an appointed position or not. Up to 40 positions can be added.",null,null,null,null,null,null,null,null,null,null,null,null,null,null,null,null,null,null,null,null,1]
[null,null,null,null,null,null,null,null,null,null,null,null,null,null,null,null,null,null,null,null,null,null,1]
[null,null,null,null,null,null,null,null,null,null,null,null,null,null,null,null,null,null,null,null,null,null,1]
[null,null,null,null,null,null,null,null,null,null,null,null,null,null,null,null,null,null,null,null,null,null,1]
[null,"Executive Team Description and/or Process of How Executive Positions were identified.",null,null,null,null,null,null,null,null,null,null,null,null,null,null,null,{"$f":"IF(E61<>\"\",1,0)","v":0},null,null,null,null,1]
[null,null,null,null,null,null,null,null,null,null,null,null,null,null,null,null,null,null,null,null,null,null,1]
[null,null,null,null,null,null,null,null,null,null,null,null,null,null,null,null,null,null,null,null,null,null,1]
[null,null,null,null,null,null,null,null,null,null,null,null,null,null,null,null,null,null,null,null,null,null,1]
[null,null,null,null,null,null,null,null,null,null,null,null,null,null,null,null,null,null,null,null,null,null,1]
[null,null,null,null,null,null,null,null,null,null,null,null,null,null,null,null,null,null,null,null,null,null,1]
[null,null,null,null,null,null,null,null,null,null,null,null,null,null,null,null,null,null,null,null,null,null,1]
[null,null,null,null,null,null,null,null,null,null,null,null,null,null,null,null,null,null,null,null,null,null,1]
[null,null,"Position Number",null,"Working Title",null,null,null,null,null,null,"Degree from Agency Head",null,null,"Appointed?",null,null,null,null,null,null,null,{"$f":"IF('CENTRAL ANALYSIS'!$C$29>=1,1,0)","v":0}]
[null,null,null,null,null,null,null,null,null,null,null,null,null,null,null,null,null,{"$f":"IF(AND($W70=1,C70<>\"\"),1,0)","v":0},null,null,null,null,{"$f":"IF('CENTRAL ANALYSIS'!$C$29>=1,1,0)","v":0}]
[null,null,null,null,null,null,null,null,null,null,null,null,null,null,null,null,null,{"$f":"IF(AND($W71=1,C71<>\"\"),1,0)","v":0},null,null,null,null,{"$f":"IF('CENTRAL ANALYSIS'!$C$29>=2,1,0)","v":0}]
[null,null,null,null,null,null,null,null,null,null,null,null,null,null,null,null,null,0,null,null,null,null,{"$f":"IF('CENTRAL ANALYSIS'!$C$29>=3,1,0)","v":0}]
[null,null,null,null,null,null,null,null,null,null,null,null,null,null,null,null,null,0,null,null,null,null,{"$f":"IF('CENTRAL ANALYSIS'!$C$29>=4,1,0)","v":0}]
[null,null,null,null,null,null,null,null,null,null,null,null,null,null,null,null,null,0,null,null,null,null,{"$f":"IF('CENTRAL ANALYSIS'!$C$29>=5,1,0)","v":0}]
[null,null,null,null,null,null,null,null,null,null,null,null,null,null,null,null,null,0,null,null,null,null,{"$f":"IF('CENTRAL ANALYSIS'!$C$29>=6,1,0)","v":0}]
[null,null,null,null,null,null,null,null,null,null,null,null,null,null,null,null,null,0,null,null,null,null,{"$f":"IF('CENTRAL ANALYSIS'!$C$29>=7,1,0)","v":0}]
[null,null,null,null,null,null,null,null,null,null,null,null,null,null,null,null,null,0,null,null,null,null,{"$f":"IF('CENTRAL ANALYSIS'!$C$29>=8,1,0)","v":0}]
[null,null,"",null,"",null,null,null,null,null,null,"",null,null,"",null,null,0,null,null,null,null,{"$f":"IF('CENTRAL ANALYSIS'!$C$29>=9,1,0)","v":0}]
[null,null,"",null,"",null,null,null,null,null,null,"",null,null,"",null,null,0,null,null,null,null,{"$f":"IF('CENTRAL ANALYSIS'!$C$29>=10,1,0)","v":0}]
[null,null,"",null,"",null,null,null,null,null,null,"",null,null,"",null,null,0,null,null,null,null,{"$f":"IF('CENTRAL ANALYSIS'!$C$29>=11,1,0)","v":0}]
[null,null,"",null,"",null,null,null,null,null,null,"",null,null,"",null,null,0,null,null,null,null,{"$f":"IF('CENTRAL ANALYSIS'!$C$29>=12,1,0)","v":0}]
[null,null,"",null,"",null,null,null,null,null,null,"",null,null,"",null,null,0,null,null,null,null,{"$f":"IF('CENTRAL ANALYSIS'!$C$29>=13,1,0)","v":0}]
[null,null,"",null,"",null,null,null,null,null,null,"",null,null,"",null,null,0,null,null,null,null,{"$f":"IF('CENTRAL ANALYSIS'!$C$29>=14,1,0)","v":0}]
[null,null,"",null,"",null,null,null,null,null,null,"",null,null,"",null,null,0,null,null,null,null,{"$f":"IF('CENTRAL ANALYSIS'!$C$29>=15,1,0)","v":0}]
[null,null,"",null,"",null,null,null,null,null,null,"",null,null,"",null,null,0,null,null,null,null,{"$f":"IF('CENTRAL ANALYSIS'!$C$29>=16,1,0)","v":0}]
[null,null,"",null,"",null,null,null,null,null,null,"",null,null,"",null,null,0,null,null,null,null,{"$f":"IF('CENTRAL ANALYSIS'!$C$29>=17,1,0)","v":0}]
[null,null,"",null,"",null,null,null,null,null,null,"",null,null,"",null,null,0,null,null,null,null,{"$f":"IF('CENTRAL ANALYSIS'!$C$29>=18,1,0)","v":0}]
[null,null,"",null,"",null,null,null,null,null,null,"",null,null,"",null,null,0,null,null,null,null,{"$f":"IF('CENTRAL ANALYSIS'!$C$29>=19,1,0)","v":0}]
[null,null,"",null,"",null,null,null,null,null,null,"",null,null,"",null,null,0,null,null,null,null,{"$f":"IF('CENTRAL ANALYSIS'!$C$29>=20,1,0)","v":0}]
[null,null,"",null,"",null,null,null,null,null,null,"",null,null,"",null,null,0,null,null,null,null,{"$f":"IF('CENTRAL ANALYSIS'!$C$29>=21,1,0)","v":0}]
[null,null,"",null,"",null,null,null,null,null,null,"",null,null,"",null,null,0,null,null,null,null,{"$f":"IF('CENTRAL ANALYSIS'!$C$29>=22,1,0)","v":0}]
[null,null,"",null,"",null,null,null,null,null,null,"",null,null,"",null,null,0,null,null,null,null,{"$f":"IF('CENTRAL ANALYSIS'!$C$29>=23,1,0)","v":0}]
[null,null,"",null,"",null,null,null,null,null,null,"",null,null,"",null,null,0,null,null,null,null,{"$f":"IF('CENTRAL ANALYSIS'!$C$29>=24,1,0)","v":0}]
[null,null,"",null,"",null,null,null,null,null,null,"",null,null,"",null,null,0,null,null,null,null,{"$f":"IF('CENTRAL ANALYSIS'!$C$29>=25,1,0)","v":0}]
[null,null,"",null,"",null,null,null,null,null,null,"",null,null,"",null,null,0,null,null,null,null,{"$f":"IF('CENTRAL ANALYSIS'!$C$29>=26,1,0)","v":0}]
[null,null,"",null,"",null,null,null,null,null,null,"",null,null,"",null,null,0,null,null,null,null,{"$f":"IF('CENTRAL ANALYSIS'!$C$29>=27,1,0)","v":0}]
[null,null,"",null,"",null,null,null,null,null,null,"",null,null,"",null,null,0,null,null,null,null,{"$f":"IF('CENTRAL ANALYSIS'!$C$29>=28,1,0)","v":0}]
[null,null,"",null,"",null,null,null,null,null,null,"",null,null,"",null,null,0,null,null,null,null,{"$f":"IF('CENTRAL ANALYSIS'!$C$29>=29,1,0)","v":0}]
[null,null,"",null,"",null,null,null,null,null,null,"",null,null,"",null,null,0,null,null,null,null,{"$f":"IF('CENTRAL ANALYSIS'!$C$29>=30,1,0)","v":0}]
[null,null,"",null,"",null,null,null,null,null,null,"",null,null,"",null,null,0,null,null,null,null,{"$f":"IF('CENTRAL ANALYSIS'!$C$29>=31,1,0)","v":0}]
[null,null,"",null,"",null,null,null,null,null,null,"",null,null,"",null,null,0,null,null,null,null,{"$f":"IF('CENTRAL ANALYSIS'!$C$29>=32,1,0)","v":0}]
[null,null,"",null,"",null,null,null,null,null,null,"",null,null,"",null,null,0,null,null,null,null,{"$f":"IF('CENTRAL ANALYSIS'!$C$29>=33,1,0)","v":0}]
[null,null,"",null,"",null,null,null,null,null,null,"",null,null,"",null,null,0,null,null,null,null,{"$f":"IF('CENTRAL ANALYSIS'!$C$29>=34,1,0)","v":0}]
[null,null,"",null,"",null,null,null,null,null,null,"",null,null,"",null,null,0,null,null,null,null,{"$f":"IF('CENTRAL ANALYSIS'!$C$29>=35,1,0)","v":0}]
[null,null,"",null,"",null,null,null,null,null,null,"",null,null,"",null,null,0,null,null,null,null,{"$f":"IF('CENTRAL ANALYSIS'!$C$29>=36,1,0)","v":0}]
[null,null,"",null,"",null,null,null,null,null,null,"",null,null,"",null,null,0,null,null,null,null,{"$f":"IF('CENTRAL ANALYSIS'!$C$29>=37,1,0)","v":0}]
[null,null,"",null,"",null,null,null,null,null,null,"",null,null,"",null,null,0,null,null,null,null,{"$f":"IF('CENTRAL ANALYSIS'!$C$29>=38,1,0)","v":0}]
[null,null,"",null,"",null,null,null,null,null,null,"",null,null,"",null,null,0,null,null,null,null,{"$f":"IF('CENTRAL ANALYSIS'!$C$29>=39,1,0)","v":0}]
[null,null,"",null,"",null,null,null,null,null,null,"",null,null,"",null,null,0,null,null,null,null,{"$f":"IF('CENTRAL ANALYSIS'!$C$29>=40,1,0)","v":0}]
[null,null,null,null,null,null,null,null,null,null,null,null,null,null,null,null,null,null,null,null,null,null,1]
[null,null,"(Optional) Step 2(a): Enter Executive Positions if Not Using Macros",null,null,null,null,null,null,null,null,null,null,null,null,null,null,null,null,null,null,null,1]
[null,null,null,null,null,null,null,null,null,null,null,null,null,null,null,null,null,null,null,null,null,null,1]
[null,null,"If chosen not to use Macros, please enter the total number of executive positions below. The worksheet will then need to be filtered manually by going to cell \"W1\" and clicking the Filter Icon. This will display a menu where the checkbox next to \"0\" should be empty. If it is, click the \"OK\" button to display the objective and action item entry cells above. Enter the executive positions information in the cells above.",null,null,null,null,null,null,null,null,null,null,null,null,null,null,null,null,null,null,null,1]
[null,null,null,null,null,null,null,null,null,null,null,null,null,null,null,null,null,null,null,null,null,null,1]
[null,null,null,null,null,null,null,null,null,null,null,null,null,null,null,null,null,null,null,null,null,null,1]
[null,null,null,null,null,null,null,null,null,null,null,null,null,null,null,null,null,null,null,null,null,null,1]
[null,null,null,null,null,null,null,null,null,null,null,null,null,null,"Total Number of Executive Positions",null,null,null,null,null,null,null,1]
[null,null,null,null,null,null,null,null,null,null,null,null,null,null,null,null,null,null,null,null,null,null,1]
[null,null,null,null,null,null,null,null,null,null,null,null,null,null,null,null,null,null,null,null,null,null,1]
[null,null,null,null,null,null,null,null,null,null,null,null,null,null,null,null,null,null,null,null,null,null,1]
[null,null,null,null,null,null,null,null,null,null,null,null,null,null,null,null,null,null,null,null,null,null,1]
[null,"(Optional) Step 3: Enable the Sub Agency, Internal Department, or Team Input Tool (Macros must be enabled)",null,null,null,null,null,null,null,null,null,null,null,null,null,null,null,null,null,null,null,null,1]
[null,null,null,null,null,null,null,null,null,null,null,null,null,null,null,null,null,null,null,null,null,null,1]
[null,"INSTRUCTIONS: To enable using the Sub Agency, Internal Department, or Team Input Tool, click on the toggle icon to change it to \"On\". This will unhide two additional worksheets for setting up the tool and then reviewing the information collected. If chosen not to use, the toggle icon can remain \"Off\" or clicked again to change it to \"Off\", which will hide the additional worksheets. If not using Macros, please contact DHRM at dhrm.wfp@dhrm.virginia.gov for assistance with setting up the internal tool.",null,null,null,null,null,null,null,null,null,null,null,null,null,null,null,null,null,null,null,null,1]
[null,null,null,null,null,null,null,null,null,null,null,null,null,null,null,null,null,null,null,null,null,null,1]
[null,null,null,null,null,null,null,null,null,null,null,null,null,null,null,null,null,null,null,null,null,null,1]
[null,null,null,null,null,null,null,null,null,null,null,null,null,null,null,null,null,null,null,null,null,null,1]
[null,null,null,null,null,null,null,null,null,null,null,null,null,null,null,null,null,null,null,null,null,null,1]
[null,null,null,null,null,null,null,null,null,null,null,null,null,null,null,null,null,null,null,null,null,null,1]
[null,null,null,null,null,null,null,null,null,null,null,null,null,null,null,null,null,null,null,null,null,null,1]
[null,null,null,null,null,null,null,null,null,null,null,null,null,null,null,null,null,null,null,null,null,null,1]
[null,null,null,null,null,null,null,null,null,null,null,null,null,null,null,null,null,null,null,null,null,null,1]
[null,null,null,null,null,null,null,null,null,null,null,null,null,null,null,null,null,null,null,null,null,null,1]
[null,null,null,null,null,null,null,null,null,null,null,null,null,null,null,null,null,null,null,null,null,null,1]
[null,null,null,null,null,null,null,null,null,null,null,null,null,null,null,null,null,null,null,null,null,null,1]
[null,null,null,null,null,null,null,null,null,null,null,null,null,null,null,null,null,null,null,null,null,null,1]
[null,null,null,null,null,null,null,null,null,null,null,null,null,null,null,null,null,null,null,null,null,null,1]
[null,null,{"$f":"IF('CENTRAL ANALYSIS'!I11=\"True\",\"If enabled, complete the Sub Agency & Internal Tool Tab to enter the sub-agency, internal tool, or team information and identify custom settings for each team to utilize the tool.\",\"\")","v":""},null,null,null,null,null,null,null,null,null,null,null,null,null,null,null,null,null,null,null,1]
[null,null,null,null,null,null,null,null,null,null,null,null,null,null,null,null,null,null,null,null,null,null,1]
[null,null,null,null,null,null,null,null,null,null,null,null,null,null,null,null,null,null,null,null,null,null,1]
[null,null,null,null,null,null,null,null,null,null,null,null,null,null,null,null,null,null,null,null,null,null,1]
[null,null,null,null,null,null,null,null,null,null,null,null,null,null,null,null,null,null,null,null,null,null,0]

{"sheet":"SUB AGENCY & INTERNAL TOOL","index":3,"n_rows":203,"n_cols":31,"rows_kept":203,"cut":false,"hidden":true,"merged":[[192,14,192,15],[193,14,193,15],[194,14,194,15],[195,14,195,15],[196,14,196,15],[197,14,197,15],[198,14,198,15],[199,14,199,15],[125,12,125,15],[183,14,183,15],[184,14,184,15],[185,14,185,15],[186,14,186,15],[187,14,187,15],[188,14,188,15],[189,14,189,15],[190,14,190,15],[191,14,191,15],[171,14,171,15],[172,14,172,15],[173,14,173,15],[174,14,174,15],[175,14,175,15],[179,14,179,15],[180,14,180,15],[181,14,181,15],[182,14,182,15],[162,14,162,15],[163,14,163,15],[164,14,164,15],[165,14,165,15],[166,14,166,15],[167,14,167,15],[168,14,168,15],[169,14,169,15],[170,14,170,15],[150,14,150,15],[151,14,151,15],[155,14,155,15],[156,14,156,15],[157,14,157,15],[158,14,158,15],[159,14,159,15],[160,14,160,15],[161,14,161,15],[147,14,147,15],[148,14,148,15],[131,14,131,15],[132,14,132,15],[133,14,133,15],[134,14,134,15],[135,14,135,15],[136,14,136,15],[137,14,137,15],[138,14,138,15],[139,14,139,15],[106,2,106,5],[106,6,106,15],[31,12,31,15],[36,2,37,13],[60,2,61,13],[84,2,85,13],[103,2,103,5],[103,6,103,15],[104,2,104,5],[104,6,104,15],[105,2,105,5],[105,6,105,15],[100,2,100,5],[100,6,100,15],[101,2,101,5],[101,6,101,15],[102,2,102,5],[102,6,102,15],[97,2,97,5],[97,6,97,15],[98,2,98,5],[98,6,98,15],[99,2,99,5],[99,6,99,15],[94,2,94,5],[94,6,94,15],[95,2,95,5],[95,6,95,15],[96,2,96,5],[96,6,96,15],[91,2,91,5],[91,6,91,15],[92,2,92,5],[92,6,92,15],[93,2,93,5],[93,6,93,15],[88,2,88,5],[88,6,88,15],[89,2,89,5],[89,6,89,15],[90,2,90,5],[90,6,90,15],[82,2,82,5],[82,6,82,15],[86,2,86,5],[86,6,86,15],[87,2,87,5],[87,6,87,15],[79,2,79,5],[79,6,79,15],[80,2,80,5],[80,6,80,15],[81,2,81,5],[81,6,81,15],[76,2,76,5],[76,6,76,15],[77,2,77,5],[77,6,77,15],[78,2,78,5],[78,6,78,15],[73,2,73,5],[73,6,73,15],[74,2,74,5],[74,6,74,15],[75,2,75,5],[75,6,75,15],[70,2,70,5],[70,6,70,15],[71,2,71,5],[71,6,71,15],[72,2,72,5],[72,6,72,15],[67,2,67,5],[67,6,67,15],[68,2,68,5],[68,6,68,15],[69,2,69,5],[69,6,69,15],[64,2,64,5],[64,6,64,15],[65,2,65,5],[65,6,65,15],[66,2,66,5],[66,6,66,15],[58,2,58,5],[58,6,58,15],[62,2,62,5],[62,6,62,15],[63,2,63,5],[63,6,63,15],[55,2,55,5],[55,6,55,15],[56,2,56,5],[56,6,56,15],[57,2,57,5],[57,6,57,15],[52,2,52,5],[52,6,52,15],[53,2,53,5],[53,6,53,15],[54,2,54,5],[54,6,54,15],[49,2,49,5],[49,6,49,15],[50,2,50,5],[50,6,50,15],[51,2,51,5],[51,6,51,15],[47,2,47,5],[47,6,47,15],[48,2,48,5],[48,6,48,15],[43,2,43,5],[43,6,43,15],[44,2,44,5],[44,6,44,15],[45,2,45,5],[45,6,45,15],[161,1,161,4],[162,1,162,4],[119,1,120,12],[119,13,120,15],[121,1,123,15],[108,3,109,14],[110,3,113,15],[15,1,17,15],[25,1,26,12],[25,13,26,15],[27,1,29,15],[40,2,40,5],[40,6,40,15],[41,2,41,5],[41,6,41,15],[42,2,42,5],[42,6,42,15],[18,1,22,15],[38,2,38,5],[38,6,38,15],[39,2,39,5],[39,6,39,15],[46,2,46,5],[46,6,46,15],[195,1,195,4],[186,1,186,4],[187,1,187,4],[188,1,188,4],[189,1,189,4],[190,1,190,4],[145,1,145,4],[146,1,146,4],[147,1,147,4],[148,1,148,4],[149,1,149,4],[150,1,150,4],[151,1,151,4],[163,1,163,4],[156,1,156,4],[157,1,157,4],[158,1,158,4],[185,1,185,4],[191,1,191,4],[192,1,192,4],[193,1,193,4],[194,1,194,4],[159,1,159,4],[160,1,160,4],[129,1,130,15],[155,1,155,4],[136,1,136,4],[137,1,137,4],[138,1,138,4],[139,1,139,4],[140,1,140,4],[141,1,141,4],[142,1,142,4],[143,1,143,4],[144,1,144,4],[131,1,131,4],[132,1,132,4],[133,1,133,4],[134,1,134,4],[135,1,135,4],[149,14,149,15],[140,14,140,15],[141,14,141,15],[142,14,142,15],[143,14,143,15],[144,14,144,15],[145,14,145,15],[146,14,146,15],[196,1,196,4],[197,1,197,4],[198,1,198,4],[199,1,199,4],[153,1,154,13],[177,1,178,13],[173,1,173,4],[174,1,174,4],[175,1,175,4],[179,1,179,4],[180,1,180,4],[181,1,181,4],[182,1,182,4],[183,1,183,4],[184,1,184,4],[164,1,164,4],[165,1,165,4],[166,1,166,4],[167,1,167,4],[168,1,168,4],[169,1,169,4],[170,1,170,4],[171,1,171,4],[172,1,172,4]]}
[null,null,null,null,null,null,null,null,null,null,null,null,null,null,null,null,null,null,null,null,null,null,1]
[null,null,null,null,null,null,null,null,null,null,null,null,null,null,null,null,null,null,null,null,null,null,1]
[null,null,null,null,null,null,null,null,null,null,null,null,null,null,null,null,null,null,null,null,null,null,1]
[null,null,null,null,null,null,null,null,null,null,null,null,null,null,null,null,null,null,null,null,null,null,1]
[null,null,null,null,null,null,null,null,null,null,null,null,null,null,null,null,null,null,null,null,null,null,1]
[null,null,null,null,null,null,null,null,null,null,null,null,null,null,null,null,null,null,null,null,null,null,1]
[null,null,null,null,null,null,null,null,null,null,null,null,null,null,null,null,null,null,null,null,null,null,1]
[null,null,null,null,null,null,null,null,null,null,null,null,null,null,null,null,null,null,null,null,null,null,1]
[null,null,null,null,null,null,null,null,null,null,null,null,null,null,null,null,null,null,null,null,null,null,1]
[null,null,null,null,null,null,null,null,null,null,null,null,null,null,null,null,null,null,null,null,null,null,1]
[null,null,null,null,null,null,null,null,null,null,null,null,null,null,null,null,null,null,null,null,null,null,1]
[null,null,null,null,null,null,null,null,null,null,null,null,null,null,null,null,null,null,null,null,null,null,1]
[null,null,null,null,null,null,null,null,null,null,null,null,null,null,null,null,null,null,null,null,null,null,1]
[null,null,null,null,null,null,null,null,null,null,null,null,null,null,null,null,null,null,null,null,null,null,1]
[null,null,null,null,null,null,null,null,null,null,null,null,null,null,null,null,null,null,null,null,null,null,1]
[null,"SUB AGENCY, INTERNAL DEPT. OR TEAM TOOL",null,null,null,null,null,null,null,null,null,null,null,null,null,null,null,null,null,null,null,null,1]
[null,null,null,null,null,null,null,null,null,null,null,null,null,null,null,null,null,null,null,null,null,null,1]
[null,null,null,null,null,null,null,null,null,null,null,null,null,null,null,null,null,null,null,null,null,null,1]
[null,"This tab is used to setup the Sub-Agency, Internal Department, or Team Input Tool for the Agency workforce plans. The tool is designed to have specific groups go through the entire workforce planning process or selective sections of the process, to support the overall Agency workforce planning process. The initial setup begins with identifying the groups who will complete the tool and the specific sections each will complete. After, the tool can be imported back into the Agency Profile Template or the Agency Strategy Template and reviewed on the Internal Plan Review tab.",null,null,null,null,null,null,null,null,null,null,null,null,null,null,null,null,null,null,null,null,1]
[null,null,null,null,null,null,null,null,null,null,null,null,null,null,null,null,null,null,null,null,null,null,1]
[null,null,null,null,null,null,null,null,null,null,null,null,null,null,null,null,null,null,null,null,null,null,1]
[null,null,null,null,null,null,null,null,null,null,null,null,null,null,null,null,null,null,null,null,null,null,1]
[null,null,null,null,null,null,null,null,null,null,null,null,null,null,null,null,null,null,null,null,null,null,1]
[null,null,null,null,null,null,null,null,null,null,null,null,null,null,null,null,null,null,null,null,null,null,1]
[null,null,null,null,null,null,null,null,null,null,null,null,null,null,null,null,null,null,null,null,null,null,1]
[null,"Step 1: Enter Sub Agency, Internal Department, or Internal Team Names",null,null,null,null,null,null,null,null,null,null,null,{"$f":"IF(OR(COUNTBLANK(C40:F59)<>0,COUNTBLANK(C64:F83)<>0,COUNTBLANK(C88:F107)<>0),\"Complete\",\"Incomplete\")","v":"Complete"},null,null,null,null,null,null,null,null,1]
[null,null,null,null,null,null,null,null,null,null,null,null,null,null,null,null,null,null,null,null,null,null,1]
[null,"INSTRUCTIONS: Enter the groups that will be using the internal tool by selected the respective group (either a sub-agency, department, or team) from the yellow box below using the dropdown menu and then clicking the \"Add Selected Group\" blue button. Enter the name and a brief description for the selected group. Up to 20 different groups can be added for each type.",null,null,null,null,null,null,null,null,null,null,null,null,null,null,null,null,null,null,null,null,1]
[null,null,null,null,null,null,null,null,null,null,null,null,null,null,null,null,null,null,null,null,null,null,1]
[null,null,null,null,null,null,null,null,null,null,null,null,null,null,null,null,null,null,null,null,null,null,1]
[null,null,null,null,null,null,null,null,null,null,null,null,null,null,null,null,null,null,null,null,null,null,1]
[null,null,null,null,null,null,null,null,null,null,null,"Select Which Group Type to Add/Remove:",null,null,null,null,null,null,null,null,null,null,1]
[null,null,null,null,null,null,null,null,null,null,null,null,null,null,null,null,null,null,null,null,null,null,1]
[null,null,null,null,null,null,null,null,null,null,null,null,null,null,null,null,null,null,null,null,null,null,1]
[null,null,null,null,null,null,null,null,null,null,null,null,null,null,null,null,null,null,null,null,null,null,1]
[null,null,null,null,null,null,null,null,null,null,null,null,null,null,null,null,null,null,null,null,null,null,1]
[null,null,"Sub Agencies",null,null,null,null,null,null,null,null,null,null,null,null,null,null,null,null,null,null,null,{"$f":"IF('CENTRAL ANALYSIS'!$B$53>=1,1,0)","v":0}]
[null,null,null,null,null,null,null,null,null,null,null,null,null,null,null,null,null,null,null,null,null,null,{"$f":"IF('CENTRAL ANALYSIS'!$B$53>=1,1,0)","v":0}]
[null,null,"Sub-Agency Name",null,null,null,"Description (Very Brief)",null,null,null,null,null,null,null,null,null,null,null,null,null,null,null,{"$f":"IF('CENTRAL ANALYSIS'!$B$53>=1,1,0)","v":0}]
[null,{"$f":"C40","v":0},null,null,null,null,null,null,null,null,null,null,null,null,null,null,null,null,null,null,null,null,{"$f":"IF('CENTRAL ANALYSIS'!$B$53>=1,1,0)","v":0}]
[null,{"$f":"C41","v":0},null,null,null,null,null,null,null,null,null,null,null,null,null,null,null,null,null,null,null,null,{"$f":"IF('CENTRAL ANALYSIS'!$B$53>=2,1,0)","v":0}]
[null,0,null,null,null,null,null,null,null,null,null,null,null,null,null,null,null,null,null,null,null,null,{"$f":"IF('CENTRAL ANALYSIS'!$B$53>=3,1,0)","v":0}]
[null,0,null,null,null,null,null,null,null,null,null,null,null,null,null,null,null,null,null,null,null,null,{"$f":"IF('CENTRAL ANALYSIS'!$B$53>=4,1,0)","v":0}]
[null,0,null,null,null,null,null,null,null,null,null,null,null,null,null,null,null,null,null,null,null,null,{"$f":"IF('CENTRAL ANALYSIS'!$B$53>=5,1,0)","v":0}]
[null,0,null,null,null,null,null,null,null,null,null,null,null,null,null,null,null,null,null,null,null,null,{"$f":"IF('CENTRAL ANALYSIS'!$B$53>=6,1,0)","v":0}]
[null,0,null,null,null,null,null,null,null,null,null,null,null,null,null,null,null,null,null,null,null,null,{"$f":"IF('CENTRAL ANALYSIS'!$B$53>=7,1,0)","v":0}]
[null,0,null,null,null,null,null,null,null,null,null,null,null,null,null,null,null,null,null,null,null,null,{"$f":"IF('CENTRAL ANALYSIS'!$B$53>=8,1,0)","v":0}]
[null,0,null,null,null,null,null,null,null,null,null,null,null,null,null,null,null,null,null,null,null,null,{"$f":"IF('CENTRAL ANALYSIS'!$B$53>=9,1,0)","v":0}]
[null,0,null,null,null,null,null,null,null,null,null,null,null,null,null,null,null,null,null,null,null,null,{"$f":"IF('CENTRAL ANALYSIS'!$B$53>=10,1,0)","v":0}]
[null,0,null,null,null,null,null,null,null,null,null,null,null,null,null,null,null,null,null,null,null,null,{"$f":"IF('CENTRAL ANALYSIS'!$B$53>=11,1,0)","v":0}]
[null,0,null,null,null,null,null,null,null,null,null,null,null,null,null,null,null,null,null,null,null,null,{"$f":"IF('CENTRAL ANALYSIS'!$B$53>=12,1,0)","v":0}]
[null,0,null,null,null,null,null,null,null,null,null,null,null,null,null,null,null,null,null,null,null,null,{"$f":"IF('CENTRAL ANALYSIS'!$B$53>=13,1,0)","v":0}]
[null,0,null,null,null,null,null,null,null,null,null,null,null,null,null,null,null,null,null,null,null,null,{"$f":"IF('CENTRAL ANALYSIS'!$B$53>=14,1,0)","v":0}]
[null,0,null,null,null,null,null,null,null,null,null,null,null,null,null,null,null,null,null,null,null,null,{"$f":"IF('CENTRAL ANALYSIS'!$B$53>=15,1,0)","v":0}]
[null,0,null,null,null,null,null,null,null,null,null,null,null,null,null,null,null,null,null,null,null,null,{"$f":"IF('CENTRAL ANALYSIS'!$B$53>=16,1,0)","v":0}]
[null,0,null,null,null,null,null,null,null,null,null,null,null,null,null,null,null,null,null,null,null,null,{"$f":"IF('CENTRAL ANALYSIS'!$B$53>=17,1,0)","v":0}]
[null,0,null,null,null,null,null,null,null,null,null,null,null,null,null,null,null,null,null,null,null,null,{"$f":"IF('CENTRAL ANALYSIS'!$B$53>=18,1,0)","v":0}]
[null,0,null,null,null,null,null,null,null,null,null,null,null,null,null,null,null,null,null,null,null,null,{"$f":"IF('CENTRAL ANALYSIS'!$B$53>=19,1,0)","v":0}]
[null,0,null,null,null,null,null,null,null,null,null,null,null,null,null,null,null,null,null,null,null,null,{"$f":"IF('CENTRAL ANALYSIS'!$B$53>=20,1,0)","v":0}]
[null,null,null,null,null,null,null,null,null,null,null,null,null,null,null,null,null,null,null,null,null,null,{"$f":"IF('CENTRAL ANALYSIS'!$B$53>=20,1,0)","v":0}]
[null,null,"Internal Departments",null,null,null,null,null,null,null,null,null,null,null,null,null,null,null,null,null,null,null,{"$f":"IF('CENTRAL ANALYSIS'!$B$54>=1,1,0)","v":0}]
[null,null,null,null,null,null,null,null,null,null,null,null,null,null,null,null,null,null,null,null,null,null,{"$f":"IF('CENTRAL ANALYSIS'!$B$54>=1,1,0)","v":0}]
[null,null,"Department Name",null,null,null,"Description (Very Brief)",null,null,null,null,null,null,null,null,null,null,null,null,null,null,null,{"$f":"IF('CENTRAL ANALYSIS'!$B$54>=1,1,0)","v":0}]
[null,{"$f":"C64","v":0},null,null,null,null,null,null,null,null,null,null,null,null,null,null,null,null,null,null,null,null,{"$f":"IF('CENTRAL ANALYSIS'!$B$54>=1,1,0)","v":0}]
[null,{"$f":"C65","v":0},null,null,null,null,null,null,null,null,null,null,null,null,null,null,null,null,null,null,null,null,{"$f":"IF('CENTRAL ANALYSIS'!$B$54>=2,1,0)","v":0}]
[null,0,null,null,null,null,null,null,null,null,null,null,null,null,null,null,null,null,null,null,null,null,{"$f":"IF('CENTRAL ANALYSIS'!$B$54>=3,1,0)","v":0}]
[null,0,null,null,null,null,null,null,null,null,null,null,null,null,null,null,null,null,null,null,null,null,{"$f":"IF('CENTRAL ANALYSIS'!$B$54>=4,1,0)","v":0}]
[null,0,null,null,null,null,null,null,null,null,null,null,null,null,null,null,null,null,null,null,null,null,{"$f":"IF('CENTRAL ANALYSIS'!$B$54>=5,1,0)","v":0}]
[null,0,null,null,null,null,null,null,null,null,null,null,null,null,null,null,null,null,null,null,null,null,{"$f":"IF('CENTRAL ANALYSIS'!$B$54>=6,1,0)","v":0}]
[null,0,null,null,null,null,null,null,null,null,null,null,null,null,null,null,null,null,null,null,null,null,{"$f":"IF('CENTRAL ANALYSIS'!$B$54>=7,1,0)","v":0}]
[null,0,null,null,null,null,null,null,null,null,null,null,null,null,null,null,null,null,null,null,null,null,{"$f":"IF('CENTRAL ANALYSIS'!$B$54>=8,1,0)","v":0}]
[null,0,null,null,null,null,null,null,null,null,null,null,null,null,null,null,null,null,null,null,null,null,{"$f":"IF('CENTRAL ANALYSIS'!$B$54>=9,1,0)","v":0}]
[null,0,null,null,null,null,null,null,null,null,null,null,null,null,null,null,null,null,null,null,null,null,{"$f":"IF('CENTRAL ANALYSIS'!$B$54>=10,1,0)","v":0}]
[null,0,null,null,null,null,null,null,null,null,null,null,null,null,null,null,null,null,null,null,null,null,{"$f":"IF('CENTRAL ANALYSIS'!$B$54>=11,1,0)","v":0}]
[null,0,null,null,null,null,null,null,null,null,null,null,null,null,null,null,null,null,null,null,null,null,{"$f":"IF('CENTRAL ANALYSIS'!$B$54>=12,1,0)","v":0}]
[null,0,null,null,null,null,null,null,null,null,null,null,null,null,null,null,null,null,null,null,null,null,{"$f":"IF('CENTRAL ANALYSIS'!$B$54>=13,1,0)","v":0}]
[null,0,null,null,null,null,null,null,null,null,null,null,null,null,null,null,null,null,null,null,null,null,{"$f":"IF('CENTRAL ANALYSIS'!$B$54>=14,1,0)","v":0}]
[null,0,null,null,null,null,null,null,null,null,null,null,null,null,null,null,null,null,null,null,null,null,{"$f":"IF('CENTRAL ANALYSIS'!$B$54>=15,1,0)","v":0}]
[null,0,null,null,null,null,null,null,null,null,null,null,null,null,null,null,null,null,null,null,null,null,{"$f":"IF('CENTRAL ANALYSIS'!$B$54>=16,1,0)","v":0}]
[null,0,null,null,null,null,null,null,null,null,null,null,null,null,null,null,null,null,null,null,null,null,{"$f":"IF('CENTRAL ANALYSIS'!$B$54>=17,1,0)","v":0}]
[null,0,null,null,null,null,null,null,null,null,null,null,null,null,null,null,null,null,null,null,null,null,{"$f":"IF('CENTRAL ANALYSIS'!$B$54>=18,1,0)","v":0}]
[null,0,null,null,null,null,null,null,null,null,null,null,null,null,null,null,null,null,null,null,null,null,{"$f":"IF('CENTRAL ANALYSIS'!$B$54>=19,1,0)","v":0}]
[null,0,null,null,null,null,null,null,null,null,null,null,null,null,null,null,null,null,null,null,null,null,{"$f":"IF('CENTRAL ANALYSIS'!$B$54>=20,1,0)","v":0}]
[null,null,null,null,null,null,null,null,null,null,null,null,null,null,null,null,null,null,null,null,null,null,{"$f":"IF('CENTRAL ANALYSIS'!$B$54>=20,1,0)","v":0}]
[null,null,"Internal Teams",null,null,null,null,null,null,null,null,null,null,null,null,null,null,null,null,null,null,null,{"$f":"IF('CENTRAL ANALYSIS'!$B$55>=1,1,0)","v":0}]
[null,null,null,null,null,null,null,null,null,null,null,null,null,null,null,null,null,null,null,null,null,null,{"$f":"IF('CENTRAL ANALYSIS'!$B$55>=1,1,0)","v":0}]
[null,null,"Internal Team Name",null,null,null,"Description (Very Brief)",null,null,null,null,null,null,null,null,null,null,null,null,null,null,null,{"$f":"IF('CENTRAL ANALYSIS'!$B$55>=1,1,0)","v":0}]
[null,{"$f":"C88","v":0},null,null,null,null,null,null,null,null,null,null,null,null,null,null,null,null,null,null,null,null,{"$f":"IF('CENTRAL ANALYSIS'!$B$55>=1,1,0)","v":0}]
[null,{"$f":"C89","v":0},null,null,null,null,null,null,null,null,null,null,null,null,null,null,null,null,null,null,null,null,{"$f":"IF('CENTRAL ANALYSIS'!$B$55>=2,1,0)","v":0}]
[null,0,null,null,null,null,null,null,null,null,null,null,null,null,null,null,null,null,null,null,null,null,{"$f":"IF('CENTRAL ANALYSIS'!$B$55>=3,1,0)","v":0}]
[null,0,null,null,null,null,null,null,null,null,null,null,null,null,null,null,null,null,null,null,null,null,{"$f":"IF('CENTRAL ANALYSIS'!$B$55>=4,1,0)","v":0}]
[null,0,null,null,null,null,null,null,null,null,null,null,null,null,null,null,null,null,null,null,null,null,{"$f":"IF('CENTRAL ANALYSIS'!$B$55>=5,1,0)","v":0}]
[null,0,null,null,null,null,null,null,null,null,null,null,null,null,null,null,null,null,null,null,null,null,{"$f":"IF('CENTRAL ANALYSIS'!$B$55>=6,1,0)","v":0}]
[null,0,null,null,null,null,null,null,null,null,null,null,null,null,null,null,null,null,null,null,null,null,{"$f":"IF('CENTRAL ANALYSIS'!$B$55>=7,1,0)","v":0}]
[null,0,null,null,null,null,null,null,null,null,null,null,null,null,null,null,null,null,null,null,null,null,{"$f":"IF('CENTRAL ANALYSIS'!$B$55>=8,1,0)","v":0}]
[null,0,null,null,null,null,null,null,null,null,null,null,null,null,null,null,null,null,null,null,null,null,{"$f":"IF('CENTRAL ANALYSIS'!$B$55>=9,1,0)","v":0}]
[null,0,null,null,null,null,null,null,null,null,null,null,null,null,null,null,null,null,null,null,null,null,{"$f":"IF('CENTRAL ANALYSIS'!$B$55>=10,1,0)","v":0}]
[null,0,null,null,null,null,null,null,null,null,null,null,null,null,null,null,null,null,null,null,null,null,{"$f":"IF('CENTRAL ANALYSIS'!$B$55>=11,1,0)","v":0}]
[null,0,null,null,null,null,null,null,null,null,null,null,null,null,null,null,null,null,null,null,null,null,{"$f":"IF('CENTRAL ANALYSIS'!$B$55>=12,1,0)","v":0}]
[null,0,null,null,null,null,null,null,null,null,null,null,null,null,null,null,null,null,null,null,null,null,{"$f":"IF('CENTRAL ANALYSIS'!$B$55>=13,1,0)","v":0}]
[null,0,null,null,null,null,null,null,null,null,null,null,null,null,null,null,null,null,null,null,null,null,{"$f":"IF('CENTRAL ANALYSIS'!$B$55>=14,1,0)","v":0}]
[null,0,null,null,null,null,null,null,null,null,null,null,null,null,null,null,null,null,null,null,null,null,{"$f":"IF('CENTRAL ANALYSIS'!$B$55>=15,1,0)","v":0}]
[null,0,null,null,null,null,null,null,null,null,null,null,null,null,null,null,null,null,null,null,null,null,{"$f":"IF('CENTRAL ANALYSIS'!$B$55>=16,1,0)","v":0}]
[null,0,null,null,null,null,null,null,null,null,null,null,null,null,null,null,null,null,null,null,null,null,{"$f":"IF('CENTRAL ANALYSIS'!$B$55>=17,1,0)","v":0}]
[null,0,null,null,null,null,null,null,null,null,null,null,null,null,null,null,null,null,null,null,null,null,{"$f":"IF('CENTRAL ANALYSIS'!$B$55>=18,1,0)","v":0}]
[null,0,null,null,null,null,null,null,null,null,null,null,null,null,null,null,null,null,null,null,null,null,{"$f":"IF('CENTRAL ANALYSIS'!$B$55>=19,1,0)","v":0}]
[null,0,null,null,null,null,null,null,null,null,null,null,null,null,null,null,null,null,null,null,null,null,{"$f":"IF('CENTRAL ANALYSIS'!$B$55>=20,1,0)","v":0}]
[null,null,null,null,null,null,null,null,null,null,null,null,null,null,null,null,null,null,null,null,null,null,1]
[null,null,null,"(Optional) Step 1(a): Enter Sub-Agencies, Departments, or Teams if Not Using Macros",null,null,null,null,null,null,null,null,null,null,null,null,null,null,null,null,null,null,1]
[null,null,null,null,null,null,null,null,null,null,null,null,null,null,null,null,null,null,null,null,null,null,1]
[null,null,null,"If chosen not to use Macros, please enter the total number of sub-agencies, departments, or teams below. The worksheet will then need to be filtered manually by going to cell \"W1\" and clicking the Filter Icon. This will display a menu where the checkbox next to \"0\" should be empty. If it is, click the \"OK\" button to display the objective and action item entry cells above. Enter the internal department information in the cells above.",null,null,null,null,null,null,null,null,null,null,null,null,null,null,null,null,null,null,1]
[null,null,null,null,null,null,null,null,null,null,null,null,null,null,null,null,null,null,null,null,null,null,1]
[null,null,null,null,null,null,null,null,null,null,null,null,null,null,null,null,null,null,null,null,null,null,1]
[null,null,null,null,null,null,null,null,null,null,null,null,null,null,null,null,null,null,null,null,null,null,1]
[null,null,null,null,null,null,null,null,null,null,null,null,null,null,"Total Number of Sub Agencies",null,null,null,null,null,null,null,1]
[null,null,null,null,null,null,null,null,null,null,null,null,null,null,"Total Number of Internal Departments",null,null,null,null,null,null,null,1]
[null,null,null,null,null,null,null,null,null,null,null,null,null,null,"Total Number of Teams",null,null,null,null,null,null,null,1]
[null,null,null,null,null,null,null,null,null,null,null,null,null,null,null,null,null,null,null,null,null,null,1]
[null,null,null,null,null,null,null,null,null,null,null,null,null,null,null,null,null,null,null,null,null,null,1]
[null,"(Optional) Step 2: Customize Settings for Each Group that will use the Internal Tool",null,null,null,null,null,null,null,null,null,null,null,null,null,null,null,null,null,null,null,null,1]
[null,null,null,null,null,null,null,null,null,null,null,null,null,null,null,null,null,null,null,null,null,null,1]
[null,"INSTRUCTIONS: By default, all sections of the internal tool are included for each group identified in Step 1. Agencies may create custom settings for any group by clicking the \"Update Settings\" button to view the settings dialog box. Navigate to the specific section of the workforce planning process to update the settings. Any items selected will be included and items not selected will be hidden from view when importing the Agency Profile into the Internal Tool.",null,null,null,null,null,null,null,null,null,null,null,null,null,null,null,null,null,null,null,null,1]
[null,null,null,null,null,null,null,null,null,null,null,null,null,null,null,null,null,null,null,null,null,null,1]
[null,null,null,null,null,null,null,null,null,null,null,null,null,null,null,null,null,null,null,null,null,null,1]
[null,null,null,null,null,null,null,null,null,null,null,null,null,null,null,null,null,null,null,null,null,null,1]
[null,null,null,null,null,null,null,null,null,null,null,"Select Name to Update Settings:",null,null,null,null,{"$f":"M126","v":0},null,null,null,null,null,1]
[null,null,null,null,null,null,null,null,null,null,null,null,null,null,null,null,null,null,null,null,null,null,1]
[null,null,null,null,null,null,null,null,null,null,null,null,null,null,null,null,null,null,null,null,null,null,1]
[null,null,null,null,null,null,null,null,null,null,null,null,null,null,null,null,null,null,null,null,null,null,1]
[null,"Sub Agencies",null,null,null,null,null,null,null,null,null,null,null,null,null,null,null,null,null,null,null,null,{"$f":"IF('CENTRAL ANALYSIS'!$B$53>=1,1,0)","v":0}]
[null,null,null,null,null,null,null,null,null,null,null,null,null,null,null,null,null,null,null,null,null,null,{"$f":"IF('CENTRAL ANALYSIS'!$B$53>=1,1,0)","v":0}]
[null,"Sub-Agency Name",null,null,null,"Add Data","Profile","COO","Recruit","Reten.","WF Dev.","Future","Strategy","Summary",null,null,null,null,null,null,null,null,{"$f":"IF('CENTRAL ANALYSIS'!$B$53>=1,1,0)","v":0}]
[{"$f":"IF(B133=$M$126,1,0)","v":1},{"$f":"IF(C40=\"\",\"\",C40)","v":""},null,null,null,{"$f":"IFERROR(IF(VLOOKUP(B133,'INTERNAL TOOL SETTINGS'!$A:$CM,2,FALSE)=TRUE,\"Yes\",\"No\"),\"\")","v":""},{"$f":"IFERROR(IF(COUNTIF(INDIRECT(Z133,TRUE),\"TRUE\")=10,\"All\",IF(COUNTIF(INDIRECT(Z133,TRUE),\"TRUE\")>0,\"Custom\",\"None\")),\"\")","v":"None"},{"$f":"IFERROR(IF(COUNTIF(INDIRECT(AA133,TRUE),\"TRUE\")=10,\"All\",IF(COUNTIF(INDIRECT(AA133,TRUE),\"TRUE\")>0,\"Custom\",\"None\")),\"\")","v":"None"},{"$f":"IFERROR(IF(COUNTIF(INDIRECT(AB133,TRUE),\"TRUE\")=26,\"All\",IF(COUNTIF(INDIRECT(AB133,TRUE),\"TRUE\")>0,\"Custom\",\"None\")),\"\")","v":"None"},{"$f":"IFERROR(IF(COUNTIF(INDIRECT(AC133,TRUE),\"TRUE\")=24,\"All\",IF(COUNTIF(INDIRECT(AC133,TRUE),\"TRUE\")>0,\"Custom\",\"None\")),\"\")","v":"None"},{"$f":"IFERROR(IF(COUNTIF(INDIRECT(AD133,TRUE),\"TRUE\")=14,\"All\",IF(COUNTIF(INDIRECT(AD133,TRUE),\"TRUE\")>0,\"Custom\",\"None\")),\"\")","v":"None"},{"$f":"IFERROR(IF(COUNTIF(INDIRECT(AE133,TRUE),\"TRUE\")=3,\"All\",IF(COUNTIF(INDIRECT(AE133,TRUE),\"TRUE\")>0,\"Custom\",\"None\")),\"\")","v":"None"},{"$f":"IFERROR(IF(VLOOKUP(B133,'INTERNAL TOOL SETTINGS'!$A:$CM,90,FALSE)=TRUE,\"All\",\"None\"),\"\")","v":""},{"$f":"IFERROR(IF(VLOOKUP(B133,'INTERNAL TOOL SETTINGS'!$A:$CM,91,FALSE)=TRUE,\"All\",\"None\"),\"\")","v":""},null,null,{"$f":"IFERROR(MATCH(B133,'INTERNAL TOOL SETTINGS'!A:A,0),\"\")","v":""},null,null,null,null,null,{"$f":"IF('CENTRAL ANALYSIS'!$B$53>=1,1,0)","v":0},null,null,{"$f":"CONCATENATE(\"'INTERNAL TOOL SETTINGS'!\",'CENTRAL ANALYSIS'!$I$18,$Q133,\":\",'CENTRAL ANALYSIS'!$J$18,$Q133)","v":"'INTERNAL TOOL SETTINGS'!C:L"},{"$f":"CONCATENATE(\"'INTERNAL TOOL SETTINGS'!\",'CENTRAL ANALYSIS'!$I$19,$Q133,\":\",'CENTRAL ANALYSIS'!$J$19,$Q133)","v":"'INTERNAL TOOL SETTINGS'!M:V"},{"$f":"CONCATENATE(\"'INTERNAL TOOL SETTINGS'!\",'CENTRAL ANALYSIS'!$I$20,$Q133,\":\",'CENTRAL ANALYSIS'!$J$20,$Q133)","v":"'INTERNAL TOOL SETTINGS'!W:AV"},{"$f":"CONCATENATE(\"'INTERNAL TOOL SETTINGS'!\",'CENTRAL ANALYSIS'!$I$21,$Q133,\":\",'CENTRAL ANALYSIS'!$J$21,$Q133)","v":"'INTERNAL TOOL SETTINGS'!AW:BT"},{"$f":"CONCATENATE(\"'INTERNAL TOOL SETTINGS'!\",'CENTRAL ANALYSIS'!$I$22,$Q133,\":\",'CENTRAL ANALYSIS'!$J$22,$Q133)","v":"'INTERNAL TOOL SETTINGS'!BU:CH"},{"$f":"CONCATENATE(\"'INTERNAL TOOL SETTINGS'!\",'CENTRAL ANALYSIS'!$I$23,$Q133,\":\",'CENTRAL ANALYSIS'!$J$23,$Q133)","v":"'INTERNAL TOOL SETTINGS'!CI:CK"}]
[{"$f":"IF(B134=$M$126,1,0)","v":1},"",null,null,null,{"$f":"IFERROR(IF(VLOOKUP(B134,'INTERNAL TOOL SETTINGS'!$A:$CM,2,FALSE)=TRUE,\"Yes\",\"No\"),\"\")","v":""},{"$f":"IFERROR(IF(COUNTIF(INDIRECT(Z134,TRUE),\"TRUE\")=10,\"All\",IF(COUNTIF(INDIRECT(Z134,TRUE),\"TRUE\")>0,\"Custom\",\"None\")),\"\")","v":"None"},{"$f":"IFERROR(IF(COUNTIF(INDIRECT(AA134,TRUE),\"TRUE\")=10,\"All\",IF(COUNTIF(INDIRECT(AA134,TRUE),\"TRUE\")>0,\"Custom\",\"None\")),\"\")","v":"None"},{"$f":"IFERROR(IF(COUNTIF(INDIRECT(AB134,TRUE),\"TRUE\")=26,\"All\",IF(COUNTIF(INDIRECT(AB134,TRUE),\"TRUE\")>0,\"Custom\",\"None\")),\"\")","v":"None"},{"$f":"IFERROR(IF(COUNTIF(INDIRECT(AC134,TRUE),\"TRUE\")=24,\"All\",IF(COUNTIF(INDIRECT(AC134,TRUE),\"TRUE\")>0,\"Custom\",\"None\")),\"\")","v":"None"},{"$f":"IFERROR(IF(COUNTIF(INDIRECT(AD134,TRUE),\"TRUE\")=14,\"All\",IF(COUNTIF(INDIRECT(AD134,TRUE),\"TRUE\")>0,\"Custom\",\"None\")),\"\")","v":"None"},{"$f":"IFERROR(IF(COUNTIF(INDIRECT(AE134,TRUE),\"TRUE\")=3,\"All\",IF(COUNTIF(INDIRECT(AE134,TRUE),\"TRUE\")>0,\"Custom\",\"None\")),\"\")","v":"None"},{"$f":"IFERROR(IF(VLOOKUP(B134,'INTERNAL TOOL SETTINGS'!$A:$CM,90,FALSE)=TRUE,\"All\",\"None\"),\"\")","v":""},{"$f":"IFERROR(IF(VLOOKUP(B134,'INTERNAL TOOL SETTINGS'!$A:$CM,91,FALSE)=TRUE,\"All\",\"None\"),\"\")","v":""},null,null,{"$f":"IFERROR(MATCH(B134,'INTERNAL TOOL SETTINGS'!A:A,0),\"\")","v":""},null,null,null,null,null,{"$f":"IF('CENTRAL ANALYSIS'!$B$53>=2,1,0)","v":0},null,null,{"$f":"CONCATENATE(\"'INTERNAL TOOL SETTINGS'!\",'CENTRAL ANALYSIS'!$I$18,$Q134,\":\",'CENTRAL ANALYSIS'!$J$18,$Q134)","v":"'INTERNAL TOOL SETTINGS'!C:L"},{"$f":"CONCATENATE(\"'INTERNAL TOOL SETTINGS'!\",'CENTRAL ANALYSIS'!$I$19,$Q134,\":\",'CENTRAL ANALYSIS'!$J$19,$Q134)","v":"'INTERNAL TOOL SETTINGS'!M:V"},{"$f":"CONCATENATE(\"'INTERNAL TOOL SETTINGS'!\",'CENTRAL ANALYSIS'!$I$20,$Q134,\":\",'CENTRAL ANALYSIS'!$J$20,$Q134)","v":"'INTERNAL TOOL SETTINGS'!W:AV"},{"$f":"CONCATENATE(\"'INTERNAL TOOL SETTINGS'!\",'CENTRAL ANALYSIS'!$I$21,$Q134,\":\",'CENTRAL ANALYSIS'!$J$21,$Q134)","v":"'INTERNAL TOOL SETTINGS'!AW:BT"},{"$f":"CONCATENATE(\"'INTERNAL TOOL SETTINGS'!\",'CENTRAL ANALYSIS'!$I$22,$Q134,\":\",'CENTRAL ANALYSIS'!$J$22,$Q134)","v":"'INTERNAL TOOL SETTINGS'!BU:CH"},{"$f":"CONCATENATE(\"'INTERNAL TOOL SETTINGS'!\",'CENTRAL ANALYSIS'!$I$23,$Q134,\":\",'CENTRAL ANALYSIS'!$J$23,$Q134)","v":"'INTERNAL TOOL SETTINGS'!CI:CK"}]
[1,"",null,null,null,{"$f":"IFERROR(IF(VLOOKUP(B135,'INTERNAL TOOL SETTINGS'!$A:$CM,2,FALSE)=TRUE,\"Yes\",\"No\"),\"\")","v":""},"None","None","None","None","None","None",{"$f":"IFERROR(IF(VLOOKUP(B135,'INTERNAL TOOL SETTINGS'!$A:$CM,90,FALSE)=TRUE,\"All\",\"None\"),\"\")","v":""},{"$f":"IFERROR(IF(VLOOKUP(B135,'INTERNAL TOOL SETTINGS'!$A:$CM,91,FALSE)=TRUE,\"All\",\"None\"),\"\")","v":""},null,null,{"$f":"IFERROR(MATCH(B135,'INTERNAL TOOL SETTINGS'!A:A,0),\"\")","v":""},null,null,null,null,null,{"$f":"IF('CENTRAL ANALYSIS'!$B$53>=3,1,0)","v":0},null,null,{"$f":"CONCATENATE(\"'INTERNAL TOOL SETTINGS'!\",'CENTRAL ANALYSIS'!$I$18,$Q135,\":\",'CENTRAL ANALYSIS'!$J$18,$Q135)","v":"'INTERNAL TOOL SETTINGS'!C:L"},{"$f":"CONCATENATE(\"'INTERNAL TOOL SETTINGS'!\",'CENTRAL ANALYSIS'!$I$19,$Q135,\":\",'CENTRAL ANALYSIS'!$J$19,$Q135)","v":"'INTERNAL TOOL SETTINGS'!M:V"},{"$f":"CONCATENATE(\"'INTERNAL TOOL SETTINGS'!\",'CENTRAL ANALYSIS'!$I$20,$Q135,\":\",'CENTRAL ANALYSIS'!$J$20,$Q135)","v":"'INTERNAL TOOL SETTINGS'!W:AV"},{"$f":"CONCATENATE(\"'INTERNAL TOOL SETTINGS'!\",'CENTRAL ANALYSIS'!$I$21,$Q135,\":\",'CENTRAL ANALYSIS'!$J$21,$Q135)","v":"'INTERNAL TOOL SETTINGS'!AW:BT"},{"$f":"CONCATENATE(\"'INTERNAL TOOL SETTINGS'!\",'CENTRAL ANALYSIS'!$I$22,$Q135,\":\",'CENTRAL ANALYSIS'!$J$22,$Q135)","v":"'INTERNAL TOOL SETTINGS'!BU:CH"},{"$f":"CONCATENATE(\"'INTERNAL TOOL SETTINGS'!\",'CENTRAL ANALYSIS'!$I$23,$Q135,\":\",'CENTRAL ANALYSIS'!$J$23,$Q135)","v":"'INTERNAL TOOL SETTINGS'!CI:CK"}]
[1,"",null,null,null,{"$f":"IFERROR(IF(VLOOKUP(B136,'INTERNAL TOOL SETTINGS'!$A:$CM,2,FALSE)=TRUE,\"Yes\",\"No\"),\"\")","v":""},"None","None","None","None","None","None",{"$f":"IFERROR(IF(VLOOKUP(B136,'INTERNAL TOOL SETTINGS'!$A:$CM,90,FALSE)=TRUE,\"All\",\"None\"),\"\")","v":""},{"$f":"IFERROR(IF(VLOOKUP(B136,'INTERNAL TOOL SETTINGS'!$A:$CM,91,FALSE)=TRUE,\"All\",\"None\"),\"\")","v":""},null,null,{"$f":"IFERROR(MATCH(B136,'INTERNAL TOOL SETTINGS'!A:A,0),\"\")","v":""},null,null,null,null,null,{"$f":"IF('CENTRAL ANALYSIS'!$B$53>=4,1,0)","v":0},null,null,{"$f":"CONCATENATE(\"'INTERNAL TOOL SETTINGS'!\",'CENTRAL ANALYSIS'!$I$18,$Q136,\":\",'CENTRAL ANALYSIS'!$J$18,$Q136)","v":"'INTERNAL TOOL SETTINGS'!C:L"},{"$f":"CONCATENATE(\"'INTERNAL TOOL SETTINGS'!\",'CENTRAL ANALYSIS'!$I$19,$Q136,\":\",'CENTRAL ANALYSIS'!$J$19,$Q136)","v":"'INTERNAL TOOL SETTINGS'!M:V"},{"$f":"CONCATENATE(\"'INTERNAL TOOL SETTINGS'!\",'CENTRAL ANALYSIS'!$I$20,$Q136,\":\",'CENTRAL ANALYSIS'!$J$20,$Q136)","v":"'INTERNAL TOOL SETTINGS'!W:AV"},{"$f":"CONCATENATE(\"'INTERNAL TOOL SETTINGS'!\",'CENTRAL ANALYSIS'!$I$21,$Q136,\":\",'CENTRAL ANALYSIS'!$J$21,$Q136)","v":"'INTERNAL TOOL SETTINGS'!AW:BT"},{"$f":"CONCATENATE(\"'INTERNAL TOOL SETTINGS'!\",'CENTRAL ANALYSIS'!$I$22,$Q136,\":\",'CENTRAL ANALYSIS'!$J$22,$Q136)","v":"'INTERNAL TOOL SETTINGS'!BU:CH"},{"$f":"CONCATENATE(\"'INTERNAL TOOL SETTINGS'!\",'CENTRAL ANALYSIS'!$I$23,$Q136,\":\",'CENTRAL ANALYSIS'!$J$23,$Q136)","v":"'INTERNAL TOOL SETTINGS'!CI:CK"}]
[1,"",null,null,null,{"$f":"IFERROR(IF(VLOOKUP(B137,'INTERNAL TOOL SETTINGS'!$A:$CM,2,FALSE)=TRUE,\"Yes\",\"No\"),\"\")","v":""},"None","None","None","None","None","None",{"$f":"IFERROR(IF(VLOOKUP(B137,'INTERNAL TOOL SETTINGS'!$A:$CM,90,FALSE)=TRUE,\"All\",\"None\"),\"\")","v":""},{"$f":"IFERROR(IF(VLOOKUP(B137,'INTERNAL TOOL SETTINGS'!$A:$CM,91,FALSE)=TRUE,\"All\",\"None\"),\"\")","v":""},null,null,{"$f":"IFERROR(MATCH(B137,'INTERNAL TOOL SETTINGS'!A:A,0),\"\")","v":""},null,null,null,null,null,{"$f":"IF('CENTRAL ANALYSIS'!$B$53>=5,1,0)","v":0},null,null,{"$f":"CONCATENATE(\"'INTERNAL TOOL SETTINGS'!\",'CENTRAL ANALYSIS'!$I$18,$Q137,\":\",'CENTRAL ANALYSIS'!$J$18,$Q137)","v":"'INTERNAL TOOL SETTINGS'!C:L"},{"$f":"CONCATENATE(\"'INTERNAL TOOL SETTINGS'!\",'CENTRAL ANALYSIS'!$I$19,$Q137,\":\",'CENTRAL ANALYSIS'!$J$19,$Q137)","v":"'INTERNAL TOOL SETTINGS'!M:V"},{"$f":"CONCATENATE(\"'INTERNAL TOOL SETTINGS'!\",'CENTRAL ANALYSIS'!$I$20,$Q137,\":\",'CENTRAL ANALYSIS'!$J$20,$Q137)","v":"'INTERNAL TOOL SETTINGS'!W:AV"},{"$f":"CONCATENATE(\"'INTERNAL TOOL SETTINGS'!\",'CENTRAL ANALYSIS'!$I$21,$Q137,\":\",'CENTRAL ANALYSIS'!$J$21,$Q137)","v":"'INTERNAL TOOL SETTINGS'!AW:BT"},{"$f":"CONCATENATE(\"'INTERNAL TOOL SETTINGS'!\",'CENTRAL ANALYSIS'!$I$22,$Q137,\":\",'CENTRAL ANALYSIS'!$J$22,$Q137)","v":"'INTERNAL TOOL SETTINGS'!BU:CH"},{"$f":"CONCATENATE(\"'INTERNAL TOOL SETTINGS'!\",'CENTRAL ANALYSIS'!$I$23,$Q137,\":\",'CENTRAL ANALYSIS'!$J$23,$Q137)","v":"'INTERNAL TOOL SETTINGS'!CI:CK"}]
[1,"",null,null,null,{"$f":"IFERROR(IF(VLOOKUP(B138,'INTERNAL TOOL SETTINGS'!$A:$CM,2,FALSE)=TRUE,\"Yes\",\"No\"),\"\")","v":""},"None","None","None","None","None","None",{"$f":"IFERROR(IF(VLOOKUP(B138,'INTERNAL TOOL SETTINGS'!$A:$CM,90,FALSE)=TRUE,\"All\",\"None\"),\"\")","v":""},{"$f":"IFERROR(IF(VLOOKUP(B138,'INTERNAL TOOL SETTINGS'!$A:$CM,91,FALSE)=TRUE,\"All\",\"None\"),\"\")","v":""},null,null,{"$f":"IFERROR(MATCH(B138,'INTERNAL TOOL SETTINGS'!A:A,0),\"\")","v":""},null,null,null,null,null,{"$f":"IF('CENTRAL ANALYSIS'!$B$53>=6,1,0)","v":0},null,null,{"$f":"CONCATENATE(\"'INTERNAL TOOL SETTINGS'!\",'CENTRAL ANALYSIS'!$I$18,$Q138,\":\",'CENTRAL ANALYSIS'!$J$18,$Q138)","v":"'INTERNAL TOOL SETTINGS'!C:L"},{"$f":"CONCATENATE(\"'INTERNAL TOOL SETTINGS'!\",'CENTRAL ANALYSIS'!$I$19,$Q138,\":\",'CENTRAL ANALYSIS'!$J$19,$Q138)","v":"'INTERNAL TOOL SETTINGS'!M:V"},{"$f":"CONCATENATE(\"'INTERNAL TOOL SETTINGS'!\",'CENTRAL ANALYSIS'!$I$20,$Q138,\":\",'CENTRAL ANALYSIS'!$J$20,$Q138)","v":"'INTERNAL TOOL SETTINGS'!W:AV"},{"$f":"CONCATENATE(\"'INTERNAL TOOL SETTINGS'!\",'CENTRAL ANALYSIS'!$I$21,$Q138,\":\",'CENTRAL ANALYSIS'!$J$21,$Q138)","v":"'INTERNAL TOOL SETTINGS'!AW:BT"},{"$f":"CONCATENATE(\"'INTERNAL TOOL SETTINGS'!\",'CENTRAL ANALYSIS'!$I$22,$Q138,\":\",'CENTRAL ANALYSIS'!$J$22,$Q138)","v":"'INTERNAL TOOL SETTINGS'!BU:CH"},{"$f":"CONCATENATE(\"'INTERNAL TOOL SETTINGS'!\",'CENTRAL ANALYSIS'!$I$23,$Q138,\":\",'CENTRAL ANALYSIS'!$J$23,$Q138)","v":"'INTERNAL TOOL SETTINGS'!CI:CK"}]
[1,"",null,null,null,{"$f":"IFERROR(IF(VLOOKUP(B139,'INTERNAL TOOL SETTINGS'!$A:$CM,2,FALSE)=TRUE,\"Yes\",\"No\"),\"\")","v":""},"None","None","None","None","None","None",{"$f":"IFERROR(IF(VLOOKUP(B139,'INTERNAL TOOL SETTINGS'!$A:$CM,90,FALSE)=TRUE,\"All\",\"None\"),\"\")","v":""},{"$f":"IFERROR(IF(VLOOKUP(B139,'INTERNAL TOOL SETTINGS'!$A:$CM,91,FALSE)=TRUE,\"All\",\"None\"),\"\")","v":""},null,null,{"$f":"IFERROR(MATCH(B139,'INTERNAL TOOL SETTINGS'!A:A,0),\"\")","v":""},null,null,null,null,null,{"$f":"IF('CENTRAL ANALYSIS'!$B$53>=7,1,0)","v":0},null,null,{"$f":"CONCATENATE(\"'INTERNAL TOOL SETTINGS'!\",'CENTRAL ANALYSIS'!$I$18,$Q139,\":\",'CENTRAL ANALYSIS'!$J$18,$Q139)","v":"'INTERNAL TOOL SETTINGS'!C:L"},{"$f":"CONCATENATE(\"'INTERNAL TOOL SETTINGS'!\",'CENTRAL ANALYSIS'!$I$19,$Q139,\":\",'CENTRAL ANALYSIS'!$J$19,$Q139)","v":"'INTERNAL TOOL SETTINGS'!M:V"},{"$f":"CONCATENATE(\"'INTERNAL TOOL SETTINGS'!\",'CENTRAL ANALYSIS'!$I$20,$Q139,\":\",'CENTRAL ANALYSIS'!$J$20,$Q139)","v":"'INTERNAL TOOL SETTINGS'!W:AV"},{"$f":"CONCATENATE(\"'INTERNAL TOOL SETTINGS'!\",'CENTRAL ANALYSIS'!$I$21,$Q139,\":\",'CENTRAL ANALYSIS'!$J$21,$Q139)","v":"'INTERNAL TOOL SETTINGS'!AW:BT"},{"$f":"CONCATENATE(\"'INTERNAL TOOL SETTINGS'!\",'CENTRAL ANALYSIS'!$I$22,$Q139,\":\",'CENTRAL ANALYSIS'!$J$22,$Q139)","v":"'INTERNAL TOOL SETTINGS'!BU:CH"},{"$f":"CONCATENATE(\"'INTERNAL TOOL SETTINGS'!\",'CENTRAL ANALYSIS'!$I$23,$Q139,\":\",'CENTRAL ANALYSIS'!$J$23,$Q139)","v":"'INTERNAL TOOL SETTINGS'!CI:CK"}]
[1,"",null,null,null,{"$f":"IFERROR(IF(VLOOKUP(B140,'INTERNAL TOOL SETTINGS'!$A:$CM,2,FALSE)=TRUE,\"Yes\",\"No\"),\"\")","v":""},"None","None","None","None","None","None",{"$f":"IFERROR(IF(VLOOKUP(B140,'INTERNAL TOOL SETTINGS'!$A:$CM,90,FALSE)=TRUE,\"All\",\"None\"),\"\")","v":""},{"$f":"IFERROR(IF(VLOOKUP(B140,'INTERNAL TOOL SETTINGS'!$A:$CM,91,FALSE)=TRUE,\"All\",\"None\"),\"\")","v":""},null,null,{"$f":"IFERROR(MATCH(B140,'INTERNAL TOOL SETTINGS'!A:A,0),\"\")","v":""},null,null,null,null,null,{"$f":"IF('CENTRAL ANALYSIS'!$B$53>=8,1,0)","v":0},null,null,{"$f":"CONCATENATE(\"'INTERNAL TOOL SETTINGS'!\",'CENTRAL ANALYSIS'!$I$18,$Q140,\":\",'CENTRAL ANALYSIS'!$J$18,$Q140)","v":"'INTERNAL TOOL SETTINGS'!C:L"},{"$f":"CONCATENATE(\"'INTERNAL TOOL SETTINGS'!\",'CENTRAL ANALYSIS'!$I$19,$Q140,\":\",'CENTRAL ANALYSIS'!$J$19,$Q140)","v":"'INTERNAL TOOL SETTINGS'!M:V"},{"$f":"CONCATENATE(\"'INTERNAL TOOL SETTINGS'!\",'CENTRAL ANALYSIS'!$I$20,$Q140,\":\",'CENTRAL ANALYSIS'!$J$20,$Q140)","v":"'INTERNAL TOOL SETTINGS'!W:AV"},{"$f":"CONCATENATE(\"'INTERNAL TOOL SETTINGS'!\",'CENTRAL ANALYSIS'!$I$21,$Q140,\":\",'CENTRAL ANALYSIS'!$J$21,$Q140)","v":"'INTERNAL TOOL SETTINGS'!AW:BT"},{"$f":"CONCATENATE(\"'INTERNAL TOOL SETTINGS'!\",'CENTRAL ANALYSIS'!$I$22,$Q140,\":\",'CENTRAL ANALYSIS'!$J$22,$Q140)","v":"'INTERNAL TOOL SETTINGS'!BU:CH"},{"$f":"CONCATENATE(\"'INTERNAL TOOL SETTINGS'!\",'CENTRAL ANALYSIS'!$I$23,$Q140,\":\",'CENTRAL ANALYSIS'!$J$23,$Q140)","v":"'INTERNAL TOOL SETTINGS'!CI:CK"}]
[1,"",null,null,null,{"$f":"IFERROR(IF(VLOOKUP(B141,'INTERNAL TOOL SETTINGS'!$A:$CM,2,FALSE)=TRUE,\"Yes\",\"No\"),\"\")","v":""},"None","None","None","None","None","None",{"$f":"IFERROR(IF(VLOOKUP(B141,'INTERNAL TOOL SETTINGS'!$A:$CM,90,FALSE)=TRUE,\"All\",\"None\"),\"\")","v":""},{"$f":"IFERROR(IF(VLOOKUP(B141,'INTERNAL TOOL SETTINGS'!$A:$CM,91,FALSE)=TRUE,\"All\",\"None\"),\"\")","v":""},null,null,{"$f":"IFERROR(MATCH(B141,'INTERNAL TOOL SETTINGS'!A:A,0),\"\")","v":""},null,null,null,null,null,{"$f":"IF('CENTRAL ANALYSIS'!$B$53>=9,1,0)","v":0},null,null,{"$f":"CONCATENATE(\"'INTERNAL TOOL SETTINGS'!\",'CENTRAL ANALYSIS'!$I$18,$Q141,\":\",'CENTRAL ANALYSIS'!$J$18,$Q141)","v":"'INTERNAL TOOL SETTINGS'!C:L"},{"$f":"CONCATENATE(\"'INTERNAL TOOL SETTINGS'!\",'CENTRAL ANALYSIS'!$I$19,$Q141,\":\",'CENTRAL ANALYSIS'!$J$19,$Q141)","v":"'INTERNAL TOOL SETTINGS'!M:V"},{"$f":"CONCATENATE(\"'INTERNAL TOOL SETTINGS'!\",'CENTRAL ANALYSIS'!$I$20,$Q141,\":\",'CENTRAL ANALYSIS'!$J$20,$Q141)","v":"'INTERNAL TOOL SETTINGS'!W:AV"},{"$f":"CONCATENATE(\"'INTERNAL TOOL SETTINGS'!\",'CENTRAL ANALYSIS'!$I$21,$Q141,\":\",'CENTRAL ANALYSIS'!$J$21,$Q141)","v":"'INTERNAL TOOL SETTINGS'!AW:BT"},{"$f":"CONCATENATE(\"'INTERNAL TOOL SETTINGS'!\",'CENTRAL ANALYSIS'!$I$22,$Q141,\":\",'CENTRAL ANALYSIS'!$J$22,$Q141)","v":"'INTERNAL TOOL SETTINGS'!BU:CH"},{"$f":"CONCATENATE(\"'INTERNAL TOOL SETTINGS'!\",'CENTRAL ANALYSIS'!$I$23,$Q141,\":\",'CENTRAL ANALYSIS'!$J$23,$Q141)","v":"'INTERNAL TOOL SETTINGS'!CI:CK"}]
[1,"",null,null,null,{"$f":"IFERROR(IF(VLOOKUP(B142,'INTERNAL TOOL SETTINGS'!$A:$CM,2,FALSE)=TRUE,\"Yes\",\"No\"),\"\")","v":""},"None","None","None","None","None","None",{"$f":"IFERROR(IF(VLOOKUP(B142,'INTERNAL TOOL SETTINGS'!$A:$CM,90,FALSE)=TRUE,\"All\",\"None\"),\"\")","v":""},{"$f":"IFERROR(IF(VLOOKUP(B142,'INTERNAL TOOL SETTINGS'!$A:$CM,91,FALSE)=TRUE,\"All\",\"None\"),\"\")","v":""},null,null,{"$f":"IFERROR(MATCH(B142,'INTERNAL TOOL SETTINGS'!A:A,0),\"\")","v":""},null,null,null,null,null,{"$f":"IF('CENTRAL ANALYSIS'!$B$53>=10,1,0)","v":0},null,null,{"$f":"CONCATENATE(\"'INTERNAL TOOL SETTINGS'!\",'CENTRAL ANALYSIS'!$I$18,$Q142,\":\",'CENTRAL ANALYSIS'!$J$18,$Q142)","v":"'INTERNAL TOOL SETTINGS'!C:L"},{"$f":"CONCATENATE(\"'INTERNAL TOOL SETTINGS'!\",'CENTRAL ANALYSIS'!$I$19,$Q142,\":\",'CENTRAL ANALYSIS'!$J$19,$Q142)","v":"'INTERNAL TOOL SETTINGS'!M:V"},{"$f":"CONCATENATE(\"'INTERNAL TOOL SETTINGS'!\",'CENTRAL ANALYSIS'!$I$20,$Q142,\":\",'CENTRAL ANALYSIS'!$J$20,$Q142)","v":"'INTERNAL TOOL SETTINGS'!W:AV"},{"$f":"CONCATENATE(\"'INTERNAL TOOL SETTINGS'!\",'CENTRAL ANALYSIS'!$I$21,$Q142,\":\",'CENTRAL ANALYSIS'!$J$21,$Q142)","v":"'INTERNAL TOOL SETTINGS'!AW:BT"},{"$f":"CONCATENATE(\"'INTERNAL TOOL SETTINGS'!\",'CENTRAL ANALYSIS'!$I$22,$Q142,\":\",'CENTRAL ANALYSIS'!$J$22,$Q142)","v":"'INTERNAL TOOL SETTINGS'!BU:CH"},{"$f":"CONCATENATE(\"'INTERNAL TOOL SETTINGS'!\",'CENTRAL ANALYSIS'!$I$23,$Q142,\":\",'CENTRAL ANALYSIS'!$J$23,$Q142)","v":"'INTERNAL TOOL SETTINGS'!CI:CK"}]
[1,"",null,null,null,{"$f":"IFERROR(IF(VLOOKUP(B143,'INTERNAL TOOL SETTINGS'!$A:$CM,2,FALSE)=TRUE,\"Yes\",\"No\"),\"\")","v":""},"None","None","None","None","None","None",{"$f":"IFERROR(IF(VLOOKUP(B143,'INTERNAL TOOL SETTINGS'!$A:$CM,90,FALSE)=TRUE,\"All\",\"None\"),\"\")","v":""},{"$f":"IFERROR(IF(VLOOKUP(B143,'INTERNAL TOOL SETTINGS'!$A:$CM,91,FALSE)=TRUE,\"All\",\"None\"),\"\")","v":""},null,null,{"$f":"IFERROR(MATCH(B143,'INTERNAL TOOL SETTINGS'!A:A,0),\"\")","v":""},null,null,null,null,null,{"$f":"IF('CENTRAL ANALYSIS'!$B$53>=11,1,0)","v":0},null,null,{"$f":"CONCATENATE(\"'INTERNAL TOOL SETTINGS'!\",'CENTRAL ANALYSIS'!$I$18,$Q143,\":\",'CENTRAL ANALYSIS'!$J$18,$Q143)","v":"'INTERNAL TOOL SETTINGS'!C:L"},{"$f":"CONCATENATE(\"'INTERNAL TOOL SETTINGS'!\",'CENTRAL ANALYSIS'!$I$19,$Q143,\":\",'CENTRAL ANALYSIS'!$J$19,$Q143)","v":"'INTERNAL TOOL SETTINGS'!M:V"},{"$f":"CONCATENATE(\"'INTERNAL TOOL SETTINGS'!\",'CENTRAL ANALYSIS'!$I$20,$Q143,\":\",'CENTRAL ANALYSIS'!$J$20,$Q143)","v":"'INTERNAL TOOL SETTINGS'!W:AV"},{"$f":"CONCATENATE(\"'INTERNAL TOOL SETTINGS'!\",'CENTRAL ANALYSIS'!$I$21,$Q143,\":\",'CENTRAL ANALYSIS'!$J$21,$Q143)","v":"'INTERNAL TOOL SETTINGS'!AW:BT"},{"$f":"CONCATENATE(\"'INTERNAL TOOL SETTINGS'!\",'CENTRAL ANALYSIS'!$I$22,$Q143,\":\",'CENTRAL ANALYSIS'!$J$22,$Q143)","v":"'INTERNAL TOOL SETTINGS'!BU:CH"},{"$f":"CONCATENATE(\"'INTERNAL TOOL SETTINGS'!\",'CENTRAL ANALYSIS'!$I$23,$Q143,\":\",'CENTRAL ANALYSIS'!$J$23,$Q143)","v":"'INTERNAL TOOL SETTINGS'!CI:CK"}]
[1,"",null,null,null,{"$f":"IFERROR(IF(VLOOKUP(B144,'INTERNAL TOOL SETTINGS'!$A:$CM,2,FALSE)=TRUE,\"Yes\",\"No\"),\"\")","v":""},"None","None","None","None","None","None",{"$f":"IFERROR(IF(VLOOKUP(B144,'INTERNAL TOOL SETTINGS'!$A:$CM,90,FALSE)=TRUE,\"All\",\"None\"),\"\")","v":""},{"$f":"IFERROR(IF(VLOOKUP(B144,'INTERNAL TOOL SETTINGS'!$A:$CM,91,FALSE)=TRUE,\"All\",\"None\"),\"\")","v":""},null,null,{"$f":"IFERROR(MATCH(B144,'INTERNAL TOOL SETTINGS'!A:A,0),\"\")","v":""},null,null,null,null,null,{"$f":"IF('CENTRAL ANALYSIS'!$B$53>=12,1,0)","v":0},null,null,{"$f":"CONCATENATE(\"'INTERNAL TOOL SETTINGS'!\",'CENTRAL ANALYSIS'!$I$18,$Q144,\":\",'CENTRAL ANALYSIS'!$J$18,$Q144)","v":"'INTERNAL TOOL SETTINGS'!C:L"},{"$f":"CONCATENATE(\"'INTERNAL TOOL SETTINGS'!\",'CENTRAL ANALYSIS'!$I$19,$Q144,\":\",'CENTRAL ANALYSIS'!$J$19,$Q144)","v":"'INTERNAL TOOL SETTINGS'!M:V"},{"$f":"CONCATENATE(\"'INTERNAL TOOL SETTINGS'!\",'CENTRAL ANALYSIS'!$I$20,$Q144,\":\",'CENTRAL ANALYSIS'!$J$20,$Q144)","v":"'INTERNAL TOOL SETTINGS'!W:AV"},{"$f":"CONCATENATE(\"'INTERNAL TOOL SETTINGS'!\",'CENTRAL ANALYSIS'!$I$21,$Q144,\":\",'CENTRAL ANALYSIS'!$J$21,$Q144)","v":"'INTERNAL TOOL SETTINGS'!AW:BT"},{"$f":"CONCATENATE(\"'INTERNAL TOOL SETTINGS'!\",'CENTRAL ANALYSIS'!$I$22,$Q144,\":\",'CENTRAL ANALYSIS'!$J$22,$Q144)","v":"'INTERNAL TOOL SETTINGS'!BU:CH"},{"$f":"CONCATENATE(\"'INTERNAL TOOL SETTINGS'!\",'CENTRAL ANALYSIS'!$I$23,$Q144,\":\",'CENTRAL ANALYSIS'!$J$23,$Q144)","v":"'INTERNAL TOOL SETTINGS'!CI:CK"}]
[1,"",null,null,null,{"$f":"IFERROR(IF(VLOOKUP(B145,'INTERNAL TOOL SETTINGS'!$A:$CM,2,FALSE)=TRUE,\"Yes\",\"No\"),\"\")","v":""},"None","None","None","None","None","None",{"$f":"IFERROR(IF(VLOOKUP(B145,'INTERNAL TOOL SETTINGS'!$A:$CM,90,FALSE)=TRUE,\"All\",\"None\"),\"\")","v":""},{"$f":"IFERROR(IF(VLOOKUP(B145,'INTERNAL TOOL SETTINGS'!$A:$CM,91,FALSE)=TRUE,\"All\",\"None\"),\"\")","v":""},null,null,{"$f":"IFERROR(MATCH(B145,'INTERNAL TOOL SETTINGS'!A:A,0),\"\")","v":""},null,null,null,null,null,{"$f":"IF('CENTRAL ANALYSIS'!$B$53>=13,1,0)","v":0},null,null,{"$f":"CONCATENATE(\"'INTERNAL TOOL SETTINGS'!\",'CENTRAL ANALYSIS'!$I$18,$Q145,\":\",'CENTRAL ANALYSIS'!$J$18,$Q145)","v":"'INTERNAL TOOL SETTINGS'!C:L"},{"$f":"CONCATENATE(\"'INTERNAL TOOL SETTINGS'!\",'CENTRAL ANALYSIS'!$I$19,$Q145,\":\",'CENTRAL ANALYSIS'!$J$19,$Q145)","v":"'INTERNAL TOOL SETTINGS'!M:V"},{"$f":"CONCATENATE(\"'INTERNAL TOOL SETTINGS'!\",'CENTRAL ANALYSIS'!$I$20,$Q145,\":\",'CENTRAL ANALYSIS'!$J$20,$Q145)","v":"'INTERNAL TOOL SETTINGS'!W:AV"},{"$f":"CONCATENATE(\"'INTERNAL TOOL SETTINGS'!\",'CENTRAL ANALYSIS'!$I$21,$Q145,\":\",'CENTRAL ANALYSIS'!$J$21,$Q145)","v":"'INTERNAL TOOL SETTINGS'!AW:BT"},{"$f":"CONCATENATE(\"'INTERNAL TOOL SETTINGS'!\",'CENTRAL ANALYSIS'!$I$22,$Q145,\":\",'CENTRAL ANALYSIS'!$J$22,$Q145)","v":"'INTERNAL TOOL SETTINGS'!BU:CH"},{"$f":"CONCATENATE(\"'INTERNAL TOOL SETTINGS'!\",'CENTRAL ANALYSIS'!$I$23,$Q145,\":\",'CENTRAL ANALYSIS'!$J$23,$Q145)","v":"'INTERNAL TOOL SETTINGS'!CI:CK"}]
[1,"",null,null,null,{"$f":"IFERROR(IF(VLOOKUP(B146,'INTERNAL TOOL SETTINGS'!$A:$CM,2,FALSE)=TRUE,\"Yes\",\"No\"),\"\")","v":""},"None","None","None","None","None","None",{"$f":"IFERROR(IF(VLOOKUP(B146,'INTERNAL TOOL SETTINGS'!$A:$CM,90,FALSE)=TRUE,\"All\",\"None\"),\"\")","v":""},{"$f":"IFERROR(IF(VLOOKUP(B146,'INTERNAL TOOL SETTINGS'!$A:$CM,91,FALSE)=TRUE,\"All\",\"None\"),\"\")","v":""},null,null,{"$f":"IFERROR(MATCH(B146,'INTERNAL TOOL SETTINGS'!A:A,0),\"\")","v":""},null,null,null,null,null,{"$f":"IF('CENTRAL ANALYSIS'!$B$53>=14,1,0)","v":0},null,null,{"$f":"CONCATENATE(\"'INTERNAL TOOL SETTINGS'!\",'CENTRAL ANALYSIS'!$I$18,$Q146,\":\",'CENTRAL ANALYSIS'!$J$18,$Q146)","v":"'INTERNAL TOOL SETTINGS'!C:L"},{"$f":"CONCATENATE(\"'INTERNAL TOOL SETTINGS'!\",'CENTRAL ANALYSIS'!$I$19,$Q146,\":\",'CENTRAL ANALYSIS'!$J$19,$Q146)","v":"'INTERNAL TOOL SETTINGS'!M:V"},{"$f":"CONCATENATE(\"'INTERNAL TOOL SETTINGS'!\",'CENTRAL ANALYSIS'!$I$20,$Q146,\":\",'CENTRAL ANALYSIS'!$J$20,$Q146)","v":"'INTERNAL TOOL SETTINGS'!W:AV"},{"$f":"CONCATENATE(\"'INTERNAL TOOL SETTINGS'!\",'CENTRAL ANALYSIS'!$I$21,$Q146,\":\",'CENTRAL ANALYSIS'!$J$21,$Q146)","v":"'INTERNAL TOOL SETTINGS'!AW:BT"},{"$f":"CONCATENATE(\"'INTERNAL TOOL SETTINGS'!\",'CENTRAL ANALYSIS'!$I$22,$Q146,\":\",'CENTRAL ANALYSIS'!$J$22,$Q146)","v":"'INTERNAL TOOL SETTINGS'!BU:CH"},{"$f":"CONCATENATE(\"'INTERNAL TOOL SETTINGS'!\",'CENTRAL ANALYSIS'!$I$23,$Q146,\":\",'CENTRAL ANALYSIS'!$J$23,$Q146)","v":"'INTERNAL TOOL SETTINGS'!CI:CK"}]
[1,"",null,null,null,{"$f":"IFERROR(IF(VLOOKUP(B147,'INTERNAL TOOL SETTINGS'!$A:$CM,2,FALSE)=TRUE,\"Yes\",\"No\"),\"\")","v":""},"None","None","None","None","None","None",{"$f":"IFERROR(IF(VLOOKUP(B147,'INTERNAL TOOL SETTINGS'!$A:$CM,90,FALSE)=TRUE,\"All\",\"None\"),\"\")","v":""},{"$f":"IFERROR(IF(VLOOKUP(B147,'INTERNAL TOOL SETTINGS'!$A:$CM,91,FALSE)=TRUE,\"All\",\"None\"),\"\")","v":""},null,null,{"$f":"IFERROR(MATCH(B147,'INTERNAL TOOL SETTINGS'!A:A,0),\"\")","v":""},null,null,null,null,null,{"$f":"IF('CENTRAL ANALYSIS'!$B$53>=15,1,0)","v":0},null,null,{"$f":"CONCATENATE(\"'INTERNAL TOOL SETTINGS'!\",'CENTRAL ANALYSIS'!$I$18,$Q147,\":\",'CENTRAL ANALYSIS'!$J$18,$Q147)","v":"'INTERNAL TOOL SETTINGS'!C:L"},{"$f":"CONCATENATE(\"'INTERNAL TOOL SETTINGS'!\",'CENTRAL ANALYSIS'!$I$19,$Q147,\":\",'CENTRAL ANALYSIS'!$J$19,$Q147)","v":"'INTERNAL TOOL SETTINGS'!M:V"},{"$f":"CONCATENATE(\"'INTERNAL TOOL SETTINGS'!\",'CENTRAL ANALYSIS'!$I$20,$Q147,\":\",'CENTRAL ANALYSIS'!$J$20,$Q147)","v":"'INTERNAL TOOL SETTINGS'!W:AV"},{"$f":"CONCATENATE(\"'INTERNAL TOOL SETTINGS'!\",'CENTRAL ANALYSIS'!$I$21,$Q147,\":\",'CENTRAL ANALYSIS'!$J$21,$Q147)","v":"'INTERNAL TOOL SETTINGS'!AW:BT"},{"$f":"CONCATENATE(\"'INTERNAL TOOL SETTINGS'!\",'CENTRAL ANALYSIS'!$I$22,$Q147,\":\",'CENTRAL ANALYSIS'!$J$22,$Q147)","v":"'INTERNAL TOOL SETTINGS'!BU:CH"},{"$f":"CONCATENATE(\"'INTERNAL TOOL SETTINGS'!\",'CENTRAL ANALYSIS'!$I$23,$Q147,\":\",'CENTRAL ANALYSIS'!$J$23,$Q147)","v":"'INTERNAL TOOL SETTINGS'!CI:CK"}]
[1,"",null,null,null,{"$f":"IFERROR(IF(VLOOKUP(B148,'INTERNAL TOOL SETTINGS'!$A:$CM,2,FALSE)=TRUE,\"Yes\",\"No\"),\"\")","v":""},"None","None","None","None","None","None",{"$f":"IFERROR(IF(VLOOKUP(B148,'INTERNAL TOOL SETTINGS'!$A:$CM,90,FALSE)=TRUE,\"All\",\"None\"),\"\")","v":""},{"$f":"IFERROR(IF(VLOOKUP(B148,'INTERNAL TOOL SETTINGS'!$A:$CM,91,FALSE)=TRUE,\"All\",\"None\"),\"\")","v":""},null,null,{"$f":"IFERROR(MATCH(B148,'INTERNAL TOOL SETTINGS'!A:A,0),\"\")","v":""},null,null,null,null,null,{"$f":"IF('CENTRAL ANALYSIS'!$B$53>=16,1,0)","v":0},null,null,{"$f":"CONCATENATE(\"'INTERNAL TOOL SETTINGS'!\",'CENTRAL ANALYSIS'!$I$18,$Q148,\":\",'CENTRAL ANALYSIS'!$J$18,$Q148)","v":"'INTERNAL TOOL SETTINGS'!C:L"},{"$f":"CONCATENATE(\"'INTERNAL TOOL SETTINGS'!\",'CENTRAL ANALYSIS'!$I$19,$Q148,\":\",'CENTRAL ANALYSIS'!$J$19,$Q148)","v":"'INTERNAL TOOL SETTINGS'!M:V"},{"$f":"CONCATENATE(\"'INTERNAL TOOL SETTINGS'!\",'CENTRAL ANALYSIS'!$I$20,$Q148,\":\",'CENTRAL ANALYSIS'!$J$20,$Q148)","v":"'INTERNAL TOOL SETTINGS'!W:AV"},{"$f":"CONCATENATE(\"'INTERNAL TOOL SETTINGS'!\",'CENTRAL ANALYSIS'!$I$21,$Q148,\":\",'CENTRAL ANALYSIS'!$J$21,$Q148)","v":"'INTERNAL TOOL SETTINGS'!AW:BT"},{"$f":"CONCATENATE(\"'INTERNAL TOOL SETTINGS'!\",'CENTRAL ANALYSIS'!$I$22,$Q148,\":\",'CENTRAL ANALYSIS'!$J$22,$Q148)","v":"'INTERNAL TOOL SETTINGS'!BU:CH"},{"$f":"CONCATENATE(\"'INTERNAL TOOL SETTINGS'!\",'CENTRAL ANALYSIS'!$I$23,$Q148,\":\",'CENTRAL ANALYSIS'!$J$23,$Q148)","v":"'INTERNAL TOOL SETTINGS'!CI:CK"}]
[1,"",null,null,null,{"$f":"IFERROR(IF(VLOOKUP(B149,'INTERNAL TOOL SETTINGS'!$A:$CM,2,FALSE)=TRUE,\"Yes\",\"No\"),\"\")","v":""},"None","None","None","None","None","None",{"$f":"IFERROR(IF(VLOOKUP(B149,'INTERNAL TOOL SETTINGS'!$A:$CM,90,FALSE)=TRUE,\"All\",\"None\"),\"\")","v":""},{"$f":"IFERROR(IF(VLOOKUP(B149,'INTERNAL TOOL SETTINGS'!$A:$CM,91,FALSE)=TRUE,\"All\",\"None\"),\"\")","v":""},null,null,{"$f":"IFERROR(MATCH(B149,'INTERNAL TOOL SETTINGS'!A:A,0),\"\")","v":""},null,null,null,null,null,{"$f":"IF('CENTRAL ANALYSIS'!$B$53>=17,1,0)","v":0},null,null,{"$f":"CONCATENATE(\"'INTERNAL TOOL SETTINGS'!\",'CENTRAL ANALYSIS'!$I$18,$Q149,\":\",'CENTRAL ANALYSIS'!$J$18,$Q149)","v":"'INTERNAL TOOL SETTINGS'!C:L"},{"$f":"CONCATENATE(\"'INTERNAL TOOL SETTINGS'!\",'CENTRAL ANALYSIS'!$I$19,$Q149,\":\",'CENTRAL ANALYSIS'!$J$19,$Q149)","v":"'INTERNAL TOOL SETTINGS'!M:V"},{"$f":"CONCATENATE(\"'INTERNAL TOOL SETTINGS'!\",'CENTRAL ANALYSIS'!$I$20,$Q149,\":\",'CENTRAL ANALYSIS'!$J$20,$Q149)","v":"'INTERNAL TOOL SETTINGS'!W:AV"},{"$f":"CONCATENATE(\"'INTERNAL TOOL SETTINGS'!\",'CENTRAL ANALYSIS'!$I$21,$Q149,\":\",'CENTRAL ANALYSIS'!$J$21,$Q149)","v":"'INTERNAL TOOL SETTINGS'!AW:BT"},{"$f":"CONCATENATE(\"'INTERNAL TOOL SETTINGS'!\",'CENTRAL ANALYSIS'!$I$22,$Q149,\":\",'CENTRAL ANALYSIS'!$J$22,$Q149)","v":"'INTERNAL TOOL SETTINGS'!BU:CH"},{"$f":"CONCATENATE(\"'INTERNAL TOOL SETTINGS'!\",'CENTRAL ANALYSIS'!$I$23,$Q149,\":\",'CENTRAL ANALYSIS'!$J$23,$Q149)","v":"'INTERNAL TOOL SETTINGS'!CI:CK"}]
[1,"",null,null,null,{"$f":"IFERROR(IF(VLOOKUP(B150,'INTERNAL TOOL SETTINGS'!$A:$CM,2,FALSE)=TRUE,\"Yes\",\"No\"),\"\")","v":""},"None","None","None","None","None","None",{"$f":"IFERROR(IF(VLOOKUP(B150,'INTERNAL TOOL SETTINGS'!$A:$CM,90,FALSE)=TRUE,\"All\",\"None\"),\"\")","v":""},{"$f":"IFERROR(IF(VLOOKUP(B150,'INTERNAL TOOL SETTINGS'!$A:$CM,91,FALSE)=TRUE,\"All\",\"None\"),\"\")","v":""},null,null,{"$f":"IFERROR(MATCH(B150,'INTERNAL TOOL SETTINGS'!A:A,0),\"\")","v":""},null,null,null,null,null,{"$f":"IF('CENTRAL ANALYSIS'!$B$53>=18,1,0)","v":0},null,null,{"$f":"CONCATENATE(\"'INTERNAL TOOL SETTINGS'!\",'CENTRAL ANALYSIS'!$I$18,$Q150,\":\",'CENTRAL ANALYSIS'!$J$18,$Q150)","v":"'INTERNAL TOOL SETTINGS'!C:L"},{"$f":"CONCATENATE(\"'INTERNAL TOOL SETTINGS'!\",'CENTRAL ANALYSIS'!$I$19,$Q150,\":\",'CENTRAL ANALYSIS'!$J$19,$Q150)","v":"'INTERNAL TOOL SETTINGS'!M:V"},{"$f":"CONCATENATE(\"'INTERNAL TOOL SETTINGS'!\",'CENTRAL ANALYSIS'!$I$20,$Q150,\":\",'CENTRAL ANALYSIS'!$J$20,$Q150)","v":"'INTERNAL TOOL SETTINGS'!W:AV"},{"$f":"CONCATENATE(\"'INTERNAL TOOL SETTINGS'!\",'CENTRAL ANALYSIS'!$I$21,$Q150,\":\",'CENTRAL ANALYSIS'!$J$21,$Q150)","v":"'INTERNAL TOOL SETTINGS'!AW:BT"},{"$f":"CONCATENATE(\"'INTERNAL TOOL SETTINGS'!\",'CENTRAL ANALYSIS'!$I$22,$Q150,\":\",'CENTRAL ANALYSIS'!$J$22,$Q150)","v":"'INTERNAL TOOL SETTINGS'!BU:CH"},{"$f":"CONCATENATE(\"'INTERNAL TOOL SETTINGS'!\",'CENTRAL ANALYSIS'!$I$23,$Q150,\":\",'CENTRAL ANALYSIS'!$J$23,$Q150)","v":"'INTERNAL TOOL SETTINGS'!CI:CK"}]
[1,"",null,null,null,{"$f":"IFERROR(IF(VLOOKUP(B151,'INTERNAL TOOL SETTINGS'!$A:$CM,2,FALSE)=TRUE,\"Yes\",\"No\"),\"\")","v":""},"None","None","None","None","None","None",{"$f":"IFERROR(IF(VLOOKUP(B151,'INTERNAL TOOL SETTINGS'!$A:$CM,90,FALSE)=TRUE,\"All\",\"None\"),\"\")","v":""},{"$f":"IFERROR(IF(VLOOKUP(B151,'INTERNAL TOOL SETTINGS'!$A:$CM,91,FALSE)=TRUE,\"All\",\"None\"),\"\")","v":""},null,null,{"$f":"IFERROR(MATCH(B151,'INTERNAL TOOL SETTINGS'!A:A,0),\"\")","v":""},null,null,null,null,null,{"$f":"IF('CENTRAL ANALYSIS'!$B$53>=19,1,0)","v":0},null,null,{"$f":"CONCATENATE(\"'INTERNAL TOOL SETTINGS'!\",'CENTRAL ANALYSIS'!$I$18,$Q151,\":\",'CENTRAL ANALYSIS'!$J$18,$Q151)","v":"'INTERNAL TOOL SETTINGS'!C:L"},{"$f":"CONCATENATE(\"'INTERNAL TOOL SETTINGS'!\",'CENTRAL ANALYSIS'!$I$19,$Q151,\":\",'CENTRAL ANALYSIS'!$J$19,$Q151)","v":"'INTERNAL TOOL SETTINGS'!M:V"},{"$f":"CONCATENATE(\"'INTERNAL TOOL SETTINGS'!\",'CENTRAL ANALYSIS'!$I$20,$Q151,\":\",'CENTRAL ANALYSIS'!$J$20,$Q151)","v":"'INTERNAL TOOL SETTINGS'!W:AV"},{"$f":"CONCATENATE(\"'INTERNAL TOOL SETTINGS'!\",'CENTRAL ANALYSIS'!$I$21,$Q151,\":\",'CENTRAL ANALYSIS'!$J$21,$Q151)","v":"'INTERNAL TOOL SETTINGS'!AW:BT"},{"$f":"CONCATENATE(\"'INTERNAL TOOL SETTINGS'!\",'CENTRAL ANALYSIS'!$I$22,$Q151,\":\",'CENTRAL ANALYSIS'!$J$22,$Q151)","v":"'INTERNAL TOOL SETTINGS'!BU:CH"},{"$f":"CONCATENATE(\"'INTERNAL TOOL SETTINGS'!\",'CENTRAL ANALYSIS'!$I$23,$Q151,\":\",'CENTRAL ANALYSIS'!$J$23,$Q151)","v":"'INTERNAL TOOL SETTINGS'!CI:CK"}]
[1,"",null,null,null,{"$f":"IFERROR(IF(VLOOKUP(B152,'INTERNAL TOOL SETTINGS'!$A:$CM,2,FALSE)=TRUE,\"Yes\",\"No\"),\"\")","v":""},"None","None","None","None","None","None",{"$f":"IFERROR(IF(VLOOKUP(B152,'INTERNAL TOOL SETTINGS'!$A:$CM,90,FALSE)=TRUE,\"All\",\"None\"),\"\")","v":""},{"$f":"IFERROR(IF(VLOOKUP(B152,'INTERNAL TOOL SETTINGS'!$A:$CM,91,FALSE)=TRUE,\"All\",\"None\"),\"\")","v":""},null,null,{"$f":"IFERROR(MATCH(B152,'INTERNAL TOOL SETTINGS'!A:A,0),\"\")","v":""},null,null,null,null,null,{"$f":"IF('CENTRAL ANALYSIS'!$B$53>=20,1,0)","v":0},null,null,{"$f":"CONCATENATE(\"'INTERNAL TOOL SETTINGS'!\",'CENTRAL ANALYSIS'!$I$18,$Q152,\":\",'CENTRAL ANALYSIS'!$J$18,$Q152)","v":"'INTERNAL TOOL SETTINGS'!C:L"},{"$f":"CONCATENATE(\"'INTERNAL TOOL SETTINGS'!\",'CENTRAL ANALYSIS'!$I$19,$Q152,\":\",'CENTRAL ANALYSIS'!$J$19,$Q152)","v":"'INTERNAL TOOL SETTINGS'!M:V"},{"$f":"CONCATENATE(\"'INTERNAL TOOL SETTINGS'!\",'CENTRAL ANALYSIS'!$I$20,$Q152,\":\",'CENTRAL ANALYSIS'!$J$20,$Q152)","v":"'INTERNAL TOOL SETTINGS'!W:AV"},{"$f":"CONCATENATE(\"'INTERNAL TOOL SETTINGS'!\",'CENTRAL ANALYSIS'!$I$21,$Q152,\":\",'CENTRAL ANALYSIS'!$J$21,$Q152)","v":"'INTERNAL TOOL SETTINGS'!AW:BT"},{"$f":"CONCATENATE(\"'INTERNAL TOOL SETTINGS'!\",'CENTRAL ANALYSIS'!$I$22,$Q152,\":\",'CENTRAL ANALYSIS'!$J$22,$Q152)","v":"'INTERNAL TOOL SETTINGS'!BU:CH"},{"$f":"CONCATENATE(\"'INTERNAL TOOL SETTINGS'!\",'CENTRAL ANALYSIS'!$I$23,$Q152,\":\",'CENTRAL ANALYSIS'!$J$23,$Q152)","v":"'INTERNAL TOOL SETTINGS'!CI:CK"}]
[1,null,null,null,null,null,null,null,null,null,null,null,null,null,null,null,null,null,null,null,null,null,{"$f":"IF(SUM(W133:W152)>=1,1,0)","v":0}]
[0,"Internal Departments",null,null,null,null,null,null,null,null,null,null,null,null,null,null,null,null,null,null,null,null,{"$f":"IF('CENTRAL ANALYSIS'!$B$54>=1,1,0)","v":0}]
[1,null,null,null,null,null,null,null,null,null,null,null,null,null,null,null,null,null,null,null,null,null,{"$f":"IF('CENTRAL ANALYSIS'!$B$54>=1,1,0)","v":0}]
[0,"Internal Department Name",null,null,null,"Add Data","Profile","COO","Recruit","Reten.","WF Dev.","Future","Strategy","Summary",null,null,null,null,null,null,null,null,{"$f":"IF('CENTRAL ANALYSIS'!$B$54>=1,1,0)","v":0}]
[1,{"$f":"IF(C64=\"\",\"\",C64)","v":""},null,null,null,{"$f":"IFERROR(IF(VLOOKUP(B157,'INTERNAL TOOL SETTINGS'!$A:$CM,2,FALSE)=TRUE,\"Yes\",\"No\"),\"\")","v":""},{"$f":"IFERROR(IF(COUNTIF(INDIRECT(Z157,TRUE),\"TRUE\")=10,\"All\",IF(COUNTIF(INDIRECT(Z157,TRUE),\"TRUE\")>0,\"Custom\",\"None\")),\"\")","v":"None"},{"$f":"IFERROR(IF(COUNTIF(INDIRECT(AA157,TRUE),\"TRUE\")=10,\"All\",IF(COUNTIF(INDIRECT(AA157,TRUE),\"TRUE\")>0,\"Custom\",\"None\")),\"\")","v":"None"},{"$f":"IFERROR(IF(COUNTIF(INDIRECT(AB157,TRUE),\"TRUE\")=26,\"All\",IF(COUNTIF(INDIRECT(AB157,TRUE),\"TRUE\")>0,\"Custom\",\"None\")),\"\")","v":"None"},{"$f":"IFERROR(IF(COUNTIF(INDIRECT(AC157,TRUE),\"TRUE\")=24,\"All\",IF(COUNTIF(INDIRECT(AC157,TRUE),\"TRUE\")>0,\"Custom\",\"None\")),\"\")","v":"None"},{"$f":"IFERROR(IF(COUNTIF(INDIRECT(AD157,TRUE),\"TRUE\")=14,\"All\",IF(COUNTIF(INDIRECT(AD157,TRUE),\"TRUE\")>0,\"Custom\",\"None\")),\"\")","v":"None"},{"$f":"IFERROR(IF(COUNTIF(INDIRECT(AE157,TRUE),\"TRUE\")=3,\"All\",IF(COUNTIF(INDIRECT(AE157,TRUE),\"TRUE\")>0,\"Custom\",\"None\")),\"\")","v":"None"},{"$f":"IFERROR(IF(VLOOKUP(B157,'INTERNAL TOOL SETTINGS'!$A:$CM,90,FALSE)=TRUE,\"All\",\"None\"),\"\")","v":""},{"$f":"IFERROR(IF(VLOOKUP(B157,'INTERNAL TOOL SETTINGS'!$A:$CM,91,FALSE)=TRUE,\"All\",\"None\"),\"\")","v":""},null,null,{"$f":"IFERROR(MATCH(B157,'INTERNAL TOOL SETTINGS'!A:A,0),\"\")","v":""},null,null,null,"                  ",null,{"$f":"IF('CENTRAL ANALYSIS'!$B$54>=1,1,0)","v":0},null,null,{"$f":"CONCATENATE(\"'INTERNAL TOOL SETTINGS'!\",'CENTRAL ANALYSIS'!$I$18,$Q157,\":\",'CENTRAL ANALYSIS'!$J$18,$Q157)","v":"'INTERNAL TOOL SETTINGS'!C:L"},{"$f":"CONCATENATE(\"'INTERNAL TOOL SETTINGS'!\",'CENTRAL ANALYSIS'!$I$19,$Q157,\":\",'CENTRAL ANALYSIS'!$J$19,$Q157)","v":"'INTERNAL TOOL SETTINGS'!M:V"},{"$f":"CONCATENATE(\"'INTERNAL TOOL SETTINGS'!\",'CENTRAL ANALYSIS'!$I$20,$Q157,\":\",'CENTRAL ANALYSIS'!$J$20,$Q157)","v":"'INTERNAL TOOL SETTINGS'!W:AV"},{"$f":"CONCATENATE(\"'INTERNAL TOOL SETTINGS'!\",'CENTRAL ANALYSIS'!$I$21,$Q157,\":\",'CENTRAL ANALYSIS'!$J$21,$Q157)","v":"'INTERNAL TOOL SETTINGS'!AW:BT"},{"$f":"CONCATENATE(\"'INTERNAL TOOL SETTINGS'!\",'CENTRAL ANALYSIS'!$I$22,$Q157,\":\",'CENTRAL ANALYSIS'!$J$22,$Q157)","v":"'INTERNAL TOOL SETTINGS'!BU:CH"},{"$f":"CONCATENATE(\"'INTERNAL TOOL SETTINGS'!\",'CENTRAL ANALYSIS'!$I$23,$Q157,\":\",'CENTRAL ANALYSIS'!$J$23,$Q157)","v":"'INTERNAL TOOL SETTINGS'!CI:CK"}]
[1,"",null,null,null,{"$f":"IFERROR(IF(VLOOKUP(B158,'INTERNAL TOOL SETTINGS'!$A:$CM,2,FALSE)=TRUE,\"Yes\",\"No\"),\"\")","v":""},{"$f":"IFERROR(IF(COUNTIF(INDIRECT(Z158,TRUE),\"TRUE\")=10,\"All\",IF(COUNTIF(INDIRECT(Z158,TRUE),\"TRUE\")>0,\"Custom\",\"None\")),\"\")","v":"None"},"None",{"$f":"IFERROR(IF(COUNTIF(INDIRECT(AB158,TRUE),\"TRUE\")=26,\"All\",IF(COUNTIF(INDIRECT(AB158,TRUE),\"TRUE\")>0,\"Custom\",\"None\")),\"\")","v":"None"},{"$f":"IFERROR(IF(COUNTIF(INDIRECT(AC158,TRUE),\"TRUE\")=24,\"All\",IF(COUNTIF(INDIRECT(AC158,TRUE),\"TRUE\")>0,\"Custom\",\"None\")),\"\")","v":"None"},{"$f":"IFERROR(IF(COUNTIF(INDIRECT(AD158,TRUE),\"TRUE\")=14,\"All\",IF(COUNTIF(INDIRECT(AD158,TRUE),\"TRUE\")>0,\"Custom\",\"None\")),\"\")","v":"None"},{"$f":"IFERROR(IF(COUNTIF(INDIRECT(AE158,TRUE),\"TRUE\")=3,\"All\",IF(COUNTIF(INDIRECT(AE158,TRUE),\"TRUE\")>0,\"Custom\",\"None\")),\"\")","v":"None"},{"$f":"IFERROR(IF(VLOOKUP(B158,'INTERNAL TOOL SETTINGS'!$A:$CM,90,FALSE)=TRUE,\"All\",\"None\"),\"\")","v":""},{"$f":"IFERROR(IF(VLOOKUP(B158,'INTERNAL TOOL SETTINGS'!$A:$CM,91,FALSE)=TRUE,\"All\",\"None\"),\"\")","v":""},null,null,{"$f":"IFERROR(MATCH(B158,'INTERNAL TOOL SETTINGS'!A:A,0),\"\")","v":""},null,null,null,null,null,{"$f":"IF('CENTRAL ANALYSIS'!$B$54>=2,1,0)","v":0},null,null,{"$f":"CONCATENATE(\"'INTERNAL TOOL SETTINGS'!\",'CENTRAL ANALYSIS'!$I$18,$Q158,\":\",'CENTRAL ANALYSIS'!$J$18,$Q158)","v":"'INTERNAL TOOL SETTINGS'!C:L"},{"$f":"CONCATENATE(\"'INTERNAL TOOL SETTINGS'!\",'CENTRAL ANALYSIS'!$I$19,$Q158,\":\",'CENTRAL ANALYSIS'!$J$19,$Q158)","v":"'INTERNAL TOOL SETTINGS'!M:V"},{"$f":"CONCATENATE(\"'INTERNAL TOOL SETTINGS'!\",'CENTRAL ANALYSIS'!$I$20,$Q158,\":\",'CENTRAL ANALYSIS'!$J$20,$Q158)","v":"'INTERNAL TOOL SETTINGS'!W:AV"},{"$f":"CONCATENATE(\"'INTERNAL TOOL SETTINGS'!\",'CENTRAL ANALYSIS'!$I$21,$Q158,\":\",'CENTRAL ANALYSIS'!$J$21,$Q158)","v":"'INTERNAL TOOL SETTINGS'!AW:BT"},{"$f":"CONCATENATE(\"'INTERNAL TOOL SETTINGS'!\",'CENTRAL ANALYSIS'!$I$22,$Q158,\":\",'CENTRAL ANALYSIS'!$J$22,$Q158)","v":"'INTERNAL TOOL SETTINGS'!BU:CH"},{"$f":"CONCATENATE(\"'INTERNAL TOOL SETTINGS'!\",'CENTRAL ANALYSIS'!$I$23,$Q158,\":\",'CENTRAL ANALYSIS'!$J$23,$Q158)","v":"'INTERNAL TOOL SETTINGS'!CI:CK"}]
[1,"",null,null,null,{"$f":"IFERROR(IF(VLOOKUP(B159,'INTERNAL TOOL SETTINGS'!$A:$CM,2,FALSE)=TRUE,\"Yes\",\"No\"),\"\")","v":""},"None","None","None","None","None","None",{"$f":"IFERROR(IF(VLOOKUP(B159,'INTERNAL TOOL SETTINGS'!$A:$CM,90,FALSE)=TRUE,\"All\",\"None\"),\"\")","v":""},{"$f":"IFERROR(IF(VLOOKUP(B159,'INTERNAL TOOL SETTINGS'!$A:$CM,91,FALSE)=TRUE,\"All\",\"None\"),\"\")","v":""},null,null,{"$f":"IFERROR(MATCH(B159,'INTERNAL TOOL SETTINGS'!A:A,0),\"\")","v":""},null,null,null,null,null,{"$f":"IF('CENTRAL ANALYSIS'!$B$54>=3,1,0)","v":0},null,null,{"$f":"CONCATENATE(\"'INTERNAL TOOL SETTINGS'!\",'CENTRAL ANALYSIS'!$I$18,$Q159,\":\",'CENTRAL ANALYSIS'!$J$18,$Q159)","v":"'INTERNAL TOOL SETTINGS'!C:L"},{"$f":"CONCATENATE(\"'INTERNAL TOOL SETTINGS'!\",'CENTRAL ANALYSIS'!$I$19,$Q159,\":\",'CENTRAL ANALYSIS'!$J$19,$Q159)","v":"'INTERNAL TOOL SETTINGS'!M:V"},{"$f":"CONCATENATE(\"'INTERNAL TOOL SETTINGS'!\",'CENTRAL ANALYSIS'!$I$20,$Q159,\":\",'CENTRAL ANALYSIS'!$J$20,$Q159)","v":"'INTERNAL TOOL SETTINGS'!W:AV"},{"$f":"CONCATENATE(\"'INTERNAL TOOL SETTINGS'!\",'CENTRAL ANALYSIS'!$I$21,$Q159,\":\",'CENTRAL ANALYSIS'!$J$21,$Q159)","v":"'INTERNAL TOOL SETTINGS'!AW:BT"},{"$f":"CONCATENATE(\"'INTERNAL TOOL SETTINGS'!\",'CENTRAL ANALYSIS'!$I$22,$Q159,\":\",'CENTRAL ANALYSIS'!$J$22,$Q159)","v":"'INTERNAL TOOL SETTINGS'!BU:CH"},{"$f":"CONCATENATE(\"'INTERNAL TOOL SETTINGS'!\",'CENTRAL ANALYSIS'!$I$23,$Q159,\":\",'CENTRAL ANALYSIS'!$J$23,$Q159)","v":"'INTERNAL TOOL SETTINGS'!CI:CK"}]
[1,"",null,null,null,{"$f":"IFERROR(IF(VLOOKUP(B160,'INTERNAL TOOL SETTINGS'!$A:$CM,2,FALSE)=TRUE,\"Yes\",\"No\"),\"\")","v":""},"None","None","None","None","None","None",{"$f":"IFERROR(IF(VLOOKUP(B160,'INTERNAL TOOL SETTINGS'!$A:$CM,90,FALSE)=TRUE,\"All\",\"None\"),\"\")","v":""},{"$f":"IFERROR(IF(VLOOKUP(B160,'INTERNAL TOOL SETTINGS'!$A:$CM,91,FALSE)=TRUE,\"All\",\"None\"),\"\")","v":""},null,null,{"$f":"IFERROR(MATCH(B160,'INTERNAL TOOL SETTINGS'!A:A,0),\"\")","v":""},null,null,null,null,null,{"$f":"IF('CENTRAL ANALYSIS'!$B$54>=4,1,0)","v":0},null,null,{"$f":"CONCATENATE(\"'INTERNAL TOOL SETTINGS'!\",'CENTRAL ANALYSIS'!$I$18,$Q160,\":\",'CENTRAL ANALYSIS'!$J$18,$Q160)","v":"'INTERNAL TOOL SETTINGS'!C:L"},{"$f":"CONCATENATE(\"'INTERNAL TOOL SETTINGS'!\",'CENTRAL ANALYSIS'!$I$19,$Q160,\":\",'CENTRAL ANALYSIS'!$J$19,$Q160)","v":"'INTERNAL TOOL SETTINGS'!M:V"},{"$f":"CONCATENATE(\"'INTERNAL TOOL SETTINGS'!\",'CENTRAL ANALYSIS'!$I$20,$Q160,\":\",'CENTRAL ANALYSIS'!$J$20,$Q160)","v":"'INTERNAL TOOL SETTINGS'!W:AV"},{"$f":"CONCATENATE(\"'INTERNAL TOOL SETTINGS'!\",'CENTRAL ANALYSIS'!$I$21,$Q160,\":\",'CENTRAL ANALYSIS'!$J$21,$Q160)","v":"'INTERNAL TOOL SETTINGS'!AW:BT"},{"$f":"CONCATENATE(\"'INTERNAL TOOL SETTINGS'!\",'CENTRAL ANALYSIS'!$I$22,$Q160,\":\",'CENTRAL ANALYSIS'!$J$22,$Q160)","v":"'INTERNAL TOOL SETTINGS'!BU:CH"},{"$f":"CONCATENATE(\"'INTERNAL TOOL SETTINGS'!\",'CENTRAL ANALYSIS'!$I$23,$Q160,\":\",'CENTRAL ANALYSIS'!$J$23,$Q160)","v":"'INTERNAL TOOL SETTINGS'!CI:CK"}]
[1,"",null,null,null,{"$f":"IFERROR(IF(VLOOKUP(B161,'INTERNAL TOOL SETTINGS'!$A:$CM,2,FALSE)=TRUE,\"Yes\",\"No\"),\"\")","v":""},"None","None","None","None","None","None",{"$f":"IFERROR(IF(VLOOKUP(B161,'INTERNAL TOOL SETTINGS'!$A:$CM,90,FALSE)=TRUE,\"All\",\"None\"),\"\")","v":""},{"$f":"IFERROR(IF(VLOOKUP(B161,'INTERNAL TOOL SETTINGS'!$A:$CM,91,FALSE)=TRUE,\"All\",\"None\"),\"\")","v":""},null,null,{"$f":"IFERROR(MATCH(B161,'INTERNAL TOOL SETTINGS'!A:A,0),\"\")","v":""},null,null,null,null,null,{"$f":"IF('CENTRAL ANALYSIS'!$B$54>=5,1,0)","v":0},null,null,{"$f":"CONCATENATE(\"'INTERNAL TOOL SETTINGS'!\",'CENTRAL ANALYSIS'!$I$18,$Q161,\":\",'CENTRAL ANALYSIS'!$J$18,$Q161)","v":"'INTERNAL TOOL SETTINGS'!C:L"},{"$f":"CONCATENATE(\"'INTERNAL TOOL SETTINGS'!\",'CENTRAL ANALYSIS'!$I$19,$Q161,\":\",'CENTRAL ANALYSIS'!$J$19,$Q161)","v":"'INTERNAL TOOL SETTINGS'!M:V"},{"$f":"CONCATENATE(\"'INTERNAL TOOL SETTINGS'!\",'CENTRAL ANALYSIS'!$I$20,$Q161,\":\",'CENTRAL ANALYSIS'!$J$20,$Q161)","v":"'INTERNAL TOOL SETTINGS'!W:AV"},{"$f":"CONCATENATE(\"'INTERNAL TOOL SETTINGS'!\",'CENTRAL ANALYSIS'!$I$21,$Q161,\":\",'CENTRAL ANALYSIS'!$J$21,$Q161)","v":"'INTERNAL TOOL SETTINGS'!AW:BT"},{"$f":"CONCATENATE(\"'INTERNAL TOOL SETTINGS'!\",'CENTRAL ANALYSIS'!$I$22,$Q161,\":\",'CENTRAL ANALYSIS'!$J$22,$Q161)","v":"'INTERNAL TOOL SETTINGS'!BU:CH"},{"$f":"CONCATENATE(\"'INTERNAL TOOL SETTINGS'!\",'CENTRAL ANALYSIS'!$I$23,$Q161,\":\",'CENTRAL ANALYSIS'!$J$23,$Q161)","v":"'INTERNAL TOOL SETTINGS'!CI:CK"}]
[1,"",null,null,null,{"$f":"IFERROR(IF(VLOOKUP(B162,'INTERNAL TOOL SETTINGS'!$A:$CM,2,FALSE)=TRUE,\"Yes\",\"No\"),\"\")","v":""},"None","None","None","None","None","None",{"$f":"IFERROR(IF(VLOOKUP(B162,'INTERNAL TOOL SETTINGS'!$A:$CM,90,FALSE)=TRUE,\"All\",\"None\"),\"\")","v":""},{"$f":"IFERROR(IF(VLOOKUP(B162,'INTERNAL TOOL SETTINGS'!$A:$CM,91,FALSE)=TRUE,\"All\",\"None\"),\"\")","v":""},null,null,{"$f":"IFERROR(MATCH(B162,'INTERNAL TOOL SETTINGS'!A:A,0),\"\")","v":""},null,null,null,null,null,{"$f":"IF('CENTRAL ANALYSIS'!$B$54>=6,1,0)","v":0},null,null,{"$f":"CONCATENATE(\"'INTERNAL TOOL SETTINGS'!\",'CENTRAL ANALYSIS'!$I$18,$Q162,\":\",'CENTRAL ANALYSIS'!$J$18,$Q162)","v":"'INTERNAL TOOL SETTINGS'!C:L"},{"$f":"CONCATENATE(\"'INTERNAL TOOL SETTINGS'!\",'CENTRAL ANALYSIS'!$I$19,$Q162,\":\",'CENTRAL ANALYSIS'!$J$19,$Q162)","v":"'INTERNAL TOOL SETTINGS'!M:V"},{"$f":"CONCATENATE(\"'INTERNAL TOOL SETTINGS'!\",'CENTRAL ANALYSIS'!$I$20,$Q162,\":\",'CENTRAL ANALYSIS'!$J$20,$Q162)","v":"'INTERNAL TOOL SETTINGS'!W:AV"},{"$f":"CONCATENATE(\"'INTERNAL TOOL SETTINGS'!\",'CENTRAL ANALYSIS'!$I$21,$Q162,\":\",'CENTRAL ANALYSIS'!$J$21,$Q162)","v":"'INTERNAL TOOL SETTINGS'!AW:BT"},{"$f":"CONCATENATE(\"'INTERNAL TOOL SETTINGS'!\",'CENTRAL ANALYSIS'!$I$22,$Q162,\":\",'CENTRAL ANALYSIS'!$J$22,$Q162)","v":"'INTERNAL TOOL SETTINGS'!BU:CH"},{"$f":"CONCATENATE(\"'INTERNAL TOOL SETTINGS'!\",'CENTRAL ANALYSIS'!$I$23,$Q162,\":\",'CENTRAL ANALYSIS'!$J$23,$Q162)","v":"'INTERNAL TOOL SETTINGS'!CI:CK"}]
[1,"",null,null,null,{"$f":"IFERROR(IF(VLOOKUP(B163,'INTERNAL TOOL SETTINGS'!$A:$CM,2,FALSE)=TRUE,\"Yes\",\"No\"),\"\")","v":""},"None","None","None","None","None","None",{"$f":"IFERROR(IF(VLOOKUP(B163,'INTERNAL TOOL SETTINGS'!$A:$CM,90,FALSE)=TRUE,\"All\",\"None\"),\"\")","v":""},{"$f":"IFERROR(IF(VLOOKUP(B163,'INTERNAL TOOL SETTINGS'!$A:$CM,91,FALSE)=TRUE,\"All\",\"None\"),\"\")","v":""},null,null,{"$f":"IFERROR(MATCH(B163,'INTERNAL TOOL SETTINGS'!A:A,0),\"\")","v":""},null,null,null,null,null,{"$f":"IF('CENTRAL ANALYSIS'!$B$54>=7,1,0)","v":0},null,null,{"$f":"CONCATENATE(\"'INTERNAL TOOL SETTINGS'!\",'CENTRAL ANALYSIS'!$I$18,$Q163,\":\",'CENTRAL ANALYSIS'!$J$18,$Q163)","v":"'INTERNAL TOOL SETTINGS'!C:L"},{"$f":"CONCATENATE(\"'INTERNAL TOOL SETTINGS'!\",'CENTRAL ANALYSIS'!$I$19,$Q163,\":\",'CENTRAL ANALYSIS'!$J$19,$Q163)","v":"'INTERNAL TOOL SETTINGS'!M:V"},{"$f":"CONCATENATE(\"'INTERNAL TOOL SETTINGS'!\",'CENTRAL ANALYSIS'!$I$20,$Q163,\":\",'CENTRAL ANALYSIS'!$J$20,$Q163)","v":"'INTERNAL TOOL SETTINGS'!W:AV"},{"$f":"CONCATENATE(\"'INTERNAL TOOL SETTINGS'!\",'CENTRAL ANALYSIS'!$I$21,$Q163,\":\",'CENTRAL ANALYSIS'!$J$21,$Q163)","v":"'INTERNAL TOOL SETTINGS'!AW:BT"},{"$f":"CONCATENATE(\"'INTERNAL TOOL SETTINGS'!\",'CENTRAL ANALYSIS'!$I$22,$Q163,\":\",'CENTRAL ANALYSIS'!$J$22,$Q163)","v":"'INTERNAL TOOL SETTINGS'!BU:CH"},{"$f":"CONCATENATE(\"'INTERNAL TOOL SETTINGS'!\",'CENTRAL ANALYSIS'!$I$23,$Q163,\":\",'CENTRAL ANALYSIS'!$J$23,$Q163)","v":"'INTERNAL TOOL SETTINGS'!CI:CK"}]
[1,"",null,null,null,{"$f":"IFERROR(IF(VLOOKUP(B164,'INTERNAL TOOL SETTINGS'!$A:$CM,2,FALSE)=TRUE,\"Yes\",\"No\"),\"\")","v":""},"None","None","None","None","None","None",{"$f":"IFERROR(IF(VLOOKUP(B164,'INTERNAL TOOL SETTINGS'!$A:$CM,90,FALSE)=TRUE,\"All\",\"None\"),\"\")","v":""},{"$f":"IFERROR(IF(VLOOKUP(B164,'INTERNAL TOOL SETTINGS'!$A:$CM,91,FALSE)=TRUE,\"All\",\"None\"),\"\")","v":""},null,null,{"$f":"IFERROR(MATCH(B164,'INTERNAL TOOL SETTINGS'!A:A,0),\"\")","v":""},null,null,null,null,null,{"$f":"IF('CENTRAL ANALYSIS'!$B$54>=8,1,0)","v":0},null,null,{"$f":"CONCATENATE(\"'INTERNAL TOOL SETTINGS'!\",'CENTRAL ANALYSIS'!$I$18,$Q164,\":\",'CENTRAL ANALYSIS'!$J$18,$Q164)","v":"'INTERNAL TOOL SETTINGS'!C:L"},{"$f":"CONCATENATE(\"'INTERNAL TOOL SETTINGS'!\",'CENTRAL ANALYSIS'!$I$19,$Q164,\":\",'CENTRAL ANALYSIS'!$J$19,$Q164)","v":"'INTERNAL TOOL SETTINGS'!M:V"},{"$f":"CONCATENATE(\"'INTERNAL TOOL SETTINGS'!\",'CENTRAL ANALYSIS'!$I$20,$Q164,\":\",'CENTRAL ANALYSIS'!$J$20,$Q164)","v":"'INTERNAL TOOL SETTINGS'!W:AV"},{"$f":"CONCATENATE(\"'INTERNAL TOOL SETTINGS'!\",'CENTRAL ANALYSIS'!$I$21,$Q164,\":\",'CENTRAL ANALYSIS'!$J$21,$Q164)","v":"'INTERNAL TOOL SETTINGS'!AW:BT"},{"$f":"CONCATENATE(\"'INTERNAL TOOL SETTINGS'!\",'CENTRAL ANALYSIS'!$I$22,$Q164,\":\",'CENTRAL ANALYSIS'!$J$22,$Q164)","v":"'INTERNAL TOOL SETTINGS'!BU:CH"},{"$f":"CONCATENATE(\"'INTERNAL TOOL SETTINGS'!\",'CENTRAL ANALYSIS'!$I$23,$Q164,\":\",'CENTRAL ANALYSIS'!$J$23,$Q164)","v":"'INTERNAL TOOL SETTINGS'!CI:CK"}]
[1,"",null,null,null,{"$f":"IFERROR(IF(VLOOKUP(B165,'INTERNAL TOOL SETTINGS'!$A:$CM,2,FALSE)=TRUE,\"Yes\",\"No\"),\"\")","v":""},"None","None","None","None","None","None",{"$f":"IFERROR(IF(VLOOKUP(B165,'INTERNAL TOOL SETTINGS'!$A:$CM,90,FALSE)=TRUE,\"All\",\"None\"),\"\")","v":""},{"$f":"IFERROR(IF(VLOOKUP(B165,'INTERNAL TOOL SETTINGS'!$A:$CM,91,FALSE)=TRUE,\"All\",\"None\"),\"\")","v":""},null,null,{"$f":"IFERROR(MATCH(B165,'INTERNAL TOOL SETTINGS'!A:A,0),\"\")","v":""},null,null,null,null,null,{"$f":"IF('CENTRAL ANALYSIS'!$B$54>=9,1,0)","v":0},null,null,{"$f":"CONCATENATE(\"'INTERNAL TOOL SETTINGS'!\",'CENTRAL ANALYSIS'!$I$18,$Q165,\":\",'CENTRAL ANALYSIS'!$J$18,$Q165)","v":"'INTERNAL TOOL SETTINGS'!C:L"},{"$f":"CONCATENATE(\"'INTERNAL TOOL SETTINGS'!\",'CENTRAL ANALYSIS'!$I$19,$Q165,\":\",'CENTRAL ANALYSIS'!$J$19,$Q165)","v":"'INTERNAL TOOL SETTINGS'!M:V"},{"$f":"CONCATENATE(\"'INTERNAL TOOL SETTINGS'!\",'CENTRAL ANALYSIS'!$I$20,$Q165,\":\",'CENTRAL ANALYSIS'!$J$20,$Q165)","v":"'INTERNAL TOOL SETTINGS'!W:AV"},{"$f":"CONCATENATE(\"'INTERNAL TOOL SETTINGS'!\",'CENTRAL ANALYSIS'!$I$21,$Q165,\":\",'CENTRAL ANALYSIS'!$J$21,$Q165)","v":"'INTERNAL TOOL SETTINGS'!AW:BT"},{"$f":"CONCATENATE(\"'INTERNAL TOOL SETTINGS'!\",'CENTRAL ANALYSIS'!$I$22,$Q165,\":\",'CENTRAL ANALYSIS'!$J$22,$Q165)","v":"'INTERNAL TOOL SETTINGS'!BU:CH"},{"$f":"CONCATENATE(\"'INTERNAL TOOL SETTINGS'!\",'CENTRAL ANALYSIS'!$I$23,$Q165,\":\",'CENTRAL ANALYSIS'!$J$23,$Q165)","v":"'INTERNAL TOOL SETTINGS'!CI:CK"}]
[1,"",null,null,null,{"$f":"IFERROR(IF(VLOOKUP(B166,'INTERNAL TOOL SETTINGS'!$A:$CM,2,FALSE)=TRUE,\"Yes\",\"No\"),\"\")","v":""},"None","None","None","None","None","None",{"$f":"IFERROR(IF(VLOOKUP(B166,'INTERNAL TOOL SETTINGS'!$A:$CM,90,FALSE)=TRUE,\"All\",\"None\"),\"\")","v":""},{"$f":"IFERROR(IF(VLOOKUP(B166,'INTERNAL TOOL SETTINGS'!$A:$CM,91,FALSE)=TRUE,\"All\",\"None\"),\"\")","v":""},null,null,{"$f":"IFERROR(MATCH(B166,'INTERNAL TOOL SETTINGS'!A:A,0),\"\")","v":""},null,null,null,null,null,{"$f":"IF('CENTRAL ANALYSIS'!$B$54>=10,1,0)","v":0},null,null,{"$f":"CONCATENATE(\"'INTERNAL TOOL SETTINGS'!\",'CENTRAL ANALYSIS'!$I$18,$Q166,\":\",'CENTRAL ANALYSIS'!$J$18,$Q166)","v":"'INTERNAL TOOL SETTINGS'!C:L"},{"$f":"CONCATENATE(\"'INTERNAL TOOL SETTINGS'!\",'CENTRAL ANALYSIS'!$I$19,$Q166,\":\",'CENTRAL ANALYSIS'!$J$19,$Q166)","v":"'INTERNAL TOOL SETTINGS'!M:V"},{"$f":"CONCATENATE(\"'INTERNAL TOOL SETTINGS'!\",'CENTRAL ANALYSIS'!$I$20,$Q166,\":\",'CENTRAL ANALYSIS'!$J$20,$Q166)","v":"'INTERNAL TOOL SETTINGS'!W:AV"},{"$f":"CONCATENATE(\"'INTERNAL TOOL SETTINGS'!\",'CENTRAL ANALYSIS'!$I$21,$Q166,\":\",'CENTRAL ANALYSIS'!$J$21,$Q166)","v":"'INTERNAL TOOL SETTINGS'!AW:BT"},{"$f":"CONCATENATE(\"'INTERNAL TOOL SETTINGS'!\",'CENTRAL ANALYSIS'!$I$22,$Q166,\":\",'CENTRAL ANALYSIS'!$J$22,$Q166)","v":"'INTERNAL TOOL SETTINGS'!BU:CH"},{"$f":"CONCATENATE(\"'INTERNAL TOOL SETTINGS'!\",'CENTRAL ANALYSIS'!$I$23,$Q166,\":\",'CENTRAL ANALYSIS'!$J$23,$Q166)","v":"'INTERNAL TOOL SETTINGS'!CI:CK"}]
[1,"",null,null,null,{"$f":"IFERROR(IF(VLOOKUP(B167,'INTERNAL TOOL SETTINGS'!$A:$CM,2,FALSE)=TRUE,\"Yes\",\"No\"),\"\")","v":""},"None","None","None","None","None","None",{"$f":"IFERROR(IF(VLOOKUP(B167,'INTERNAL TOOL SETTINGS'!$A:$CM,90,FALSE)=TRUE,\"All\",\"None\"),\"\")","v":""},{"$f":"IFERROR(IF(VLOOKUP(B167,'INTERNAL TOOL SETTINGS'!$A:$CM,91,FALSE)=TRUE,\"All\",\"None\"),\"\")","v":""},null,null,{"$f":"IFERROR(MATCH(B167,'INTERNAL TOOL SETTINGS'!A:A,0),\"\")","v":""},null,null,null,null,null,{"$f":"IF('CENTRAL ANALYSIS'!$B$54>=11,1,0)","v":0},null,null,{"$f":"CONCATENATE(\"'INTERNAL TOOL SETTINGS'!\",'CENTRAL ANALYSIS'!$I$18,$Q167,\":\",'CENTRAL ANALYSIS'!$J$18,$Q167)","v":"'INTERNAL TOOL SETTINGS'!C:L"},{"$f":"CONCATENATE(\"'INTERNAL TOOL SETTINGS'!\",'CENTRAL ANALYSIS'!$I$19,$Q167,\":\",'CENTRAL ANALYSIS'!$J$19,$Q167)","v":"'INTERNAL TOOL SETTINGS'!M:V"},{"$f":"CONCATENATE(\"'INTERNAL TOOL SETTINGS'!\",'CENTRAL ANALYSIS'!$I$20,$Q167,\":\",'CENTRAL ANALYSIS'!$J$20,$Q167)","v":"'INTERNAL TOOL SETTINGS'!W:AV"},{"$f":"CONCATENATE(\"'INTERNAL TOOL SETTINGS'!\",'CENTRAL ANALYSIS'!$I$21,$Q167,\":\",'CENTRAL ANALYSIS'!$J$21,$Q167)","v":"'INTERNAL TOOL SETTINGS'!AW:BT"},{"$f":"CONCATENATE(\"'INTERNAL TOOL SETTINGS'!\",'CENTRAL ANALYSIS'!$I$22,$Q167,\":\",'CENTRAL ANALYSIS'!$J$22,$Q167)","v":"'INTERNAL TOOL SETTINGS'!BU:CH"},{"$f":"CONCATENATE(\"'INTERNAL TOOL SETTINGS'!\",'CENTRAL ANALYSIS'!$I$23,$Q167,\":\",'CENTRAL ANALYSIS'!$J$23,$Q167)","v":"'INTERNAL TOOL SETTINGS'!CI:CK"}]
[1,"",null,null,null,{"$f":"IFERROR(IF(VLOOKUP(B168,'INTERNAL TOOL SETTINGS'!$A:$CM,2,FALSE)=TRUE,\"Yes\",\"No\"),\"\")","v":""},"None","None","None","None","None","None",{"$f":"IFERROR(IF(VLOOKUP(B168,'INTERNAL TOOL SETTINGS'!$A:$CM,90,FALSE)=TRUE,\"All\",\"None\"),\"\")","v":""},{"$f":"IFERROR(IF(VLOOKUP(B168,'INTERNAL TOOL SETTINGS'!$A:$CM,91,FALSE)=TRUE,\"All\",\"None\"),\"\")","v":""},null,null,{"$f":"IFERROR(MATCH(B168,'INTERNAL TOOL SETTINGS'!A:A,0),\"\")","v":""},null,null,null,null,null,{"$f":"IF('CENTRAL ANALYSIS'!$B$54>=12,1,0)","v":0},null,null,{"$f":"CONCATENATE(\"'INTERNAL TOOL SETTINGS'!\",'CENTRAL ANALYSIS'!$I$18,$Q168,\":\",'CENTRAL ANALYSIS'!$J$18,$Q168)","v":"'INTERNAL TOOL SETTINGS'!C:L"},{"$f":"CONCATENATE(\"'INTERNAL TOOL SETTINGS'!\",'CENTRAL ANALYSIS'!$I$19,$Q168,\":\",'CENTRAL ANALYSIS'!$J$19,$Q168)","v":"'INTERNAL TOOL SETTINGS'!M:V"},{"$f":"CONCATENATE(\"'INTERNAL TOOL SETTINGS'!\",'CENTRAL ANALYSIS'!$I$20,$Q168,\":\",'CENTRAL ANALYSIS'!$J$20,$Q168)","v":"'INTERNAL TOOL SETTINGS'!W:AV"},{"$f":"CONCATENATE(\"'INTERNAL TOOL SETTINGS'!\",'CENTRAL ANALYSIS'!$I$21,$Q168,\":\",'CENTRAL ANALYSIS'!$J$21,$Q168)","v":"'INTERNAL TOOL SETTINGS'!AW:BT"},{"$f":"CONCATENATE(\"'INTERNAL TOOL SETTINGS'!\",'CENTRAL ANALYSIS'!$I$22,$Q168,\":\",'CENTRAL ANALYSIS'!$J$22,$Q168)","v":"'INTERNAL TOOL SETTINGS'!BU:CH"},{"$f":"CONCATENATE(\"'INTERNAL TOOL SETTINGS'!\",'CENTRAL ANALYSIS'!$I$23,$Q168,\":\",'CENTRAL ANALYSIS'!$J$23,$Q168)","v":"'INTERNAL TOOL SETTINGS'!CI:CK"}]
[1,"",null,null,null,{"$f":"IFERROR(IF(VLOOKUP(B169,'INTERNAL TOOL SETTINGS'!$A:$CM,2,FALSE)=TRUE,\"Yes\",\"No\"),\"\")","v":""},"None","None","None","None","None","None",{"$f":"IFERROR(IF(VLOOKUP(B169,'INTERNAL TOOL SETTINGS'!$A:$CM,90,FALSE)=TRUE,\"All\",\"None\"),\"\")","v":""},{"$f":"IFERROR(IF(VLOOKUP(B169,'INTERNAL TOOL SETTINGS'!$A:$CM,91,FALSE)=TRUE,\"All\",\"None\"),\"\")","v":""},null,null,{"$f":"IFERROR(MATCH(B169,'INTERNAL TOOL SETTINGS'!A:A,0),\"\")","v":""},null,null,null,null,null,{"$f":"IF('CENTRAL ANALYSIS'!$B$54>=13,1,0)","v":0},null,null,{"$f":"CONCATENATE(\"'INTERNAL TOOL SETTINGS'!\",'CENTRAL ANALYSIS'!$I$18,$Q169,\":\",'CENTRAL ANALYSIS'!$J$18,$Q169)","v":"'INTERNAL TOOL SETTINGS'!C:L"},{"$f":"CONCATENATE(\"'INTERNAL TOOL SETTINGS'!\",'CENTRAL ANALYSIS'!$I$19,$Q169,\":\",'CENTRAL ANALYSIS'!$J$19,$Q169)","v":"'INTERNAL TOOL SETTINGS'!M:V"},{"$f":"CONCATENATE(\"'INTERNAL TOOL SETTINGS'!\",'CENTRAL ANALYSIS'!$I$20,$Q169,\":\",'CENTRAL ANALYSIS'!$J$20,$Q169)","v":"'INTERNAL TOOL SETTINGS'!W:AV"},{"$f":"CONCATENATE(\"'INTERNAL TOOL SETTINGS'!\",'CENTRAL ANALYSIS'!$I$21,$Q169,\":\",'CENTRAL ANALYSIS'!$J$21,$Q169)","v":"'INTERNAL TOOL SETTINGS'!AW:BT"},{"$f":"CONCATENATE(\"'INTERNAL TOOL SETTINGS'!\",'CENTRAL ANALYSIS'!$I$22,$Q169,\":\",'CENTRAL ANALYSIS'!$J$22,$Q169)","v":"'INTERNAL TOOL SETTINGS'!BU:CH"},{"$f":"CONCATENATE(\"'INTERNAL TOOL SETTINGS'!\",'CENTRAL ANALYSIS'!$I$23,$Q169,\":\",'CENTRAL ANALYSIS'!$J$23,$Q169)","v":"'INTERNAL TOOL SETTINGS'!CI:CK"}]
[1,"",null,null,null,{"$f":"IFERROR(IF(VLOOKUP(B170,'INTERNAL TOOL SETTINGS'!$A:$CM,2,FALSE)=TRUE,\"Yes\",\"No\"),\"\")","v":""},"None","None","None","None","None","None",{"$f":"IFERROR(IF(VLOOKUP(B170,'INTERNAL TOOL SETTINGS'!$A:$CM,90,FALSE)=TRUE,\"All\",\"None\"),\"\")","v":""},{"$f":"IFERROR(IF(VLOOKUP(B170,'INTERNAL TOOL SETTINGS'!$A:$CM,91,FALSE)=TRUE,\"All\",\"None\"),\"\")","v":""},null,null,{"$f":"IFERROR(MATCH(B170,'INTERNAL TOOL SETTINGS'!A:A,0),\"\")","v":""},null,null,null,null,null,{"$f":"IF('CENTRAL ANALYSIS'!$B$54>=14,1,0)","v":0},null,null,{"$f":"CONCATENATE(\"'INTERNAL TOOL SETTINGS'!\",'CENTRAL ANALYSIS'!$I$18,$Q170,\":\",'CENTRAL ANALYSIS'!$J$18,$Q170)","v":"'INTERNAL TOOL SETTINGS'!C:L"},{"$f":"CONCATENATE(\"'INTERNAL TOOL SETTINGS'!\",'CENTRAL ANALYSIS'!$I$19,$Q170,\":\",'CENTRAL ANALYSIS'!$J$19,$Q170)","v":"'INTERNAL TOOL SETTINGS'!M:V"},{"$f":"CONCATENATE(\"'INTERNAL TOOL SETTINGS'!\",'CENTRAL ANALYSIS'!$I$20,$Q170,\":\",'CENTRAL ANALYSIS'!$J$20,$Q170)","v":"'INTERNAL TOOL SETTINGS'!W:AV"},{"$f":"CONCATENATE(\"'INTERNAL TOOL SETTINGS'!\",'CENTRAL ANALYSIS'!$I$21,$Q170,\":\",'CENTRAL ANALYSIS'!$J$21,$Q170)","v":"'INTERNAL TOOL SETTINGS'!AW:BT"},{"$f":"CONCATENATE(\"'INTERNAL TOOL SETTINGS'!\",'CENTRAL ANALYSIS'!$I$22,$Q170,\":\",'CENTRAL ANALYSIS'!$J$22,$Q170)","v":"'INTERNAL TOOL SETTINGS'!BU:CH"},{"$f":"CONCATENATE(\"'INTERNAL TOOL SETTINGS'!\",'CENTRAL ANALYSIS'!$I$23,$Q170,\":\",'CENTRAL ANALYSIS'!$J$23,$Q170)","v":"'INTERNAL TOOL SETTINGS'!CI:CK"}]
[1,"",null,null,null,{"$f":"IFERROR(IF(VLOOKUP(B171,'INTERNAL TOOL SETTINGS'!$A:$CM,2,FALSE)=TRUE,\"Yes\",\"No\"),\"\")","v":""},"None","None","None","None","None","None",{"$f":"IFERROR(IF(VLOOKUP(B171,'INTERNAL TOOL SETTINGS'!$A:$CM,90,FALSE)=TRUE,\"All\",\"None\"),\"\")","v":""},{"$f":"IFERROR(IF(VLOOKUP(B171,'INTERNAL TOOL SETTINGS'!$A:$CM,91,FALSE)=TRUE,\"All\",\"None\"),\"\")","v":""},null,null,{"$f":"IFERROR(MATCH(B171,'INTERNAL TOOL SETTINGS'!A:A,0),\"\")","v":""},null,null,null,null,null,{"$f":"IF('CENTRAL ANALYSIS'!$B$54>=15,1,0)","v":0},null,null,{"$f":"CONCATENATE(\"'INTERNAL TOOL SETTINGS'!\",'CENTRAL ANALYSIS'!$I$18,$Q171,\":\",'CENTRAL ANALYSIS'!$J$18,$Q171)","v":"'INTERNAL TOOL SETTINGS'!C:L"},{"$f":"CONCATENATE(\"'INTERNAL TOOL SETTINGS'!\",'CENTRAL ANALYSIS'!$I$19,$Q171,\":\",'CENTRAL ANALYSIS'!$J$19,$Q171)","v":"'INTERNAL TOOL SETTINGS'!M:V"},{"$f":"CONCATENATE(\"'INTERNAL TOOL SETTINGS'!\",'CENTRAL ANALYSIS'!$I$20,$Q171,\":\",'CENTRAL ANALYSIS'!$J$20,$Q171)","v":"'INTERNAL TOOL SETTINGS'!W:AV"},{"$f":"CONCATENATE(\"'INTERNAL TOOL SETTINGS'!\",'CENTRAL ANALYSIS'!$I$21,$Q171,\":\",'CENTRAL ANALYSIS'!$J$21,$Q171)","v":"'INTERNAL TOOL SETTINGS'!AW:BT"},{"$f":"CONCATENATE(\"'INTERNAL TOOL SETTINGS'!\",'CENTRAL ANALYSIS'!$I$22,$Q171,\":\",'CENTRAL ANALYSIS'!$J$22,$Q171)","v":"'INTERNAL TOOL SETTINGS'!BU:CH"},{"$f":"CONCATENATE(\"'INTERNAL TOOL SETTINGS'!\",'CENTRAL ANALYSIS'!$I$23,$Q171,\":\",'CENTRAL ANALYSIS'!$J$23,$Q171)","v":"'INTERNAL TOOL SETTINGS'!CI:CK"}]
[1,"",null,null,null,{"$f":"IFERROR(IF(VLOOKUP(B172,'INTERNAL TOOL SETTINGS'!$A:$CM,2,FALSE)=TRUE,\"Yes\",\"No\"),\"\")","v":""},"None","None","None","None","None","None",{"$f":"IFERROR(IF(VLOOKUP(B172,'INTERNAL TOOL SETTINGS'!$A:$CM,90,FALSE)=TRUE,\"All\",\"None\"),\"\")","v":""},{"$f":"IFERROR(IF(VLOOKUP(B172,'INTERNAL TOOL SETTINGS'!$A:$CM,91,FALSE)=TRUE,\"All\",\"None\"),\"\")","v":""},null,null,{"$f":"IFERROR(MATCH(B172,'INTERNAL TOOL SETTINGS'!A:A,0),\"\")","v":""},null,null,null,null,null,{"$f":"IF('CENTRAL ANALYSIS'!$B$54>=16,1,0)","v":0},null,null,{"$f":"CONCATENATE(\"'INTERNAL TOOL SETTINGS'!\",'CENTRAL ANALYSIS'!$I$18,$Q172,\":\",'CENTRAL ANALYSIS'!$J$18,$Q172)","v":"'INTERNAL TOOL SETTINGS'!C:L"},{"$f":"CONCATENATE(\"'INTERNAL TOOL SETTINGS'!\",'CENTRAL ANALYSIS'!$I$19,$Q172,\":\",'CENTRAL ANALYSIS'!$J$19,$Q172)","v":"'INTERNAL TOOL SETTINGS'!M:V"},{"$f":"CONCATENATE(\"'INTERNAL TOOL SETTINGS'!\",'CENTRAL ANALYSIS'!$I$20,$Q172,\":\",'CENTRAL ANALYSIS'!$J$20,$Q172)","v":"'INTERNAL TOOL SETTINGS'!W:AV"},{"$f":"CONCATENATE(\"'INTERNAL TOOL SETTINGS'!\",'CENTRAL ANALYSIS'!$I$21,$Q172,\":\",'CENTRAL ANALYSIS'!$J$21,$Q172)","v":"'INTERNAL TOOL SETTINGS'!AW:BT"},{"$f":"CONCATENATE(\"'INTERNAL TOOL SETTINGS'!\",'CENTRAL ANALYSIS'!$I$22,$Q172,\":\",'CENTRAL ANALYSIS'!$J$22,$Q172)","v":"'INTERNAL TOOL SETTINGS'!BU:CH"},{"$f":"CONCATENATE(\"'INTERNAL TOOL SETTINGS'!\",'CENTRAL ANALYSIS'!$I$23,$Q172,\":\",'CENTRAL ANALYSIS'!$J$23,$Q172)","v":"'INTERNAL TOOL SETTINGS'!CI:CK"}]
[1,"",null,null,null,{"$f":"IFERROR(IF(VLOOKUP(B173,'INTERNAL TOOL SETTINGS'!$A:$CM,2,FALSE)=TRUE,\"Yes\",\"No\"),\"\")","v":""},"None","None","None","None","None","None",{"$f":"IFERROR(IF(VLOOKUP(B173,'INTERNAL TOOL SETTINGS'!$A:$CM,90,FALSE)=TRUE,\"All\",\"None\"),\"\")","v":""},{"$f":"IFERROR(IF(VLOOKUP(B173,'INTERNAL TOOL SETTINGS'!$A:$CM,91,FALSE)=TRUE,\"All\",\"None\"),\"\")","v":""},null,null,{"$f":"IFERROR(MATCH(B173,'INTERNAL TOOL SETTINGS'!A:A,0),\"\")","v":""},null,null,null,null,null,{"$f":"IF('CENTRAL ANALYSIS'!$B$54>=17,1,0)","v":0},null,null,{"$f":"CONCATENATE(\"'INTERNAL TOOL SETTINGS'!\",'CENTRAL ANALYSIS'!$I$18,$Q173,\":\",'CENTRAL ANALYSIS'!$J$18,$Q173)","v":"'INTERNAL TOOL SETTINGS'!C:L"},{"$f":"CONCATENATE(\"'INTERNAL TOOL SETTINGS'!\",'CENTRAL ANALYSIS'!$I$19,$Q173,\":\",'CENTRAL ANALYSIS'!$J$19,$Q173)","v":"'INTERNAL TOOL SETTINGS'!M:V"},{"$f":"CONCATENATE(\"'INTERNAL TOOL SETTINGS'!\",'CENTRAL ANALYSIS'!$I$20,$Q173,\":\",'CENTRAL ANALYSIS'!$J$20,$Q173)","v":"'INTERNAL TOOL SETTINGS'!W:AV"},{"$f":"CONCATENATE(\"'INTERNAL TOOL SETTINGS'!\",'CENTRAL ANALYSIS'!$I$21,$Q173,\":\",'CENTRAL ANALYSIS'!$J$21,$Q173)","v":"'INTERNAL TOOL SETTINGS'!AW:BT"},{"$f":"CONCATENATE(\"'INTERNAL TOOL SETTINGS'!\",'CENTRAL ANALYSIS'!$I$22,$Q173,\":\",'CENTRAL ANALYSIS'!$J$22,$Q173)","v":"'INTERNAL TOOL SETTINGS'!BU:CH"},{"$f":"CONCATENATE(\"'INTERNAL TOOL SETTINGS'!\",'CENTRAL ANALYSIS'!$I$23,$Q173,\":\",'CENTRAL ANALYSIS'!$J$23,$Q173)","v":"'INTERNAL TOOL SETTINGS'!CI:CK"}]
[1,"",null,null,null,{"$f":"IFERROR(IF(VLOOKUP(B174,'INTERNAL TOOL SETTINGS'!$A:$CM,2,FALSE)=TRUE,\"Yes\",\"No\"),\"\")","v":""},"None","None","None","None","None","None",{"$f":"IFERROR(IF(VLOOKUP(B174,'INTERNAL TOOL SETTINGS'!$A:$CM,90,FALSE)=TRUE,\"All\",\"None\"),\"\")","v":""},{"$f":"IFERROR(IF(VLOOKUP(B174,'INTERNAL TOOL SETTINGS'!$A:$CM,91,FALSE)=TRUE,\"All\",\"None\"),\"\")","v":""},null,null,{"$f":"IFERROR(MATCH(B174,'INTERNAL TOOL SETTINGS'!A:A,0),\"\")","v":""},null,null,null,null,null,{"$f":"IF('CENTRAL ANALYSIS'!$B$54>=18,1,0)","v":0},null,null,{"$f":"CONCATENATE(\"'INTERNAL TOOL SETTINGS'!\",'CENTRAL ANALYSIS'!$I$18,$Q174,\":\",'CENTRAL ANALYSIS'!$J$18,$Q174)","v":"'INTERNAL TOOL SETTINGS'!C:L"},{"$f":"CONCATENATE(\"'INTERNAL TOOL SETTINGS'!\",'CENTRAL ANALYSIS'!$I$19,$Q174,\":\",'CENTRAL ANALYSIS'!$J$19,$Q174)","v":"'INTERNAL TOOL SETTINGS'!M:V"},{"$f":"CONCATENATE(\"'INTERNAL TOOL SETTINGS'!\",'CENTRAL ANALYSIS'!$I$20,$Q174,\":\",'CENTRAL ANALYSIS'!$J$20,$Q174)","v":"'INTERNAL TOOL SETTINGS'!W:AV"},{"$f":"CONCATENATE(\"'INTERNAL TOOL SETTINGS'!\",'CENTRAL ANALYSIS'!$I$21,$Q174,\":\",'CENTRAL ANALYSIS'!$J$21,$Q174)","v":"'INTERNAL TOOL SETTINGS'!AW:BT"},{"$f":"CONCATENATE(\"'INTERNAL TOOL SETTINGS'!\",'CENTRAL ANALYSIS'!$I$22,$Q174,\":\",'CENTRAL ANALYSIS'!$J$22,$Q174)","v":"'INTERNAL TOOL SETTINGS'!BU:CH"},{"$f":"CONCATENATE(\"'INTERNAL TOOL SETTINGS'!\",'CENTRAL ANALYSIS'!$I$23,$Q174,\":\",'CENTRAL ANALYSIS'!$J$23,$Q174)","v":"'INTERNAL TOOL SETTINGS'!CI:CK"}]
[1,"",null,null,null,{"$f":"IFERROR(IF(VLOOKUP(B175,'INTERNAL TOOL SETTINGS'!$A:$CM,2,FALSE)=TRUE,\"Yes\",\"No\"),\"\")","v":""},"None","None","None","None","None","None",{"$f":"IFERROR(IF(VLOOKUP(B175,'INTERNAL TOOL SETTINGS'!$A:$CM,90,FALSE)=TRUE,\"All\",\"None\"),\"\")","v":""},{"$f":"IFERROR(IF(VLOOKUP(B175,'INTERNAL TOOL SETTINGS'!$A:$CM,91,FALSE)=TRUE,\"All\",\"None\"),\"\")","v":""},null,null,{"$f":"IFERROR(MATCH(B175,'INTERNAL TOOL SETTINGS'!A:A,0),\"\")","v":""},null,null,null,null,null,{"$f":"IF('CENTRAL ANALYSIS'!$B$54>=19,1,0)","v":0},null,null,{"$f":"CONCATENATE(\"'INTERNAL TOOL SETTINGS'!\",'CENTRAL ANALYSIS'!$I$18,$Q175,\":\",'CENTRAL ANALYSIS'!$J$18,$Q175)","v":"'INTERNAL TOOL SETTINGS'!C:L"},{"$f":"CONCATENATE(\"'INTERNAL TOOL SETTINGS'!\",'CENTRAL ANALYSIS'!$I$19,$Q175,\":\",'CENTRAL ANALYSIS'!$J$19,$Q175)","v":"'INTERNAL TOOL SETTINGS'!M:V"},{"$f":"CONCATENATE(\"'INTERNAL TOOL SETTINGS'!\",'CENTRAL ANALYSIS'!$I$20,$Q175,\":\",'CENTRAL ANALYSIS'!$J$20,$Q175)","v":"'INTERNAL TOOL SETTINGS'!W:AV"},{"$f":"CONCATENATE(\"'INTERNAL TOOL SETTINGS'!\",'CENTRAL ANALYSIS'!$I$21,$Q175,\":\",'CENTRAL ANALYSIS'!$J$21,$Q175)","v":"'INTERNAL TOOL SETTINGS'!AW:BT"},{"$f":"CONCATENATE(\"'INTERNAL TOOL SETTINGS'!\",'CENTRAL ANALYSIS'!$I$22,$Q175,\":\",'CENTRAL ANALYSIS'!$J$22,$Q175)","v":"'INTERNAL TOOL SETTINGS'!BU:CH"},{"$f":"CONCATENATE(\"'INTERNAL TOOL SETTINGS'!\",'CENTRAL ANALYSIS'!$I$23,$Q175,\":\",'CENTRAL ANALYSIS'!$J$23,$Q175)","v":"'INTERNAL TOOL SETTINGS'!CI:CK"}]
[1,"",null,null,null,{"$f":"IFERROR(IF(VLOOKUP(B176,'INTERNAL TOOL SETTINGS'!$A:$CM,2,FALSE)=TRUE,\"Yes\",\"No\"),\"\")","v":""},"None","None","None","None","None","None",{"$f":"IFERROR(IF(VLOOKUP(B176,'INTERNAL TOOL SETTINGS'!$A:$CM,90,FALSE)=TRUE,\"All\",\"None\"),\"\")","v":""},{"$f":"IFERROR(IF(VLOOKUP(B176,'INTERNAL TOOL SETTINGS'!$A:$CM,91,FALSE)=TRUE,\"All\",\"None\"),\"\")","v":""},null,null,{"$f":"IFERROR(MATCH(B176,'INTERNAL TOOL SETTINGS'!A:A,0),\"\")","v":""},null,null,null,null,null,{"$f":"IF('CENTRAL ANALYSIS'!$B$54>=20,1,0)","v":0},null,null,{"$f":"CONCATENATE(\"'INTERNAL TOOL SETTINGS'!\",'CENTRAL ANALYSIS'!$I$18,$Q176,\":\",'CENTRAL ANALYSIS'!$J$18,$Q176)","v":"'INTERNAL TOOL SETTINGS'!C:L"},{"$f":"CONCATENATE(\"'INTERNAL TOOL SETTINGS'!\",'CENTRAL ANALYSIS'!$I$19,$Q176,\":\",'CENTRAL ANALYSIS'!$J$19,$Q176)","v":"'INTERNAL TOOL SETTINGS'!M:V"},{"$f":"CONCATENATE(\"'INTERNAL TOOL SETTINGS'!\",'CENTRAL ANALYSIS'!$I$20,$Q176,\":\",'CENTRAL ANALYSIS'!$J$20,$Q176)","v":"'INTERNAL TOOL SETTINGS'!W:AV"},{"$f":"CONCATENATE(\"'INTERNAL TOOL SETTINGS'!\",'CENTRAL ANALYSIS'!$I$21,$Q176,\":\",'CENTRAL ANALYSIS'!$J$21,$Q176)","v":"'INTERNAL TOOL SETTINGS'!AW:BT"},{"$f":"CONCATENATE(\"'INTERNAL TOOL SETTINGS'!\",'CENTRAL ANALYSIS'!$I$22,$Q176,\":\",'CENTRAL ANALYSIS'!$J$22,$Q176)","v":"'INTERNAL TOOL SETTINGS'!BU:CH"},{"$f":"CONCATENATE(\"'INTERNAL TOOL SETTINGS'!\",'CENTRAL ANALYSIS'!$I$23,$Q176,\":\",'CENTRAL ANALYSIS'!$J$23,$Q176)","v":"'INTERNAL TOOL SETTINGS'!CI:CK"}]
[1,null,null,null,null,null,null,null,null,null,null,null,null,null,null,null,null,null,null,null,null,null,{"$f":"IF(SUM(W157:W176)>=1,1,0)","v":0}]
[0,"Internal Teams",null,null,null,null,null,null,null,null,null,null,null,null,null,null,null,null,null,null,null,null,{"$f":"IF('CENTRAL ANALYSIS'!$B$55>=1,1,0)","v":0}]
[1,null,null,null,null,null,null,null,null,null,null,null,null,null,null,null,null,null,null,null,null,null,{"$f":"IF('CENTRAL ANALYSIS'!$B$55>=1,1,0)","v":0}]
[0,"Internal Team Name",null,null,null,"Add Data","Profile","COO","Recruit","Reten.","WF Dev.","Future","Strategy","Summary",null,null,null,null,null,null,null,null,{"$f":"IF('CENTRAL ANALYSIS'!$B$55>=1,1,0)","v":0}]
[1,{"$f":"IF(C88=\"\",\"\",C88)","v":""},null,null,null,{"$f":"IFERROR(IF(VLOOKUP(B181,'INTERNAL TOOL SETTINGS'!$A:$CM,2,FALSE)=TRUE,\"Yes\",\"No\"),\"\")","v":""},{"$f":"IFERROR(IF(COUNTIF(INDIRECT(Z181,TRUE),\"TRUE\")=10,\"All\",IF(COUNTIF(INDIRECT(Z181,TRUE),\"TRUE\")>0,\"Custom\",\"None\")),\"\")","v":"None"},{"$f":"IFERROR(IF(COUNTIF(INDIRECT(AA181,TRUE),\"TRUE\")=10,\"All\",IF(COUNTIF(INDIRECT(AA181,TRUE),\"TRUE\")>0,\"Custom\",\"None\")),\"\")","v":"None"},{"$f":"IFERROR(IF(COUNTIF(INDIRECT(AB181,TRUE),\"TRUE\")=26,\"All\",IF(COUNTIF(INDIRECT(AB181,TRUE),\"TRUE\")>0,\"Custom\",\"None\")),\"\")","v":"None"},{"$f":"IFERROR(IF(COUNTIF(INDIRECT(AC181,TRUE),\"TRUE\")=24,\"All\",IF(COUNTIF(INDIRECT(AC181,TRUE),\"TRUE\")>0,\"Custom\",\"None\")),\"\")","v":"None"},{"$f":"IFERROR(IF(COUNTIF(INDIRECT(AD181,TRUE),\"TRUE\")=14,\"All\",IF(COUNTIF(INDIRECT(AD181,TRUE),\"TRUE\")>0,\"Custom\",\"None\")),\"\")","v":"None"},{"$f":"IFERROR(IF(COUNTIF(INDIRECT(AE181,TRUE),\"TRUE\")=3,\"All\",IF(COUNTIF(INDIRECT(AE181,TRUE),\"TRUE\")>0,\"Custom\",\"None\")),\"\")","v":"None"},{"$f":"IFERROR(IF(VLOOKUP(B181,'INTERNAL TOOL SETTINGS'!$A:$CM,90,FALSE)=TRUE,\"All\",\"None\"),\"\")","v":""},{"$f":"IFERROR(IF(VLOOKUP(B181,'INTERNAL TOOL SETTINGS'!$A:$CM,91,FALSE)=TRUE,\"All\",\"None\"),\"\")","v":""},null,null,{"$f":"IFERROR(MATCH(B181,'INTERNAL TOOL SETTINGS'!A:A,0),\"\")","v":""},null,null,null,null,null,{"$f":"IF('CENTRAL ANALYSIS'!$B$55>=1,1,0)","v":0},null,null,{"$f":"CONCATENATE(\"'INTERNAL TOOL SETTINGS'!\",'CENTRAL ANALYSIS'!$I$18,$Q181,\":\",'CENTRAL ANALYSIS'!$J$18,$Q181)","v":"'INTERNAL TOOL SETTINGS'!C:L"},{"$f":"CONCATENATE(\"'INTERNAL TOOL SETTINGS'!\",'CENTRAL ANALYSIS'!$I$19,$Q181,\":\",'CENTRAL ANALYSIS'!$J$19,$Q181)","v":"'INTERNAL TOOL SETTINGS'!M:V"},{"$f":"CONCATENATE(\"'INTERNAL TOOL SETTINGS'!\",'CENTRAL ANALYSIS'!$I$20,$Q181,\":\",'CENTRAL ANALYSIS'!$J$20,$Q181)","v":"'INTERNAL TOOL SETTINGS'!W:AV"},{"$f":"CONCATENATE(\"'INTERNAL TOOL SETTINGS'!\",'CENTRAL ANALYSIS'!$I$21,$Q181,\":\",'CENTRAL ANALYSIS'!$J$21,$Q181)","v":"'INTERNAL TOOL SETTINGS'!AW:BT"},{"$f":"CONCATENATE(\"'INTERNAL TOOL SETTINGS'!\",'CENTRAL ANALYSIS'!$I$22,$Q181,\":\",'CENTRAL ANALYSIS'!$J$22,$Q181)","v":"'INTERNAL TOOL SETTINGS'!BU:CH"},{"$f":"CONCATENATE(\"'INTERNAL TOOL SETTINGS'!\",'CENTRAL ANALYSIS'!$I$23,$Q181,\":\",'CENTRAL ANALYSIS'!$J$23,$Q181)","v":"'INTERNAL TOOL SETTINGS'!CI:CK"}]
[1,"",null,null,null,{"$f":"IFERROR(IF(VLOOKUP(B182,'INTERNAL TOOL SETTINGS'!$A:$CM,2,FALSE)=TRUE,\"Yes\",\"No\"),\"\")","v":""},{"$f":"IFERROR(IF(COUNTIF(INDIRECT(Z182,TRUE),\"TRUE\")=10,\"All\",IF(COUNTIF(INDIRECT(Z182,TRUE),\"TRUE\")>0,\"Custom\",\"None\")),\"\")","v":"None"},"None",{"$f":"IFERROR(IF(COUNTIF(INDIRECT(AB182,TRUE),\"TRUE\")=26,\"All\",IF(COUNTIF(INDIRECT(AB182,TRUE),\"TRUE\")>0,\"Custom\",\"None\")),\"\")","v":"None"},{"$f":"IFERROR(IF(COUNTIF(INDIRECT(AC182,TRUE),\"TRUE\")=24,\"All\",IF(COUNTIF(INDIRECT(AC182,TRUE),\"TRUE\")>0,\"Custom\",\"None\")),\"\")","v":"None"},{"$f":"IFERROR(IF(COUNTIF(INDIRECT(AD182,TRUE),\"TRUE\")=14,\"All\",IF(COUNTIF(INDIRECT(AD182,TRUE),\"TRUE\")>0,\"Custom\",\"None\")),\"\")","v":"None"},{"$f":"IFERROR(IF(COUNTIF(INDIRECT(AE182,TRUE),\"TRUE\")=3,\"All\",IF(COUNTIF(INDIRECT(AE182,TRUE),\"TRUE\")>0,\"Custom\",\"None\")),\"\")","v":"None"},{"$f":"IFERROR(IF(VLOOKUP(B182,'INTERNAL TOOL SETTINGS'!$A:$CM,90,FALSE)=TRUE,\"All\",\"None\"),\"\")","v":""},{"$f":"IFERROR(IF(VLOOKUP(B182,'INTERNAL TOOL SETTINGS'!$A:$CM,91,FALSE)=TRUE,\"All\",\"None\"),\"\")","v":""},null,null,{"$f":"IFERROR(MATCH(B182,'INTERNAL TOOL SETTINGS'!A:A,0),\"\")","v":""},null,null,null,null,null,{"$f":"IF('CENTRAL ANALYSIS'!$B$55>=2,1,0)","v":0},null,null,{"$f":"CONCATENATE(\"'INTERNAL TOOL SETTINGS'!\",'CENTRAL ANALYSIS'!$I$18,$Q182,\":\",'CENTRAL ANALYSIS'!$J$18,$Q182)","v":"'INTERNAL TOOL SETTINGS'!C:L"},{"$f":"CONCATENATE(\"'INTERNAL TOOL SETTINGS'!\",'CENTRAL ANALYSIS'!$I$19,$Q182,\":\",'CENTRAL ANALYSIS'!$J$19,$Q182)","v":"'INTERNAL TOOL SETTINGS'!M:V"},{"$f":"CONCATENATE(\"'INTERNAL TOOL SETTINGS'!\",'CENTRAL ANALYSIS'!$I$20,$Q182,\":\",'CENTRAL ANALYSIS'!$J$20,$Q182)","v":"'INTERNAL TOOL SETTINGS'!W:AV"},{"$f":"CONCATENATE(\"'INTERNAL TOOL SETTINGS'!\",'CENTRAL ANALYSIS'!$I$21,$Q182,\":\",'CENTRAL ANALYSIS'!$J$21,$Q182)","v":"'INTERNAL TOOL SETTINGS'!AW:BT"},{"$f":"CONCATENATE(\"'INTERNAL TOOL SETTINGS'!\",'CENTRAL ANALYSIS'!$I$22,$Q182,\":\",'CENTRAL ANALYSIS'!$J$22,$Q182)","v":"'INTERNAL TOOL SETTINGS'!BU:CH"},{"$f":"CONCATENATE(\"'INTERNAL TOOL SETTINGS'!\",'CENTRAL ANALYSIS'!$I$23,$Q182,\":\",'CENTRAL ANALYSIS'!$J$23,$Q182)","v":"'INTERNAL TOOL SETTINGS'!CI:CK"}]
[1,"",null,null,null,{"$f":"IFERROR(IF(VLOOKUP(B183,'INTERNAL TOOL SETTINGS'!$A:$CM,2,FALSE)=TRUE,\"Yes\",\"No\"),\"\")","v":""},"None","None","None","None","None","None",{"$f":"IFERROR(IF(VLOOKUP(B183,'INTERNAL TOOL SETTINGS'!$A:$CM,90,FALSE)=TRUE,\"All\",\"None\"),\"\")","v":""},{"$f":"IFERROR(IF(VLOOKUP(B183,'INTERNAL TOOL SETTINGS'!$A:$CM,91,FALSE)=TRUE,\"All\",\"None\"),\"\")","v":""},null,null,{"$f":"IFERROR(MATCH(B183,'INTERNAL TOOL SETTINGS'!A:A,0),\"\")","v":""},null,null,null,null,null,{"$f":"IF('CENTRAL ANALYSIS'!$B$55>=3,1,0)","v":0},null,null,{"$f":"CONCATENATE(\"'INTERNAL TOOL SETTINGS'!\",'CENTRAL ANALYSIS'!$I$18,$Q183,\":\",'CENTRAL ANALYSIS'!$J$18,$Q183)","v":"'INTERNAL TOOL SETTINGS'!C:L"},{"$f":"CONCATENATE(\"'INTERNAL TOOL SETTINGS'!\",'CENTRAL ANALYSIS'!$I$19,$Q183,\":\",'CENTRAL ANALYSIS'!$J$19,$Q183)","v":"'INTERNAL TOOL SETTINGS'!M:V"},{"$f":"CONCATENATE(\"'INTERNAL TOOL SETTINGS'!\",'CENTRAL ANALYSIS'!$I$20,$Q183,\":\",'CENTRAL ANALYSIS'!$J$20,$Q183)","v":"'INTERNAL TOOL SETTINGS'!W:AV"},{"$f":"CONCATENATE(\"'INTERNAL TOOL SETTINGS'!\",'CENTRAL ANALYSIS'!$I$21,$Q183,\":\",'CENTRAL ANALYSIS'!$J$21,$Q183)","v":"'INTERNAL TOOL SETTINGS'!AW:BT"},{"$f":"CONCATENATE(\"'INTERNAL TOOL SETTINGS'!\",'CENTRAL ANALYSIS'!$I$22,$Q183,\":\",'CENTRAL ANALYSIS'!$J$22,$Q183)","v":"'INTERNAL TOOL SETTINGS'!BU:CH"},{"$f":"CONCATENATE(\"'INTERNAL TOOL SETTINGS'!\",'CENTRAL ANALYSIS'!$I$23,$Q183,\":\",'CENTRAL ANALYSIS'!$J$23,$Q183)","v":"'INTERNAL TOOL SETTINGS'!CI:CK"}]
[1,"",null,null,null,{"$f":"IFERROR(IF(VLOOKUP(B184,'INTERNAL TOOL SETTINGS'!$A:$CM,2,FALSE)=TRUE,\"Yes\",\"No\"),\"\")","v":""},"None","None","None","None","None","None",{"$f":"IFERROR(IF(VLOOKUP(B184,'INTERNAL TOOL SETTINGS'!$A:$CM,90,FALSE)=TRUE,\"All\",\"None\"),\"\")","v":""},{"$f":"IFERROR(IF(VLOOKUP(B184,'INTERNAL TOOL SETTINGS'!$A:$CM,91,FALSE)=TRUE,\"All\",\"None\"),\"\")","v":""},null,null,{"$f":"IFERROR(MATCH(B184,'INTERNAL TOOL SETTINGS'!A:A,0),\"\")","v":""},null,null,null,null,null,{"$f":"IF('CENTRAL ANALYSIS'!$B$55>=4,1,0)","v":0},null,null,{"$f":"CONCATENATE(\"'INTERNAL TOOL SETTINGS'!\",'CENTRAL ANALYSIS'!$I$18,$Q184,\":\",'CENTRAL ANALYSIS'!$J$18,$Q184)","v":"'INTERNAL TOOL SETTINGS'!C:L"},{"$f":"CONCATENATE(\"'INTERNAL TOOL SETTINGS'!\",'CENTRAL ANALYSIS'!$I$19,$Q184,\":\",'CENTRAL ANALYSIS'!$J$19,$Q184)","v":"'INTERNAL TOOL SETTINGS'!M:V"},{"$f":"CONCATENATE(\"'INTERNAL TOOL SETTINGS'!\",'CENTRAL ANALYSIS'!$I$20,$Q184,\":\",'CENTRAL ANALYSIS'!$J$20,$Q184)","v":"'INTERNAL TOOL SETTINGS'!W:AV"},{"$f":"CONCATENATE(\"'INTERNAL TOOL SETTINGS'!\",'CENTRAL ANALYSIS'!$I$21,$Q184,\":\",'CENTRAL ANALYSIS'!$J$21,$Q184)","v":"'INTERNAL TOOL SETTINGS'!AW:BT"},{"$f":"CONCATENATE(\"'INTERNAL TOOL SETTINGS'!\",'CENTRAL ANALYSIS'!$I$22,$Q184,\":\",'CENTRAL ANALYSIS'!$J$22,$Q184)","v":"'INTERNAL TOOL SETTINGS'!BU:CH"},{"$f":"CONCATENATE(\"'INTERNAL TOOL SETTINGS'!\",'CENTRAL ANALYSIS'!$I$23,$Q184,\":\",'CENTRAL ANALYSIS'!$J$23,$Q184)","v":"'INTERNAL TOOL SETTINGS'!CI:CK"}]
[1,"",null,null,null,{"$f":"IFERROR(IF(VLOOKUP(B185,'INTERNAL TOOL SETTINGS'!$A:$CM,2,FALSE)=TRUE,\"Yes\",\"No\"),\"\")","v":""},"None","None","None","None","None","None",{"$f":"IFERROR(IF(VLOOKUP(B185,'INTERNAL TOOL SETTINGS'!$A:$CM,90,FALSE)=TRUE,\"All\",\"None\"),\"\")","v":""},{"$f":"IFERROR(IF(VLOOKUP(B185,'INTERNAL TOOL SETTINGS'!$A:$CM,91,FALSE)=TRUE,\"All\",\"None\"),\"\")","v":""},null,null,{"$f":"IFERROR(MATCH(B185,'INTERNAL TOOL SETTINGS'!A:A,0),\"\")","v":""},null,null,null,null,null,{"$f":"IF('CENTRAL ANALYSIS'!$B$55>=5,1,0)","v":0},null,null,{"$f":"CONCATENATE(\"'INTERNAL TOOL SETTINGS'!\",'CENTRAL ANALYSIS'!$I$18,$Q185,\":\",'CENTRAL ANALYSIS'!$J$18,$Q185)","v":"'INTERNAL TOOL SETTINGS'!C:L"},{"$f":"CONCATENATE(\"'INTERNAL TOOL SETTINGS'!\",'CENTRAL ANALYSIS'!$I$19,$Q185,\":\",'CENTRAL ANALYSIS'!$J$19,$Q185)","v":"'INTERNAL TOOL SETTINGS'!M:V"},{"$f":"CONCATENATE(\"'INTERNAL TOOL SETTINGS'!\",'CENTRAL ANALYSIS'!$I$20,$Q185,\":\",'CENTRAL ANALYSIS'!$J$20,$Q185)","v":"'INTERNAL TOOL SETTINGS'!W:AV"},{"$f":"CONCATENATE(\"'INTERNAL TOOL SETTINGS'!\",'CENTRAL ANALYSIS'!$I$21,$Q185,\":\",'CENTRAL ANALYSIS'!$J$21,$Q185)","v":"'INTERNAL TOOL SETTINGS'!AW:BT"},{"$f":"CONCATENATE(\"'INTERNAL TOOL SETTINGS'!\",'CENTRAL ANALYSIS'!$I$22,$Q185,\":\",'CENTRAL ANALYSIS'!$J$22,$Q185)","v":"'INTERNAL TOOL SETTINGS'!BU:CH"},{"$f":"CONCATENATE(\"'INTERNAL TOOL SETTINGS'!\",'CENTRAL ANALYSIS'!$I$23,$Q185,\":\",'CENTRAL ANALYSIS'!$J$23,$Q185)","v":"'INTERNAL TOOL SETTINGS'!CI:CK"}]
[1,"",null,null,null,{"$f":"IFERROR(IF(VLOOKUP(B186,'INTERNAL TOOL SETTINGS'!$A:$CM,2,FALSE)=TRUE,\"Yes\",\"No\"),\"\")","v":""},"None","None","None","None","None","None",{"$f":"IFERROR(IF(VLOOKUP(B186,'INTERNAL TOOL SETTINGS'!$A:$CM,90,FALSE)=TRUE,\"All\",\"None\"),\"\")","v":""},{"$f":"IFERROR(IF(VLOOKUP(B186,'INTERNAL TOOL SETTINGS'!$A:$CM,91,FALSE)=TRUE,\"All\",\"None\"),\"\")","v":""},null,null,{"$f":"IFERROR(MATCH(B186,'INTERNAL TOOL SETTINGS'!A:A,0),\"\")","v":""},null,null,null,null,null,{"$f":"IF('CENTRAL ANALYSIS'!$B$55>=6,1,0)","v":0},null,null,{"$f":"CONCATENATE(\"'INTERNAL TOOL SETTINGS'!\",'CENTRAL ANALYSIS'!$I$18,$Q186,\":\",'CENTRAL ANALYSIS'!$J$18,$Q186)","v":"'INTERNAL TOOL SETTINGS'!C:L"},{"$f":"CONCATENATE(\"'INTERNAL TOOL SETTINGS'!\",'CENTRAL ANALYSIS'!$I$19,$Q186,\":\",'CENTRAL ANALYSIS'!$J$19,$Q186)","v":"'INTERNAL TOOL SETTINGS'!M:V"},{"$f":"CONCATENATE(\"'INTERNAL TOOL SETTINGS'!\",'CENTRAL ANALYSIS'!$I$20,$Q186,\":\",'CENTRAL ANALYSIS'!$J$20,$Q186)","v":"'INTERNAL TOOL SETTINGS'!W:AV"},{"$f":"CONCATENATE(\"'INTERNAL TOOL SETTINGS'!\",'CENTRAL ANALYSIS'!$I$21,$Q186,\":\",'CENTRAL ANALYSIS'!$J$21,$Q186)","v":"'INTERNAL TOOL SETTINGS'!AW:BT"},{"$f":"CONCATENATE(\"'INTERNAL TOOL SETTINGS'!\",'CENTRAL ANALYSIS'!$I$22,$Q186,\":\",'CENTRAL ANALYSIS'!$J$22,$Q186)","v":"'INTERNAL TOOL SETTINGS'!BU:CH"},{"$f":"CONCATENATE(\"'INTERNAL TOOL SETTINGS'!\",'CENTRAL ANALYSIS'!$I$23,$Q186,\":\",'CENTRAL ANALYSIS'!$J$23,$Q186)","v":"'INTERNAL TOOL SETTINGS'!CI:CK"}]
[1,"",null,null,null,{"$f":"IFERROR(IF(VLOOKUP(B187,'INTERNAL TOOL SETTINGS'!$A:$CM,2,FALSE)=TRUE,\"Yes\",\"No\"),\"\")","v":""},"None","None","None","None","None","None",{"$f":"IFERROR(IF(VLOOKUP(B187,'INTERNAL TOOL SETTINGS'!$A:$CM,90,FALSE)=TRUE,\"All\",\"None\"),\"\")","v":""},{"$f":"IFERROR(IF(VLOOKUP(B187,'INTERNAL TOOL SETTINGS'!$A:$CM,91,FALSE)=TRUE,\"All\",\"None\"),\"\")","v":""},null,null,{"$f":"IFERROR(MATCH(B187,'INTERNAL TOOL SETTINGS'!A:A,0),\"\")","v":""},null,null,null,null,null,{"$f":"IF('CENTRAL ANALYSIS'!$B$55>=7,1,0)","v":0},null,null,{"$f":"CONCATENATE(\"'INTERNAL TOOL SETTINGS'!\",'CENTRAL ANALYSIS'!$I$18,$Q187,\":\",'CENTRAL ANALYSIS'!$J$18,$Q187)","v":"'INTERNAL TOOL SETTINGS'!C:L"},{"$f":"CONCATENATE(\"'INTERNAL TOOL SETTINGS'!\",'CENTRAL ANALYSIS'!$I$19,$Q187,\":\",'CENTRAL ANALYSIS'!$J$19,$Q187)","v":"'INTERNAL TOOL SETTINGS'!M:V"},{"$f":"CONCATENATE(\"'INTERNAL TOOL SETTINGS'!\",'CENTRAL ANALYSIS'!$I$20,$Q187,\":\",'CENTRAL ANALYSIS'!$J$20,$Q187)","v":"'INTERNAL TOOL SETTINGS'!W:AV"},{"$f":"CONCATENATE(\"'INTERNAL TOOL SETTINGS'!\",'CENTRAL ANALYSIS'!$I$21,$Q187,\":\",'CENTRAL ANALYSIS'!$J$21,$Q187)","v":"'INTERNAL TOOL SETTINGS'!AW:BT"},{"$f":"CONCATENATE(\"'INTERNAL TOOL SETTINGS'!\",'CENTRAL ANALYSIS'!$I$22,$Q187,\":\",'CENTRAL ANALYSIS'!$J$22,$Q187)","v":"'INTERNAL TOOL SETTINGS'!BU:CH"},{"$f":"CONCATENATE(\"'INTERNAL TOOL SETTINGS'!\",'CENTRAL ANALYSIS'!$I$23,$Q187,\":\",'CENTRAL ANALYSIS'!$J$23,$Q187)","v":"'INTERNAL TOOL SETTINGS'!CI:CK"}]
[1,"",null,null,null,{"$f":"IFERROR(IF(VLOOKUP(B188,'INTERNAL TOOL SETTINGS'!$A:$CM,2,FALSE)=TRUE,\"Yes\",\"No\"),\"\")","v":""},"None","None","None","None","None","None",{"$f":"IFERROR(IF(VLOOKUP(B188,'INTERNAL TOOL SETTINGS'!$A:$CM,90,FALSE)=TRUE,\"All\",\"None\"),\"\")","v":""},{"$f":"IFERROR(IF(VLOOKUP(B188,'INTERNAL TOOL SETTINGS'!$A:$CM,91,FALSE)=TRUE,\"All\",\"None\"),\"\")","v":""},null,null,{"$f":"IFERROR(MATCH(B188,'INTERNAL TOOL SETTINGS'!A:A,0),\"\")","v":""},null,null,null,null,null,{"$f":"IF('CENTRAL ANALYSIS'!$B$55>=8,1,0)","v":0},null,null,{"$f":"CONCATENATE(\"'INTERNAL TOOL SETTINGS'!\",'CENTRAL ANALYSIS'!$I$18,$Q188,\":\",'CENTRAL ANALYSIS'!$J$18,$Q188)","v":"'INTERNAL TOOL SETTINGS'!C:L"},{"$f":"CONCATENATE(\"'INTERNAL TOOL SETTINGS'!\",'CENTRAL ANALYSIS'!$I$19,$Q188,\":\",'CENTRAL ANALYSIS'!$J$19,$Q188)","v":"'INTERNAL TOOL SETTINGS'!M:V"},{"$f":"CONCATENATE(\"'INTERNAL TOOL SETTINGS'!\",'CENTRAL ANALYSIS'!$I$20,$Q188,\":\",'CENTRAL ANALYSIS'!$J$20,$Q188)","v":"'INTERNAL TOOL SETTINGS'!W:AV"},{"$f":"CONCATENATE(\"'INTERNAL TOOL SETTINGS'!\",'CENTRAL ANALYSIS'!$I$21,$Q188,\":\",'CENTRAL ANALYSIS'!$J$21,$Q188)","v":"'INTERNAL TOOL SETTINGS'!AW:BT"},{"$f":"CONCATENATE(\"'INTERNAL TOOL SETTINGS'!\",'CENTRAL ANALYSIS'!$I$22,$Q188,\":\",'CENTRAL ANALYSIS'!$J$22,$Q188)","v":"'INTERNAL TOOL SETTINGS'!BU:CH"},{"$f":"CONCATENATE(\"'INTERNAL TOOL SETTINGS'!\",'CENTRAL ANALYSIS'!$I$23,$Q188,\":\",'CENTRAL ANALYSIS'!$J$23,$Q188)","v":"'INTERNAL TOOL SETTINGS'!CI:CK"}]
[1,"",null,null,null,{"$f":"IFERROR(IF(VLOOKUP(B189,'INTERNAL TOOL SETTINGS'!$A:$CM,2,FALSE)=TRUE,\"Yes\",\"No\"),\"\")","v":""},"None","None","None","None","None","None",{"$f":"IFERROR(IF(VLOOKUP(B189,'INTERNAL TOOL SETTINGS'!$A:$CM,90,FALSE)=TRUE,\"All\",\"None\"),\"\")","v":""},{"$f":"IFERROR(IF(VLOOKUP(B189,'INTERNAL TOOL SETTINGS'!$A:$CM,91,FALSE)=TRUE,\"All\",\"None\"),\"\")","v":""},null,null,{"$f":"IFERROR(MATCH(B189,'INTERNAL TOOL SETTINGS'!A:A,0),\"\")","v":""},null,null,null,null,null,{"$f":"IF('CENTRAL ANALYSIS'!$B$55>=9,1,0)","v":0},null,null,{"$f":"CONCATENATE(\"'INTERNAL TOOL SETTINGS'!\",'CENTRAL ANALYSIS'!$I$18,$Q189,\":\",'CENTRAL ANALYSIS'!$J$18,$Q189)","v":"'INTERNAL TOOL SETTINGS'!C:L"},{"$f":"CONCATENATE(\"'INTERNAL TOOL SETTINGS'!\",'CENTRAL ANALYSIS'!$I$19,$Q189,\":\",'CENTRAL ANALYSIS'!$J$19,$Q189)","v":"'INTERNAL TOOL SETTINGS'!M:V"},{"$f":"CONCATENATE(\"'INTERNAL TOOL SETTINGS'!\",'CENTRAL ANALYSIS'!$I$20,$Q189,\":\",'CENTRAL ANALYSIS'!$J$20,$Q189)","v":"'INTERNAL TOOL SETTINGS'!W:AV"},{"$f":"CONCATENATE(\"'INTERNAL TOOL SETTINGS'!\",'CENTRAL ANALYSIS'!$I$21,$Q189,\":\",'CENTRAL ANALYSIS'!$J$21,$Q189)","v":"'INTERNAL TOOL SETTINGS'!AW:BT"},{"$f":"CONCATENATE(\"'INTERNAL TOOL SETTINGS'!\",'CENTRAL ANALYSIS'!$I$22,$Q189,\":\",'CENTRAL ANALYSIS'!$J$22,$Q189)","v":"'INTERNAL TOOL SETTINGS'!BU:CH"},{"$f":"CONCATENATE(\"'INTERNAL TOOL SETTINGS'!\",'CENTRAL ANALYSIS'!$I$23,$Q189,\":\",'CENTRAL ANALYSIS'!$J$23,$Q189)","v":"'INTERNAL TOOL SETTINGS'!CI:CK"}]
[1,"",null,null,null,{"$f":"IFERROR(IF(VLOOKUP(B190,'INTERNAL TOOL SETTINGS'!$A:$CM,2,FALSE)=TRUE,\"Yes\",\"No\"),\"\")","v":""},"None","None","None","None","None","None",{"$f":"IFERROR(IF(VLOOKUP(B190,'INTERNAL TOOL SETTINGS'!$A:$CM,90,FALSE)=TRUE,\"All\",\"None\"),\"\")","v":""},{"$f":"IFERROR(IF(VLOOKUP(B190,'INTERNAL TOOL SETTINGS'!$A:$CM,91,FALSE)=TRUE,\"All\",\"None\"),\"\")","v":""},null,null,{"$f":"IFERROR(MATCH(B190,'INTERNAL TOOL SETTINGS'!A:A,0),\"\")","v":""},null,null,null,null,null,{"$f":"IF('CENTRAL ANALYSIS'!$B$55>=10,1,0)","v":0},null,null,{"$f":"CONCATENATE(\"'INTERNAL TOOL SETTINGS'!\",'CENTRAL ANALYSIS'!$I$18,$Q190,\":\",'CENTRAL ANALYSIS'!$J$18,$Q190)","v":"'INTERNAL TOOL SETTINGS'!C:L"},{"$f":"CONCATENATE(\"'INTERNAL TOOL SETTINGS'!\",'CENTRAL ANALYSIS'!$I$19,$Q190,\":\",'CENTRAL ANALYSIS'!$J$19,$Q190)","v":"'INTERNAL TOOL SETTINGS'!M:V"},{"$f":"CONCATENATE(\"'INTERNAL TOOL SETTINGS'!\",'CENTRAL ANALYSIS'!$I$20,$Q190,\":\",'CENTRAL ANALYSIS'!$J$20,$Q190)","v":"'INTERNAL TOOL SETTINGS'!W:AV"},{"$f":"CONCATENATE(\"'INTERNAL TOOL SETTINGS'!\",'CENTRAL ANALYSIS'!$I$21,$Q190,\":\",'CENTRAL ANALYSIS'!$J$21,$Q190)","v":"'INTERNAL TOOL SETTINGS'!AW:BT"},{"$f":"CONCATENATE(\"'INTERNAL TOOL SETTINGS'!\",'CENTRAL ANALYSIS'!$I$22,$Q190,\":\",'CENTRAL ANALYSIS'!$J$22,$Q190)","v":"'INTERNAL TOOL SETTINGS'!BU:CH"},{"$f":"CONCATENATE(\"'INTERNAL TOOL SETTINGS'!\",'CENTRAL ANALYSIS'!$I$23,$Q190,\":\",'CENTRAL ANALYSIS'!$J$23,$Q190)","v":"'INTERNAL TOOL SETTINGS'!CI:CK"}]
[1,"",null,null,null,{"$f":"IFERROR(IF(VLOOKUP(B191,'INTERNAL TOOL SETTINGS'!$A:$CM,2,FALSE)=TRUE,\"Yes\",\"No\"),\"\")","v":""},"None","None","None","None","None","None",{"$f":"IFERROR(IF(VLOOKUP(B191,'INTERNAL TOOL SETTINGS'!$A:$CM,90,FALSE)=TRUE,\"All\",\"None\"),\"\")","v":""},{"$f":"IFERROR(IF(VLOOKUP(B191,'INTERNAL TOOL SETTINGS'!$A:$CM,91,FALSE)=TRUE,\"All\",\"None\"),\"\")","v":""},null,null,{"$f":"IFERROR(MATCH(B191,'INTERNAL TOOL SETTINGS'!A:A,0),\"\")","v":""},null,null,null,null,null,{"$f":"IF('CENTRAL ANALYSIS'!$B$55>=11,1,0)","v":0},null,null,{"$f":"CONCATENATE(\"'INTERNAL TOOL SETTINGS'!\",'CENTRAL ANALYSIS'!$I$18,$Q191,\":\",'CENTRAL ANALYSIS'!$J$18,$Q191)","v":"'INTERNAL TOOL SETTINGS'!C:L"},{"$f":"CONCATENATE(\"'INTERNAL TOOL SETTINGS'!\",'CENTRAL ANALYSIS'!$I$19,$Q191,\":\",'CENTRAL ANALYSIS'!$J$19,$Q191)","v":"'INTERNAL TOOL SETTINGS'!M:V"},{"$f":"CONCATENATE(\"'INTERNAL TOOL SETTINGS'!\",'CENTRAL ANALYSIS'!$I$20,$Q191,\":\",'CENTRAL ANALYSIS'!$J$20,$Q191)","v":"'INTERNAL TOOL SETTINGS'!W:AV"},{"$f":"CONCATENATE(\"'INTERNAL TOOL SETTINGS'!\",'CENTRAL ANALYSIS'!$I$21,$Q191,\":\",'CENTRAL ANALYSIS'!$J$21,$Q191)","v":"'INTERNAL TOOL SETTINGS'!AW:BT"},{"$f":"CONCATENATE(\"'INTERNAL TOOL SETTINGS'!\",'CENTRAL ANALYSIS'!$I$22,$Q191,\":\",'CENTRAL ANALYSIS'!$J$22,$Q191)","v":"'INTERNAL TOOL SETTINGS'!BU:CH"},{"$f":"CONCATENATE(\"'INTERNAL TOOL SETTINGS'!\",'CENTRAL ANALYSIS'!$I$23,$Q191,\":\",'CENTRAL ANALYSIS'!$J$23,$Q191)","v":"'INTERNAL TOOL SETTINGS'!CI:CK"}]
[1,"",null,null,null,{"$f":"IFERROR(IF(VLOOKUP(B192,'INTERNAL TOOL SETTINGS'!$A:$CM,2,FALSE)=TRUE,\"Yes\",\"No\"),\"\")","v":""},"None","None","None","None","None","None",{"$f":"IFERROR(IF(VLOOKUP(B192,'INTERNAL TOOL SETTINGS'!$A:$CM,90,FALSE)=TRUE,\"All\",\"None\"),\"\")","v":""},{"$f":"IFERROR(IF(VLOOKUP(B192,'INTERNAL TOOL SETTINGS'!$A:$CM,91,FALSE)=TRUE,\"All\",\"None\"),\"\")","v":""},null,null,{"$f":"IFERROR(MATCH(B192,'INTERNAL TOOL SETTINGS'!A:A,0),\"\")","v":""},null,null,null,null,null,{"$f":"IF('CENTRAL ANALYSIS'!$B$55>=12,1,0)","v":0},null,null,{"$f":"CONCATENATE(\"'INTERNAL TOOL SETTINGS'!\",'CENTRAL ANALYSIS'!$I$18,$Q192,\":\",'CENTRAL ANALYSIS'!$J$18,$Q192)","v":"'INTERNAL TOOL SETTINGS'!C:L"},{"$f":"CONCATENATE(\"'INTERNAL TOOL SETTINGS'!\",'CENTRAL ANALYSIS'!$I$19,$Q192,\":\",'CENTRAL ANALYSIS'!$J$19,$Q192)","v":"'INTERNAL TOOL SETTINGS'!M:V"},{"$f":"CONCATENATE(\"'INTERNAL TOOL SETTINGS'!\",'CENTRAL ANALYSIS'!$I$20,$Q192,\":\",'CENTRAL ANALYSIS'!$J$20,$Q192)","v":"'INTERNAL TOOL SETTINGS'!W:AV"},{"$f":"CONCATENATE(\"'INTERNAL TOOL SETTINGS'!\",'CENTRAL ANALYSIS'!$I$21,$Q192,\":\",'CENTRAL ANALYSIS'!$J$21,$Q192)","v":"'INTERNAL TOOL SETTINGS'!AW:BT"},{"$f":"CONCATENATE(\"'INTERNAL TOOL SETTINGS'!\",'CENTRAL ANALYSIS'!$I$22,$Q192,\":\",'CENTRAL ANALYSIS'!$J$22,$Q192)","v":"'INTERNAL TOOL SETTINGS'!BU:CH"},{"$f":"CONCATENATE(\"'INTERNAL TOOL SETTINGS'!\",'CENTRAL ANALYSIS'!$I$23,$Q192,\":\",'CENTRAL ANALYSIS'!$J$23,$Q192)","v":"'INTERNAL TOOL SETTINGS'!CI:CK"}]
[1,"",null,null,null,{"$f":"IFERROR(IF(VLOOKUP(B193,'INTERNAL TOOL SETTINGS'!$A:$CM,2,FALSE)=TRUE,\"Yes\",\"No\"),\"\")","v":""},"None","None","None","None","None","None",{"$f":"IFERROR(IF(VLOOKUP(B193,'INTERNAL TOOL SETTINGS'!$A:$CM,90,FALSE)=TRUE,\"All\",\"None\"),\"\")","v":""},{"$f":"IFERROR(IF(VLOOKUP(B193,'INTERNAL TOOL SETTINGS'!$A:$CM,91,FALSE)=TRUE,\"All\",\"None\"),\"\")","v":""},null,null,{"$f":"IFERROR(MATCH(B193,'INTERNAL TOOL SETTINGS'!A:A,0),\"\")","v":""},null,null,null,null,null,{"$f":"IF('CENTRAL ANALYSIS'!$B$55>=13,1,0)","v":0},null,null,{"$f":"CONCATENATE(\"'INTERNAL TOOL SETTINGS'!\",'CENTRAL ANALYSIS'!$I$18,$Q193,\":\",'CENTRAL ANALYSIS'!$J$18,$Q193)","v":"'INTERNAL TOOL SETTINGS'!C:L"},{"$f":"CONCATENATE(\"'INTERNAL TOOL SETTINGS'!\",'CENTRAL ANALYSIS'!$I$19,$Q193,\":\",'CENTRAL ANALYSIS'!$J$19,$Q193)","v":"'INTERNAL TOOL SETTINGS'!M:V"},{"$f":"CONCATENATE(\"'INTERNAL TOOL SETTINGS'!\",'CENTRAL ANALYSIS'!$I$20,$Q193,\":\",'CENTRAL ANALYSIS'!$J$20,$Q193)","v":"'INTERNAL TOOL SETTINGS'!W:AV"},{"$f":"CONCATENATE(\"'INTERNAL TOOL SETTINGS'!\",'CENTRAL ANALYSIS'!$I$21,$Q193,\":\",'CENTRAL ANALYSIS'!$J$21,$Q193)","v":"'INTERNAL TOOL SETTINGS'!AW:BT"},{"$f":"CONCATENATE(\"'INTERNAL TOOL SETTINGS'!\",'CENTRAL ANALYSIS'!$I$22,$Q193,\":\",'CENTRAL ANALYSIS'!$J$22,$Q193)","v":"'INTERNAL TOOL SETTINGS'!BU:CH"},{"$f":"CONCATENATE(\"'INTERNAL TOOL SETTINGS'!\",'CENTRAL ANALYSIS'!$I$23,$Q193,\":\",'CENTRAL ANALYSIS'!$J$23,$Q193)","v":"'INTERNAL TOOL SETTINGS'!CI:CK"}]
[1,"",null,null,null,{"$f":"IFERROR(IF(VLOOKUP(B194,'INTERNAL TOOL SETTINGS'!$A:$CM,2,FALSE)=TRUE,\"Yes\",\"No\"),\"\")","v":""},"None","None","None","None","None","None",{"$f":"IFERROR(IF(VLOOKUP(B194,'INTERNAL TOOL SETTINGS'!$A:$CM,90,FALSE)=TRUE,\"All\",\"None\"),\"\")","v":""},{"$f":"IFERROR(IF(VLOOKUP(B194,'INTERNAL TOOL SETTINGS'!$A:$CM,91,FALSE)=TRUE,\"All\",\"None\"),\"\")","v":""},null,null,{"$f":"IFERROR(MATCH(B194,'INTERNAL TOOL SETTINGS'!A:A,0),\"\")","v":""},null,null,null,null,null,{"$f":"IF('CENTRAL ANALYSIS'!$B$55>=14,1,0)","v":0},null,null,{"$f":"CONCATENATE(\"'INTERNAL TOOL SETTINGS'!\",'CENTRAL ANALYSIS'!$I$18,$Q194,\":\",'CENTRAL ANALYSIS'!$J$18,$Q194)","v":"'INTERNAL TOOL SETTINGS'!C:L"},{"$f":"CONCATENATE(\"'INTERNAL TOOL SETTINGS'!\",'CENTRAL ANALYSIS'!$I$19,$Q194,\":\",'CENTRAL ANALYSIS'!$J$19,$Q194)","v":"'INTERNAL TOOL SETTINGS'!M:V"},{"$f":"CONCATENATE(\"'INTERNAL TOOL SETTINGS'!\",'CENTRAL ANALYSIS'!$I$20,$Q194,\":\",'CENTRAL ANALYSIS'!$J$20,$Q194)","v":"'INTERNAL TOOL SETTINGS'!W:AV"},{"$f":"CONCATENATE(\"'INTERNAL TOOL SETTINGS'!\",'CENTRAL ANALYSIS'!$I$21,$Q194,\":\",'CENTRAL ANALYSIS'!$J$21,$Q194)","v":"'INTERNAL TOOL SETTINGS'!AW:BT"},{"$f":"CONCATENATE(\"'INTERNAL TOOL SETTINGS'!\",'CENTRAL ANALYSIS'!$I$22,$Q194,\":\",'CENTRAL ANALYSIS'!$J$22,$Q194)","v":"'INTERNAL TOOL SETTINGS'!BU:CH"},{"$f":"CONCATENATE(\"'INTERNAL TOOL SETTINGS'!\",'CENTRAL ANALYSIS'!$I$23,$Q194,\":\",'CENTRAL ANALYSIS'!$J$23,$Q194)","v":"'INTERNAL TOOL SETTINGS'!CI:CK"}]
[1,"",null,null,null,{"$f":"IFERROR(IF(VLOOKUP(B195,'INTERNAL TOOL SETTINGS'!$A:$CM,2,FALSE)=TRUE,\"Yes\",\"No\"),\"\")","v":""},"None","None","None","None","None","None",{"$f":"IFERROR(IF(VLOOKUP(B195,'INTERNAL TOOL SETTINGS'!$A:$CM,90,FALSE)=TRUE,\"All\",\"None\"),\"\")","v":""},{"$f":"IFERROR(IF(VLOOKUP(B195,'INTERNAL TOOL SETTINGS'!$A:$CM,91,FALSE)=TRUE,\"All\",\"None\"),\"\")","v":""},null,null,{"$f":"IFERROR(MATCH(B195,'INTERNAL TOOL SETTINGS'!A:A,0),\"\")","v":""},null,null,null,null,null,{"$f":"IF('CENTRAL ANALYSIS'!$B$55>=15,1,0)","v":0},null,null,{"$f":"CONCATENATE(\"'INTERNAL TOOL SETTINGS'!\",'CENTRAL ANALYSIS'!$I$18,$Q195,\":\",'CENTRAL ANALYSIS'!$J$18,$Q195)","v":"'INTERNAL TOOL SETTINGS'!C:L"},{"$f":"CONCATENATE(\"'INTERNAL TOOL SETTINGS'!\",'CENTRAL ANALYSIS'!$I$19,$Q195,\":\",'CENTRAL ANALYSIS'!$J$19,$Q195)","v":"'INTERNAL TOOL SETTINGS'!M:V"},{"$f":"CONCATENATE(\"'INTERNAL TOOL SETTINGS'!\",'CENTRAL ANALYSIS'!$I$20,$Q195,\":\",'CENTRAL ANALYSIS'!$J$20,$Q195)","v":"'INTERNAL TOOL SETTINGS'!W:AV"},{"$f":"CONCATENATE(\"'INTERNAL TOOL SETTINGS'!\",'CENTRAL ANALYSIS'!$I$21,$Q195,\":\",'CENTRAL ANALYSIS'!$J$21,$Q195)","v":"'INTERNAL TOOL SETTINGS'!AW:BT"},{"$f":"CONCATENATE(\"'INTERNAL TOOL SETTINGS'!\",'CENTRAL ANALYSIS'!$I$22,$Q195,\":\",'CENTRAL ANALYSIS'!$J$22,$Q195)","v":"'INTERNAL TOOL SETTINGS'!BU:CH"},{"$f":"CONCATENATE(\"'INTERNAL TOOL SETTINGS'!\",'CENTRAL ANALYSIS'!$I$23,$Q195,\":\",'CENTRAL ANALYSIS'!$J$23,$Q195)","v":"'INTERNAL TOOL SETTINGS'!CI:CK"}]
[1,"",null,null,null,{"$f":"IFERROR(IF(VLOOKUP(B196,'INTERNAL TOOL SETTINGS'!$A:$CM,2,FALSE)=TRUE,\"Yes\",\"No\"),\"\")","v":""},"None","None","None","None","None","None",{"$f":"IFERROR(IF(VLOOKUP(B196,'INTERNAL TOOL SETTINGS'!$A:$CM,90,FALSE)=TRUE,\"All\",\"None\"),\"\")","v":""},{"$f":"IFERROR(IF(VLOOKUP(B196,'INTERNAL TOOL SETTINGS'!$A:$CM,91,FALSE)=TRUE,\"All\",\"None\"),\"\")","v":""},null,null,{"$f":"IFERROR(MATCH(B196,'INTERNAL TOOL SETTINGS'!A:A,0),\"\")","v":""},null,null,null,null,null,{"$f":"IF('CENTRAL ANALYSIS'!$B$55>=16,1,0)","v":0},null,null,{"$f":"CONCATENATE(\"'INTERNAL TOOL SETTINGS'!\",'CENTRAL ANALYSIS'!$I$18,$Q196,\":\",'CENTRAL ANALYSIS'!$J$18,$Q196)","v":"'INTERNAL TOOL SETTINGS'!C:L"},{"$f":"CONCATENATE(\"'INTERNAL TOOL SETTINGS'!\",'CENTRAL ANALYSIS'!$I$19,$Q196,\":\",'CENTRAL ANALYSIS'!$J$19,$Q196)","v":"'INTERNAL TOOL SETTINGS'!M:V"},{"$f":"CONCATENATE(\"'INTERNAL TOOL SETTINGS'!\",'CENTRAL ANALYSIS'!$I$20,$Q196,\":\",'CENTRAL ANALYSIS'!$J$20,$Q196)","v":"'INTERNAL TOOL SETTINGS'!W:AV"},{"$f":"CONCATENATE(\"'INTERNAL TOOL SETTINGS'!\",'CENTRAL ANALYSIS'!$I$21,$Q196,\":\",'CENTRAL ANALYSIS'!$J$21,$Q196)","v":"'INTERNAL TOOL SETTINGS'!AW:BT"},{"$f":"CONCATENATE(\"'INTERNAL TOOL SETTINGS'!\",'CENTRAL ANALYSIS'!$I$22,$Q196,\":\",'CENTRAL ANALYSIS'!$J$22,$Q196)","v":"'INTERNAL TOOL SETTINGS'!BU:CH"},{"$f":"CONCATENATE(\"'INTERNAL TOOL SETTINGS'!\",'CENTRAL ANALYSIS'!$I$23,$Q196,\":\",'CENTRAL ANALYSIS'!$J$23,$Q196)","v":"'INTERNAL TOOL SETTINGS'!CI:CK"}]
[1,"",null,null,null,{"$f":"IFERROR(IF(VLOOKUP(B197,'INTERNAL TOOL SETTINGS'!$A:$CM,2,FALSE)=TRUE,\"Yes\",\"No\"),\"\")","v":""},"None","None","None","None","None","None",{"$f":"IFERROR(IF(VLOOKUP(B197,'INTERNAL TOOL SETTINGS'!$A:$CM,90,FALSE)=TRUE,\"All\",\"None\"),\"\")","v":""},{"$f":"IFERROR(IF(VLOOKUP(B197,'INTERNAL TOOL SETTINGS'!$A:$CM,91,FALSE)=TRUE,\"All\",\"None\"),\"\")","v":""},null,null,{"$f":"IFERROR(MATCH(B197,'INTERNAL TOOL SETTINGS'!A:A,0),\"\")","v":""},null,null,null,null,null,{"$f":"IF('CENTRAL ANALYSIS'!$B$55>=17,1,0)","v":0},null,null,{"$f":"CONCATENATE(\"'INTERNAL TOOL SETTINGS'!\",'CENTRAL ANALYSIS'!$I$18,$Q197,\":\",'CENTRAL ANALYSIS'!$J$18,$Q197)","v":"'INTERNAL TOOL SETTINGS'!C:L"},{"$f":"CONCATENATE(\"'INTERNAL TOOL SETTINGS'!\",'CENTRAL ANALYSIS'!$I$19,$Q197,\":\",'CENTRAL ANALYSIS'!$J$19,$Q197)","v":"'INTERNAL TOOL SETTINGS'!M:V"},{"$f":"CONCATENATE(\"'INTERNAL TOOL SETTINGS'!\",'CENTRAL ANALYSIS'!$I$20,$Q197,\":\",'CENTRAL ANALYSIS'!$J$20,$Q197)","v":"'INTERNAL TOOL SETTINGS'!W:AV"},{"$f":"CONCATENATE(\"'INTERNAL TOOL SETTINGS'!\",'CENTRAL ANALYSIS'!$I$21,$Q197,\":\",'CENTRAL ANALYSIS'!$J$21,$Q197)","v":"'INTERNAL TOOL SETTINGS'!AW:BT"},{"$f":"CONCATENATE(\"'INTERNAL TOOL SETTINGS'!\",'CENTRAL ANALYSIS'!$I$22,$Q197,\":\",'CENTRAL ANALYSIS'!$J$22,$Q197)","v":"'INTERNAL TOOL SETTINGS'!BU:CH"},{"$f":"CONCATENATE(\"'INTERNAL TOOL SETTINGS'!\",'CENTRAL ANALYSIS'!$I$23,$Q197,\":\",'CENTRAL ANALYSIS'!$J$23,$Q197)","v":"'INTERNAL TOOL SETTINGS'!CI:CK"}]
[{"$f":"IF(B198=$M$126,1,0)","v":1},"",null,null,null,{"$f":"IFERROR(IF(VLOOKUP(B198,'INTERNAL TOOL SETTINGS'!$A:$CM,2,FALSE)=TRUE,\"Yes\",\"No\"),\"\")","v":""},"None","None","None","None","None","None",{"$f":"IFERROR(IF(VLOOKUP(B198,'INTERNAL TOOL SETTINGS'!$A:$CM,90,FALSE)=TRUE,\"All\",\"None\"),\"\")","v":""},{"$f":"IFERROR(IF(VLOOKUP(B198,'INTERNAL TOOL SETTINGS'!$A:$CM,91,FALSE)=TRUE,\"All\",\"None\"),\"\")","v":""},null,null,{"$f":"IFERROR(MATCH(B198,'INTERNAL TOOL SETTINGS'!A:A,0),\"\")","v":""},null,null,null,null,null,{"$f":"IF('CENTRAL ANALYSIS'!$B$55>=18,1,0)","v":0},null,null,{"$f":"CONCATENATE(\"'INTERNAL TOOL SETTINGS'!\",'CENTRAL ANALYSIS'!$I$18,$Q198,\":\",'CENTRAL ANALYSIS'!$J$18,$Q198)","v":"'INTERNAL TOOL SETTINGS'!C:L"},{"$f":"CONCATENATE(\"'INTERNAL TOOL SETTINGS'!\",'CENTRAL ANALYSIS'!$I$19,$Q198,\":\",'CENTRAL ANALYSIS'!$J$19,$Q198)","v":"'INTERNAL TOOL SETTINGS'!M:V"},{"$f":"CONCATENATE(\"'INTERNAL TOOL SETTINGS'!\",'CENTRAL ANALYSIS'!$I$20,$Q198,\":\",'CENTRAL ANALYSIS'!$J$20,$Q198)","v":"'INTERNAL TOOL SETTINGS'!W:AV"},{"$f":"CONCATENATE(\"'INTERNAL TOOL SETTINGS'!\",'CENTRAL ANALYSIS'!$I$21,$Q198,\":\",'CENTRAL ANALYSIS'!$J$21,$Q198)","v":"'INTERNAL TOOL SETTINGS'!AW:BT"},{"$f":"CONCATENATE(\"'INTERNAL TOOL SETTINGS'!\",'CENTRAL ANALYSIS'!$I$22,$Q198,\":\",'CENTRAL ANALYSIS'!$J$22,$Q198)","v":"'INTERNAL TOOL SETTINGS'!BU:CH"},{"$f":"CONCATENATE(\"'INTERNAL TOOL SETTINGS'!\",'CENTRAL ANALYSIS'!$I$23,$Q198,\":\",'CENTRAL ANALYSIS'!$J$23,$Q198)","v":"'INTERNAL TOOL SETTINGS'!CI:CK"}]
[1,"",null,null,null,{"$f":"IFERROR(IF(VLOOKUP(B199,'INTERNAL TOOL SETTINGS'!$A:$CM,2,FALSE)=TRUE,\"Yes\",\"No\"),\"\")","v":""},"None","None","None","None","None","None",{"$f":"IFERROR(IF(VLOOKUP(B199,'INTERNAL TOOL SETTINGS'!$A:$CM,90,FALSE)=TRUE,\"All\",\"None\"),\"\")","v":""},{"$f":"IFERROR(IF(VLOOKUP(B199,'INTERNAL TOOL SETTINGS'!$A:$CM,91,FALSE)=TRUE,\"All\",\"None\"),\"\")","v":""},null,null,{"$f":"IFERROR(MATCH(B199,'INTERNAL TOOL SETTINGS'!A:A,0),\"\")","v":""},null,null,null,null,null,{"$f":"IF('CENTRAL ANALYSIS'!$B$55>=19,1,0)","v":0},null,null,{"$f":"CONCATENATE(\"'INTERNAL TOOL SETTINGS'!\",'CENTRAL ANALYSIS'!$I$18,$Q199,\":\",'CENTRAL ANALYSIS'!$J$18,$Q199)","v":"'INTERNAL TOOL SETTINGS'!C:L"},{"$f":"CONCATENATE(\"'INTERNAL TOOL SETTINGS'!\",'CENTRAL ANALYSIS'!$I$19,$Q199,\":\",'CENTRAL ANALYSIS'!$J$19,$Q199)","v":"'INTERNAL TOOL SETTINGS'!M:V"},{"$f":"CONCATENATE(\"'INTERNAL TOOL SETTINGS'!\",'CENTRAL ANALYSIS'!$I$20,$Q199,\":\",'CENTRAL ANALYSIS'!$J$20,$Q199)","v":"'INTERNAL TOOL SETTINGS'!W:AV"},{"$f":"CONCATENATE(\"'INTERNAL TOOL SETTINGS'!\",'CENTRAL ANALYSIS'!$I$21,$Q199,\":\",'CENTRAL ANALYSIS'!$J$21,$Q199)","v":"'INTERNAL TOOL SETTINGS'!AW:BT"},{"$f":"CONCATENATE(\"'INTERNAL TOOL SETTINGS'!\",'CENTRAL ANALYSIS'!$I$22,$Q199,\":\",'CENTRAL ANALYSIS'!$J$22,$Q199)","v":"'INTERNAL TOOL SETTINGS'!BU:CH"},{"$f":"CONCATENATE(\"'INTERNAL TOOL SETTINGS'!\",'CENTRAL ANALYSIS'!$I$23,$Q199,\":\",'CENTRAL ANALYSIS'!$J$23,$Q199)","v":"'INTERNAL TOOL SETTINGS'!CI:CK"}]
[1,"",null,null,null,{"$f":"IFERROR(IF(VLOOKUP(B200,'INTERNAL TOOL SETTINGS'!$A:$CM,2,FALSE)=TRUE,\"Yes\",\"No\"),\"\")","v":""},"None","None","None","None","None","None",{"$f":"IFERROR(IF(VLOOKUP(B200,'INTERNAL TOOL SETTINGS'!$A:$CM,90,FALSE)=TRUE,\"All\",\"None\"),\"\")","v":""},{"$f":"IFERROR(IF(VLOOKUP(B200,'INTERNAL TOOL SETTINGS'!$A:$CM,91,FALSE)=TRUE,\"All\",\"None\"),\"\")","v":""},null,null,{"$f":"IFERROR(MATCH(B200,'INTERNAL TOOL SETTINGS'!A:A,0),\"\")","v":""},null,null,null,null,null,{"$f":"IF('CENTRAL ANALYSIS'!$B$55>=20,1,0)","v":0},null,null,{"$f":"CONCATENATE(\"'INTERNAL TOOL SETTINGS'!\",'CENTRAL ANALYSIS'!$I$18,$Q200,\":\",'CENTRAL ANALYSIS'!$J$18,$Q200)","v":"'INTERNAL TOOL SETTINGS'!C:L"},{"$f":"CONCATENATE(\"'INTERNAL TOOL SETTINGS'!\",'CENTRAL ANALYSIS'!$I$19,$Q200,\":\",'CENTRAL ANALYSIS'!$J$19,$Q200)","v":"'INTERNAL TOOL SETTINGS'!M:V"},{"$f":"CONCATENATE(\"'INTERNAL TOOL SETTINGS'!\",'CENTRAL ANALYSIS'!$I$20,$Q200,\":\",'CENTRAL ANALYSIS'!$J$20,$Q200)","v":"'INTERNAL TOOL SETTINGS'!W:AV"},{"$f":"CONCATENATE(\"'INTERNAL TOOL SETTINGS'!\",'CENTRAL ANALYSIS'!$I$21,$Q200,\":\",'CENTRAL ANALYSIS'!$J$21,$Q200)","v":"'INTERNAL TOOL SETTINGS'!AW:BT"},{"$f":"CONCATENATE(\"'INTERNAL TOOL SETTINGS'!\",'CENTRAL ANALYSIS'!$I$22,$Q200,\":\",'CENTRAL ANALYSIS'!$J$22,$Q200)","v":"'INTERNAL TOOL SETTINGS'!BU:CH"},{"$f":"CONCATENATE(\"'INTERNAL TOOL SETTINGS'!\",'CENTRAL ANALYSIS'!$I$23,$Q200,\":\",'CENTRAL ANALYSIS'!$J$23,$Q200)","v":"'INTERNAL TOOL SETTINGS'!CI:CK"}]
[null,null,null,null,null,null,null,null,null,null,null,null,null,null,null,null,null,null,null,null,null,null,1]
[null,null,null,null,null,null,null,null,null,null,null,null,null,null,null,null,null,null,null,null,null,null,1]
[null,null,null,null,null,null,null,null,null,null,null,null,null,null,null,null,null,null,null,null,null,null,0]

{"sheet":"INTERNAL PLAN REVIEW","index":4,"n_rows":429,"n_cols":23,"rows_kept":429,"cut":false,"hidden":true,"merged":[[392,1,396,3],[392,4,396,15],[397,1,401,3],[397,4,401,15],[402,1,406,3],[402,4,406,15],[407,1,411,3],[407,4,411,15],[412,1,416,3],[412,4,416,15],[367,1,371,3],[367,4,371,15],[372,1,376,3],[372,4,376,15],[377,1,381,3],[377,4,381,15],[382,1,386,3],[382,4,386,15],[387,1,391,3],[387,4,391,15],[342,1,346,3],[342,4,346,15],[347,1,351,3],[347,4,351,15],[352,1,356,3],[352,4,356,15],[357,1,361,3],[357,4,361,15],[362,1,366,3],[362,4,366,15],[317,1,321,3],[317,4,321,15],[322,1,326,3],[322,4,326,15],[327,1,331,3],[327,4,331,15],[332,1,336,3],[332,4,336,15],[337,1,341,3],[337,4,341,15],[294,1,298,3],[294,4,298,15],[299,1,303,3],[299,4,303,15],[304,1,308,3],[304,4,308,15],[309,1,313,3],[309,4,313,15],[315,1,316,12],[269,1,273,3],[269,4,273,15],[274,1,278,3],[274,4,278,15],[279,1,283,3],[279,4,283,15],[284,1,288,3],[284,4,288,15],[289,1,293,3],[289,4,293,15],[244,1,248,3],[244,4,248,15],[249,1,253,3],[249,4,253,15],[254,1,258,3],[254,4,258,15],[259,1,263,3],[259,4,263,15],[264,1,268,3],[264,4,268,15],[219,1,223,3],[219,4,223,15],[224,1,228,3],[224,4,228,15],[229,1,233,3],[229,4,233,15],[234,1,238,3],[234,4,238,15],[239,1,243,3],[239,4,243,15],[214,1,218,3],[214,4,218,15],[176,1,180,3],[176,4,180,15],[181,1,185,3],[181,4,185,15],[186,1,190,3],[186,4,190,15],[191,1,195,3],[191,4,195,15],[196,1,200,3],[196,4,200,15],[166,1,170,3],[166,4,170,15],[171,1,175,3],[171,4,175,15],[201,1,205,3],[201,4,205,15],[206,1,210,3],[206,4,210,15],[212,1,213,12],[141,1,145,3],[141,4,145,15],[146,1,150,3],[146,4,150,15],[151,1,155,3],[151,4,155,15],[156,1,160,3],[156,4,160,15],[161,1,165,3],[161,4,165,15],[84,10,84,12],[84,13,84,15],[111,4,115,15],[111,1,115,3],[109,1,110,12],[107,6,107,12],[103,1,105,15],[92,2,92,5],[93,2,93,5],[94,2,94,5],[89,2,89,5],[84,2,84,5],[85,2,85,5],[86,10,86,12],[86,13,86,15],[87,10,87,12],[87,13,87,15],[88,10,88,12],[88,13,88,15],[96,2,96,5],[97,2,97,5],[80,2,80,5],[81,2,81,5],[82,2,82,5],[90,2,90,5],[91,2,91,5],[86,2,86,5],[87,2,87,5],[88,2,88,5],[86,6,86,9],[87,6,87,9],[88,6,88,9],[89,6,89,9],[80,6,80,9],[83,6,83,9],[84,6,84,9],[83,2,83,5],[76,2,77,13],[78,2,78,5],[79,2,79,5],[72,2,72,5],[73,2,73,5],[74,2,74,5],[72,6,72,9],[72,10,72,12],[72,13,72,15],[73,6,73,9],[73,10,73,12],[73,13,73,15],[74,6,74,9],[74,10,74,12],[74,13,74,15],[78,6,78,9],[78,10,78,12],[78,13,78,15],[79,6,79,9],[79,10,79,12],[79,13,79,15],[69,2,69,5],[70,2,70,5],[71,2,71,5],[66,2,66,5],[67,2,67,5],[68,2,68,5],[68,6,68,9],[68,10,68,12],[68,13,68,15],[69,6,69,9],[69,10,69,12],[69,13,69,15],[70,6,70,9],[70,10,70,12],[70,13,70,15],[71,6,71,9],[71,10,71,12],[71,13,71,15],[66,6,66,9],[66,10,66,12],[66,13,66,15],[67,6,67,9],[67,10,67,12],[67,13,67,15],[63,2,63,5],[64,2,64,5],[65,2,65,5],[60,2,60,5],[61,2,61,5],[62,2,62,5],[61,6,61,9],[61,10,61,12],[61,13,61,15],[62,6,62,9],[62,10,62,12],[62,13,62,15],[63,6,63,9],[63,10,63,12],[63,13,63,15],[64,6,64,9],[64,10,64,12],[64,13,64,15],[60,6,60,9],[60,10,60,12],[60,13,60,15],[65,6,65,9],[65,10,65,12],[65,13,65,15],[57,2,57,5],[58,2,58,5],[59,2,59,5],[54,2,54,5],[55,2,55,5],[56,2,56,5],[54,6,54,9],[54,10,54,12],[54,13,54,15],[55,6,55,9],[55,10,55,12],[55,13,55,15],[56,6,56,9],[56,10,56,12],[56,13,56,15],[57,6,57,9],[57,10,57,12],[57,13,57,15],[58,6,58,9],[58,10,58,12],[58,13,58,15],[59,6,59,9],[59,10,59,12],[59,13,59,15],[49,2,49,5],[50,2,50,5],[52,2,53,13],[46,2,46,5],[47,2,47,5],[48,2,48,5],[43,2,43,5],[44,2,44,5],[45,2,45,5],[43,6,43,9],[43,10,43,12],[43,13,43,15],[44,6,44,9],[44,10,44,12],[44,13,44,15],[45,6,45,9],[45,10,45,12],[45,13,45,15],[46,6,46,9],[46,10,46,12],[46,13,46,15],[47,6,47,9],[47,10,47,12],[47,13,47,15],[40,2,40,5],[41,2,41,5],[42,2,42,5],[37,2,37,5],[38,2,38,5],[39,2,39,5],[34,2,34,5],[35,2,35,5],[36,2,36,5],[31,2,31,5],[32,2,32,5],[33,2,33,5],[5,1,7,15],[8,1,11,15],[28,2,29,13],[30,2,30,5],[30,10,30,12],[30,13,30,15],[31,13,31,15],[31,10,31,12],[31,6,31,9],[32,6,32,9],[32,10,32,12],[32,13,32,15],[33,6,33,9],[33,10,33,12],[33,13,33,15],[22,1,23,12],[22,13,23,15],[24,1,26,15],[30,6,30,9],[34,6,34,9],[34,10,34,12],[34,13,34,15],[35,6,35,9],[35,10,35,12],[35,13,35,15],[36,6,36,9],[36,10,36,12],[36,13,36,15],[37,6,37,9],[37,10,37,12],[37,13,37,15],[38,6,38,9],[38,10,38,12],[38,13,38,15],[39,6,39,9],[39,10,39,12],[39,13,39,15],[40,6,40,9],[40,10,40,12],[40,13,40,15],[41,6,41,9],[41,10,41,12],[41,13,41,15],[42,6,42,9],[42,10,42,12],[42,13,42,15],[48,6,48,9],[48,10,48,12],[48,13,48,15],[49,6,49,9],[49,10,49,12],[49,13,49,15],[50,6,50,9],[50,10,50,12],[50,13,50,15],[80,10,80,12],[80,13,80,15],[81,6,81,9],[81,10,81,12],[81,13,81,15],[82,6,82,9],[82,10,82,12],[82,13,82,15],[92,6,92,9],[92,10,92,12],[92,13,92,15],[89,10,89,12],[89,13,89,15],[90,6,90,9],[90,10,90,12],[90,13,90,15],[91,6,91,9],[91,10,91,12],[91,13,91,15],[85,6,85,9],[85,10,85,12],[85,13,85,15],[83,10,83,12],[83,13,83,15],[419,1,420,12],[419,13,420,15],[421,1,423,15],[98,6,98,9],[98,10,98,12],[98,13,98,15],[94,6,94,9],[94,10,94,12],[94,13,94,15],[95,6,95,9],[95,10,95,12],[95,13,95,15],[96,6,96,9],[96,10,96,12],[96,13,96,15],[101,1,102,15],[98,2,98,5],[95,2,95,5],[126,1,130,3],[126,4,130,15],[131,1,135,3],[131,4,135,15],[136,1,140,3],[136,4,140,15],[116,1,120,3],[116,4,120,15],[121,1,125,3],[121,4,125,15],[93,6,93,9],[93,10,93,12],[93,13,93,15],[97,6,97,9],[97,10,97,12],[97,13,97,15]]}
[null,null,null,null,null,null,null,null,null,null,null,null,null,null,null,null,null,null,null,null,null,null,1]
[null,null,null,null,null,null,null,null,null,null,null,null,null,null,null,null,null,null,null,null,null,null,1]
[null,null,null,null,null,null,null,null,null,null,null,null,null,null,null,null,null,null,null,null,null,null,1]
[null,null,null,null,null,null,null,null,null,null,null,null,null,null,null,null,null,null,null,null,null,null,1]
[null,null,null,null,null,null,null,null,null,null,null,null,null,null,null,null,null,null,null,null,null,null,1]
[null,"INTERNAL PLAN REVIEWS (FOR PROFILE)",null,null,null,null,null,null,null,null,null,null,null,null,null,null,null,null,null,null,null,null,1]
[null,null,null,null,null,null,null,null,null,null,null,null,null,null,null,null,null,null,null,null,null,null,1]
[null,null,null,null,null,null,null,null,null,null,null,null,null,null,null,null,null,null,null,null,null,null,1]
[null,"This tab is used to import and review information from the Sub-Agency, Internal Department, or Team Input Tool related to the Agency Profile. This tab provides a quick glance tracker to know which plans have been imported, the date they were imported, and whether the data is still within the template. Information pertaining to the Agency Profile can be easily viewed for comparison and completing the Agency Profile template.",null,null,null,null,null,null,null,null,null,null,null,null,null,null,null,null,null,null,null,null,1]
[null,null,null,null,null,null,null,null,null,null,null,null,null,null,null,null,null,null,null,null,null,null,1]
[null,null,null,null,null,null,null,null,null,null,null,null,null,null,null,null,null,null,null,null,null,null,1]
[null,null,null,null,null,null,null,null,null,null,null,null,null,null,null,null,null,null,null,null,null,null,1]
[null,null,null,null,null,null,null,null,null,null,null,null,null,null,null,null,null,null,null,null,null,null,1]
[null,null,null,null,null,null,null,null,null,null,null,null,null,null,null,null,null,null,null,null,null,null,1]
[null,null,null,null,null,null,null,null,null,null,null,null,null,null,null,null,null,null,null,null,null,null,1]
[null,null,null,null,null,null,null,null,null,null,null,null,null,null,null,null,null,null,null,null,null,null,1]
[null,null,null,null,null,null,null,null,null,null,null,null,null,null,null,null,null,null,null,null,null,null,1]
[null,null,null,null,null,null,null,null,null,null,null,null,null,null,null,null,null,null,null,null,null,null,1]
[null,null,null,null,null,null,null,null,null,null,null,null,null,null,null,null,null,null,null,null,null,null,1]
[null,null,null,null,null,null,null,null,null,null,null,null,null,null,null,null,null,null,null,null,null,null,1]
[null,null,null,null,null,null,null,null,null,null,null,null,null,null,null,null,null,null,null,null,null,null,1]
[null,null,null,null,null,null,null,null,null,null,null,null,null,null,null,null,null,null,null,null,null,null,1]
[null,"Step 1: Import the Internal Tool for each Respective Sub Agency, Department, or Team",null,null,null,null,null,null,null,null,null,null,null,null,null,null,null,null,null,null,null,null,1]
[null,null,null,null,null,null,null,null,null,null,null,null,null,null,null,null,null,null,null,null,null,null,1]
[null,"INSTRUCTIONS: To import the internal tool, click on the import data icon (white paper with green arrow) in section above outlined by the dotted line. Select the internal tool to import. After the data is imported, the import status, date, and data status will be updated to show which tools have been imported as a way to assist the Agency with tracking which internal plans have been imported.",null,null,null,null,null,null,null,null,null,null,null,null,null,null,null,null,null,null,null,null,1]
[null,null,null,null,null,null,null,null,null,null,null,null,null,null,null,null,null,null,null,null,null,null,1]
[null,null,null,null,null,null,null,null,null,null,null,null,null,null,null,null,null,null,null,null,null,null,1]
[null,null,null,null,null,null,null,null,null,null,null,null,null,null,null,null,null,null,null,null,null,null,1]
[null,null,"Sub Agencies",null,null,null,null,null,null,null,null,null,null,null,null,null,null,null,null,null,null,null,{"$f":"IF('CENTRAL ANALYSIS'!$B$53>=1,1,0)","v":0}]
[null,null,null,null,null,null,null,null,null,null,null,null,null,null,null,null,null,null,null,null,null,null,{"$f":"IF('CENTRAL ANALYSIS'!$B$53>=1,1,0)","v":0}]
[null,null,"Sub-Agency Name",null,null,null,"Current Import Status",null,null,null,"Last Imported Date",null,null,"Data In Template",null,null,null,null,null,null,null,null,{"$f":"IF('CENTRAL ANALYSIS'!$B$53>=1,1,0)","v":0}]
[null,null,{"$f":"IF('SUB AGENCY & INTERNAL TOOL'!C40=\"\",\"\",'SUB AGENCY & INTERNAL TOOL'!C40)","v":""},null,null,null,{"$f":"IFERROR(IF(HLOOKUP(C32,'IMPORTED DATA'!$X$13:$CE$324,311,FALSE)=\"imported\",\"Imported\",\"Not Imported\"),\"Not Imported\")","v":"Not Imported"},null,null,null,{"$f":"IFERROR(HLOOKUP(C32,'IMPORTED DATA'!$X$13:$CE$324,312,FALSE),\"\")","v":""},null,null,{"$f":"IF(AND('INTERNAL PLAN REVIEW'!G32=\"Imported\",COUNTIF('IMPORTED DATA'!$X$13:$CE$13,'INTERNAL PLAN REVIEW'!C32)=0),\"Cleared\",IF(AND('INTERNAL PLAN REVIEW'!G32=\"Imported\",COUNTIF('IMPORTED DATA'!$X$13:$CE$13,'INTERNAL PLAN REVIEW'!C32)>0),\"Data In Template\",\"No Data Imported\"))","v":"No Data Imported"},null,null,null,null,null,null,null,null,{"$f":"IF('CENTRAL ANALYSIS'!$B$53>=1,1,0)","v":0}]
[null,null,{"$f":"IF('SUB AGENCY & INTERNAL TOOL'!C41=\"\",\"\",'SUB AGENCY & INTERNAL TOOL'!C41)","v":""},null,null,null,{"$f":"IFERROR(IF(HLOOKUP(C33,'IMPORTED DATA'!$X$13:$CE$324,311,FALSE)=\"imported\",\"Imported\",\"Not Imported\"),\"Not Imported\")","v":"Not Imported"},null,null,null,{"$f":"IFERROR(HLOOKUP(C33,'IMPORTED DATA'!$X$13:$CE$324,312,FALSE),\"\")","v":""},null,null,{"$f":"IF(AND('INTERNAL PLAN REVIEW'!G33=\"Imported\",COUNTIF('IMPORTED DATA'!$X$13:$CE$13,'INTERNAL PLAN REVIEW'!C33)=0),\"Cleared\",IF(AND('INTERNAL PLAN REVIEW'!G33=\"Imported\",COUNTIF('IMPORTED DATA'!$X$13:$CE$13,'INTERNAL PLAN REVIEW'!C33)>0),\"Data In Template\",\"No Data Imported\"))","v":"No Data Imported"},null,null,null,null,null,null,null,null,{"$f":"IF('CENTRAL ANALYSIS'!$B$53>=2,1,0)","v":0}]
[null,null,{"$f":"IF('SUB AGENCY & INTERNAL TOOL'!C42=\"\",\"\",'SUB AGENCY & INTERNAL TOOL'!C42)","v":""},null,null,null,{"$f":"IFERROR(IF(HLOOKUP(C34,'IMPORTED DATA'!$X$13:$CE$324,311,FALSE)=\"imported\",\"Imported\",\"Not Imported\"),\"Not Imported\")","v":"Not Imported"},null,null,null,{"$f":"IFERROR(HLOOKUP(C34,'IMPORTED DATA'!$X$13:$CE$324,312,FALSE),\"\")","v":""},null,null,{"$f":"IF(AND('INTERNAL PLAN REVIEW'!G34=\"Imported\",COUNTIF('IMPORTED DATA'!$X$13:$CE$13,'INTERNAL PLAN REVIEW'!C34)=0),\"Cleared\",IF(AND('INTERNAL PLAN REVIEW'!G34=\"Imported\",COUNTIF('IMPORTED DATA'!$X$13:$CE$13,'INTERNAL PLAN REVIEW'!C34)>0),\"Data In Template\",\"No Data Imported\"))","v":"No Data Imported"},null,null,null,null,null,null,null,null,{"$f":"IF('CENTRAL ANALYSIS'!$B$53>=3,1,0)","v":0}]
[null,null,{"$f":"IF('SUB AGENCY & INTERNAL TOOL'!C43=\"\",\"\",'SUB AGENCY & INTERNAL TOOL'!C43)","v":""},null,null,null,{"$f":"IFERROR(IF(HLOOKUP(C35,'IMPORTED DATA'!$X$13:$CE$324,311,FALSE)=\"imported\",\"Imported\",\"Not Imported\"),\"Not Imported\")","v":"Not Imported"},null,null,null,{"$f":"IFERROR(HLOOKUP(C35,'IMPORTED DATA'!$X$13:$CE$324,312,FALSE),\"\")","v":""},null,null,{"$f":"IF(AND('INTERNAL PLAN REVIEW'!G35=\"Imported\",COUNTIF('IMPORTED DATA'!$X$13:$CE$13,'INTERNAL PLAN REVIEW'!C35)=0),\"Cleared\",IF(AND('INTERNAL PLAN REVIEW'!G35=\"Imported\",COUNTIF('IMPORTED DATA'!$X$13:$CE$13,'INTERNAL PLAN REVIEW'!C35)>0),\"Data In Template\",\"No Data Imported\"))","v":"No Data Imported"},null,null,null,null,null,null,null,null,{"$f":"IF('CENTRAL ANALYSIS'!$B$53>=4,1,0)","v":0}]
[null,null,{"$f":"IF('SUB AGENCY & INTERNAL TOOL'!C44=\"\",\"\",'SUB AGENCY & INTERNAL TOOL'!C44)","v":""},null,null,null,{"$f":"IFERROR(IF(HLOOKUP(C36,'IMPORTED DATA'!$X$13:$CE$324,311,FALSE)=\"imported\",\"Imported\",\"Not Imported\"),\"Not Imported\")","v":"Not Imported"},null,null,null,{"$f":"IFERROR(HLOOKUP(C36,'IMPORTED DATA'!$X$13:$CE$324,312,FALSE),\"\")","v":""},null,null,{"$f":"IF(AND('INTERNAL PLAN REVIEW'!G36=\"Imported\",COUNTIF('IMPORTED DATA'!$X$13:$CE$13,'INTERNAL PLAN REVIEW'!C36)=0),\"Cleared\",IF(AND('INTERNAL PLAN REVIEW'!G36=\"Imported\",COUNTIF('IMPORTED DATA'!$X$13:$CE$13,'INTERNAL PLAN REVIEW'!C36)>0),\"Data In Template\",\"No Data Imported\"))","v":"No Data Imported"},null,null,null,null,null,null,null,null,{"$f":"IF('CENTRAL ANALYSIS'!$B$53>=5,1,0)","v":0}]
[null,null,{"$f":"IF('SUB AGENCY & INTERNAL TOOL'!C45=\"\",\"\",'SUB AGENCY & INTERNAL TOOL'!C45)","v":""},null,null,null,{"$f":"IFERROR(IF(HLOOKUP(C37,'IMPORTED DATA'!$X$13:$CE$324,311,FALSE)=\"imported\",\"Imported\",\"Not Imported\"),\"Not Imported\")","v":"Not Imported"},null,null,null,{"$f":"IFERROR(HLOOKUP(C37,'IMPORTED DATA'!$X$13:$CE$324,312,FALSE),\"\")","v":""},null,null,{"$f":"IF(AND('INTERNAL PLAN REVIEW'!G37=\"Imported\",COUNTIF('IMPORTED DATA'!$X$13:$CE$13,'INTERNAL PLAN REVIEW'!C37)=0),\"Cleared\",IF(AND('INTERNAL PLAN REVIEW'!G37=\"Imported\",COUNTIF('IMPORTED DATA'!$X$13:$CE$13,'INTERNAL PLAN REVIEW'!C37)>0),\"Data In Template\",\"No Data Imported\"))","v":"No Data Imported"},null,null,null,null,null,null,null,null,{"$f":"IF('CENTRAL ANALYSIS'!$B$53>=6,1,0)","v":0}]
[null,null,{"$f":"IF('SUB AGENCY & INTERNAL TOOL'!C46=\"\",\"\",'SUB AGENCY & INTERNAL TOOL'!C46)","v":""},null,null,null,{"$f":"IFERROR(IF(HLOOKUP(C38,'IMPORTED DATA'!$X$13:$CE$324,311,FALSE)=\"imported\",\"Imported\",\"Not Imported\"),\"Not Imported\")","v":"Not Imported"},null,null,null,{"$f":"IFERROR(HLOOKUP(C38,'IMPORTED DATA'!$X$13:$CE$324,312,FALSE),\"\")","v":""},null,null,{"$f":"IF(AND('INTERNAL PLAN REVIEW'!G38=\"Imported\",COUNTIF('IMPORTED DATA'!$X$13:$CE$13,'INTERNAL PLAN REVIEW'!C38)=0),\"Cleared\",IF(AND('INTERNAL PLAN REVIEW'!G38=\"Imported\",COUNTIF('IMPORTED DATA'!$X$13:$CE$13,'INTERNAL PLAN REVIEW'!C38)>0),\"Data In Template\",\"No Data Imported\"))","v":"No Data Imported"},null,null,null,null,null,null,null,null,{"$f":"IF('CENTRAL ANALYSIS'!$B$53>=7,1,0)","v":0}]
[null,null,{"$f":"IF('SUB AGENCY & INTERNAL TOOL'!C47=\"\",\"\",'SUB AGENCY & INTERNAL TOOL'!C47)","v":""},null,null,null,{"$f":"IFERROR(IF(HLOOKUP(C39,'IMPORTED DATA'!$X$13:$CE$324,311,FALSE)=\"imported\",\"Imported\",\"Not Imported\"),\"Not Imported\")","v":"Not Imported"},null,null,null,{"$f":"IFERROR(HLOOKUP(C39,'IMPORTED DATA'!$X$13:$CE$324,312,FALSE),\"\")","v":""},null,null,{"$f":"IF(AND('INTERNAL PLAN REVIEW'!G39=\"Imported\",COUNTIF('IMPORTED DATA'!$X$13:$CE$13,'INTERNAL PLAN REVIEW'!C39)=0),\"Cleared\",IF(AND('INTERNAL PLAN REVIEW'!G39=\"Imported\",COUNTIF('IMPORTED DATA'!$X$13:$CE$13,'INTERNAL PLAN REVIEW'!C39)>0),\"Data In Template\",\"No Data Imported\"))","v":"No Data Imported"},null,null,null,null,null,null,null,null,{"$f":"IF('CENTRAL ANALYSIS'!$B$53>=8,1,0)","v":0}]
[null,null,{"$f":"IF('SUB AGENCY & INTERNAL TOOL'!C48=\"\",\"\",'SUB AGENCY & INTERNAL TOOL'!C48)","v":""},null,null,null,{"$f":"IFERROR(IF(HLOOKUP(C40,'IMPORTED DATA'!$X$13:$CE$324,311,FALSE)=\"imported\",\"Imported\",\"Not Imported\"),\"Not Imported\")","v":"Not Imported"},null,null,null,{"$f":"IFERROR(HLOOKUP(C40,'IMPORTED DATA'!$X$13:$CE$324,312,FALSE),\"\")","v":""},null,null,{"$f":"IF(AND('INTERNAL PLAN REVIEW'!G40=\"Imported\",COUNTIF('IMPORTED DATA'!$X$13:$CE$13,'INTERNAL PLAN REVIEW'!C40)=0),\"Cleared\",IF(AND('INTERNAL PLAN REVIEW'!G40=\"Imported\",COUNTIF('IMPORTED DATA'!$X$13:$CE$13,'INTERNAL PLAN REVIEW'!C40)>0),\"Data In Template\",\"No Data Imported\"))","v":"No Data Imported"},null,null,null,null,null,null,null,null,{"$f":"IF('CENTRAL ANALYSIS'!$B$53>=9,1,0)","v":0}]
[null,null,{"$f":"IF('SUB AGENCY & INTERNAL TOOL'!C49=\"\",\"\",'SUB AGENCY & INTERNAL TOOL'!C49)","v":""},null,null,null,{"$f":"IFERROR(IF(HLOOKUP(C41,'IMPORTED DATA'!$X$13:$CE$324,311,FALSE)=\"imported\",\"Imported\",\"Not Imported\"),\"Not Imported\")","v":"Not Imported"},null,null,null,{"$f":"IFERROR(HLOOKUP(C41,'IMPORTED DATA'!$X$13:$CE$324,312,FALSE),\"\")","v":""},null,null,{"$f":"IF(AND('INTERNAL PLAN REVIEW'!G41=\"Imported\",COUNTIF('IMPORTED DATA'!$X$13:$CE$13,'INTERNAL PLAN REVIEW'!C41)=0),\"Cleared\",IF(AND('INTERNAL PLAN REVIEW'!G41=\"Imported\",COUNTIF('IMPORTED DATA'!$X$13:$CE$13,'INTERNAL PLAN REVIEW'!C41)>0),\"Data In Template\",\"No Data Imported\"))","v":"No Data Imported"},null,null,null,null,null,null,null,null,{"$f":"IF('CENTRAL ANALYSIS'!$B$53>=10,1,0)","v":0}]
[null,null,{"$f":"IF('SUB AGENCY & INTERNAL TOOL'!C50=\"\",\"\",'SUB AGENCY & INTERNAL TOOL'!C50)","v":""},null,null,null,{"$f":"IFERROR(IF(HLOOKUP(C42,'IMPORTED DATA'!$X$13:$CE$324,311,FALSE)=\"imported\",\"Imported\",\"Not Imported\"),\"Not Imported\")","v":"Not Imported"},null,null,null,{"$f":"IFERROR(HLOOKUP(C42,'IMPORTED DATA'!$X$13:$CE$324,312,FALSE),\"\")","v":""},null,null,{"$f":"IF(AND('INTERNAL PLAN REVIEW'!G42=\"Imported\",COUNTIF('IMPORTED DATA'!$X$13:$CE$13,'INTERNAL PLAN REVIEW'!C42)=0),\"Cleared\",IF(AND('INTERNAL PLAN REVIEW'!G42=\"Imported\",COUNTIF('IMPORTED DATA'!$X$13:$CE$13,'INTERNAL PLAN REVIEW'!C42)>0),\"Data In Template\",\"No Data Imported\"))","v":"No Data Imported"},null,null,null,null,null,null,null,null,{"$f":"IF('CENTRAL ANALYSIS'!$B$53>=11,1,0)","v":0}]
[null,null,{"$f":"IF('SUB AGENCY & INTERNAL TOOL'!C51=\"\",\"\",'SUB AGENCY & INTERNAL TOOL'!C51)","v":""},null,null,null,{"$f":"IFERROR(IF(HLOOKUP(C43,'IMPORTED DATA'!$X$13:$CE$324,311,FALSE)=\"imported\",\"Imported\",\"Not Imported\"),\"Not Imported\")","v":"Not Imported"},null,null,null,{"$f":"IFERROR(HLOOKUP(C43,'IMPORTED DATA'!$X$13:$CE$324,312,FALSE),\"\")","v":""},null,null,{"$f":"IF(AND('INTERNAL PLAN REVIEW'!G43=\"Imported\",COUNTIF('IMPORTED DATA'!$X$13:$CE$13,'INTERNAL PLAN REVIEW'!C43)=0),\"Cleared\",IF(AND('INTERNAL PLAN REVIEW'!G43=\"Imported\",COUNTIF('IMPORTED DATA'!$X$13:$CE$13,'INTERNAL PLAN REVIEW'!C43)>0),\"Data In Template\",\"No Data Imported\"))","v":"No Data Imported"},null,null,null,null,null,null,null,null,{"$f":"IF('CENTRAL ANALYSIS'!$B$53>=12,1,0)","v":0}]
[null,null,{"$f":"IF('SUB AGENCY & INTERNAL TOOL'!C52=\"\",\"\",'SUB AGENCY & INTERNAL TOOL'!C52)","v":""},null,null,null,{"$f":"IFERROR(IF(HLOOKUP(C44,'IMPORTED DATA'!$X$13:$CE$324,311,FALSE)=\"imported\",\"Imported\",\"Not Imported\"),\"Not Imported\")","v":"Not Imported"},null,null,null,{"$f":"IFERROR(HLOOKUP(C44,'IMPORTED DATA'!$X$13:$CE$324,312,FALSE),\"\")","v":""},null,null,{"$f":"IF(AND('INTERNAL PLAN REVIEW'!G44=\"Imported\",COUNTIF('IMPORTED DATA'!$X$13:$CE$13,'INTERNAL PLAN REVIEW'!C44)=0),\"Cleared\",IF(AND('INTERNAL PLAN REVIEW'!G44=\"Imported\",COUNTIF('IMPORTED DATA'!$X$13:$CE$13,'INTERNAL PLAN REVIEW'!C44)>0),\"Data In Template\",\"No Data Imported\"))","v":"No Data Imported"},null,null,null,null,null,null,null,null,{"$f":"IF('CENTRAL ANALYSIS'!$B$53>=13,1,0)","v":0}]
[null,null,{"$f":"IF('SUB AGENCY & INTERNAL TOOL'!C53=\"\",\"\",'SUB AGENCY & INTERNAL TOOL'!C53)","v":""},null,null,null,{"$f":"IFERROR(IF(HLOOKUP(C45,'IMPORTED DATA'!$X$13:$CE$324,311,FALSE)=\"imported\",\"Imported\",\"Not Imported\"),\"Not Imported\")","v":"Not Imported"},null,null,null,{"$f":"IFERROR(HLOOKUP(C45,'IMPORTED DATA'!$X$13:$CE$324,312,FALSE),\"\")","v":""},null,null,{"$f":"IF(AND('INTERNAL PLAN REVIEW'!G45=\"Imported\",COUNTIF('IMPORTED DATA'!$X$13:$CE$13,'INTERNAL PLAN REVIEW'!C45)=0),\"Cleared\",IF(AND('INTERNAL PLAN REVIEW'!G45=\"Imported\",COUNTIF('IMPORTED DATA'!$X$13:$CE$13,'INTERNAL PLAN REVIEW'!C45)>0),\"Data In Template\",\"No Data Imported\"))","v":"No Data Imported"},null,null,null,null,null,null,null,null,{"$f":"IF('CENTRAL ANALYSIS'!$B$53>=14,1,0)","v":0}]
[null,null,{"$f":"IF('SUB AGENCY & INTERNAL TOOL'!C54=\"\",\"\",'SUB AGENCY & INTERNAL TOOL'!C54)","v":""},null,null,null,{"$f":"IFERROR(IF(HLOOKUP(C46,'IMPORTED DATA'!$X$13:$CE$324,311,FALSE)=\"imported\",\"Imported\",\"Not Imported\"),\"Not Imported\")","v":"Not Imported"},null,null,null,{"$f":"IFERROR(HLOOKUP(C46,'IMPORTED DATA'!$X$13:$CE$324,312,FALSE),\"\")","v":""},null,null,{"$f":"IF(AND('INTERNAL PLAN REVIEW'!G46=\"Imported\",COUNTIF('IMPORTED DATA'!$X$13:$CE$13,'INTERNAL PLAN REVIEW'!C46)=0),\"Cleared\",IF(AND('INTERNAL PLAN REVIEW'!G46=\"Imported\",COUNTIF('IMPORTED DATA'!$X$13:$CE$13,'INTERNAL PLAN REVIEW'!C46)>0),\"Data In Template\",\"No Data Imported\"))","v":"No Data Imported"},null,null,null,null,null,null,null,null,{"$f":"IF('CENTRAL ANALYSIS'!$B$53>=15,1,0)","v":0}]
[null,null,{"$f":"IF('SUB AGENCY & INTERNAL TOOL'!C55=\"\",\"\",'SUB AGENCY & INTERNAL TOOL'!C55)","v":""},null,null,null,{"$f":"IFERROR(IF(HLOOKUP(C47,'IMPORTED DATA'!$X$13:$CE$324,311,FALSE)=\"imported\",\"Imported\",\"Not Imported\"),\"Not Imported\")","v":"Not Imported"},null,null,null,{"$f":"IFERROR(HLOOKUP(C47,'IMPORTED DATA'!$X$13:$CE$324,312,FALSE),\"\")","v":""},null,null,{"$f":"IF(AND('INTERNAL PLAN REVIEW'!G47=\"Imported\",COUNTIF('IMPORTED DATA'!$X$13:$CE$13,'INTERNAL PLAN REVIEW'!C47)=0),\"Cleared\",IF(AND('INTERNAL PLAN REVIEW'!G47=\"Imported\",COUNTIF('IMPORTED DATA'!$X$13:$CE$13,'INTERNAL PLAN REVIEW'!C47)>0),\"Data In Template\",\"No Data Imported\"))","v":"No Data Imported"},null,null,null,null,null,null,null,null,{"$f":"IF('CENTRAL ANALYSIS'!$B$53>=16,1,0)","v":0}]
[null,null,{"$f":"IF('SUB AGENCY & INTERNAL TOOL'!C56=\"\",\"\",'SUB AGENCY & INTERNAL TOOL'!C56)","v":""},null,null,null,{"$f":"IFERROR(IF(HLOOKUP(C48,'IMPORTED DATA'!$X$13:$CE$324,311,FALSE)=\"imported\",\"Imported\",\"Not Imported\"),\"Not Imported\")","v":"Not Imported"},null,null,null,{"$f":"IFERROR(HLOOKUP(C48,'IMPORTED DATA'!$X$13:$CE$324,312,FALSE),\"\")","v":""},null,null,{"$f":"IF(AND('INTERNAL PLAN REVIEW'!G48=\"Imported\",COUNTIF('IMPORTED DATA'!$X$13:$CE$13,'INTERNAL PLAN REVIEW'!C48)=0),\"Cleared\",IF(AND('INTERNAL PLAN REVIEW'!G48=\"Imported\",COUNTIF('IMPORTED DATA'!$X$13:$CE$13,'INTERNAL PLAN REVIEW'!C48)>0),\"Data In Template\",\"No Data Imported\"))","v":"No Data Imported"},null,null,null,null,null,null,null,null,{"$f":"IF('CENTRAL ANALYSIS'!$B$53>=17,1,0)","v":0}]
[null,null,{"$f":"IF('SUB AGENCY & INTERNAL TOOL'!C57=\"\",\"\",'SUB AGENCY & INTERNAL TOOL'!C57)","v":""},null,null,null,{"$f":"IFERROR(IF(HLOOKUP(C49,'IMPORTED DATA'!$X$13:$CE$324,311,FALSE)=\"imported\",\"Imported\",\"Not Imported\"),\"Not Imported\")","v":"Not Imported"},null,null,null,{"$f":"IFERROR(HLOOKUP(C49,'IMPORTED DATA'!$X$13:$CE$324,312,FALSE),\"\")","v":""},null,null,{"$f":"IF(AND('INTERNAL PLAN REVIEW'!G49=\"Imported\",COUNTIF('IMPORTED DATA'!$X$13:$CE$13,'INTERNAL PLAN REVIEW'!C49)=0),\"Cleared\",IF(AND('INTERNAL PLAN REVIEW'!G49=\"Imported\",COUNTIF('IMPORTED DATA'!$X$13:$CE$13,'INTERNAL PLAN REVIEW'!C49)>0),\"Data In Template\",\"No Data Imported\"))","v":"No Data Imported"},null,null,null,null,null,null,null,null,{"$f":"IF('CENTRAL ANALYSIS'!$B$53>=18,1,0)","v":0}]
[null,null,{"$f":"IF('SUB AGENCY & INTERNAL TOOL'!C58=\"\",\"\",'SUB AGENCY & INTERNAL TOOL'!C58)","v":""},null,null,null,{"$f":"IFERROR(IF(HLOOKUP(C50,'IMPORTED DATA'!$X$13:$CE$324,311,FALSE)=\"imported\",\"Imported\",\"Not Imported\"),\"Not Imported\")","v":"Not Imported"},null,null,null,{"$f":"IFERROR(HLOOKUP(C50,'IMPORTED DATA'!$X$13:$CE$324,312,FALSE),\"\")","v":""},null,null,{"$f":"IF(AND('INTERNAL PLAN REVIEW'!G50=\"Imported\",COUNTIF('IMPORTED DATA'!$X$13:$CE$13,'INTERNAL PLAN REVIEW'!C50)=0),\"Cleared\",IF(AND('INTERNAL PLAN REVIEW'!G50=\"Imported\",COUNTIF('IMPORTED DATA'!$X$13:$CE$13,'INTERNAL PLAN REVIEW'!C50)>0),\"Data In Template\",\"No Data Imported\"))","v":"No Data Imported"},null,null,null,null,null,null,null,null,{"$f":"IF('CENTRAL ANALYSIS'!$B$53>=19,1,0)","v":0}]
[null,null,{"$f":"IF('SUB AGENCY & INTERNAL TOOL'!C59=\"\",\"\",'SUB AGENCY & INTERNAL TOOL'!C59)","v":""},null,null,null,{"$f":"IFERROR(IF(HLOOKUP(C51,'IMPORTED DATA'!$X$13:$CE$324,311,FALSE)=\"imported\",\"Imported\",\"Not Imported\"),\"Not Imported\")","v":"Not Imported"},null,null,null,{"$f":"IFERROR(HLOOKUP(C51,'IMPORTED DATA'!$X$13:$CE$324,312,FALSE),\"\")","v":""},null,null,{"$f":"IF(AND('INTERNAL PLAN REVIEW'!G51=\"Imported\",COUNTIF('IMPORTED DATA'!$X$13:$CE$13,'INTERNAL PLAN REVIEW'!C51)=0),\"Cleared\",IF(AND('INTERNAL PLAN REVIEW'!G51=\"Imported\",COUNTIF('IMPORTED DATA'!$X$13:$CE$13,'INTERNAL PLAN REVIEW'!C51)>0),\"Data In Template\",\"No Data Imported\"))","v":"No Data Imported"},null,null,null,null,null,null,null,null,{"$f":"IF('CENTRAL ANALYSIS'!$B$53>=20,1,0)","v":0}]
[null,null,null,null,null,null,null,null,null,null,null,null,null,null,null,null,null,null,null,null,null,null,{"$f":"IF(SUM(W29:W51)>0,1,0)","v":0}]
[null,null,"Internal Departments",null,null,null,null,null,null,null,null,null,null,null,null,null,null,null,null,null,null,null,{"$f":"IF('CENTRAL ANALYSIS'!$B$54>=1,1,0)","v":0}]
[null,null,null,null,null,null,null,null,null,null,null,null,null,null,null,null,null,null,null,null,null,null,{"$f":"IF('CENTRAL ANALYSIS'!$B$54>=1,1,0)","v":0}]
[null,null,"Department Name",null,null,null,"Current Import Status",null,null,null,"Last Imported Date",null,null,"Data In Template",null,null,null,null,null,null,null,null,{"$f":"IF('CENTRAL ANALYSIS'!$B$54>=1,1,0)","v":0}]
[null,null,{"$f":"IF('SUB AGENCY & INTERNAL TOOL'!C64=\"\",\"\",'SUB AGENCY & INTERNAL TOOL'!C64)","v":""},null,null,null,{"$f":"IFERROR(IF(HLOOKUP(C56,'IMPORTED DATA'!$X$13:$CE$324,311,FALSE)=\"imported\",\"Imported\",\"Not Imported\"),\"Not Imported\")","v":"Not Imported"},null,null,null,{"$f":"IFERROR(HLOOKUP(C56,'IMPORTED DATA'!$X$13:$CE$324,312,FALSE),\"\")","v":""},null,null,{"$f":"IF(AND('INTERNAL PLAN REVIEW'!G56=\"Imported\",COUNTIF('IMPORTED DATA'!$X$13:$CE$13,'INTERNAL PLAN REVIEW'!C56)=0),\"Cleared\",IF(AND('INTERNAL PLAN REVIEW'!G56=\"Imported\",COUNTIF('IMPORTED DATA'!$X$13:$CE$13,'INTERNAL PLAN REVIEW'!C56)>0),\"Data In Template\",\"No Data Imported\"))","v":"No Data Imported"},null,null,null,null,null,null,null,null,{"$f":"IF('CENTRAL ANALYSIS'!$B$54>=1,1,0)","v":0}]
[null,null,{"$f":"IF('SUB AGENCY & INTERNAL TOOL'!C65=\"\",\"\",'SUB AGENCY & INTERNAL TOOL'!C65)","v":""},null,null,null,{"$f":"IFERROR(IF(HLOOKUP(C57,'IMPORTED DATA'!$X$13:$CE$324,311,FALSE)=\"imported\",\"Imported\",\"Not Imported\"),\"Not Imported\")","v":"Not Imported"},null,null,null,{"$f":"IFERROR(HLOOKUP(C57,'IMPORTED DATA'!$X$13:$CE$324,312,FALSE),\"\")","v":""},null,null,{"$f":"IF(AND('INTERNAL PLAN REVIEW'!G57=\"Imported\",COUNTIF('IMPORTED DATA'!$X$13:$CE$13,'INTERNAL PLAN REVIEW'!C57)=0),\"Cleared\",IF(AND('INTERNAL PLAN REVIEW'!G57=\"Imported\",COUNTIF('IMPORTED DATA'!$X$13:$CE$13,'INTERNAL PLAN REVIEW'!C57)>0),\"Data In Template\",\"No Data Imported\"))","v":"No Data Imported"},null,null,null,null,null,null,null,null,{"$f":"IF('CENTRAL ANALYSIS'!$B$54>=2,1,0)","v":0}]
[null,null,{"$f":"IF('SUB AGENCY & INTERNAL TOOL'!C66=\"\",\"\",'SUB AGENCY & INTERNAL TOOL'!C66)","v":""},null,null,null,{"$f":"IFERROR(IF(HLOOKUP(C58,'IMPORTED DATA'!$X$13:$CE$324,311,FALSE)=\"imported\",\"Imported\",\"Not Imported\"),\"Not Imported\")","v":"Not Imported"},null,null,null,{"$f":"IFERROR(HLOOKUP(C58,'IMPORTED DATA'!$X$13:$CE$324,312,FALSE),\"\")","v":""},null,null,{"$f":"IF(AND('INTERNAL PLAN REVIEW'!G58=\"Imported\",COUNTIF('IMPORTED DATA'!$X$13:$CE$13,'INTERNAL PLAN REVIEW'!C58)=0),\"Cleared\",IF(AND('INTERNAL PLAN REVIEW'!G58=\"Imported\",COUNTIF('IMPORTED DATA'!$X$13:$CE$13,'INTERNAL PLAN REVIEW'!C58)>0),\"Data In Template\",\"No Data Imported\"))","v":"No Data Imported"},null,null,null,null,null,null,null,null,{"$f":"IF('CENTRAL ANALYSIS'!$B$54>=3,1,0)","v":0}]
[null,null,{"$f":"IF('SUB AGENCY & INTERNAL TOOL'!C67=\"\",\"\",'SUB AGENCY & INTERNAL TOOL'!C67)","v":""},null,null,null,{"$f":"IFERROR(IF(HLOOKUP(C59,'IMPORTED DATA'!$X$13:$CE$324,311,FALSE)=\"imported\",\"Imported\",\"Not Imported\"),\"Not Imported\")","v":"Not Imported"},null,null,null,{"$f":"IFERROR(HLOOKUP(C59,'IMPORTED DATA'!$X$13:$CE$324,312,FALSE),\"\")","v":""},null,null,{"$f":"IF(AND('INTERNAL PLAN REVIEW'!G59=\"Imported\",COUNTIF('IMPORTED DATA'!$X$13:$CE$13,'INTERNAL PLAN REVIEW'!C59)=0),\"Cleared\",IF(AND('INTERNAL PLAN REVIEW'!G59=\"Imported\",COUNTIF('IMPORTED DATA'!$X$13:$CE$13,'INTERNAL PLAN REVIEW'!C59)>0),\"Data In Template\",\"No Data Imported\"))","v":"No Data Imported"},null,null,null,null,null,null,null,null,{"$f":"IF('CENTRAL ANALYSIS'!$B$54>=4,1,0)","v":0}]
[null,null,{"$f":"IF('SUB AGENCY & INTERNAL TOOL'!C68=\"\",\"\",'SUB AGENCY & INTERNAL TOOL'!C68)","v":""},null,null,null,{"$f":"IFERROR(IF(HLOOKUP(C60,'IMPORTED DATA'!$X$13:$CE$324,311,FALSE)=\"imported\",\"Imported\",\"Not Imported\"),\"Not Imported\")","v":"Not Imported"},null,null,null,{"$f":"IFERROR(HLOOKUP(C60,'IMPORTED DATA'!$X$13:$CE$324,312,FALSE),\"\")","v":""},null,null,{"$f":"IF(AND('INTERNAL PLAN REVIEW'!G60=\"Imported\",COUNTIF('IMPORTED DATA'!$X$13:$CE$13,'INTERNAL PLAN REVIEW'!C60)=0),\"Cleared\",IF(AND('INTERNAL PLAN REVIEW'!G60=\"Imported\",COUNTIF('IMPORTED DATA'!$X$13:$CE$13,'INTERNAL PLAN REVIEW'!C60)>0),\"Data In Template\",\"No Data Imported\"))","v":"No Data Imported"},null,null,null,null,null,null,null,null,{"$f":"IF('CENTRAL ANALYSIS'!$B$54>=5,1,0)","v":0}]
[null,null,{"$f":"IF('SUB AGENCY & INTERNAL TOOL'!C69=\"\",\"\",'SUB AGENCY & INTERNAL TOOL'!C69)","v":""},null,null,null,{"$f":"IFERROR(IF(HLOOKUP(C61,'IMPORTED DATA'!$X$13:$CE$324,311,FALSE)=\"imported\",\"Imported\",\"Not Imported\"),\"Not Imported\")","v":"Not Imported"},null,null,null,{"$f":"IFERROR(HLOOKUP(C61,'IMPORTED DATA'!$X$13:$CE$324,312,FALSE),\"\")","v":""},null,null,{"$f":"IF(AND('INTERNAL PLAN REVIEW'!G61=\"Imported\",COUNTIF('IMPORTED DATA'!$X$13:$CE$13,'INTERNAL PLAN REVIEW'!C61)=0),\"Cleared\",IF(AND('INTERNAL PLAN REVIEW'!G61=\"Imported\",COUNTIF('IMPORTED DATA'!$X$13:$CE$13,'INTERNAL PLAN REVIEW'!C61)>0),\"Data In Template\",\"No Data Imported\"))","v":"No Data Imported"},null,null,null,null,null,null,null,null,{"$f":"IF('CENTRAL ANALYSIS'!$B$54>=6,1,0)","v":0}]
[null,null,{"$f":"IF('SUB AGENCY & INTERNAL TOOL'!C70=\"\",\"\",'SUB AGENCY & INTERNAL TOOL'!C70)","v":""},null,null,null,{"$f":"IFERROR(IF(HLOOKUP(C62,'IMPORTED DATA'!$X$13:$CE$324,311,FALSE)=\"imported\",\"Imported\",\"Not Imported\"),\"Not Imported\")","v":"Not Imported"},null,null,null,{"$f":"IFERROR(HLOOKUP(C62,'IMPORTED DATA'!$X$13:$CE$324,312,FALSE),\"\")","v":""},null,null,{"$f":"IF(AND('INTERNAL PLAN REVIEW'!G62=\"Imported\",COUNTIF('IMPORTED DATA'!$X$13:$CE$13,'INTERNAL PLAN REVIEW'!C62)=0),\"Cleared\",IF(AND('INTERNAL PLAN REVIEW'!G62=\"Imported\",COUNTIF('IMPORTED DATA'!$X$13:$CE$13,'INTERNAL PLAN REVIEW'!C62)>0),\"Data In Template\",\"No Data Imported\"))","v":"No Data Imported"},null,null,null,null,null,null,null,null,{"$f":"IF('CENTRAL ANALYSIS'!$B$54>=7,1,0)","v":0}]
[null,null,{"$f":"IF('SUB AGENCY & INTERNAL TOOL'!C71=\"\",\"\",'SUB AGENCY & INTERNAL TOOL'!C71)","v":""},null,null,null,{"$f":"IFERROR(IF(HLOOKUP(C63,'IMPORTED DATA'!$X$13:$CE$324,311,FALSE)=\"imported\",\"Imported\",\"Not Imported\"),\"Not Imported\")","v":"Not Imported"},null,null,null,{"$f":"IFERROR(HLOOKUP(C63,'IMPORTED DATA'!$X$13:$CE$324,312,FALSE),\"\")","v":""},null,null,{"$f":"IF(AND('INTERNAL PLAN REVIEW'!G63=\"Imported\",COUNTIF('IMPORTED DATA'!$X$13:$CE$13,'INTERNAL PLAN REVIEW'!C63)=0),\"Cleared\",IF(AND('INTERNAL PLAN REVIEW'!G63=\"Imported\",COUNTIF('IMPORTED DATA'!$X$13:$CE$13,'INTERNAL PLAN REVIEW'!C63)>0),\"Data In Template\",\"No Data Imported\"))","v":"No Data Imported"},null,null,null,null,null,null,null,null,{"$f":"IF('CENTRAL ANALYSIS'!$B$54>=8,1,0)","v":0}]
[null,null,{"$f":"IF('SUB AGENCY & INTERNAL TOOL'!C72=\"\",\"\",'SUB AGENCY & INTERNAL TOOL'!C72)","v":""},null,null,null,{"$f":"IFERROR(IF(HLOOKUP(C64,'IMPORTED DATA'!$X$13:$CE$324,311,FALSE)=\"imported\",\"Imported\",\"Not Imported\"),\"Not Imported\")","v":"Not Imported"},null,null,null,{"$f":"IFERROR(HLOOKUP(C64,'IMPORTED DATA'!$X$13:$CE$324,312,FALSE),\"\")","v":""},null,null,{"$f":"IF(AND('INTERNAL PLAN REVIEW'!G64=\"Imported\",COUNTIF('IMPORTED DATA'!$X$13:$CE$13,'INTERNAL PLAN REVIEW'!C64)=0),\"Cleared\",IF(AND('INTERNAL PLAN REVIEW'!G64=\"Imported\",COUNTIF('IMPORTED DATA'!$X$13:$CE$13,'INTERNAL PLAN REVIEW'!C64)>0),\"Data In Template\",\"No Data Imported\"))","v":"No Data Imported"},null,null,null,null,null,null,null,null,{"$f":"IF('CENTRAL ANALYSIS'!$B$54>=9,1,0)","v":0}]
[null,null,{"$f":"IF('SUB AGENCY & INTERNAL TOOL'!C73=\"\",\"\",'SUB AGENCY & INTERNAL TOOL'!C73)","v":""},null,null,null,{"$f":"IFERROR(IF(HLOOKUP(C65,'IMPORTED DATA'!$X$13:$CE$324,311,FALSE)=\"imported\",\"Imported\",\"Not Imported\"),\"Not Imported\")","v":"Not Imported"},null,null,null,{"$f":"IFERROR(HLOOKUP(C65,'IMPORTED DATA'!$X$13:$CE$324,312,FALSE),\"\")","v":""},null,null,{"$f":"IF(AND('INTERNAL PLAN REVIEW'!G65=\"Imported\",COUNTIF('IMPORTED DATA'!$X$13:$CE$13,'INTERNAL PLAN REVIEW'!C65)=0),\"Cleared\",IF(AND('INTERNAL PLAN REVIEW'!G65=\"Imported\",COUNTIF('IMPORTED DATA'!$X$13:$CE$13,'INTERNAL PLAN REVIEW'!C65)>0),\"Data In Template\",\"No Data Imported\"))","v":"No Data Imported"},null,null,null,null,null,null,null,null,{"$f":"IF('CENTRAL ANALYSIS'!$B$54>=10,1,0)","v":0}]
[null,null,{"$f":"IF('SUB AGENCY & INTERNAL TOOL'!C74=\"\",\"\",'SUB AGENCY & INTERNAL TOOL'!C74)","v":""},null,null,null,{"$f":"IFERROR(IF(HLOOKUP(C66,'IMPORTED DATA'!$X$13:$CE$324,311,FALSE)=\"imported\",\"Imported\",\"Not Imported\"),\"Not Imported\")","v":"Not Imported"},null,null,null,{"$f":"IFERROR(HLOOKUP(C66,'IMPORTED DATA'!$X$13:$CE$324,312,FALSE),\"\")","v":""},null,null,{"$f":"IF(AND('INTERNAL PLAN REVIEW'!G66=\"Imported\",COUNTIF('IMPORTED DATA'!$X$13:$CE$13,'INTERNAL PLAN REVIEW'!C66)=0),\"Cleared\",IF(AND('INTERNAL PLAN REVIEW'!G66=\"Imported\",COUNTIF('IMPORTED DATA'!$X$13:$CE$13,'INTERNAL PLAN REVIEW'!C66)>0),\"Data In Template\",\"No Data Imported\"))","v":"No Data Imported"},null,null,null,null,null,null,null,null,{"$f":"IF('CENTRAL ANALYSIS'!$B$54>=11,1,0)","v":0}]
[null,null,{"$f":"IF('SUB AGENCY & INTERNAL TOOL'!C75=\"\",\"\",'SUB AGENCY & INTERNAL TOOL'!C75)","v":""},null,null,null,{"$f":"IFERROR(IF(HLOOKUP(C67,'IMPORTED DATA'!$X$13:$CE$324,311,FALSE)=\"imported\",\"Imported\",\"Not Imported\"),\"Not Imported\")","v":"Not Imported"},null,null,null,{"$f":"IFERROR(HLOOKUP(C67,'IMPORTED DATA'!$X$13:$CE$324,312,FALSE),\"\")","v":""},null,null,{"$f":"IF(AND('INTERNAL PLAN REVIEW'!G67=\"Imported\",COUNTIF('IMPORTED DATA'!$X$13:$CE$13,'INTERNAL PLAN REVIEW'!C67)=0),\"Cleared\",IF(AND('INTERNAL PLAN REVIEW'!G67=\"Imported\",COUNTIF('IMPORTED DATA'!$X$13:$CE$13,'INTERNAL PLAN REVIEW'!C67)>0),\"Data In Template\",\"No Data Imported\"))","v":"No Data Imported"},null,null,null,null,null,null,null,null,{"$f":"IF('CENTRAL ANALYSIS'!$B$54>=12,1,0)","v":0}]
[null,null,{"$f":"IF('SUB AGENCY & INTERNAL TOOL'!C76=\"\",\"\",'SUB AGENCY & INTERNAL TOOL'!C76)","v":""},null,null,null,{"$f":"IFERROR(IF(HLOOKUP(C68,'IMPORTED DATA'!$X$13:$CE$324,311,FALSE)=\"imported\",\"Imported\",\"Not Imported\"),\"Not Imported\")","v":"Not Imported"},null,null,null,{"$f":"IFERROR(HLOOKUP(C68,'IMPORTED DATA'!$X$13:$CE$324,312,FALSE),\"\")","v":""},null,null,{"$f":"IF(AND('INTERNAL PLAN REVIEW'!G68=\"Imported\",COUNTIF('IMPORTED DATA'!$X$13:$CE$13,'INTERNAL PLAN REVIEW'!C68)=0),\"Cleared\",IF(AND('INTERNAL PLAN REVIEW'!G68=\"Imported\",COUNTIF('IMPORTED DATA'!$X$13:$CE$13,'INTERNAL PLAN REVIEW'!C68)>0),\"Data In Template\",\"No Data Imported\"))","v":"No Data Imported"},null,null,null,null,null,null,null,null,{"$f":"IF('CENTRAL ANALYSIS'!$B$54>=13,1,0)","v":0}]
[null,null,{"$f":"IF('SUB AGENCY & INTERNAL TOOL'!C77=\"\",\"\",'SUB AGENCY & INTERNAL TOOL'!C77)","v":""},null,null,null,{"$f":"IFERROR(IF(HLOOKUP(C69,'IMPORTED DATA'!$X$13:$CE$324,311,FALSE)=\"imported\",\"Imported\",\"Not Imported\"),\"Not Imported\")","v":"Not Imported"},null,null,null,{"$f":"IFERROR(HLOOKUP(C69,'IMPORTED DATA'!$X$13:$CE$324,312,FALSE),\"\")","v":""},null,null,{"$f":"IF(AND('INTERNAL PLAN REVIEW'!G69=\"Imported\",COUNTIF('IMPORTED DATA'!$X$13:$CE$13,'INTERNAL PLAN REVIEW'!C69)=0),\"Cleared\",IF(AND('INTERNAL PLAN REVIEW'!G69=\"Imported\",COUNTIF('IMPORTED DATA'!$X$13:$CE$13,'INTERNAL PLAN REVIEW'!C69)>0),\"Data In Template\",\"No Data Imported\"))","v":"No Data Imported"},null,null,null,null,null,null,null,null,{"$f":"IF('CENTRAL ANALYSIS'!$B$54>=14,1,0)","v":0}]
[null,null,{"$f":"IF('SUB AGENCY & INTERNAL TOOL'!C78=\"\",\"\",'SUB AGENCY & INTERNAL TOOL'!C78)","v":""},null,null,null,{"$f":"IFERROR(IF(HLOOKUP(C70,'IMPORTED DATA'!$X$13:$CE$324,311,FALSE)=\"imported\",\"Imported\",\"Not Imported\"),\"Not Imported\")","v":"Not Imported"},null,null,null,{"$f":"IFERROR(HLOOKUP(C70,'IMPORTED DATA'!$X$13:$CE$324,312,FALSE),\"\")","v":""},null,null,{"$f":"IF(AND('INTERNAL PLAN REVIEW'!G70=\"Imported\",COUNTIF('IMPORTED DATA'!$X$13:$CE$13,'INTERNAL PLAN REVIEW'!C70)=0),\"Cleared\",IF(AND('INTERNAL PLAN REVIEW'!G70=\"Imported\",COUNTIF('IMPORTED DATA'!$X$13:$CE$13,'INTERNAL PLAN REVIEW'!C70)>0),\"Data In Template\",\"No Data Imported\"))","v":"No Data Imported"},null,null,null,null,null,null,null,null,{"$f":"IF('CENTRAL ANALYSIS'!$B$54>=15,1,0)","v":0}]
[null,null,{"$f":"IF('SUB AGENCY & INTERNAL TOOL'!C79=\"\",\"\",'SUB AGENCY & INTERNAL TOOL'!C79)","v":""},null,null,null,{"$f":"IFERROR(IF(HLOOKUP(C71,'IMPORTED DATA'!$X$13:$CE$324,311,FALSE)=\"imported\",\"Imported\",\"Not Imported\"),\"Not Imported\")","v":"Not Imported"},null,null,null,{"$f":"IFERROR(HLOOKUP(C71,'IMPORTED DATA'!$X$13:$CE$324,312,FALSE),\"\")","v":""},null,null,{"$f":"IF(AND('INTERNAL PLAN REVIEW'!G71=\"Imported\",COUNTIF('IMPORTED DATA'!$X$13:$CE$13,'INTERNAL PLAN REVIEW'!C71)=0),\"Cleared\",IF(AND('INTERNAL PLAN REVIEW'!G71=\"Imported\",COUNTIF('IMPORTED DATA'!$X$13:$CE$13,'INTERNAL PLAN REVIEW'!C71)>0),\"Data In Template\",\"No Data Imported\"))","v":"No Data Imported"},null,null,null,null,null,null,null,null,{"$f":"IF('CENTRAL ANALYSIS'!$B$54>=16,1,0)","v":0}]
[null,null,{"$f":"IF('SUB AGENCY & INTERNAL TOOL'!C80=\"\",\"\",'SUB AGENCY & INTERNAL TOOL'!C80)","v":""},null,null,null,{"$f":"IFERROR(IF(HLOOKUP(C72,'IMPORTED DATA'!$X$13:$CE$324,311,FALSE)=\"imported\",\"Imported\",\"Not Imported\"),\"Not Imported\")","v":"Not Imported"},null,null,null,{"$f":"IFERROR(HLOOKUP(C72,'IMPORTED DATA'!$X$13:$CE$324,312,FALSE),\"\")","v":""},null,null,{"$f":"IF(AND('INTERNAL PLAN REVIEW'!G72=\"Imported\",COUNTIF('IMPORTED DATA'!$X$13:$CE$13,'INTERNAL PLAN REVIEW'!C72)=0),\"Cleared\",IF(AND('INTERNAL PLAN REVIEW'!G72=\"Imported\",COUNTIF('IMPORTED DATA'!$X$13:$CE$13,'INTERNAL PLAN REVIEW'!C72)>0),\"Data In Template\",\"No Data Imported\"))","v":"No Data Imported"},null,null,null,null,null,null,null,null,{"$f":"IF('CENTRAL ANALYSIS'!$B$54>=17,1,0)","v":0}]
[null,null,{"$f":"IF('SUB AGENCY & INTERNAL TOOL'!C81=\"\",\"\",'SUB AGENCY & INTERNAL TOOL'!C81)","v":""},null,null,null,{"$f":"IFERROR(IF(HLOOKUP(C73,'IMPORTED DATA'!$X$13:$CE$324,311,FALSE)=\"imported\",\"Imported\",\"Not Imported\"),\"Not Imported\")","v":"Not Imported"},null,null,null,{"$f":"IFERROR(HLOOKUP(C73,'IMPORTED DATA'!$X$13:$CE$324,312,FALSE),\"\")","v":""},null,null,{"$f":"IF(AND('INTERNAL PLAN REVIEW'!G73=\"Imported\",COUNTIF('IMPORTED DATA'!$X$13:$CE$13,'INTERNAL PLAN REVIEW'!C73)=0),\"Cleared\",IF(AND('INTERNAL PLAN REVIEW'!G73=\"Imported\",COUNTIF('IMPORTED DATA'!$X$13:$CE$13,'INTERNAL PLAN REVIEW'!C73)>0),\"Data In Template\",\"No Data Imported\"))","v":"No Data Imported"},null,null,null,null,null,null,null,null,{"$f":"IF('CENTRAL ANALYSIS'!$B$54>=18,1,0)","v":0}]
[null,null,{"$f":"IF('SUB AGENCY & INTERNAL TOOL'!C82=\"\",\"\",'SUB AGENCY & INTERNAL TOOL'!C82)","v":""},null,null,null,{"$f":"IFERROR(IF(HLOOKUP(C74,'IMPORTED DATA'!$X$13:$CE$324,311,FALSE)=\"imported\",\"Imported\",\"Not Imported\"),\"Not Imported\")","v":"Not Imported"},null,null,null,{"$f":"IFERROR(HLOOKUP(C74,'IMPORTED DATA'!$X$13:$CE$324,312,FALSE),\"\")","v":""},null,null,{"$f":"IF(AND('INTERNAL PLAN REVIEW'!G74=\"Imported\",COUNTIF('IMPORTED DATA'!$X$13:$CE$13,'INTERNAL PLAN REVIEW'!C74)=0),\"Cleared\",IF(AND('INTERNAL PLAN REVIEW'!G74=\"Imported\",COUNTIF('IMPORTED DATA'!$X$13:$CE$13,'INTERNAL PLAN REVIEW'!C74)>0),\"Data In Template\",\"No Data Imported\"))","v":"No Data Imported"},null,null,null,null,null,null,null,null,{"$f":"IF('CENTRAL ANALYSIS'!$B$54>=19,1,0)","v":0}]
[null,null,{"$f":"IF('SUB AGENCY & INTERNAL TOOL'!C83=\"\",\"\",'SUB AGENCY & INTERNAL TOOL'!C83)","v":""},null,null,null,{"$f":"IFERROR(IF(HLOOKUP(C75,'IMPORTED DATA'!$X$13:$CE$324,311,FALSE)=\"imported\",\"Imported\",\"Not Imported\"),\"Not Imported\")","v":"Not Imported"},null,null,null,{"$f":"IFERROR(HLOOKUP(C75,'IMPORTED DATA'!$X$13:$CE$324,312,FALSE),\"\")","v":""},null,null,{"$f":"IF(AND('INTERNAL PLAN REVIEW'!G75=\"Imported\",COUNTIF('IMPORTED DATA'!$X$13:$CE$13,'INTERNAL PLAN REVIEW'!C75)=0),\"Cleared\",IF(AND('INTERNAL PLAN REVIEW'!G75=\"Imported\",COUNTIF('IMPORTED DATA'!$X$13:$CE$13,'INTERNAL PLAN REVIEW'!C75)>0),\"Data In Template\",\"No Data Imported\"))","v":"No Data Imported"},null,null,null,null,null,null,null,null,{"$f":"IF('CENTRAL ANALYSIS'!$B$54>=20,1,0)","v":0}]
[null,null,null,null,null,null,null,null,null,null,null,null,null,null,null,null,null,null,null,null,null,null,{"$f":"IF(SUM(W53:W75)>0,1,0)","v":0}]
[null,null,"Internal Teams",null,null,null,null,null,null,null,null,null,null,null,null,null,null,null,null,null,null,null,{"$f":"IF('CENTRAL ANALYSIS'!$B$55>=1,1,0)","v":0}]
[null,null,null,null,null,null,null,null,null,null,null,null,null,null,null,null,null,null,null,null,null,null,{"$f":"IF('CENTRAL ANALYSIS'!$B$55>=1,1,0)","v":0}]
[null,null,"Internal Team Name",null,null,null,"Current Import Status",null,null,null,"Last Imported Date",null,null,"Data In Template",null,null,null,null,null,null,null,null,{"$f":"IF('CENTRAL ANALYSIS'!$B$55>=1,1,0)","v":0}]
[null,null,{"$f":"IF('SUB AGENCY & INTERNAL TOOL'!C88=\"\",\"\",'SUB AGENCY & INTERNAL TOOL'!C88)","v":""},null,null,null,{"$f":"IFERROR(IF(HLOOKUP(C80,'IMPORTED DATA'!$X$13:$CE$324,311,FALSE)=\"imported\",\"Imported\",\"Not Imported\"),\"Not Imported\")","v":"Not Imported"},null,null,null,{"$f":"IFERROR(HLOOKUP(C80,'IMPORTED DATA'!$X$13:$CE$324,312,FALSE),\"\")","v":""},null,null,{"$f":"IF(AND('INTERNAL PLAN REVIEW'!G80=\"Imported\",COUNTIF('IMPORTED DATA'!$X$13:$CE$13,'INTERNAL PLAN REVIEW'!C80)=0),\"Cleared\",IF(AND('INTERNAL PLAN REVIEW'!G80=\"Imported\",COUNTIF('IMPORTED DATA'!$X$13:$CE$13,'INTERNAL PLAN REVIEW'!C80)>0),\"Data In Template\",\"No Data Imported\"))","v":"No Data Imported"},null,null,null,null,null,null,null,null,{"$f":"IF('CENTRAL ANALYSIS'!$B$55>=1,1,0)","v":0}]
[null,null,{"$f":"IF('SUB AGENCY & INTERNAL TOOL'!C89=\"\",\"\",'SUB AGENCY & INTERNAL TOOL'!C89)","v":""},null,null,null,{"$f":"IFERROR(IF(HLOOKUP(C81,'IMPORTED DATA'!$X$13:$CE$324,311,FALSE)=\"imported\",\"Imported\",\"Not Imported\"),\"Not Imported\")","v":"Not Imported"},null,null,null,{"$f":"IFERROR(HLOOKUP(C81,'IMPORTED DATA'!$X$13:$CE$324,312,FALSE),\"\")","v":""},null,null,{"$f":"IF(AND('INTERNAL PLAN REVIEW'!G81=\"Imported\",COUNTIF('IMPORTED DATA'!$X$13:$CE$13,'INTERNAL PLAN REVIEW'!C81)=0),\"Cleared\",IF(AND('INTERNAL PLAN REVIEW'!G81=\"Imported\",COUNTIF('IMPORTED DATA'!$X$13:$CE$13,'INTERNAL PLAN REVIEW'!C81)>0),\"Data In Template\",\"No Data Imported\"))","v":"No Data Imported"},null,null,null,null,null,null,null,null,{"$f":"IF('CENTRAL ANALYSIS'!$B$55>=2,1,0)","v":0}]
[null,null,{"$f":"IF('SUB AGENCY & INTERNAL TOOL'!C90=\"\",\"\",'SUB AGENCY & INTERNAL TOOL'!C90)","v":""},null,null,null,{"$f":"IFERROR(IF(HLOOKUP(C82,'IMPORTED DATA'!$X$13:$CE$324,311,FALSE)=\"imported\",\"Imported\",\"Not Imported\"),\"Not Imported\")","v":"Not Imported"},null,null,null,{"$f":"IFERROR(HLOOKUP(C82,'IMPORTED DATA'!$X$13:$CE$324,312,FALSE),\"\")","v":""},null,null,{"$f":"IF(AND('INTERNAL PLAN REVIEW'!G82=\"Imported\",COUNTIF('IMPORTED DATA'!$X$13:$CE$13,'INTERNAL PLAN REVIEW'!C82)=0),\"Cleared\",IF(AND('INTERNAL PLAN REVIEW'!G82=\"Imported\",COUNTIF('IMPORTED DATA'!$X$13:$CE$13,'INTERNAL PLAN REVIEW'!C82)>0),\"Data In Template\",\"No Data Imported\"))","v":"No Data Imported"},null,null,null,null,null,null,null,null,{"$f":"IF('CENTRAL ANALYSIS'!$B$55>=3,1,0)","v":0}]
[null,null,{"$f":"IF('SUB AGENCY & INTERNAL TOOL'!C91=\"\",\"\",'SUB AGENCY & INTERNAL TOOL'!C91)","v":""},null,null,null,{"$f":"IFERROR(IF(HLOOKUP(C83,'IMPORTED DATA'!$X$13:$CE$324,311,FALSE)=\"imported\",\"Imported\",\"Not Imported\"),\"Not Imported\")","v":"Not Imported"},null,null,null,{"$f":"IFERROR(HLOOKUP(C83,'IMPORTED DATA'!$X$13:$CE$324,312,FALSE),\"\")","v":""},null,null,{"$f":"IF(AND('INTERNAL PLAN REVIEW'!G83=\"Imported\",COUNTIF('IMPORTED DATA'!$X$13:$CE$13,'INTERNAL PLAN REVIEW'!C83)=0),\"Cleared\",IF(AND('INTERNAL PLAN REVIEW'!G83=\"Imported\",COUNTIF('IMPORTED DATA'!$X$13:$CE$13,'INTERNAL PLAN REVIEW'!C83)>0),\"Data In Template\",\"No Data Imported\"))","v":"No Data Imported"},null,null,null,null,null,null,null,null,{"$f":"IF('CENTRAL ANALYSIS'!$B$55>=4,1,0)","v":0}]
[null,null,{"$f":"IF('SUB AGENCY & INTERNAL TOOL'!C92=\"\",\"\",'SUB AGENCY & INTERNAL TOOL'!C92)","v":""},null,null,null,{"$f":"IFERROR(IF(HLOOKUP(C84,'IMPORTED DATA'!$X$13:$CE$324,311,FALSE)=\"imported\",\"Imported\",\"Not Imported\"),\"Not Imported\")","v":"Not Imported"},null,null,null,{"$f":"IFERROR(HLOOKUP(C84,'IMPORTED DATA'!$X$13:$CE$324,312,FALSE),\"\")","v":""},null,null,{"$f":"IF(AND('INTERNAL PLAN REVIEW'!G84=\"Imported\",COUNTIF('IMPORTED DATA'!$X$13:$CE$13,'INTERNAL PLAN REVIEW'!C84)=0),\"Cleared\",IF(AND('INTERNAL PLAN REVIEW'!G84=\"Imported\",COUNTIF('IMPORTED DATA'!$X$13:$CE$13,'INTERNAL PLAN REVIEW'!C84)>0),\"Data In Template\",\"No Data Imported\"))","v":"No Data Imported"},null,null,null,null,null,null,null,null,{"$f":"IF('CENTRAL ANALYSIS'!$B$55>=5,1,0)","v":0}]
[null,null,{"$f":"IF('SUB AGENCY & INTERNAL TOOL'!C93=\"\",\"\",'SUB AGENCY & INTERNAL TOOL'!C93)","v":""},null,null,null,{"$f":"IFERROR(IF(HLOOKUP(C85,'IMPORTED DATA'!$X$13:$CE$324,311,FALSE)=\"imported\",\"Imported\",\"Not Imported\"),\"Not Imported\")","v":"Not Imported"},null,null,null,{"$f":"IFERROR(HLOOKUP(C85,'IMPORTED DATA'!$X$13:$CE$324,312,FALSE),\"\")","v":""},null,null,{"$f":"IF(AND('INTERNAL PLAN REVIEW'!G85=\"Imported\",COUNTIF('IMPORTED DATA'!$X$13:$CE$13,'INTERNAL PLAN REVIEW'!C85)=0),\"Cleared\",IF(AND('INTERNAL PLAN REVIEW'!G85=\"Imported\",COUNTIF('IMPORTED DATA'!$X$13:$CE$13,'INTERNAL PLAN REVIEW'!C85)>0),\"Data In Template\",\"No Data Imported\"))","v":"No Data Imported"},null,null,null,null,null,null,null,null,{"$f":"IF('CENTRAL ANALYSIS'!$B$55>=6,1,0)","v":0}]
[null,null,{"$f":"IF('SUB AGENCY & INTERNAL TOOL'!C94=\"\",\"\",'SUB AGENCY & INTERNAL TOOL'!C94)","v":""},null,null,null,{"$f":"IFERROR(IF(HLOOKUP(C86,'IMPORTED DATA'!$X$13:$CE$324,311,FALSE)=\"imported\",\"Imported\",\"Not Imported\"),\"Not Imported\")","v":"Not Imported"},null,null,null,{"$f":"IFERROR(HLOOKUP(C86,'IMPORTED DATA'!$X$13:$CE$324,312,FALSE),\"\")","v":""},null,null,{"$f":"IF(AND('INTERNAL PLAN REVIEW'!G86=\"Imported\",COUNTIF('IMPORTED DATA'!$X$13:$CE$13,'INTERNAL PLAN REVIEW'!C86)=0),\"Cleared\",IF(AND('INTERNAL PLAN REVIEW'!G86=\"Imported\",COUNTIF('IMPORTED DATA'!$X$13:$CE$13,'INTERNAL PLAN REVIEW'!C86)>0),\"Data In Template\",\"No Data Imported\"))","v":"No Data Imported"},null,null,null,null,null,null,null,null,{"$f":"IF('CENTRAL ANALYSIS'!$B$55>=7,1,0)","v":0}]
[null,null,{"$f":"IF('SUB AGENCY & INTERNAL TOOL'!C95=\"\",\"\",'SUB AGENCY & INTERNAL TOOL'!C95)","v":""},null,null,null,{"$f":"IFERROR(IF(HLOOKUP(C87,'IMPORTED DATA'!$X$13:$CE$324,311,FALSE)=\"imported\",\"Imported\",\"Not Imported\"),\"Not Imported\")","v":"Not Imported"},null,null,null,{"$f":"IFERROR(HLOOKUP(C87,'IMPORTED DATA'!$X$13:$CE$324,312,FALSE),\"\")","v":""},null,null,{"$f":"IF(AND('INTERNAL PLAN REVIEW'!G87=\"Imported\",COUNTIF('IMPORTED DATA'!$X$13:$CE$13,'INTERNAL PLAN REVIEW'!C87)=0),\"Cleared\",IF(AND('INTERNAL PLAN REVIEW'!G87=\"Imported\",COUNTIF('IMPORTED DATA'!$X$13:$CE$13,'INTERNAL PLAN REVIEW'!C87)>0),\"Data In Template\",\"No Data Imported\"))","v":"No Data Imported"},null,null,null,null,null,null,null,null,{"$f":"IF('CENTRAL ANALYSIS'!$B$55>=8,1,0)","v":0}]
[null,null,{"$f":"IF('SUB AGENCY & INTERNAL TOOL'!C96=\"\",\"\",'SUB AGENCY & INTERNAL TOOL'!C96)","v":""},null,null,null,{"$f":"IFERROR(IF(HLOOKUP(C88,'IMPORTED DATA'!$X$13:$CE$324,311,FALSE)=\"imported\",\"Imported\",\"Not Imported\"),\"Not Imported\")","v":"Not Imported"},null,null,null,{"$f":"IFERROR(HLOOKUP(C88,'IMPORTED DATA'!$X$13:$CE$324,312,FALSE),\"\")","v":""},null,null,{"$f":"IF(AND('INTERNAL PLAN REVIEW'!G88=\"Imported\",COUNTIF('IMPORTED DATA'!$X$13:$CE$13,'INTERNAL PLAN REVIEW'!C88)=0),\"Cleared\",IF(AND('INTERNAL PLAN REVIEW'!G88=\"Imported\",COUNTIF('IMPORTED DATA'!$X$13:$CE$13,'INTERNAL PLAN REVIEW'!C88)>0),\"Data In Template\",\"No Data Imported\"))","v":"No Data Imported"},null,null,null,null,null,null,null,null,{"$f":"IF('CENTRAL ANALYSIS'!$B$55>=9,1,0)","v":0}]
[null,null,{"$f":"IF('SUB AGENCY & INTERNAL TOOL'!C97=\"\",\"\",'SUB AGENCY & INTERNAL TOOL'!C97)","v":""},null,null,null,{"$f":"IFERROR(IF(HLOOKUP(C89,'IMPORTED DATA'!$X$13:$CE$324,311,FALSE)=\"imported\",\"Imported\",\"Not Imported\"),\"Not Imported\")","v":"Not Imported"},null,null,null,{"$f":"IFERROR(HLOOKUP(C89,'IMPORTED DATA'!$X$13:$CE$324,312,FALSE),\"\")","v":""},null,null,{"$f":"IF(AND('INTERNAL PLAN REVIEW'!G89=\"Imported\",COUNTIF('IMPORTED DATA'!$X$13:$CE$13,'INTERNAL PLAN REVIEW'!C89)=0),\"Cleared\",IF(AND('INTERNAL PLAN REVIEW'!G89=\"Imported\",COUNTIF('IMPORTED DATA'!$X$13:$CE$13,'INTERNAL PLAN REVIEW'!C89)>0),\"Data In Template\",\"No Data Imported\"))","v":"No Data Imported"},null,null,null,null,null,null,null,null,{"$f":"IF('CENTRAL ANALYSIS'!$B$55>=10,1,0)","v":0}]
[null,null,{"$f":"IF('SUB AGENCY & INTERNAL TOOL'!C98=\"\",\"\",'SUB AGENCY & INTERNAL TOOL'!C98)","v":""},null,null,null,{"$f":"IFERROR(IF(HLOOKUP(C90,'IMPORTED DATA'!$X$13:$CE$324,311,FALSE)=\"imported\",\"Imported\",\"Not Imported\"),\"Not Imported\")","v":"Not Imported"},null,null,null,{"$f":"IFERROR(HLOOKUP(C90,'IMPORTED DATA'!$X$13:$CE$324,312,FALSE),\"\")","v":""},null,null,{"$f":"IF(AND('INTERNAL PLAN REVIEW'!G90=\"Imported\",COUNTIF('IMPORTED DATA'!$X$13:$CE$13,'INTERNAL PLAN REVIEW'!C90)=0),\"Cleared\",IF(AND('INTERNAL PLAN REVIEW'!G90=\"Imported\",COUNTIF('IMPORTED DATA'!$X$13:$CE$13,'INTERNAL PLAN REVIEW'!C90)>0),\"Data In Template\",\"No Data Imported\"))","v":"No Data Imported"},null,null,null,null,null,null,null,null,{"$f":"IF('CENTRAL ANALYSIS'!$B$55>=11,1,0)","v":0}]
[null,null,{"$f":"IF('SUB AGENCY & INTERNAL TOOL'!C99=\"\",\"\",'SUB AGENCY & INTERNAL TOOL'!C99)","v":""},null,null,null,{"$f":"IFERROR(IF(HLOOKUP(C91,'IMPORTED DATA'!$X$13:$CE$324,311,FALSE)=\"imported\",\"Imported\",\"Not Imported\"),\"Not Imported\")","v":"Not Imported"},null,null,null,{"$f":"IFERROR(HLOOKUP(C91,'IMPORTED DATA'!$X$13:$CE$324,312,FALSE),\"\")","v":""},null,null,{"$f":"IF(AND('INTERNAL PLAN REVIEW'!G91=\"Imported\",COUNTIF('IMPORTED DATA'!$X$13:$CE$13,'INTERNAL PLAN REVIEW'!C91)=0),\"Cleared\",IF(AND('INTERNAL PLAN REVIEW'!G91=\"Imported\",COUNTIF('IMPORTED DATA'!$X$13:$CE$13,'INTERNAL PLAN REVIEW'!C91)>0),\"Data In Template\",\"No Data Imported\"))","v":"No Data Imported"},null,null,null,null,null,null,null,null,{"$f":"IF('CENTRAL ANALYSIS'!$B$55>=12,1,0)","v":0}]
[null,null,{"$f":"IF('SUB AGENCY & INTERNAL TOOL'!C100=\"\",\"\",'SUB AGENCY & INTERNAL TOOL'!C100)","v":""},null,null,null,{"$f":"IFERROR(IF(HLOOKUP(C92,'IMPORTED DATA'!$X$13:$CE$324,311,FALSE)=\"imported\",\"Imported\",\"Not Imported\"),\"Not Imported\")","v":"Not Imported"},null,null,null,{"$f":"IFERROR(HLOOKUP(C92,'IMPORTED DATA'!$X$13:$CE$324,312,FALSE),\"\")","v":""},null,null,{"$f":"IF(AND('INTERNAL PLAN REVIEW'!G92=\"Imported\",COUNTIF('IMPORTED DATA'!$X$13:$CE$13,'INTERNAL PLAN REVIEW'!C92)=0),\"Cleared\",IF(AND('INTERNAL PLAN REVIEW'!G92=\"Imported\",COUNTIF('IMPORTED DATA'!$X$13:$CE$13,'INTERNAL PLAN REVIEW'!C92)>0),\"Data In Template\",\"No Data Imported\"))","v":"No Data Imported"},null,null,null,null,null,null,null,null,{"$f":"IF('CENTRAL ANALYSIS'!$B$55>=13,1,0)","v":0}]
[null,null,{"$f":"IF('SUB AGENCY & INTERNAL TOOL'!C101=\"\",\"\",'SUB AGENCY & INTERNAL TOOL'!C101)","v":""},null,null,null,{"$f":"IFERROR(IF(HLOOKUP(C93,'IMPORTED DATA'!$X$13:$CE$324,311,FALSE)=\"imported\",\"Imported\",\"Not Imported\"),\"Not Imported\")","v":"Not Imported"},null,null,null,{"$f":"IFERROR(HLOOKUP(C93,'IMPORTED DATA'!$X$13:$CE$324,312,FALSE),\"\")","v":""},null,null,{"$f":"IF(AND('INTERNAL PLAN REVIEW'!G93=\"Imported\",COUNTIF('IMPORTED DATA'!$X$13:$CE$13,'INTERNAL PLAN REVIEW'!C93)=0),\"Cleared\",IF(AND('INTERNAL PLAN REVIEW'!G93=\"Imported\",COUNTIF('IMPORTED DATA'!$X$13:$CE$13,'INTERNAL PLAN REVIEW'!C93)>0),\"Data In Template\",\"No Data Imported\"))","v":"No Data Imported"},null,null,null,null,null,null,null,null,{"$f":"IF('CENTRAL ANALYSIS'!$B$55>=14,1,0)","v":0}]
[null,null,{"$f":"IF('SUB AGENCY & INTERNAL TOOL'!C102=\"\",\"\",'SUB AGENCY & INTERNAL TOOL'!C102)","v":""},null,null,null,{"$f":"IFERROR(IF(HLOOKUP(C94,'IMPORTED DATA'!$X$13:$CE$324,311,FALSE)=\"imported\",\"Imported\",\"Not Imported\"),\"Not Imported\")","v":"Not Imported"},null,null,null,{"$f":"IFERROR(HLOOKUP(C94,'IMPORTED DATA'!$X$13:$CE$324,312,FALSE),\"\")","v":""},null,null,{"$f":"IF(AND('INTERNAL PLAN REVIEW'!G94=\"Imported\",COUNTIF('IMPORTED DATA'!$X$13:$CE$13,'INTERNAL PLAN REVIEW'!C94)=0),\"Cleared\",IF(AND('INTERNAL PLAN REVIEW'!G94=\"Imported\",COUNTIF('IMPORTED DATA'!$X$13:$CE$13,'INTERNAL PLAN REVIEW'!C94)>0),\"Data In Template\",\"No Data Imported\"))","v":"No Data Imported"},null,null,null,null,null,null,null,null,{"$f":"IF('CENTRAL ANALYSIS'!$B$55>=15,1,0)","v":0}]
[null,null,{"$f":"IF('SUB AGENCY & INTERNAL TOOL'!C103=\"\",\"\",'SUB AGENCY & INTERNAL TOOL'!C103)","v":""},null,null,null,{"$f":"IFERROR(IF(HLOOKUP(C95,'IMPORTED DATA'!$X$13:$CE$324,311,FALSE)=\"imported\",\"Imported\",\"Not Imported\"),\"Not Imported\")","v":"Not Imported"},null,null,null,{"$f":"IFERROR(HLOOKUP(C95,'IMPORTED DATA'!$X$13:$CE$324,312,FALSE),\"\")","v":""},null,null,{"$f":"IF(AND('INTERNAL PLAN REVIEW'!G95=\"Imported\",COUNTIF('IMPORTED DATA'!$X$13:$CE$13,'INTERNAL PLAN REVIEW'!C95)=0),\"Cleared\",IF(AND('INTERNAL PLAN REVIEW'!G95=\"Imported\",COUNTIF('IMPORTED DATA'!$X$13:$CE$13,'INTERNAL PLAN REVIEW'!C95)>0),\"Data In Template\",\"No Data Imported\"))","v":"No Data Imported"},null,null,null,null,null,null,null,null,{"$f":"IF('CENTRAL ANALYSIS'!$B$55>=16,1,0)","v":0}]
[null,null,{"$f":"IF('SUB AGENCY & INTERNAL TOOL'!C104=\"\",\"\",'SUB AGENCY & INTERNAL TOOL'!C104)","v":""},null,null,null,{"$f":"IFERROR(IF(HLOOKUP(C96,'IMPORTED DATA'!$X$13:$CE$324,311,FALSE)=\"imported\",\"Imported\",\"Not Imported\"),\"Not Imported\")","v":"Not Imported"},null,null,null,{"$f":"IFERROR(HLOOKUP(C96,'IMPORTED DATA'!$X$13:$CE$324,312,FALSE),\"\")","v":""},null,null,{"$f":"IF(AND('INTERNAL PLAN REVIEW'!G96=\"Imported\",COUNTIF('IMPORTED DATA'!$X$13:$CE$13,'INTERNAL PLAN REVIEW'!C96)=0),\"Cleared\",IF(AND('INTERNAL PLAN REVIEW'!G96=\"Imported\",COUNTIF('IMPORTED DATA'!$X$13:$CE$13,'INTERNAL PLAN REVIEW'!C96)>0),\"Data In Template\",\"No Data Imported\"))","v":"No Data Imported"},null,null,null,null,null,null,null,null,{"$f":"IF('CENTRAL ANALYSIS'!$B$55>=17,1,0)","v":0}]
[null,null,{"$f":"IF('SUB AGENCY & INTERNAL TOOL'!C105=\"\",\"\",'SUB AGENCY & INTERNAL TOOL'!C105)","v":""},null,null,null,{"$f":"IFERROR(IF(HLOOKUP(C97,'IMPORTED DATA'!$X$13:$CE$324,311,FALSE)=\"imported\",\"Imported\",\"Not Imported\"),\"Not Imported\")","v":"Not Imported"},null,null,null,{"$f":"IFERROR(HLOOKUP(C97,'IMPORTED DATA'!$X$13:$CE$324,312,FALSE),\"\")","v":""},null,null,{"$f":"IF(AND('INTERNAL PLAN REVIEW'!G97=\"Imported\",COUNTIF('IMPORTED DATA'!$X$13:$CE$13,'INTERNAL PLAN REVIEW'!C97)=0),\"Cleared\",IF(AND('INTERNAL PLAN REVIEW'!G97=\"Imported\",COUNTIF('IMPORTED DATA'!$X$13:$CE$13,'INTERNAL PLAN REVIEW'!C97)>0),\"Data In Template\",\"No Data Imported\"))","v":"No Data Imported"},null,null,null,null,null,null,null,null,{"$f":"IF('CENTRAL ANALYSIS'!$B$55>=18,1,0)","v":0}]
[null,null,{"$f":"IF('SUB AGENCY & INTERNAL TOOL'!C106=\"\",\"\",'SUB AGENCY & INTERNAL TOOL'!C106)","v":""},null,null,null,{"$f":"IFERROR(IF(HLOOKUP(C98,'IMPORTED DATA'!$X$13:$CE$324,311,FALSE)=\"imported\",\"Imported\",\"Not Imported\"),\"Not Imported\")","v":"Not Imported"},null,null,null,{"$f":"IFERROR(HLOOKUP(C98,'IMPORTED DATA'!$X$13:$CE$324,312,FALSE),\"\")","v":""},null,null,{"$f":"IF(AND('INTERNAL PLAN REVIEW'!G98=\"Imported\",COUNTIF('IMPORTED DATA'!$X$13:$CE$13,'INTERNAL PLAN REVIEW'!C98)=0),\"Cleared\",IF(AND('INTERNAL PLAN REVIEW'!G98=\"Imported\",COUNTIF('IMPORTED DATA'!$X$13:$CE$13,'INTERNAL PLAN REVIEW'!C98)>0),\"Data In Template\",\"No Data Imported\"))","v":"No Data Imported"},null,null,null,null,null,null,null,null,{"$f":"IF('CENTRAL ANALYSIS'!$B$55>=19,1,0)","v":0}]
[null,null,{"$f":"IF('SUB AGENCY & INTERNAL TOOL'!C107=\"\",\"\",'SUB AGENCY & INTERNAL TOOL'!C107)","v":""},null,null,null,{"$f":"IFERROR(IF(HLOOKUP(C99,'IMPORTED DATA'!$X$13:$CE$324,311,FALSE)=\"imported\",\"Imported\",\"Not Imported\"),\"Not Imported\")","v":"Not Imported"},null,null,null,{"$f":"IFERROR(HLOOKUP(C99,'IMPORTED DATA'!$X$13:$CE$324,312,FALSE),\"\")","v":""},null,null,{"$f":"IF(AND('INTERNAL PLAN REVIEW'!G99=\"Imported\",COUNTIF('IMPORTED DATA'!$X$13:$CE$13,'INTERNAL PLAN REVIEW'!C99)=0),\"Cleared\",IF(AND('INTERNAL PLAN REVIEW'!G99=\"Imported\",COUNTIF('IMPORTED DATA'!$X$13:$CE$13,'INTERNAL PLAN REVIEW'!C99)>0),\"Data In Template\",\"No Data Imported\"))","v":"No Data Imported"},null,null,null,null,null,null,null,null,{"$f":"IF('CENTRAL ANALYSIS'!$B$55>=20,1,0)","v":0}]
[null,null,null,null,null,null,null,null,null,null,null,null,null,null,null,null,null,null,null,null,null,null,{"$f":"IF(SUM(W77:W99)>0,1,0)","v":0}]
[null,null,null,null,null,null,null,null,null,null,null,null,null,null,null,null,null,null,null,null,null,null,1]
[null,"(Optional) Step 2: Review Open Responses from the Imported Internal Plans (For the Agency Profile)",null,null,null,null,null,null,null,null,null,null,null,null,null,null,null,null,null,null,null,null,1]
[null,null,null,null,null,null,null,null,null,null,null,null,null,null,null,null,null,null,null,null,null,null,1]
[null,"INSTRUCTIONS: To review information pertaining to the Agency Profile Template, select the information to view from the dropdown in the yellow box below. After, for each group that that was imported, the respective information will be shown for the Agency to review easily. This information can then be used as a reference to complete the remaining sections of the Agency Profile Template.",null,null,null,null,null,null,null,null,null,null,null,null,null,null,null,null,null,null,null,null,1]
[null,null,null,null,null,null,null,null,null,null,null,null,null,null,null,null,null,null,null,null,null,null,1]
[null,null,null,null,null,null,null,null,null,null,null,null,null,null,null,null,null,null,null,null,null,null,1]
[null,null,null,null,null,null,null,null,null,null,null,null,null,null,null,null,null,null,null,null,null,null,1]
[null,null,null,null,null,"Select the Information to View",null,null,null,null,null,null,null,null,null,null,null,null,null,null,null,null,1]
[null,null,null,null,null,null,null,null,null,null,null,null,null,null,null,null,null,null,null,null,null,null,1]
[null,"Sub Agencies",null,null,null,null,null,null,null,null,null,null,null,null,null,null,null,null,null,null,null,null,{"$f":"IF($B$112<>\"\",1,0)","v":0}]
[null,null,null,null,null,null,null,null,null,null,null,null,null,null,null,null,null,null,null,null,null,null,{"$f":"IF(B112<>\"\",1,0)","v":0}]
[null,{"$f":"C32","v":""},null,null,{"$f":"IFERROR(IF($G$108=\"Agency Mission\",HLOOKUP(B112,'IMPORTED DATA'!$X$13:$CE$322,4,FALSE),IF($G$108=\"Strategy Objective 1\",HLOOKUP(B112,'IMPORTED DATA'!$X$13:$CE$322,256,FALSE),IF($G$108=\"Strategy Objective 2\",HLOOKUP(B112,'IMPORTED DATA'!$X$13:$CE$322,267,FALSE),IF($G$108=\"Strategy Objective 3\",HLOOKUP(B112,'IMPORTED DATA'!$X$13:$CE$322,278,FALSE),IF($G$108=\"Strategy Objective 4\",HLOOKUP(B112,'IMPORTED DATA'!$X$13:$CE$322,289,FALSE),IF($G$108=\"Strategy Objective 5\",HLOOKUP(B112,'IMPORTED DATA'!$X$13:$CE$322,300,FALSE),\"\")))))),\"\")","v":""},null,null,null,null,null,null,null,null,null,null,null,null,null,null,null,null,null,{"$f":"IF(B112<>\"\",1,0)","v":0}]
[null,null,null,null,null,null,null,null,null,null,null,null,null,null,null,null,null,null,null,null,null,null,{"$f":"IF(B112<>\"\",1,0)","v":0}]
[null,null,null,null,null,null,null,null,null,null,null,null,null,null,null,null,null,null,null,null,null,null,{"$f":"IF(B112<>\"\",1,0)","v":0}]
[null,null,null,null,null,null,null,null,null,null,null,null,null,null,null,null,null,null,null,null,null,null,{"$f":"IF(B112<>\"\",1,0)","v":0}]
[null,null,null,null,null,null,null,null,null,null,null,null,null,null,null,null,null,null,null,null,null,null,{"$f":"IF(B112<>\"\",1,0)","v":0}]
[null,{"$f":"C33","v":""},null,null,{"$f":"IFERROR(IF($G$108=\"Agency Mission\",HLOOKUP(B117,'IMPORTED DATA'!$X$13:$CE$322,4,FALSE),IF($G$108=\"Strategy Objective 1\",HLOOKUP(B117,'IMPORTED DATA'!$X$13:$CE$322,256,FALSE),IF($G$108=\"Strategy Objective 2\",HLOOKUP(B117,'IMPORTED DATA'!$X$13:$CE$322,267,FALSE),IF($G$108=\"Strategy Objective 3\",HLOOKUP(B117,'IMPORTED DATA'!$X$13:$CE$322,278,FALSE),IF($G$108=\"Strategy Objective 4\",HLOOKUP(B117,'IMPORTED DATA'!$X$13:$CE$322,289,FALSE),IF($G$108=\"Strategy Objective 5\",HLOOKUP(B117,'IMPORTED DATA'!$X$13:$CE$322,300,FALSE),\"\")))))),\"\")","v":""},null,null,null,null,null,null,null,null,null,null,null,null,null,null,null,null,null,{"$f":"IF(B117<>\"\",1,0)","v":0}]
[null,null,null,null,null,null,null,null,null,null,null,null,null,null,null,null,null,null,null,null,null,null,{"$f":"IF(B117<>\"\",1,0)","v":0}]
[null,null,null,null,null,null,null,null,null,null,null,null,null,null,null,null,null,null,null,null,null,null,{"$f":"IF(B117<>\"\",1,0)","v":0}]
[null,null,null,null,null,null,null,null,null,null,null,null,null,null,null,null,null,null,null,null,null,null,{"$f":"IF(B117<>\"\",1,0)","v":0}]
[null,null,null,null,null,null,null,null,null,null,null,null,null,null,null,null,null,null,null,null,null,null,{"$f":"IF(B117<>\"\",1,0)","v":0}]
[null,{"$f":"C34","v":""},null,null,{"$f":"IFERROR(IF($G$108=\"Agency Mission\",HLOOKUP(B122,'IMPORTED DATA'!$X$13:$CE$322,4,FALSE),IF($G$108=\"Strategy Objective 1\",HLOOKUP(B122,'IMPORTED DATA'!$X$13:$CE$322,256,FALSE),IF($G$108=\"Strategy Objective 2\",HLOOKUP(B122,'IMPORTED DATA'!$X$13:$CE$322,267,FALSE),IF($G$108=\"Strategy Objective 3\",HLOOKUP(B122,'IMPORTED DATA'!$X$13:$CE$322,278,FALSE),IF($G$108=\"Strategy Objective 4\",HLOOKUP(B122,'IMPORTED DATA'!$X$13:$CE$322,289,FALSE),IF($G$108=\"Strategy Objective 5\",HLOOKUP(B122,'IMPORTED DATA'!$X$13:$CE$322,300,FALSE),\"\")))))),\"\")","v":""},null,null,null,null,null,null,null,null,null,null,null,null,null,null,null,null,null,{"$f":"IF(B122<>\"\",1,0)","v":0}]
[null,null,null,null,null,null,null,null,null,null,null,null,null,null,null,null,null,null,null,null,null,null,{"$f":"IF(B122<>\"\",1,0)","v":0}]
[null,null,null,null,null,null,null,null,null,null,null,null,null,null,null,null,null,null,null,null,null,null,{"$f":"IF(B122<>\"\",1,0)","v":0}]
[null,null,null,null,null,null,null,null,null,null,null,null,null,null,null,null,null,null,null,null,null,null,{"$f":"IF(B122<>\"\",1,0)","v":0}]
[null,null,null,null,null,null,null,null,null,null,null,null,null,null,null,null,null,null,null,null,null,null,{"$f":"IF(B122<>\"\",1,0)","v":0}]
[null,{"$f":"C35","v":""},null,null,{"$f":"IFERROR(IF($G$108=\"Agency Mission\",HLOOKUP(B127,'IMPORTED DATA'!$X$13:$CE$322,4,FALSE),IF($G$108=\"Strategy Objective 1\",HLOOKUP(B127,'IMPORTED DATA'!$X$13:$CE$322,256,FALSE),IF($G$108=\"Strategy Objective 2\",HLOOKUP(B127,'IMPORTED DATA'!$X$13:$CE$322,267,FALSE),IF($G$108=\"Strategy Objective 3\",HLOOKUP(B127,'IMPORTED DATA'!$X$13:$CE$322,278,FALSE),IF($G$108=\"Strategy Objective 4\",HLOOKUP(B127,'IMPORTED DATA'!$X$13:$CE$322,289,FALSE),IF($G$108=\"Strategy Objective 5\",HLOOKUP(B127,'IMPORTED DATA'!$X$13:$CE$322,300,FALSE),\"\")))))),\"\")","v":""},null,null,null,null,null,null,null,null,null,null,null,null,null,null,null,null,null,{"$f":"IF(B127<>\"\",1,0)","v":0}]
[null,null,null,null,null,null,null,null,null,null,null,null,null,null,null,null,null,null,null,null,null,null,{"$f":"IF(B127<>\"\",1,0)","v":0}]
[null,null,null,null,null,null,null,null,null,null,null,null,null,null,null,null,null,null,null,null,null,null,{"$f":"IF(B127<>\"\",1,0)","v":0}]
[null,null,null,null,null,null,null,null,null,null,null,null,null,null,null,null,null,null,null,null,null,null,{"$f":"IF(B127<>\"\",1,0)","v":0}]
[null,null,null,null,null,null,null,null,null,null,null,null,null,null,null,null,null,null,null,null,null,null,{"$f":"IF(B127<>\"\",1,0)","v":0}]
[null,{"$f":"C36","v":""},null,null,{"$f":"IFERROR(IF($G$108=\"Agency Mission\",HLOOKUP(B132,'IMPORTED DATA'!$X$13:$CE$322,4,FALSE),IF($G$108=\"Strategy Objective 1\",HLOOKUP(B132,'IMPORTED DATA'!$X$13:$CE$322,256,FALSE),IF($G$108=\"Strategy Objective 2\",HLOOKUP(B132,'IMPORTED DATA'!$X$13:$CE$322,267,FALSE),IF($G$108=\"Strategy Objective 3\",HLOOKUP(B132,'IMPORTED DATA'!$X$13:$CE$322,278,FALSE),IF($G$108=\"Strategy Objective 4\",HLOOKUP(B132,'IMPORTED DATA'!$X$13:$CE$322,289,FALSE),IF($G$108=\"Strategy Objective 5\",HLOOKUP(B132,'IMPORTED DATA'!$X$13:$CE$322,300,FALSE),\"\")))))),\"\")","v":""},null,null,null,null,null,null,null,null,null,null,null,null,null,null,null,null,null,{"$f":"IF(B132<>\"\",1,0)","v":0}]
[null,null,null,null,null,null,null,null,null,null,null,null,null,null,null,null,null,null,null,null,null,null,{"$f":"IF(B132<>\"\",1,0)","v":0}]
[null,null,null,null,null,null,null,null,null,null,null,null,null,null,null,null,null,null,null,null,null,null,{"$f":"IF(B132<>\"\",1,0)","v":0}]
[null,null,null,null,null,null,null,null,null,null,null,null,null,null,null,null,null,null,null,null,null,null,{"$f":"IF(B132<>\"\",1,0)","v":0}]
[null,null,null,null,null,null,null,null,null,null,null,null,null,null,null,null,null,null,null,null,null,null,{"$f":"IF(B132<>\"\",1,0)","v":0}]
[null,{"$f":"C37","v":""},null,null,{"$f":"IFERROR(IF($G$108=\"Agency Mission\",HLOOKUP(B137,'IMPORTED DATA'!$X$13:$CE$322,4,FALSE),IF($G$108=\"Strategy Objective 1\",HLOOKUP(B137,'IMPORTED DATA'!$X$13:$CE$322,256,FALSE),IF($G$108=\"Strategy Objective 2\",HLOOKUP(B137,'IMPORTED DATA'!$X$13:$CE$322,267,FALSE),IF($G$108=\"Strategy Objective 3\",HLOOKUP(B137,'IMPORTED DATA'!$X$13:$CE$322,278,FALSE),IF($G$108=\"Strategy Objective 4\",HLOOKUP(B137,'IMPORTED DATA'!$X$13:$CE$322,289,FALSE),IF($G$108=\"Strategy Objective 5\",HLOOKUP(B137,'IMPORTED DATA'!$X$13:$CE$322,300,FALSE),\"\")))))),\"\")","v":""},null,null,null,null,null,null,null,null,null,null,null,null,null,null,null,null,null,{"$f":"IF(B137<>\"\",1,0)","v":0}]
[null,null,null,null,null,null,null,null,null,null,null,null,null,null,null,null,null,null,null,null,null,null,{"$f":"IF(B137<>\"\",1,0)","v":0}]
[null,null,null,null,null,null,null,null,null,null,null,null,null,null,null,null,null,null,null,null,null,null,{"$f":"IF(B137<>\"\",1,0)","v":0}]
[null,null,null,null,null,null,null,null,null,null,null,null,null,null,null,null,null,null,null,null,null,null,{"$f":"IF(B137<>\"\",1,0)","v":0}]
[null,null,null,null,null,null,null,null,null,null,null,null,null,null,null,null,null,null,null,null,null,null,{"$f":"IF(B137<>\"\",1,0)","v":0}]
[null,{"$f":"C38","v":""},null,null,{"$f":"IFERROR(IF($G$108=\"Agency Mission\",HLOOKUP(B142,'IMPORTED DATA'!$X$13:$CE$322,4,FALSE),IF($G$108=\"Strategy Objective 1\",HLOOKUP(B142,'IMPORTED DATA'!$X$13:$CE$322,256,FALSE),IF($G$108=\"Strategy Objective 2\",HLOOKUP(B142,'IMPORTED DATA'!$X$13:$CE$322,267,FALSE),IF($G$108=\"Strategy Objective 3\",HLOOKUP(B142,'IMPORTED DATA'!$X$13:$CE$322,278,FALSE),IF($G$108=\"Strategy Objective 4\",HLOOKUP(B142,'IMPORTED DATA'!$X$13:$CE$322,289,FALSE),IF($G$108=\"Strategy Objective 5\",HLOOKUP(B142,'IMPORTED DATA'!$X$13:$CE$322,300,FALSE),\"\")))))),\"\")","v":""},null,null,null,null,null,null,null,null,null,null,null,null,null,null,null,null,null,{"$f":"IF(B142<>\"\",1,0)","v":0}]
[null,null,null,null,null,null,null,null,null,null,null,null,null,null,null,null,null,null,null,null,null,null,{"$f":"IF(B142<>\"\",1,0)","v":0}]
[null,null,null,null,null,null,null,null,null,null,null,null,null,null,null,null,null,null,null,null,null,null,{"$f":"IF(B142<>\"\",1,0)","v":0}]
[null,null,null,null,null,null,null,null,null,null,null,null,null,null,null,null,null,null,null,null,null,null,{"$f":"IF(B142<>\"\",1,0)","v":0}]
[null,null,null,null,null,null,null,null,null,null,null,null,null,null,null,null,null,null,null,null,null,null,{"$f":"IF(B142<>\"\",1,0)","v":0}]
[null,{"$f":"C39","v":""},null,null,{"$f":"IFERROR(IF($G$108=\"Agency Mission\",HLOOKUP(B147,'IMPORTED DATA'!$X$13:$CE$322,4,FALSE),IF($G$108=\"Strategy Objective 1\",HLOOKUP(B147,'IMPORTED DATA'!$X$13:$CE$322,256,FALSE),IF($G$108=\"Strategy Objective 2\",HLOOKUP(B147,'IMPORTED DATA'!$X$13:$CE$322,267,FALSE),IF($G$108=\"Strategy Objective 3\",HLOOKUP(B147,'IMPORTED DATA'!$X$13:$CE$322,278,FALSE),IF($G$108=\"Strategy Objective 4\",HLOOKUP(B147,'IMPORTED DATA'!$X$13:$CE$322,289,FALSE),IF($G$108=\"Strategy Objective 5\",HLOOKUP(B147,'IMPORTED DATA'!$X$13:$CE$322,300,FALSE),\"\")))))),\"\")","v":""},null,null,null,null,null,null,null,null,null,null,null,null,null,null,null,null,null,{"$f":"IF(B147<>\"\",1,0)","v":0}]
[null,null,null,null,null,null,null,null,null,null,null,null,null,null,null,null,null,null,null,null,null,null,{"$f":"IF(B147<>\"\",1,0)","v":0}]
[null,null,null,null,null,null,null,null,null,null,null,null,null,null,null,null,null,null,null,null,null,null,{"$f":"IF(B147<>\"\",1,0)","v":0}]
[null,null,null,null,null,null,null,null,null,null,null,null,null,null,null,null,null,null,null,null,null,null,{"$f":"IF(B147<>\"\",1,0)","v":0}]
[null,null,null,null,null,null,null,null,null,null,null,null,null,null,null,null,null,null,null,null,null,null,{"$f":"IF(B147<>\"\",1,0)","v":0}]
[null,{"$f":"C40","v":""},null,null,{"$f":"IFERROR(IF($G$108=\"Agency Mission\",HLOOKUP(B152,'IMPORTED DATA'!$X$13:$CE$322,4,FALSE),IF($G$108=\"Strategy Objective 1\",HLOOKUP(B152,'IMPORTED DATA'!$X$13:$CE$322,256,FALSE),IF($G$108=\"Strategy Objective 2\",HLOOKUP(B152,'IMPORTED DATA'!$X$13:$CE$322,267,FALSE),IF($G$108=\"Strategy Objective 3\",HLOOKUP(B152,'IMPORTED DATA'!$X$13:$CE$322,278,FALSE),IF($G$108=\"Strategy Objective 4\",HLOOKUP(B152,'IMPORTED DATA'!$X$13:$CE$322,289,FALSE),IF($G$108=\"Strategy Objective 5\",HLOOKUP(B152,'IMPORTED DATA'!$X$13:$CE$322,300,FALSE),\"\")))))),\"\")","v":""},null,null,null,null,null,null,null,null,null,null,null,null,null,null,null,null,null,{"$f":"IF(B152<>\"\",1,0)","v":0}]
[null,null,null,null,null,null,null,null,null,null,null,null,null,null,null,null,null,null,null,null,null,null,{"$f":"IF(B152<>\"\",1,0)","v":0}]
[null,null,null,null,null,null,null,null,null,null,null,null,null,null,null,null,null,null,null,null,null,null,{"$f":"IF(B152<>\"\",1,0)","v":0}]
[null,null,null,null,null,null,null,null,null,null,null,null,null,null,null,null,null,null,null,null,null,null,{"$f":"IF(B152<>\"\",1,0)","v":0}]
[null,null,null,null,null,null,null,null,null,null,null,null,null,null,null,null,null,null,null,null,null,null,{"$f":"IF(B152<>\"\",1,0)","v":0}]
[null,{"$f":"C41","v":""},null,null,{"$f":"IFERROR(IF($G$108=\"Agency Mission\",HLOOKUP(B157,'IMPORTED DATA'!$X$13:$CE$322,4,FALSE),IF($G$108=\"Strategy Objective 1\",HLOOKUP(B157,'IMPORTED DATA'!$X$13:$CE$322,256,FALSE),IF($G$108=\"Strategy Objective 2\",HLOOKUP(B157,'IMPORTED DATA'!$X$13:$CE$322,267,FALSE),IF($G$108=\"Strategy Objective 3\",HLOOKUP(B157,'IMPORTED DATA'!$X$13:$CE$322,278,FALSE),IF($G$108=\"Strategy Objective 4\",HLOOKUP(B157,'IMPORTED DATA'!$X$13:$CE$322,289,FALSE),IF($G$108=\"Strategy Objective 5\",HLOOKUP(B157,'IMPORTED DATA'!$X$13:$CE$322,300,FALSE),\"\")))))),\"\")","v":""},null,null,null,null,null,null,null,null,null,null,null,null,null,null,null,null,null,{"$f":"IF(B157<>\"\",1,0)","v":0}]
[null,null,null,null,null,null,null,null,null,null,null,null,null,null,null,null,null,null,null,null,null,null,{"$f":"IF(B157<>\"\",1,0)","v":0}]
[null,null,null,null,null,null,null,null,null,null,null,null,null,null,null,null,null,null,null,null,null,null,{"$f":"IF(B157<>\"\",1,0)","v":0}]
[null,null,null,null,null,null,null,null,null,null,null,null,null,null,null,null,null,null,null,null,null,null,{"$f":"IF(B157<>\"\",1,0)","v":0}]
[null,null,null,null,null,null,null,null,null,null,null,null,null,null,null,null,null,null,null,null,null,null,{"$f":"IF(B157<>\"\",1,0)","v":0}]
[null,{"$f":"C42","v":""},null,null,{"$f":"IFERROR(IF($G$108=\"Agency Mission\",HLOOKUP(B162,'IMPORTED DATA'!$X$13:$CE$322,4,FALSE),IF($G$108=\"Strategy Objective 1\",HLOOKUP(B162,'IMPORTED DATA'!$X$13:$CE$322,256,FALSE),IF($G$108=\"Strategy Objective 2\",HLOOKUP(B162,'IMPORTED DATA'!$X$13:$CE$322,267,FALSE),IF($G$108=\"Strategy Objective 3\",HLOOKUP(B162,'IMPORTED DATA'!$X$13:$CE$322,278,FALSE),IF($G$108=\"Strategy Objective 4\",HLOOKUP(B162,'IMPORTED DATA'!$X$13:$CE$322,289,FALSE),IF($G$108=\"Strategy Objective 5\",HLOOKUP(B162,'IMPORTED DATA'!$X$13:$CE$322,300,FALSE),\"\")))))),\"\")","v":""},null,null,null,null,null,null,null,null,null,null,null,null,null,null,null,null,null,{"$f":"IF(B162<>\"\",1,0)","v":0}]
[null,null,null,null,null,null,null,null,null,null,null,null,null,null,null,null,null,null,null,null,null,null,{"$f":"IF(B162<>\"\",1,0)","v":0}]
[null,null,null,null,null,null,null,null,null,null,null,null,null,null,null,null,null,null,null,null,null,null,{"$f":"IF(B162<>\"\",1,0)","v":0}]
[null,null,null,null,null,null,null,null,null,null,null,null,null,null,null,null,null,null,null,null,null,null,{"$f":"IF(B162<>\"\",1,0)","v":0}]
[null,null,null,null,null,null,null,null,null,null,null,null,null,null,null,null,null,null,null,null,null,null,{"$f":"IF(B162<>\"\",1,0)","v":0}]
[null,{"$f":"C43","v":""},null,null,{"$f":"IFERROR(IF($G$108=\"Agency Mission\",HLOOKUP(B167,'IMPORTED DATA'!$X$13:$CE$322,4,FALSE),IF($G$108=\"Strategy Objective 1\",HLOOKUP(B167,'IMPORTED DATA'!$X$13:$CE$322,256,FALSE),IF($G$108=\"Strategy Objective 2\",HLOOKUP(B167,'IMPORTED DATA'!$X$13:$CE$322,267,FALSE),IF($G$108=\"Strategy Objective 3\",HLOOKUP(B167,'IMPORTED DATA'!$X$13:$CE$322,278,FALSE),IF($G$108=\"Strategy Objective 4\",HLOOKUP(B167,'IMPORTED DATA'!$X$13:$CE$322,289,FALSE),IF($G$108=\"Strategy Objective 5\",HLOOKUP(B167,'IMPORTED DATA'!$X$13:$CE$322,300,FALSE),\"\")))))),\"\")","v":""},null,null,null,null,null,null,null,null,null,null,null,null,null,null,null,null,null,{"$f":"IF(B167<>\"\",1,0)","v":0}]
[null,null,null,null,null,null,null,null,null,null,null,null,null,null,null,null,null,null,null,null,null,null,{"$f":"IF(B167<>\"\",1,0)","v":0}]
[null,null,null,null,null,null,null,null,null,null,null,null,null,null,null,null,null,null,null,null,null,null,{"$f":"IF(B167<>\"\",1,0)","v":0}]
[null,null,null,null,null,null,null,null,null,null,null,null,null,null,null,null,null,null,null,null,null,null,{"$f":"IF(B167<>\"\",1,0)","v":0}]
[null,null,null,null,null,null,null,null,null,null,null,null,null,null,null,null,null,null,null,null,null,null,{"$f":"IF(B167<>\"\",1,0)","v":0}]
[null,{"$f":"C44","v":""},null,null,{"$f":"IFERROR(IF($G$108=\"Agency Mission\",HLOOKUP(B172,'IMPORTED DATA'!$X$13:$CE$322,4,FALSE),IF($G$108=\"Strategy Objective 1\",HLOOKUP(B172,'IMPORTED DATA'!$X$13:$CE$322,256,FALSE),IF($G$108=\"Strategy Objective 2\",HLOOKUP(B172,'IMPORTED DATA'!$X$13:$CE$322,267,FALSE),IF($G$108=\"Strategy Objective 3\",HLOOKUP(B172,'IMPORTED DATA'!$X$13:$CE$322,278,FALSE),IF($G$108=\"Strategy Objective 4\",HLOOKUP(B172,'IMPORTED DATA'!$X$13:$CE$322,289,FALSE),IF($G$108=\"Strategy Objective 5\",HLOOKUP(B172,'IMPORTED DATA'!$X$13:$CE$322,300,FALSE),\"\")))))),\"\")","v":""},null,null,null,null,null,null,null,null,null,null,null,null,null,null,null,null,null,{"$f":"IF(B172<>\"\",1,0)","v":0}]
[null,null,null,null,null,null,null,null,null,null,null,null,null,null,null,null,null,null,null,null,null,null,{"$f":"IF(B172<>\"\",1,0)","v":0}]
[null,null,null,null,null,null,null,null,null,null,null,null,null,null,null,null,null,null,null,null,null,null,{"$f":"IF(B172<>\"\",1,0)","v":0}]
[null,null,null,null,null,null,null,null,null,null,null,null,null,null,null,null,null,null,null,null,null,null,{"$f":"IF(B172<>\"\",1,0)","v":0}]
[null,null,null,null,null,null,null,null,null,null,null,null,null,null,null,null,null,null,null,null,null,null,{"$f":"IF(B172<>\"\",1,0)","v":0}]
[null,{"$f":"C45","v":""},null,null,{"$f":"IFERROR(IF($G$108=\"Agency Mission\",HLOOKUP(B177,'IMPORTED DATA'!$X$13:$CE$322,4,FALSE),IF($G$108=\"Strategy Objective 1\",HLOOKUP(B177,'IMPORTED DATA'!$X$13:$CE$322,256,FALSE),IF($G$108=\"Strategy Objective 2\",HLOOKUP(B177,'IMPORTED DATA'!$X$13:$CE$322,267,FALSE),IF($G$108=\"Strategy Objective 3\",HLOOKUP(B177,'IMPORTED DATA'!$X$13:$CE$322,278,FALSE),IF($G$108=\"Strategy Objective 4\",HLOOKUP(B177,'IMPORTED DATA'!$X$13:$CE$322,289,FALSE),IF($G$108=\"Strategy Objective 5\",HLOOKUP(B177,'IMPORTED DATA'!$X$13:$CE$322,300,FALSE),\"\")))))),\"\")","v":""},null,null,null,null,null,null,null,null,null,null,null,null,null,null,null,null,null,{"$f":"IF(B177<>\"\",1,0)","v":0}]
[null,null,null,null,null,null,null,null,null,null,null,null,null,null,null,null,null,null,null,null,null,null,{"$f":"IF(B177<>\"\",1,0)","v":0}]
[null,null,null,null,null,null,null,null,null,null,null,null,null,null,null,null,null,null,null,null,null,null,{"$f":"IF(B177<>\"\",1,0)","v":0}]
[null,null,null,null,null,null,null,null,null,null,null,null,null,null,null,null,null,null,null,null,null,null,{"$f":"IF(B177<>\"\",1,0)","v":0}]
[null,null,null,null,null,null,null,null,null,null,null,null,null,null,null,null,null,null,null,null,null,null,{"$f":"IF(B177<>\"\",1,0)","v":0}]
[null,{"$f":"C46","v":""},null,null,{"$f":"IFERROR(IF($G$108=\"Agency Mission\",HLOOKUP(B182,'IMPORTED DATA'!$X$13:$CE$322,4,FALSE),IF($G$108=\"Strategy Objective 1\",HLOOKUP(B182,'IMPORTED DATA'!$X$13:$CE$322,256,FALSE),IF($G$108=\"Strategy Objective 2\",HLOOKUP(B182,'IMPORTED DATA'!$X$13:$CE$322,267,FALSE),IF($G$108=\"Strategy Objective 3\",HLOOKUP(B182,'IMPORTED DATA'!$X$13:$CE$322,278,FALSE),IF($G$108=\"Strategy Objective 4\",HLOOKUP(B182,'IMPORTED DATA'!$X$13:$CE$322,289,FALSE),IF($G$108=\"Strategy Objective 5\",HLOOKUP(B182,'IMPORTED DATA'!$X$13:$CE$322,300,FALSE),\"\")))))),\"\")","v":""},null,null,null,null,null,null,null,null,null,null,null,null,null,null,null,null,null,{"$f":"IF(B182<>\"\",1,0)","v":0}]
[null,null,null,null,null,null,null,null,null,null,null,null,null,null,null,null,null,null,null,null,null,null,{"$f":"IF(B182<>\"\",1,0)","v":0}]
[null,null,null,null,null,null,null,null,null,null,null,null,null,null,null,null,null,null,null,null,null,null,{"$f":"IF(B182<>\"\",1,0)","v":0}]
[null,null,null,null,null,null,null,null,null,null,null,null,null,null,null,null,null,null,null,null,null,null,{"$f":"IF(B182<>\"\",1,0)","v":0}]
[null,null,null,null,null,null,null,null,null,null,null,null,null,null,null,null,null,null,null,null,null,null,{"$f":"IF(B182<>\"\",1,0)","v":0}]
[null,{"$f":"C47","v":""},null,null,{"$f":"IFERROR(IF($G$108=\"Agency Mission\",HLOOKUP(B187,'IMPORTED DATA'!$X$13:$CE$322,4,FALSE),IF($G$108=\"Strategy Objective 1\",HLOOKUP(B187,'IMPORTED DATA'!$X$13:$CE$322,256,FALSE),IF($G$108=\"Strategy Objective 2\",HLOOKUP(B187,'IMPORTED DATA'!$X$13:$CE$322,267,FALSE),IF($G$108=\"Strategy Objective 3\",HLOOKUP(B187,'IMPORTED DATA'!$X$13:$CE$322,278,FALSE),IF($G$108=\"Strategy Objective 4\",HLOOKUP(B187,'IMPORTED DATA'!$X$13:$CE$322,289,FALSE),IF($G$108=\"Strategy Objective 5\",HLOOKUP(B187,'IMPORTED DATA'!$X$13:$CE$322,300,FALSE),\"\")))))),\"\")","v":""},null,null,null,null,null,null,null,null,null,null,null,null,null,null,null,null,null,{"$f":"IF(B187<>\"\",1,0)","v":0}]
[null,null,null,null,null,null,null,null,null,null,null,null,null,null,null,null,null,null,null,null,null,null,{"$f":"IF(B187<>\"\",1,0)","v":0}]
[null,null,null,null,null,null,null,null,null,null,null,null,null,null,null,null,null,null,null,null,null,null,{"$f":"IF(B187<>\"\",1,0)","v":0}]
[null,null,null,null,null,null,null,null,null,null,null,null,null,null,null,null,null,null,null,null,null,null,{"$f":"IF(B187<>\"\",1,0)","v":0}]
[null,null,null,null,null,null,null,null,null,null,null,null,null,null,null,null,null,null,null,null,null,null,{"$f":"IF(B187<>\"\",1,0)","v":0}]
[null,{"$f":"C48","v":""},null,null,{"$f":"IFERROR(IF($G$108=\"Agency Mission\",HLOOKUP(B192,'IMPORTED DATA'!$X$13:$CE$322,4,FALSE),IF($G$108=\"Strategy Objective 1\",HLOOKUP(B192,'IMPORTED DATA'!$X$13:$CE$322,256,FALSE),IF($G$108=\"Strategy Objective 2\",HLOOKUP(B192,'IMPORTED DATA'!$X$13:$CE$322,267,FALSE),IF($G$108=\"Strategy Objective 3\",HLOOKUP(B192,'IMPORTED DATA'!$X$13:$CE$322,278,FALSE),IF($G$108=\"Strategy Objective 4\",HLOOKUP(B192,'IMPORTED DATA'!$X$13:$CE$322,289,FALSE),IF($G$108=\"Strategy Objective 5\",HLOOKUP(B192,'IMPORTED DATA'!$X$13:$CE$322,300,FALSE),\"\")))))),\"\")","v":""},null,null,null,null,null,null,null,null,null,null,null,null,null,null,null,null,null,{"$f":"IF(B192<>\"\",1,0)","v":0}]
[null,null,null,null,null,null,null,null,null,null,null,null,null,null,null,null,null,null,null,null,null,null,{"$f":"IF(B192<>\"\",1,0)","v":0}]
[null,null,null,null,null,null,null,null,null,null,null,null,null,null,null,null,null,null,null,null,null,null,{"$f":"IF(B192<>\"\",1,0)","v":0}]
[null,null,null,null,null,null,null,null,null,null,null,null,null,null,null,null,null,null,null,null,null,null,{"$f":"IF(B192<>\"\",1,0)","v":0}]
[null,null,null,null,null,null,null,null,null,null,null,null,null,null,null,null,null,null,null,null,null,null,{"$f":"IF(B192<>\"\",1,0)","v":0}]
[null,{"$f":"C49","v":""},null,null,{"$f":"IFERROR(IF($G$108=\"Agency Mission\",HLOOKUP(B197,'IMPORTED DATA'!$X$13:$CE$322,4,FALSE),IF($G$108=\"Strategy Objective 1\",HLOOKUP(B197,'IMPORTED DATA'!$X$13:$CE$322,256,FALSE),IF($G$108=\"Strategy Objective 2\",HLOOKUP(B197,'IMPORTED DATA'!$X$13:$CE$322,267,FALSE),IF($G$108=\"Strategy Objective 3\",HLOOKUP(B197,'IMPORTED DATA'!$X$13:$CE$322,278,FALSE),IF($G$108=\"Strategy Objective 4\",HLOOKUP(B197,'IMPORTED DATA'!$X$13:$CE$322,289,FALSE),IF($G$108=\"Strategy Objective 5\",HLOOKUP(B197,'IMPORTED DATA'!$X$13:$CE$322,300,FALSE),\"\")))))),\"\")","v":""},null,null,null,null,null,null,null,null,null,null,null,null,null,null,null,null,null,{"$f":"IF(B197<>\"\",1,0)","v":0}]
[null,null,null,null,null,null,null,null,null,null,null,null,null,null,null,null,null,null,null,null,null,null,{"$f":"IF(B197<>\"\",1,0)","v":0}]
[null,null,null,null,null,null,null,null,null,null,null,null,null,null,null,null,null,null,null,null,null,null,{"$f":"IF(B197<>\"\",1,0)","v":0}]
[null,null,null,null,null,null,null,null,null,null,null,null,null,null,null,null,null,null,null,null,null,null,{"$f":"IF(B197<>\"\",1,0)","v":0}]
[null,null,null,null,null,null,null,null,null,null,null,null,null,null,null,null,null,null,null,null,null,null,{"$f":"IF(B197<>\"\",1,0)","v":0}]
[null,{"$f":"C50","v":""},null,null,{"$f":"IFERROR(IF($G$108=\"Agency Mission\",HLOOKUP(B202,'IMPORTED DATA'!$X$13:$CE$322,4,FALSE),IF($G$108=\"Strategy Objective 1\",HLOOKUP(B202,'IMPORTED DATA'!$X$13:$CE$322,256,FALSE),IF($G$108=\"Strategy Objective 2\",HLOOKUP(B202,'IMPORTED DATA'!$X$13:$CE$322,267,FALSE),IF($G$108=\"Strategy Objective 3\",HLOOKUP(B202,'IMPORTED DATA'!$X$13:$CE$322,278,FALSE),IF($G$108=\"Strategy Objective 4\",HLOOKUP(B202,'IMPORTED DATA'!$X$13:$CE$322,289,FALSE),IF($G$108=\"Strategy Objective 5\",HLOOKUP(B202,'IMPORTED DATA'!$X$13:$CE$322,300,FALSE),\"\")))))),\"\")","v":""},null,null,null,null,null,null,null,null,null,null,null,null,null,null,null,null,null,{"$f":"IF(B202<>\"\",1,0)","v":0}]
[null,null,null,null,null,null,null,null,null,null,null,null,null,null,null,null,null,null,null,null,null,null,{"$f":"IF(B202<>\"\",1,0)","v":0}]
[null,null,null,null,null,null,null,null,null,null,null,null,null,null,null,null,null,null,null,null,null,null,{"$f":"IF(B202<>\"\",1,0)","v":0}]
[null,null,null,null,null,null,null,null,null,null,null,null,null,null,null,null,null,null,null,null,null,null,{"$f":"IF(B202<>\"\",1,0)","v":0}]
[null,null,null,null,null,null,null,null,null,null,null,null,null,null,null,null,null,null,null,null,null,null,{"$f":"IF(B202<>\"\",1,0)","v":0}]
[null,{"$f":"C51","v":""},null,null,{"$f":"IFERROR(IF($G$108=\"Agency Mission\",HLOOKUP(B207,'IMPORTED DATA'!$X$13:$CE$322,4,FALSE),IF($G$108=\"Strategy Objective 1\",HLOOKUP(B207,'IMPORTED DATA'!$X$13:$CE$322,256,FALSE),IF($G$108=\"Strategy Objective 2\",HLOOKUP(B207,'IMPORTED DATA'!$X$13:$CE$322,267,FALSE),IF($G$108=\"Strategy Objective 3\",HLOOKUP(B207,'IMPORTED DATA'!$X$13:$CE$322,278,FALSE),IF($G$108=\"Strategy Objective 4\",HLOOKUP(B207,'IMPORTED DATA'!$X$13:$CE$322,289,FALSE),IF($G$108=\"Strategy Objective 5\",HLOOKUP(B207,'IMPORTED DATA'!$X$13:$CE$322,300,FALSE),\"\")))))),\"\")","v":""},null,null,null,null,null,null,null,null,null,null,null,null,null,null,null,null,null,{"$f":"IF(B207<>\"\",1,0)","v":0}]
[null,null,null,null,null,null,null,null,null,null,null,null,null,null,null,null,null,null,null,null,null,null,{"$f":"IF(B207<>\"\",1,0)","v":0}]
[null,null,null,null,null,null,null,null,null,null,null,null,null,null,null,null,null,null,null,null,null,null,{"$f":"IF(B207<>\"\",1,0)","v":0}]
[null,null,null,null,null,null,null,null,null,null,null,null,null,null,null,null,null,null,null,null,null,null,{"$f":"IF(B207<>\"\",1,0)","v":0}]
[null,null,null,null,null,null,null,null,null,null,null,null,null,null,null,null,null,null,null,null,null,null,{"$f":"IF(B207<>\"\",1,0)","v":0}]
[null,null,null,null,null,null,null,null,null,null,null,null,null,null,null,null,null,null,null,null,null,null,{"$f":"IF(B215<>\"\",1,0)","v":0}]
[null,"Internal Departments",null,null,null,null,null,null,null,null,null,null,null,null,null,null,null,null,null,null,null,null,{"$f":"IF(B215<>\"\",1,0)","v":0}]
[null,null,null,null,null,null,null,null,null,null,null,null,null,null,null,null,null,null,null,null,null,null,{"$f":"IF(B215<>\"\",1,0)","v":0}]
[null,{"$f":"C56","v":""},null,null,{"$f":"IFERROR(IF($G$108=\"Agency Mission\",HLOOKUP(B215,'IMPORTED DATA'!$X$13:$CE$322,4,FALSE),IF($G$108=\"Strategy Objective 1\",HLOOKUP(B215,'IMPORTED DATA'!$X$13:$CE$322,256,FALSE),IF($G$108=\"Strategy Objective 2\",HLOOKUP(B215,'IMPORTED DATA'!$X$13:$CE$322,267,FALSE),IF($G$108=\"Strategy Objective 3\",HLOOKUP(B215,'IMPORTED DATA'!$X$13:$CE$322,278,FALSE),IF($G$108=\"Strategy Objective 4\",HLOOKUP(B215,'IMPORTED DATA'!$X$13:$CE$322,289,FALSE),IF($G$108=\"Strategy Objective 5\",HLOOKUP(B215,'IMPORTED DATA'!$X$13:$CE$322,300,FALSE),\"\")))))),\"\")","v":""},null,null,null,null,null,null,null,null,null,null,null,null,null,null,null,null,null,{"$f":"IF(B215<>\"\",1,0)","v":0}]
[null,null,null,null,null,null,null,null,null,null,null,null,null,null,null,null,null,null,null,null,null,null,{"$f":"IF(B215<>\"\",1,0)","v":0}]
[null,null,null,null,null,null,null,null,null,null,null,null,null,null,null,null,null,null,null,null,null,null,{"$f":"IF(B215<>\"\",1,0)","v":0}]
[null,null,null,null,null,null,null,null,null,null,null,null,null,null,null,null,null,null,null,null,null,null,{"$f":"IF(B215<>\"\",1,0)","v":0}]
[null,null,null,null,null,null,null,null,null,null,null,null,null,null,null,null,null,null,null,null,null,null,{"$f":"IF(B215<>\"\",1,0)","v":0}]
[null,{"$f":"C57","v":""},null,null,{"$f":"IFERROR(IF($G$108=\"Agency Mission\",HLOOKUP(B220,'IMPORTED DATA'!$X$13:$CE$322,4,FALSE),IF($G$108=\"Strategy Objective 1\",HLOOKUP(B220,'IMPORTED DATA'!$X$13:$CE$322,256,FALSE),IF($G$108=\"Strategy Objective 2\",HLOOKUP(B220,'IMPORTED DATA'!$X$13:$CE$322,267,FALSE),IF($G$108=\"Strategy Objective 3\",HLOOKUP(B220,'IMPORTED DATA'!$X$13:$CE$322,278,FALSE),IF($G$108=\"Strategy Objective 4\",HLOOKUP(B220,'IMPORTED DATA'!$X$13:$CE$322,289,FALSE),IF($G$108=\"Strategy Objective 5\",HLOOKUP(B220,'IMPORTED DATA'!$X$13:$CE$322,300,FALSE),\"\")))))),\"\")","v":""},null,null,null,null,null,null,null,null,null,null,null,null,null,null,null,null,null,{"$f":"IF(B220<>\"\",1,0)","v":0}]
[null,null,null,null,null,null,null,null,null,null,null,null,null,null,null,null,null,null,null,null,null,null,{"$f":"IF(B220<>\"\",1,0)","v":0}]
[null,null,null,null,null,null,null,null,null,null,null,null,null,null,null,null,null,null,null,null,null,null,{"$f":"IF(B220<>\"\",1,0)","v":0}]
[null,null,null,null,null,null,null,null,null,null,null,null,null,null,null,null,null,null,null,null,null,null,{"$f":"IF(B220<>\"\",1,0)","v":0}]
[null,null,null,null,null,null,null,null,null,null,null,null,null,null,null,null,null,null,null,null,null,null,{"$f":"IF(B220<>\"\",1,0)","v":0}]
[null,{"$f":"C58","v":""},null,null,{"$f":"IFERROR(IF($G$108=\"Agency Mission\",HLOOKUP(B225,'IMPORTED DATA'!$X$13:$CE$322,4,FALSE),IF($G$108=\"Strategy Objective 1\",HLOOKUP(B225,'IMPORTED DATA'!$X$13:$CE$322,256,FALSE),IF($G$108=\"Strategy Objective 2\",HLOOKUP(B225,'IMPORTED DATA'!$X$13:$CE$322,267,FALSE),IF($G$108=\"Strategy Objective 3\",HLOOKUP(B225,'IMPORTED DATA'!$X$13:$CE$322,278,FALSE),IF($G$108=\"Strategy Objective 4\",HLOOKUP(B225,'IMPORTED DATA'!$X$13:$CE$322,289,FALSE),IF($G$108=\"Strategy Objective 5\",HLOOKUP(B225,'IMPORTED DATA'!$X$13:$CE$322,300,FALSE),\"\")))))),\"\")","v":""},null,null,null,null,null,null,null,null,null,null,null,null,null,null,null,null,null,{"$f":"IF(B225<>\"\",1,0)","v":0}]
[null,null,null,null,null,null,null,null,null,null,null,null,null,null,null,null,null,null,null,null,null,null,{"$f":"IF(B225<>\"\",1,0)","v":0}]
[null,null,null,null,null,null,null,null,null,null,null,null,null,null,null,null,null,null,null,null,null,null,{"$f":"IF(B225<>\"\",1,0)","v":0}]
[null,null,null,null,null,null,null,null,null,null,null,null,null,null,null,null,null,null,null,null,null,null,{"$f":"IF(B225<>\"\",1,0)","v":0}]
[null,null,null,null,null,null,null,null,null,null,null,null,null,null,null,null,null,null,null,null,null,null,{"$f":"IF(B225<>\"\",1,0)","v":0}]
[null,{"$f":"C59","v":""},null,null,{"$f":"IFERROR(IF($G$108=\"Agency Mission\",HLOOKUP(B230,'IMPORTED DATA'!$X$13:$CE$322,4,FALSE),IF($G$108=\"Strategy Objective 1\",HLOOKUP(B230,'IMPORTED DATA'!$X$13:$CE$322,256,FALSE),IF($G$108=\"Strategy Objective 2\",HLOOKUP(B230,'IMPORTED DATA'!$X$13:$CE$322,267,FALSE),IF($G$108=\"Strategy Objective 3\",HLOOKUP(B230,'IMPORTED DATA'!$X$13:$CE$322,278,FALSE),IF($G$108=\"Strategy Objective 4\",HLOOKUP(B230,'IMPORTED DATA'!$X$13:$CE$322,289,FALSE),IF($G$108=\"Strategy Objective 5\",HLOOKUP(B230,'IMPORTED DATA'!$X$13:$CE$322,300,FALSE),\"\")))))),\"\")","v":""},null,null,null,null,null,null,null,null,null,null,null,null,null,null,null,null,null,{"$f":"IF(B230<>\"\",1,0)","v":0}]
[null,null,null,null,null,null,null,null,null,null,null,null,null,null,null,null,null,null,null,null,null,null,{"$f":"IF(B230<>\"\",1,0)","v":0}]
[null,null,null,null,null,null,null,null,null,null,null,null,null,null,null,null,null,null,null,null,null,null,{"$f":"IF(B230<>\"\",1,0)","v":0}]
[null,null,null,null,null,null,null,null,null,null,null,null,null,null,null,null,null,null,null,null,null,null,{"$f":"IF(B230<>\"\",1,0)","v":0}]
[null,null,null,null,null,null,null,null,null,null,null,null,null,null,null,null,null,null,null,null,null,null,{"$f":"IF(B230<>\"\",1,0)","v":0}]
[null,{"$f":"C60","v":""},null,null,{"$f":"IFERROR(IF($G$108=\"Agency Mission\",HLOOKUP(B235,'IMPORTED DATA'!$X$13:$CE$322,4,FALSE),IF($G$108=\"Strategy Objective 1\",HLOOKUP(B235,'IMPORTED DATA'!$X$13:$CE$322,256,FALSE),IF($G$108=\"Strategy Objective 2\",HLOOKUP(B235,'IMPORTED DATA'!$X$13:$CE$322,267,FALSE),IF($G$108=\"Strategy Objective 3\",HLOOKUP(B235,'IMPORTED DATA'!$X$13:$CE$322,278,FALSE),IF($G$108=\"Strategy Objective 4\",HLOOKUP(B235,'IMPORTED DATA'!$X$13:$CE$322,289,FALSE),IF($G$108=\"Strategy Objective 5\",HLOOKUP(B235,'IMPORTED DATA'!$X$13:$CE$322,300,FALSE),\"\")))))),\"\")","v":""},null,null,null,null,null,null,null,null,null,null,null,null,null,null,null,null,null,{"$f":"IF(B235<>\"\",1,0)","v":0}]
[null,null,null,null,null,null,null,null,null,null,null,null,null,null,null,null,null,null,null,null,null,null,{"$f":"IF(B235<>\"\",1,0)","v":0}]
[null,null,null,null,null,null,null,null,null,null,null,null,null,null,null,null,null,null,null,null,null,null,{"$f":"IF(B235<>\"\",1,0)","v":0}]
[null,null,null,null,null,null,null,null,null,null,null,null,null,null,null,null,null,null,null,null,null,null,{"$f":"IF(B235<>\"\",1,0)","v":0}]
[null,null,null,null,null,null,null,null,null,null,null,null,null,null,null,null,null,null,null,null,null,null,{"$f":"IF(B235<>\"\",1,0)","v":0}]
[null,{"$f":"C61","v":""},null,null,{"$f":"IFERROR(IF($G$108=\"Agency Mission\",HLOOKUP(B240,'IMPORTED DATA'!$X$13:$CE$322,4,FALSE),IF($G$108=\"Strategy Objective 1\",HLOOKUP(B240,'IMPORTED DATA'!$X$13:$CE$322,256,FALSE),IF($G$108=\"Strategy Objective 2\",HLOOKUP(B240,'IMPORTED DATA'!$X$13:$CE$322,267,FALSE),IF($G$108=\"Strategy Objective 3\",HLOOKUP(B240,'IMPORTED DATA'!$X$13:$CE$322,278,FALSE),IF($G$108=\"Strategy Objective 4\",HLOOKUP(B240,'IMPORTED DATA'!$X$13:$CE$322,289,FALSE),IF($G$108=\"Strategy Objective 5\",HLOOKUP(B240,'IMPORTED DATA'!$X$13:$CE$322,300,FALSE),\"\")))))),\"\")","v":""},null,null,null,null,null,null,null,null,null,null,null,null,null,null,null,null,null,{"$f":"IF(B240<>\"\",1,0)","v":0}]
[null,null,null,null,null,null,null,null,null,null,null,null,null,null,null,null,null,null,null,null,null,null,{"$f":"IF(B240<>\"\",1,0)","v":0}]
[null,null,null,null,null,null,null,null,null,null,null,null,null,null,null,null,null,null,null,null,null,null,{"$f":"IF(B240<>\"\",1,0)","v":0}]
[null,null,null,null,null,null,null,null,null,null,null,null,null,null,null,null,null,null,null,null,null,null,{"$f":"IF(B240<>\"\",1,0)","v":0}]
[null,null,null,null,null,null,null,null,null,null,null,null,null,null,null,null,null,null,null,null,null,null,{"$f":"IF(B240<>\"\",1,0)","v":0}]
[null,{"$f":"C62","v":""},null,null,{"$f":"IFERROR(IF($G$108=\"Agency Mission\",HLOOKUP(B245,'IMPORTED DATA'!$X$13:$CE$322,4,FALSE),IF($G$108=\"Strategy Objective 1\",HLOOKUP(B245,'IMPORTED DATA'!$X$13:$CE$322,256,FALSE),IF($G$108=\"Strategy Objective 2\",HLOOKUP(B245,'IMPORTED DATA'!$X$13:$CE$322,267,FALSE),IF($G$108=\"Strategy Objective 3\",HLOOKUP(B245,'IMPORTED DATA'!$X$13:$CE$322,278,FALSE),IF($G$108=\"Strategy Objective 4\",HLOOKUP(B245,'IMPORTED DATA'!$X$13:$CE$322,289,FALSE),IF($G$108=\"Strategy Objective 5\",HLOOKUP(B245,'IMPORTED DATA'!$X$13:$CE$322,300,FALSE),\"\")))))),\"\")","v":""},null,null,null,null,null,null,null,null,null,null,null,null,null,null,null,null,null,{"$f":"IF(B245<>\"\",1,0)","v":0}]
[null,null,null,null,null,null,null,null,null,null,null,null,null,null,null,null,null,null,null,null,null,null,{"$f":"IF(B245<>\"\",1,0)","v":0}]
[null,null,null,null,null,null,null,null,null,null,null,null,null,null,null,null,null,null,null,null,null,null,{"$f":"IF(B245<>\"\",1,0)","v":0}]
[null,null,null,null,null,null,null,null,null,null,null,null,null,null,null,null,null,null,null,null,null,null,{"$f":"IF(B245<>\"\",1,0)","v":0}]
[null,null,null,null,null,null,null,null,null,null,null,null,null,null,null,null,null,null,null,null,null,null,{"$f":"IF(B245<>\"\",1,0)","v":0}]
[null,{"$f":"C63","v":""},null,null,{"$f":"IFERROR(IF($G$108=\"Agency Mission\",HLOOKUP(B250,'IMPORTED DATA'!$X$13:$CE$322,4,FALSE),IF($G$108=\"Strategy Objective 1\",HLOOKUP(B250,'IMPORTED DATA'!$X$13:$CE$322,256,FALSE),IF($G$108=\"Strategy Objective 2\",HLOOKUP(B250,'IMPORTED DATA'!$X$13:$CE$322,267,FALSE),IF($G$108=\"Strategy Objective 3\",HLOOKUP(B250,'IMPORTED DATA'!$X$13:$CE$322,278,FALSE),IF($G$108=\"Strategy Objective 4\",HLOOKUP(B250,'IMPORTED DATA'!$X$13:$CE$322,289,FALSE),IF($G$108=\"Strategy Objective 5\",HLOOKUP(B250,'IMPORTED DATA'!$X$13:$CE$322,300,FALSE),\"\")))))),\"\")","v":""},null,null,null,null,null,null,null,null,null,null,null,null,null,null,null,null,null,{"$f":"IF(B250<>\"\",1,0)","v":0}]
[null,null,null,null,null,null,null,null,null,null,null,null,null,null,null,null,null,null,null,null,null,null,{"$f":"IF(B250<>\"\",1,0)","v":0}]
[null,null,null,null,null,null,null,null,null,null,null,null,null,null,null,null,null,null,null,null,null,null,{"$f":"IF(B250<>\"\",1,0)","v":0}]
[null,null,null,null,null,null,null,null,null,null,null,null,null,null,null,null,null,null,null,null,null,null,{"$f":"IF(B250<>\"\",1,0)","v":0}]
[null,null,null,null,null,null,null,null,null,null,null,null,null,null,null,null,null,null,null,null,null,null,{"$f":"IF(B250<>\"\",1,0)","v":0}]
[null,{"$f":"C64","v":""},null,null,{"$f":"IFERROR(IF($G$108=\"Agency Mission\",HLOOKUP(B255,'IMPORTED DATA'!$X$13:$CE$322,4,FALSE),IF($G$108=\"Strategy Objective 1\",HLOOKUP(B255,'IMPORTED DATA'!$X$13:$CE$322,256,FALSE),IF($G$108=\"Strategy Objective 2\",HLOOKUP(B255,'IMPORTED DATA'!$X$13:$CE$322,267,FALSE),IF($G$108=\"Strategy Objective 3\",HLOOKUP(B255,'IMPORTED DATA'!$X$13:$CE$322,278,FALSE),IF($G$108=\"Strategy Objective 4\",HLOOKUP(B255,'IMPORTED DATA'!$X$13:$CE$322,289,FALSE),IF($G$108=\"Strategy Objective 5\",HLOOKUP(B255,'IMPORTED DATA'!$X$13:$CE$322,300,FALSE),\"\")))))),\"\")","v":""},null,null,null,null,null,null,null,null,null,null,null,null,null,null,null,null,null,{"$f":"IF(B255<>\"\",1,0)","v":0}]
[null,null,null,null,null,null,null,null,null,null,null,null,null,null,null,null,null,null,null,null,null,null,{"$f":"IF(B255<>\"\",1,0)","v":0}]
[null,null,null,null,null,null,null,null,null,null,null,null,null,null,null,null,null,null,null,null,null,null,{"$f":"IF(B255<>\"\",1,0)","v":0}]
[null,null,null,null,null,null,null,null,null,null,null,null,null,null,null,null,null,null,null,null,null,null,{"$f":"IF(B255<>\"\",1,0)","v":0}]
[null,null,null,null,null,null,null,null,null,null,null,null,null,null,null,null,null,null,null,null,null,null,{"$f":"IF(B255<>\"\",1,0)","v":0}]
[null,{"$f":"C65","v":""},null,null,{"$f":"IFERROR(IF($G$108=\"Agency Mission\",HLOOKUP(B260,'IMPORTED DATA'!$X$13:$CE$322,4,FALSE),IF($G$108=\"Strategy Objective 1\",HLOOKUP(B260,'IMPORTED DATA'!$X$13:$CE$322,256,FALSE),IF($G$108=\"Strategy Objective 2\",HLOOKUP(B260,'IMPORTED DATA'!$X$13:$CE$322,267,FALSE),IF($G$108=\"Strategy Objective 3\",HLOOKUP(B260,'IMPORTED DATA'!$X$13:$CE$322,278,FALSE),IF($G$108=\"Strategy Objective 4\",HLOOKUP(B260,'IMPORTED DATA'!$X$13:$CE$322,289,FALSE),IF($G$108=\"Strategy Objective 5\",HLOOKUP(B260,'IMPORTED DATA'!$X$13:$CE$322,300,FALSE),\"\")))))),\"\")","v":""},null,null,null,null,null,null,null,null,null,null,null,null,null,null,null,null,null,{"$f":"IF(B260<>\"\",1,0)","v":0}]
[null,null,null,null,null,null,null,null,null,null,null,null,null,null,null,null,null,null,null,null,null,null,{"$f":"IF(B260<>\"\",1,0)","v":0}]
[null,null,null,null,null,null,null,null,null,null,null,null,null,null,null,null,null,null,null,null,null,null,{"$f":"IF(B260<>\"\",1,0)","v":0}]
[null,null,null,null,null,null,null,null,null,null,null,null,null,null,null,null,null,null,null,null,null,null,{"$f":"IF(B260<>\"\",1,0)","v":0}]
[null,null,null,null,null,null,null,null,null,null,null,null,null,null,null,null,null,null,null,null,null,null,{"$f":"IF(B260<>\"\",1,0)","v":0}]
[null,{"$f":"C66","v":""},null,null,{"$f":"IFERROR(IF($G$108=\"Agency Mission\",HLOOKUP(B265,'IMPORTED DATA'!$X$13:$CE$322,4,FALSE),IF($G$108=\"Strategy Objective 1\",HLOOKUP(B265,'IMPORTED DATA'!$X$13:$CE$322,256,FALSE),IF($G$108=\"Strategy Objective 2\",HLOOKUP(B265,'IMPORTED DATA'!$X$13:$CE$322,267,FALSE),IF($G$108=\"Strategy Objective 3\",HLOOKUP(B265,'IMPORTED DATA'!$X$13:$CE$322,278,FALSE),IF($G$108=\"Strategy Objective 4\",HLOOKUP(B265,'IMPORTED DATA'!$X$13:$CE$322,289,FALSE),IF($G$108=\"Strategy Objective 5\",HLOOKUP(B265,'IMPORTED DATA'!$X$13:$CE$322,300,FALSE),\"\")))))),\"\")","v":""},null,null,null,null,null,null,null,null,null,null,null,null,null,null,null,null,null,{"$f":"IF(B265<>\"\",1,0)","v":0}]
[null,null,null,null,null,null,null,null,null,null,null,null,null,null,null,null,null,null,null,null,null,null,{"$f":"IF(B265<>\"\",1,0)","v":0}]
[null,null,null,null,null,null,null,null,null,null,null,null,null,null,null,null,null,null,null,null,null,null,{"$f":"IF(B265<>\"\",1,0)","v":0}]
[null,null,null,null,null,null,null,null,null,null,null,null,null,null,null,null,null,null,null,null,null,null,{"$f":"IF(B265<>\"\",1,0)","v":0}]
[null,null,null,null,null,null,null,null,null,null,null,null,null,null,null,null,null,null,null,null,null,null,{"$f":"IF(B265<>\"\",1,0)","v":0}]
[null,{"$f":"C67","v":""},null,null,{"$f":"IFERROR(IF($G$108=\"Agency Mission\",HLOOKUP(B270,'IMPORTED DATA'!$X$13:$CE$322,4,FALSE),IF($G$108=\"Strategy Objective 1\",HLOOKUP(B270,'IMPORTED DATA'!$X$13:$CE$322,256,FALSE),IF($G$108=\"Strategy Objective 2\",HLOOKUP(B270,'IMPORTED DATA'!$X$13:$CE$322,267,FALSE),IF($G$108=\"Strategy Objective 3\",HLOOKUP(B270,'IMPORTED DATA'!$X$13:$CE$322,278,FALSE),IF($G$108=\"Strategy Objective 4\",HLOOKUP(B270,'IMPORTED DATA'!$X$13:$CE$322,289,FALSE),IF($G$108=\"Strategy Objective 5\",HLOOKUP(B270,'IMPORTED DATA'!$X$13:$CE$322,300,FALSE),\"\")))))),\"\")","v":""},null,null,null,null,null,null,null,null,null,null,null,null,null,null,null,null,null,{"$f":"IF(B270<>\"\",1,0)","v":0}]
[null,null,null,null,null,null,null,null,null,null,null,null,null,null,null,null,null,null,null,null,null,null,{"$f":"IF(B270<>\"\",1,0)","v":0}]
[null,null,null,null,null,null,null,null,null,null,null,null,null,null,null,null,null,null,null,null,null,null,{"$f":"IF(B270<>\"\",1,0)","v":0}]
[null,null,null,null,null,null,null,null,null,null,null,null,null,null,null,null,null,null,null,null,null,null,{"$f":"IF(B270<>\"\",1,0)","v":0}]
[null,null,null,null,null,null,null,null,null,null,null,null,null,null,null,null,null,null,null,null,null,null,{"$f":"IF(B270<>\"\",1,0)","v":0}]
[null,{"$f":"C68","v":""},null,null,{"$f":"IFERROR(IF($G$108=\"Agency Mission\",HLOOKUP(B275,'IMPORTED DATA'!$X$13:$CE$322,4,FALSE),IF($G$108=\"Strategy Objective 1\",HLOOKUP(B275,'IMPORTED DATA'!$X$13:$CE$322,256,FALSE),IF($G$108=\"Strategy Objective 2\",HLOOKUP(B275,'IMPORTED DATA'!$X$13:$CE$322,267,FALSE),IF($G$108=\"Strategy Objective 3\",HLOOKUP(B275,'IMPORTED DATA'!$X$13:$CE$322,278,FALSE),IF($G$108=\"Strategy Objective 4\",HLOOKUP(B275,'IMPORTED DATA'!$X$13:$CE$322,289,FALSE),IF($G$108=\"Strategy Objective 5\",HLOOKUP(B275,'IMPORTED DATA'!$X$13:$CE$322,300,FALSE),\"\")))))),\"\")","v":""},null,null,null,null,null,null,null,null,null,null,null,null,null,null,null,null,null,{"$f":"IF(B275<>\"\",1,0)","v":0}]
[null,null,null,null,null,null,null,null,null,null,null,null,null,null,null,null,null,null,null,null,null,null,{"$f":"IF(B275<>\"\",1,0)","v":0}]
[null,null,null,null,null,null,null,null,null,null,null,null,null,null,null,null,null,null,null,null,null,null,{"$f":"IF(B275<>\"\",1,0)","v":0}]
[null,null,null,null,null,null,null,null,null,null,null,null,null,null,null,null,null,null,null,null,null,null,{"$f":"IF(B275<>\"\",1,0)","v":0}]
[null,null,null,null,null,null,null,null,null,null,null,null,null,null,null,null,null,null,null,null,null,null,{"$f":"IF(B275<>\"\",1,0)","v":0}]
[null,{"$f":"C69","v":""},null,null,{"$f":"IFERROR(IF($G$108=\"Agency Mission\",HLOOKUP(B280,'IMPORTED DATA'!$X$13:$CE$322,4,FALSE),IF($G$108=\"Strategy Objective 1\",HLOOKUP(B280,'IMPORTED DATA'!$X$13:$CE$322,256,FALSE),IF($G$108=\"Strategy Objective 2\",HLOOKUP(B280,'IMPORTED DATA'!$X$13:$CE$322,267,FALSE),IF($G$108=\"Strategy Objective 3\",HLOOKUP(B280,'IMPORTED DATA'!$X$13:$CE$322,278,FALSE),IF($G$108=\"Strategy Objective 4\",HLOOKUP(B280,'IMPORTED DATA'!$X$13:$CE$322,289,FALSE),IF($G$108=\"Strategy Objective 5\",HLOOKUP(B280,'IMPORTED DATA'!$X$13:$CE$322,300,FALSE),\"\")))))),\"\")","v":""},null,null,null,null,null,null,null,null,null,null,null,null,null,null,null,null,null,{"$f":"IF(B280<>\"\",1,0)","v":0}]
[null,null,null,null,null,null,null,null,null,null,null,null,null,null,null,null,null,null,null,null,null,null,{"$f":"IF(B280<>\"\",1,0)","v":0}]
[null,null,null,null,null,null,null,null,null,null,null,null,null,null,null,null,null,null,null,null,null,null,{"$f":"IF(B280<>\"\",1,0)","v":0}]
[null,null,null,null,null,null,null,null,null,null,null,null,null,null,null,null,null,null,null,null,null,null,{"$f":"IF(B280<>\"\",1,0)","v":0}]
[null,null,null,null,null,null,null,null,null,null,null,null,null,null,null,null,null,null,null,null,null,null,{"$f":"IF(B280<>\"\",1,0)","v":0}]
[null,{"$f":"C70","v":""},null,null,{"$f":"IFERROR(IF($G$108=\"Agency Mission\",HLOOKUP(B285,'IMPORTED DATA'!$X$13:$CE$322,4,FALSE),IF($G$108=\"Strategy Objective 1\",HLOOKUP(B285,'IMPORTED DATA'!$X$13:$CE$322,256,FALSE),IF($G$108=\"Strategy Objective 2\",HLOOKUP(B285,'IMPORTED DATA'!$X$13:$CE$322,267,FALSE),IF($G$108=\"Strategy Objective 3\",HLOOKUP(B285,'IMPORTED DATA'!$X$13:$CE$322,278,FALSE),IF($G$108=\"Strategy Objective 4\",HLOOKUP(B285,'IMPORTED DATA'!$X$13:$CE$322,289,FALSE),IF($G$108=\"Strategy Objective 5\",HLOOKUP(B285,'IMPORTED DATA'!$X$13:$CE$322,300,FALSE),\"\")))))),\"\")","v":""},null,null,null,null,null,null,null,null,null,null,null,null,null,null,null,null,null,{"$f":"IF(B285<>\"\",1,0)","v":0}]
[null,null,null,null,null,null,null,null,null,null,null,null,null,null,null,null,null,null,null,null,null,null,{"$f":"IF(B285<>\"\",1,0)","v":0}]
[null,null,null,null,null,null,null,null,null,null,null,null,null,null,null,null,null,null,null,null,null,null,{"$f":"IF(B285<>\"\",1,0)","v":0}]
[null,null,null,null,null,null,null,null,null,null,null,null,null,null,null,null,null,null,null,null,null,null,{"$f":"IF(B285<>\"\",1,0)","v":0}]
[null,null,null,null,null,null,null,null,null,null,null,null,null,null,null,null,null,null,null,null,null,null,{"$f":"IF(B285<>\"\",1,0)","v":0}]
[null,{"$f":"C71","v":""},null,null,{"$f":"IFERROR(IF($G$108=\"Agency Mission\",HLOOKUP(B290,'IMPORTED DATA'!$X$13:$CE$322,4,FALSE),IF($G$108=\"Strategy Objective 1\",HLOOKUP(B290,'IMPORTED DATA'!$X$13:$CE$322,256,FALSE),IF($G$108=\"Strategy Objective 2\",HLOOKUP(B290,'IMPORTED DATA'!$X$13:$CE$322,267,FALSE),IF($G$108=\"Strategy Objective 3\",HLOOKUP(B290,'IMPORTED DATA'!$X$13:$CE$322,278,FALSE),IF($G$108=\"Strategy Objective 4\",HLOOKUP(B290,'IMPORTED DATA'!$X$13:$CE$322,289,FALSE),IF($G$108=\"Strategy Objective 5\",HLOOKUP(B290,'IMPORTED DATA'!$X$13:$CE$322,300,FALSE),\"\")))))),\"\")","v":""},null,null,null,null,null,null,null,null,null,null,null,null,null,null,null,null,null,{"$f":"IF(B290<>\"\",1,0)","v":0}]
[null,null,null,null,null,null,null,null,null,null,null,null,null,null,null,null,null,null,null,null,null,null,{"$f":"IF(B290<>\"\",1,0)","v":0}]
[null,null,null,null,null,null,null,null,null,null,null,null,null,null,null,null,null,null,null,null,null,null,{"$f":"IF(B290<>\"\",1,0)","v":0}]
[null,null,null,null,null,null,null,null,null,null,null,null,null,null,null,null,null,null,null,null,null,null,{"$f":"IF(B290<>\"\",1,0)","v":0}]
[null,null,null,null,null,null,null,null,null,null,null,null,null,null,null,null,null,null,null,null,null,null,{"$f":"IF(B290<>\"\",1,0)","v":0}]
[null,{"$f":"C72","v":""},null,null,{"$f":"IFERROR(IF($G$108=\"Agency Mission\",HLOOKUP(B295,'IMPORTED DATA'!$X$13:$CE$322,4,FALSE),IF($G$108=\"Strategy Objective 1\",HLOOKUP(B295,'IMPORTED DATA'!$X$13:$CE$322,256,FALSE),IF($G$108=\"Strategy Objective 2\",HLOOKUP(B295,'IMPORTED DATA'!$X$13:$CE$322,267,FALSE),IF($G$108=\"Strategy Objective 3\",HLOOKUP(B295,'IMPORTED DATA'!$X$13:$CE$322,278,FALSE),IF($G$108=\"Strategy Objective 4\",HLOOKUP(B295,'IMPORTED DATA'!$X$13:$CE$322,289,FALSE),IF($G$108=\"Strategy Objective 5\",HLOOKUP(B295,'IMPORTED DATA'!$X$13:$CE$322,300,FALSE),\"\")))))),\"\")","v":""},null,null,null,null,null,null,null,null,null,null,null,null,null,null,null,null,null,{"$f":"IF(B295<>\"\",1,0)","v":0}]
[null,null,null,null,null,null,null,null,null,null,null,null,null,null,null,null,null,null,null,null,null,null,{"$f":"IF(B295<>\"\",1,0)","v":0}]
[null,null,null,null,null,null,null,null,null,null,null,null,null,null,null,null,null,null,null,null,null,null,{"$f":"IF(B295<>\"\",1,0)","v":0}]
[null,null,null,null,null,null,null,null,null,null,null,null,null,null,null,null,null,null,null,null,null,null,{"$f":"IF(B295<>\"\",1,0)","v":0}]
[null,null,null,null,null,null,null,null,null,null,null,null,null,null,null,null,null,null,null,null,null,null,{"$f":"IF(B295<>\"\",1,0)","v":0}]
[null,{"$f":"C73","v":""},null,null,{"$f":"IFERROR(IF($G$108=\"Agency Mission\",HLOOKUP(B300,'IMPORTED DATA'!$X$13:$CE$322,4,FALSE),IF($G$108=\"Strategy Objective 1\",HLOOKUP(B300,'IMPORTED DATA'!$X$13:$CE$322,256,FALSE),IF($G$108=\"Strategy Objective 2\",HLOOKUP(B300,'IMPORTED DATA'!$X$13:$CE$322,267,FALSE),IF($G$108=\"Strategy Objective 3\",HLOOKUP(B300,'IMPORTED DATA'!$X$13:$CE$322,278,FALSE),IF($G$108=\"Strategy Objective 4\",HLOOKUP(B300,'IMPORTED DATA'!$X$13:$CE$322,289,FALSE),IF($G$108=\"Strategy Objective 5\",HLOOKUP(B300,'IMPORTED DATA'!$X$13:$CE$322,300,FALSE),\"\")))))),\"\")","v":""},null,null,null,null,null,null,null,null,null,null,null,null,null,null,null,null,null,{"$f":"IF(B300<>\"\",1,0)","v":0}]
[null,null,null,null,null,null,null,null,null,null,null,null,null,null,null,null,null,null,null,null,null,null,{"$f":"IF(B300<>\"\",1,0)","v":0}]
[null,null,null,null,null,null,null,null,null,null,null,null,null,null,null,null,null,null,null,null,null,null,{"$f":"IF(B300<>\"\",1,0)","v":0}]
[null,null,null,null,null,null,null,null,null,null,null,null,null,null,null,null,null,null,null,null,null,null,{"$f":"IF(B300<>\"\",1,0)","v":0}]
[null,null,null,null,null,null,null,null,null,null,null,null,null,null,null,null,null,null,null,null,null,null,{"$f":"IF(B300<>\"\",1,0)","v":0}]
[null,{"$f":"C74","v":""},null,null,{"$f":"IFERROR(IF($G$108=\"Agency Mission\",HLOOKUP(B305,'IMPORTED DATA'!$X$13:$CE$322,4,FALSE),IF($G$108=\"Strategy Objective 1\",HLOOKUP(B305,'IMPORTED DATA'!$X$13:$CE$322,256,FALSE),IF($G$108=\"Strategy Objective 2\",HLOOKUP(B305,'IMPORTED DATA'!$X$13:$CE$322,267,FALSE),IF($G$108=\"Strategy Objective 3\",HLOOKUP(B305,'IMPORTED DATA'!$X$13:$CE$322,278,FALSE),IF($G$108=\"Strategy Objective 4\",HLOOKUP(B305,'IMPORTED DATA'!$X$13:$CE$322,289,FALSE),IF($G$108=\"Strategy Objective 5\",HLOOKUP(B305,'IMPORTED DATA'!$X$13:$CE$322,300,FALSE),\"\")))))),\"\")","v":""},null,null,null,null,null,null,null,null,null,null,null,null,null,null,null,null,null,{"$f":"IF(B305<>\"\",1,0)","v":0}]
[null,null,null,null,null,null,null,null,null,null,null,null,null,null,null,null,null,null,null,null,null,null,{"$f":"IF(B305<>\"\",1,0)","v":0}]
[null,null,null,null,null,null,null,null,null,null,null,null,null,null,null,null,null,null,null,null,null,null,{"$f":"IF(B305<>\"\",1,0)","v":0}]
[null,null,null,null,null,null,null,null,null,null,null,null,null,null,null,null,null,null,null,null,null,null,{"$f":"IF(B305<>\"\",1,0)","v":0}]
[null,null,null,null,null,null,null,null,null,null,null,null,null,null,null,null,null,null,null,null,null,null,{"$f":"IF(B305<>\"\",1,0)","v":0}]
[null,{"$f":"C75","v":""},null,null,{"$f":"IFERROR(IF($G$108=\"Agency Mission\",HLOOKUP(B310,'IMPORTED DATA'!$X$13:$CE$322,4,FALSE),IF($G$108=\"Strategy Objective 1\",HLOOKUP(B310,'IMPORTED DATA'!$X$13:$CE$322,256,FALSE),IF($G$108=\"Strategy Objective 2\",HLOOKUP(B310,'IMPORTED DATA'!$X$13:$CE$322,267,FALSE),IF($G$108=\"Strategy Objective 3\",HLOOKUP(B310,'IMPORTED DATA'!$X$13:$CE$322,278,FALSE),IF($G$108=\"Strategy Objective 4\",HLOOKUP(B310,'IMPORTED DATA'!$X$13:$CE$322,289,FALSE),IF($G$108=\"Strategy Objective 5\",HLOOKUP(B310,'IMPORTED DATA'!$X$13:$CE$322,300,FALSE),\"\")))))),\"\")","v":""},null,null,null,null,null,null,null,null,null,null,null,null,null,null,null,null,null,{"$f":"IF(B310<>\"\",1,0)","v":0}]
[null,null,null,null,null,null,null,null,null,null,null,null,null,null,null,null,null,null,null,null,null,null,{"$f":"IF(B310<>\"\",1,0)","v":0}]
[null,null,null,null,null,null,null,null,null,null,null,null,null,null,null,null,null,null,null,null,null,null,{"$f":"IF(B310<>\"\",1,0)","v":0}]
[null,null,null,null,null,null,null,null,null,null,null,null,null,null,null,null,null,null,null,null,null,null,{"$f":"IF(B310<>\"\",1,0)","v":0}]
[null,null,null,null,null,null,null,null,null,null,null,null,null,null,null,null,null,null,null,null,null,null,{"$f":"IF(B310<>\"\",1,0)","v":0}]
[null,null,null,null,null,null,null,null,null,null,null,null,null,null,null,null,null,null,null,null,null,null,{"$f":"IF(B318<>\"\",1,0)","v":0}]
[null,"Internal Team",null,null,null,null,null,null,null,null,null,null,null,null,null,null,null,null,null,null,null,null,{"$f":"IF(B318<>\"\",1,0)","v":0}]
[null,null,null,null,null,null,null,null,null,null,null,null,null,null,null,null,null,null,null,null,null,null,{"$f":"IF(B318<>\"\",1,0)","v":0}]
[null,{"$f":"C80","v":""},null,null,{"$f":"IFERROR(IF($G$108=\"Agency Mission\",HLOOKUP(B318,'IMPORTED DATA'!$X$13:$CE$322,4,FALSE),IF($G$108=\"Strategy Objective 1\",HLOOKUP(B318,'IMPORTED DATA'!$X$13:$CE$322,256,FALSE),IF($G$108=\"Strategy Objective 2\",HLOOKUP(B318,'IMPORTED DATA'!$X$13:$CE$322,267,FALSE),IF($G$108=\"Strategy Objective 3\",HLOOKUP(B318,'IMPORTED DATA'!$X$13:$CE$322,278,FALSE),IF($G$108=\"Strategy Objective 4\",HLOOKUP(B318,'IMPORTED DATA'!$X$13:$CE$322,289,FALSE),IF($G$108=\"Strategy Objective 5\",HLOOKUP(B318,'IMPORTED DATA'!$X$13:$CE$322,300,FALSE),\"\")))))),\"\")","v":""},null,null,null,null,null,null,null,null,null,null,null,null,null,null,null,null,null,{"$f":"IF(B318<>\"\",1,0)","v":0}]
[null,null,null,null,null,null,null,null,null,null,null,null,null,null,null,null,null,null,null,null,null,null,{"$f":"IF(B318<>\"\",1,0)","v":0}]
[null,null,null,null,null,null,null,null,null,null,null,null,null,null,null,null,null,null,null,null,null,null,{"$f":"IF(B318<>\"\",1,0)","v":0}]
[null,null,null,null,null,null,null,null,null,null,null,null,null,null,null,null,null,null,null,null,null,null,{"$f":"IF(B318<>\"\",1,0)","v":0}]
[null,null,null,null,null,null,null,null,null,null,null,null,null,null,null,null,null,null,null,null,null,null,{"$f":"IF(B318<>\"\",1,0)","v":0}]
[null,{"$f":"C81","v":""},null,null,{"$f":"IFERROR(IF($G$108=\"Agency Mission\",HLOOKUP(B323,'IMPORTED DATA'!$X$13:$CE$322,4,FALSE),IF($G$108=\"Strategy Objective 1\",HLOOKUP(B323,'IMPORTED DATA'!$X$13:$CE$322,256,FALSE),IF($G$108=\"Strategy Objective 2\",HLOOKUP(B323,'IMPORTED DATA'!$X$13:$CE$322,267,FALSE),IF($G$108=\"Strategy Objective 3\",HLOOKUP(B323,'IMPORTED DATA'!$X$13:$CE$322,278,FALSE),IF($G$108=\"Strategy Objective 4\",HLOOKUP(B323,'IMPORTED DATA'!$X$13:$CE$322,289,FALSE),IF($G$108=\"Strategy Objective 5\",HLOOKUP(B323,'IMPORTED DATA'!$X$13:$CE$322,300,FALSE),\"\")))))),\"\")","v":""},null,null,null,null,null,null,null,null,null,null,null,null,null,null,null,null,null,{"$f":"IF(B323<>\"\",1,0)","v":0}]
[null,null,null,null,null,null,null,null,null,null,null,null,null,null,null,null,null,null,null,null,null,null,{"$f":"IF(B323<>\"\",1,0)","v":0}]
[null,null,null,null,null,null,null,null,null,null,null,null,null,null,null,null,null,null,null,null,null,null,{"$f":"IF(B323<>\"\",1,0)","v":0}]
[null,null,null,null,null,null,null,null,null,null,null,null,null,null,null,null,null,null,null,null,null,null,{"$f":"IF(B323<>\"\",1,0)","v":0}]
[null,null,null,null,null,null,null,null,null,null,null,null,null,null,null,null,null,null,null,null,null,null,{"$f":"IF(B323<>\"\",1,0)","v":0}]
[null,{"$f":"C82","v":""},null,null,{"$f":"IFERROR(IF($G$108=\"Agency Mission\",HLOOKUP(B328,'IMPORTED DATA'!$X$13:$CE$322,4,FALSE),IF($G$108=\"Strategy Objective 1\",HLOOKUP(B328,'IMPORTED DATA'!$X$13:$CE$322,256,FALSE),IF($G$108=\"Strategy Objective 2\",HLOOKUP(B328,'IMPORTED DATA'!$X$13:$CE$322,267,FALSE),IF($G$108=\"Strategy Objective 3\",HLOOKUP(B328,'IMPORTED DATA'!$X$13:$CE$322,278,FALSE),IF($G$108=\"Strategy Objective 4\",HLOOKUP(B328,'IMPORTED DATA'!$X$13:$CE$322,289,FALSE),IF($G$108=\"Strategy Objective 5\",HLOOKUP(B328,'IMPORTED DATA'!$X$13:$CE$322,300,FALSE),\"\")))))),\"\")","v":""},null,null,null,null,null,null,null,null,null,null,null,null,null,null,null,null,null,{"$f":"IF(B328<>\"\",1,0)","v":0}]
[null,null,null,null,null,null,null,null,null,null,null,null,null,null,null,null,null,null,null,null,null,null,{"$f":"IF(B328<>\"\",1,0)","v":0}]
[null,null,null,null,null,null,null,null,null,null,null,null,null,null,null,null,null,null,null,null,null,null,{"$f":"IF(B328<>\"\",1,0)","v":0}]
[null,null,null,null,null,null,null,null,null,null,null,null,null,null,null,null,null,null,null,null,null,null,{"$f":"IF(B328<>\"\",1,0)","v":0}]
[null,null,null,null,null,null,null,null,null,null,null,null,null,null,null,null,null,null,null,null,null,null,{"$f":"IF(B328<>\"\",1,0)","v":0}]
[null,{"$f":"C83","v":""},null,null,{"$f":"IFERROR(IF($G$108=\"Agency Mission\",HLOOKUP(B333,'IMPORTED DATA'!$X$13:$CE$322,4,FALSE),IF($G$108=\"Strategy Objective 1\",HLOOKUP(B333,'IMPORTED DATA'!$X$13:$CE$322,256,FALSE),IF($G$108=\"Strategy Objective 2\",HLOOKUP(B333,'IMPORTED DATA'!$X$13:$CE$322,267,FALSE),IF($G$108=\"Strategy Objective 3\",HLOOKUP(B333,'IMPORTED DATA'!$X$13:$CE$322,278,FALSE),IF($G$108=\"Strategy Objective 4\",HLOOKUP(B333,'IMPORTED DATA'!$X$13:$CE$322,289,FALSE),IF($G$108=\"Strategy Objective 5\",HLOOKUP(B333,'IMPORTED DATA'!$X$13:$CE$322,300,FALSE),\"\")))))),\"\")","v":""},null,null,null,null,null,null,null,null,null,null,null,null,null,null,null,null,null,{"$f":"IF(B333<>\"\",1,0)","v":0}]
[null,null,null,null,null,null,null,null,null,null,null,null,null,null,null,null,null,null,null,null,null,null,{"$f":"IF(B333<>\"\",1,0)","v":0}]
[null,null,null,null,null,null,null,null,null,null,null,null,null,null,null,null,null,null,null,null,null,null,{"$f":"IF(B333<>\"\",1,0)","v":0}]
[null,null,null,null,null,null,null,null,null,null,null,null,null,null,null,null,null,null,null,null,null,null,{"$f":"IF(B333<>\"\",1,0)","v":0}]
[null,null,null,null,null,null,null,null,null,null,null,null,null,null,null,null,null,null,null,null,null,null,{"$f":"IF(B333<>\"\",1,0)","v":0}]
[null,{"$f":"C84","v":""},null,null,{"$f":"IFERROR(IF($G$108=\"Agency Mission\",HLOOKUP(B338,'IMPORTED DATA'!$X$13:$CE$322,4,FALSE),IF($G$108=\"Strategy Objective 1\",HLOOKUP(B338,'IMPORTED DATA'!$X$13:$CE$322,256,FALSE),IF($G$108=\"Strategy Objective 2\",HLOOKUP(B338,'IMPORTED DATA'!$X$13:$CE$322,267,FALSE),IF($G$108=\"Strategy Objective 3\",HLOOKUP(B338,'IMPORTED DATA'!$X$13:$CE$322,278,FALSE),IF($G$108=\"Strategy Objective 4\",HLOOKUP(B338,'IMPORTED DATA'!$X$13:$CE$322,289,FALSE),IF($G$108=\"Strategy Objective 5\",HLOOKUP(B338,'IMPORTED DATA'!$X$13:$CE$322,300,FALSE),\"\")))))),\"\")","v":""},null,null,null,null,null,null,null,null,null,null,null,null,null,null,null,null,null,{"$f":"IF(B338<>\"\",1,0)","v":0}]
[null,null,null,null,null,null,null,null,null,null,null,null,null,null,null,null,null,null,null,null,null,null,{"$f":"IF(B338<>\"\",1,0)","v":0}]
[null,null,null,null,null,null,null,null,null,null,null,null,null,null,null,null,null,null,null,null,null,null,{"$f":"IF(B338<>\"\",1,0)","v":0}]
[null,null,null,null,null,null,null,null,null,null,null,null,null,null,null,null,null,null,null,null,null,null,{"$f":"IF(B338<>\"\",1,0)","v":0}]
[null,null,null,null,null,null,null,null,null,null,null,null,null,null,null,null,null,null,null,null,null,null,{"$f":"IF(B338<>\"\",1,0)","v":0}]
[null,{"$f":"C85","v":""},null,null,{"$f":"IFERROR(IF($G$108=\"Agency Mission\",HLOOKUP(B343,'IMPORTED DATA'!$X$13:$CE$322,4,FALSE),IF($G$108=\"Strategy Objective 1\",HLOOKUP(B343,'IMPORTED DATA'!$X$13:$CE$322,256,FALSE),IF($G$108=\"Strategy Objective 2\",HLOOKUP(B343,'IMPORTED DATA'!$X$13:$CE$322,267,FALSE),IF($G$108=\"Strategy Objective 3\",HLOOKUP(B343,'IMPORTED DATA'!$X$13:$CE$322,278,FALSE),IF($G$108=\"Strategy Objective 4\",HLOOKUP(B343,'IMPORTED DATA'!$X$13:$CE$322,289,FALSE),IF($G$108=\"Strategy Objective 5\",HLOOKUP(B343,'IMPORTED DATA'!$X$13:$CE$322,300,FALSE),\"\")))))),\"\")","v":""},null,null,null,null,null,null,null,null,null,null,null,null,null,null,null,null,null,{"$f":"IF(B343<>\"\",1,0)","v":0}]
[null,null,null,null,null,null,null,null,null,null,null,null,null,null,null,null,null,null,null,null,null,null,{"$f":"IF(B343<>\"\",1,0)","v":0}]
[null,null,null,null,null,null,null,null,null,null,null,null,null,null,null,null,null,null,null,null,null,null,{"$f":"IF(B343<>\"\",1,0)","v":0}]
[null,null,null,null,null,null,null,null,null,null,null,null,null,null,null,null,null,null,null,null,null,null,{"$f":"IF(B343<>\"\",1,0)","v":0}]
[null,null,null,null,null,null,null,null,null,null,null,null,null,null,null,null,null,null,null,null,null,null,{"$f":"IF(B343<>\"\",1,0)","v":0}]
[null,{"$f":"C86","v":""},null,null,{"$f":"IFERROR(IF($G$108=\"Agency Mission\",HLOOKUP(B348,'IMPORTED DATA'!$X$13:$CE$322,4,FALSE),IF($G$108=\"Strategy Objective 1\",HLOOKUP(B348,'IMPORTED DATA'!$X$13:$CE$322,256,FALSE),IF($G$108=\"Strategy Objective 2\",HLOOKUP(B348,'IMPORTED DATA'!$X$13:$CE$322,267,FALSE),IF($G$108=\"Strategy Objective 3\",HLOOKUP(B348,'IMPORTED DATA'!$X$13:$CE$322,278,FALSE),IF($G$108=\"Strategy Objective 4\",HLOOKUP(B348,'IMPORTED DATA'!$X$13:$CE$322,289,FALSE),IF($G$108=\"Strategy Objective 5\",HLOOKUP(B348,'IMPORTED DATA'!$X$13:$CE$322,300,FALSE),\"\")))))),\"\")","v":""},null,null,null,null,null,null,null,null,null,null,null,null,null,null,null,null,null,{"$f":"IF(B348<>\"\",1,0)","v":0}]
[null,null,null,null,null,null,null,null,null,null,null,null,null,null,null,null,null,null,null,null,null,null,{"$f":"IF(B348<>\"\",1,0)","v":0}]
[null,null,null,null,null,null,null,null,null,null,null,null,null,null,null,null,null,null,null,null,null,null,{"$f":"IF(B348<>\"\",1,0)","v":0}]
[null,null,null,null,null,null,null,null,null,null,null,null,null,null,null,null,null,null,null,null,null,null,{"$f":"IF(B348<>\"\",1,0)","v":0}]
[null,null,null,null,null,null,null,null,null,null,null,null,null,null,null,null,null,null,null,null,null,null,{"$f":"IF(B348<>\"\",1,0)","v":0}]
[null,{"$f":"C87","v":""},null,null,{"$f":"IFERROR(IF($G$108=\"Agency Mission\",HLOOKUP(B353,'IMPORTED DATA'!$X$13:$CE$322,4,FALSE),IF($G$108=\"Strategy Objective 1\",HLOOKUP(B353,'IMPORTED DATA'!$X$13:$CE$322,256,FALSE),IF($G$108=\"Strategy Objective 2\",HLOOKUP(B353,'IMPORTED DATA'!$X$13:$CE$322,267,FALSE),IF($G$108=\"Strategy Objective 3\",HLOOKUP(B353,'IMPORTED DATA'!$X$13:$CE$322,278,FALSE),IF($G$108=\"Strategy Objective 4\",HLOOKUP(B353,'IMPORTED DATA'!$X$13:$CE$322,289,FALSE),IF($G$108=\"Strategy Objective 5\",HLOOKUP(B353,'IMPORTED DATA'!$X$13:$CE$322,300,FALSE),\"\")))))),\"\")","v":""},null,null,null,null,null,null,null,null,null,null,null,null,null,null,null,null,null,{"$f":"IF(B353<>\"\",1,0)","v":0}]
[null,null,null,null,null,null,null,null,null,null,null,null,null,null,null,null,null,null,null,null,null,null,{"$f":"IF(B353<>\"\",1,0)","v":0}]
[null,null,null,null,null,null,null,null,null,null,null,null,null,null,null,null,null,null,null,null,null,null,{"$f":"IF(B353<>\"\",1,0)","v":0}]
[null,null,null,null,null,null,null,null,null,null,null,null,null,null,null,null,null,null,null,null,null,null,{"$f":"IF(B353<>\"\",1,0)","v":0}]
[null,null,null,null,null,null,null,null,null,null,null,null,null,null,null,null,null,null,null,null,null,null,{"$f":"IF(B353<>\"\",1,0)","v":0}]
[null,{"$f":"C88","v":""},null,null,{"$f":"IFERROR(IF($G$108=\"Agency Mission\",HLOOKUP(B358,'IMPORTED DATA'!$X$13:$CE$322,4,FALSE),IF($G$108=\"Strategy Objective 1\",HLOOKUP(B358,'IMPORTED DATA'!$X$13:$CE$322,256,FALSE),IF($G$108=\"Strategy Objective 2\",HLOOKUP(B358,'IMPORTED DATA'!$X$13:$CE$322,267,FALSE),IF($G$108=\"Strategy Objective 3\",HLOOKUP(B358,'IMPORTED DATA'!$X$13:$CE$322,278,FALSE),IF($G$108=\"Strategy Objective 4\",HLOOKUP(B358,'IMPORTED DATA'!$X$13:$CE$322,289,FALSE),IF($G$108=\"Strategy Objective 5\",HLOOKUP(B358,'IMPORTED DATA'!$X$13:$CE$322,300,FALSE),\"\")))))),\"\")","v":""},null,null,null,null,null,null,null,null,null,null,null,null,null,null,null,null,null,{"$f":"IF(B358<>\"\",1,0)","v":0}]
[null,null,null,null,null,null,null,null,null,null,null,null,null,null,null,null,null,null,null,null,null,null,{"$f":"IF(B358<>\"\",1,0)","v":0}]
[null,null,null,null,null,null,null,null,null,null,null,null,null,null,null,null,null,null,null,null,null,null,{"$f":"IF(B358<>\"\",1,0)","v":0}]
[null,null,null,null,null,null,null,null,null,null,null,null,null,null,null,null,null,null,null,null,null,null,{"$f":"IF(B358<>\"\",1,0)","v":0}]
[null,null,null,null,null,null,null,null,null,null,null,null,null,null,null,null,null,null,null,null,null,null,{"$f":"IF(B358<>\"\",1,0)","v":0}]
[null,{"$f":"C89","v":""},null,null,{"$f":"IFERROR(IF($G$108=\"Agency Mission\",HLOOKUP(B363,'IMPORTED DATA'!$X$13:$CE$322,4,FALSE),IF($G$108=\"Strategy Objective 1\",HLOOKUP(B363,'IMPORTED DATA'!$X$13:$CE$322,256,FALSE),IF($G$108=\"Strategy Objective 2\",HLOOKUP(B363,'IMPORTED DATA'!$X$13:$CE$322,267,FALSE),IF($G$108=\"Strategy Objective 3\",HLOOKUP(B363,'IMPORTED DATA'!$X$13:$CE$322,278,FALSE),IF($G$108=\"Strategy Objective 4\",HLOOKUP(B363,'IMPORTED DATA'!$X$13:$CE$322,289,FALSE),IF($G$108=\"Strategy Objective 5\",HLOOKUP(B363,'IMPORTED DATA'!$X$13:$CE$322,300,FALSE),\"\")))))),\"\")","v":""},null,null,null,null,null,null,null,null,null,null,null,null,null,null,null,null,null,{"$f":"IF(B363<>\"\",1,0)","v":0}]
[null,null,null,null,null,null,null,null,null,null,null,null,null,null,null,null,null,null,null,null,null,null,{"$f":"IF(B363<>\"\",1,0)","v":0}]
[null,null,null,null,null,null,null,null,null,null,null,null,null,null,null,null,null,null,null,null,null,null,{"$f":"IF(B363<>\"\",1,0)","v":0}]
[null,null,null,null,null,null,null,null,null,null,null,null,null,null,null,null,null,null,null,null,null,null,{"$f":"IF(B363<>\"\",1,0)","v":0}]
[null,null,null,null,null,null,null,null,null,null,null,null,null,null,null,null,null,null,null,null,null,null,{"$f":"IF(B363<>\"\",1,0)","v":0}]
[null,{"$f":"C90","v":""},null,null,{"$f":"IFERROR(IF($G$108=\"Agency Mission\",HLOOKUP(B368,'IMPORTED DATA'!$X$13:$CE$322,4,FALSE),IF($G$108=\"Strategy Objective 1\",HLOOKUP(B368,'IMPORTED DATA'!$X$13:$CE$322,256,FALSE),IF($G$108=\"Strategy Objective 2\",HLOOKUP(B368,'IMPORTED DATA'!$X$13:$CE$322,267,FALSE),IF($G$108=\"Strategy Objective 3\",HLOOKUP(B368,'IMPORTED DATA'!$X$13:$CE$322,278,FALSE),IF($G$108=\"Strategy Objective 4\",HLOOKUP(B368,'IMPORTED DATA'!$X$13:$CE$322,289,FALSE),IF($G$108=\"Strategy Objective 5\",HLOOKUP(B368,'IMPORTED DATA'!$X$13:$CE$322,300,FALSE),\"\")))))),\"\")","v":""},null,null,null,null,null,null,null,null,null,null,null,null,null,null,null,null,null,{"$f":"IF(B368<>\"\",1,0)","v":0}]
[null,null,null,null,null,null,null,null,null,null,null,null,null,null,null,null,null,null,null,null,null,null,{"$f":"IF(B368<>\"\",1,0)","v":0}]
[null,null,null,null,null,null,null,null,null,null,null,null,null,null,null,null,null,null,null,null,null,null,{"$f":"IF(B368<>\"\",1,0)","v":0}]
[null,null,null,null,null,null,null,null,null,null,null,null,null,null,null,null,null,null,null,null,null,null,{"$f":"IF(B368<>\"\",1,0)","v":0}]
[null,null,null,null,null,null,null,null,null,null,null,null,null,null,null,null,null,null,null,null,null,null,{"$f":"IF(B368<>\"\",1,0)","v":0}]
[null,{"$f":"C91","v":""},null,null,{"$f":"IFERROR(IF($G$108=\"Agency Mission\",HLOOKUP(B373,'IMPORTED DATA'!$X$13:$CE$322,4,FALSE),IF($G$108=\"Strategy Objective 1\",HLOOKUP(B373,'IMPORTED DATA'!$X$13:$CE$322,256,FALSE),IF($G$108=\"Strategy Objective 2\",HLOOKUP(B373,'IMPORTED DATA'!$X$13:$CE$322,267,FALSE),IF($G$108=\"Strategy Objective 3\",HLOOKUP(B373,'IMPORTED DATA'!$X$13:$CE$322,278,FALSE),IF($G$108=\"Strategy Objective 4\",HLOOKUP(B373,'IMPORTED DATA'!$X$13:$CE$322,289,FALSE),IF($G$108=\"Strategy Objective 5\",HLOOKUP(B373,'IMPORTED DATA'!$X$13:$CE$322,300,FALSE),\"\")))))),\"\")","v":""},null,null,null,null,null,null,null,null,null,null,null,null,null,null,null,null,null,{"$f":"IF(B373<>\"\",1,0)","v":0}]
[null,null,null,null,null,null,null,null,null,null,null,null,null,null,null,null,null,null,null,null,null,null,{"$f":"IF(B373<>\"\",1,0)","v":0}]
[null,null,null,null,null,null,null,null,null,null,null,null,null,null,null,null,null,null,null,null,null,null,{"$f":"IF(B373<>\"\",1,0)","v":0}]
[null,null,null,null,null,null,null,null,null,null,null,null,null,null,null,null,null,null,null,null,null,null,{"$f":"IF(B373<>\"\",1,0)","v":0}]
[null,null,null,null,null,null,null,null,null,null,null,null,null,null,null,null,null,null,null,null,null,null,{"$f":"IF(B373<>\"\",1,0)","v":0}]
[null,{"$f":"C92","v":""},null,null,{"$f":"IFERROR(IF($G$108=\"Agency Mission\",HLOOKUP(B378,'IMPORTED DATA'!$X$13:$CE$322,4,FALSE),IF($G$108=\"Strategy Objective 1\",HLOOKUP(B378,'IMPORTED DATA'!$X$13:$CE$322,256,FALSE),IF($G$108=\"Strategy Objective 2\",HLOOKUP(B378,'IMPORTED DATA'!$X$13:$CE$322,267,FALSE),IF($G$108=\"Strategy Objective 3\",HLOOKUP(B378,'IMPORTED DATA'!$X$13:$CE$322,278,FALSE),IF($G$108=\"Strategy Objective 4\",HLOOKUP(B378,'IMPORTED DATA'!$X$13:$CE$322,289,FALSE),IF($G$108=\"Strategy Objective 5\",HLOOKUP(B378,'IMPORTED DATA'!$X$13:$CE$322,300,FALSE),\"\")))))),\"\")","v":""},null,null,null,null,null,null,null,null,null,null,null,null,null,null,null,null,null,{"$f":"IF(B378<>\"\",1,0)","v":0}]
[null,null,null,null,null,null,null,null,null,null,null,null,null,null,null,null,null,null,null,null,null,null,{"$f":"IF(B378<>\"\",1,0)","v":0}]
[null,null,null,null,null,null,null,null,null,null,null,null,null,null,null,null,null,null,null,null,null,null,{"$f":"IF(B378<>\"\",1,0)","v":0}]
[null,null,null,null,null,null,null,null,null,null,null,null,null,null,null,null,null,null,null,null,null,null,{"$f":"IF(B378<>\"\",1,0)","v":0}]
[null,null,null,null,null,null,null,null,null,null,null,null,null,null,null,null,null,null,null,null,null,null,{"$f":"IF(B378<>\"\",1,0)","v":0}]
[null,{"$f":"C93","v":""},null,null,{"$f":"IFERROR(IF($G$108=\"Agency Mission\",HLOOKUP(B383,'IMPORTED DATA'!$X$13:$CE$322,4,FALSE),IF($G$108=\"Strategy Objective 1\",HLOOKUP(B383,'IMPORTED DATA'!$X$13:$CE$322,256,FALSE),IF($G$108=\"Strategy Objective 2\",HLOOKUP(B383,'IMPORTED DATA'!$X$13:$CE$322,267,FALSE),IF($G$108=\"Strategy Objective 3\",HLOOKUP(B383,'IMPORTED DATA'!$X$13:$CE$322,278,FALSE),IF($G$108=\"Strategy Objective 4\",HLOOKUP(B383,'IMPORTED DATA'!$X$13:$CE$322,289,FALSE),IF($G$108=\"Strategy Objective 5\",HLOOKUP(B383,'IMPORTED DATA'!$X$13:$CE$322,300,FALSE),\"\")))))),\"\")","v":""},null,null,null,null,null,null,null,null,null,null,null,null,null,null,null,null,null,{"$f":"IF(B383<>\"\",1,0)","v":0}]
[null,null,null,null,null,null,null,null,null,null,null,null,null,null,null,null,null,null,null,null,null,null,{"$f":"IF(B383<>\"\",1,0)","v":0}]
[null,null,null,null,null,null,null,null,null,null,null,null,null,null,null,null,null,null,null,null,null,null,{"$f":"IF(B383<>\"\",1,0)","v":0}]
[null,null,null,null,null,null,null,null,null,null,null,null,null,null,null,null,null,null,null,null,null,null,{"$f":"IF(B383<>\"\",1,0)","v":0}]
[null,null,null,null,null,null,null,null,null,null,null,null,null,null,null,null,null,null,null,null,null,null,{"$f":"IF(B383<>\"\",1,0)","v":0}]
[null,{"$f":"C94","v":""},null,null,{"$f":"IFERROR(IF($G$108=\"Agency Mission\",HLOOKUP(B388,'IMPORTED DATA'!$X$13:$CE$322,4,FALSE),IF($G$108=\"Strategy Objective 1\",HLOOKUP(B388,'IMPORTED DATA'!$X$13:$CE$322,256,FALSE),IF($G$108=\"Strategy Objective 2\",HLOOKUP(B388,'IMPORTED DATA'!$X$13:$CE$322,267,FALSE),IF($G$108=\"Strategy Objective 3\",HLOOKUP(B388,'IMPORTED DATA'!$X$13:$CE$322,278,FALSE),IF($G$108=\"Strategy Objective 4\",HLOOKUP(B388,'IMPORTED DATA'!$X$13:$CE$322,289,FALSE),IF($G$108=\"Strategy Objective 5\",HLOOKUP(B388,'IMPORTED DATA'!$X$13:$CE$322,300,FALSE),\"\")))))),\"\")","v":""},null,null,null,null,null,null,null,null,null,null,null,null,null,null,null,null,null,{"$f":"IF(B388<>\"\",1,0)","v":0}]
[null,null,null,null,null,null,null,null,null,null,null,null,null,null,null,null,null,null,null,null,null,null,{"$f":"IF(B388<>\"\",1,0)","v":0}]
[null,null,null,null,null,null,null,null,null,null,null,null,null,null,null,null,null,null,null,null,null,null,{"$f":"IF(B388<>\"\",1,0)","v":0}]
[null,null,null,null,null,null,null,null,null,null,null,null,null,null,null,null,null,null,null,null,null,null,{"$f":"IF(B388<>\"\",1,0)","v":0}]
[null,null,null,null,null,null,null,null,null,null,null,null,null,null,null,null,null,null,null,null,null,null,{"$f":"IF(B388<>\"\",1,0)","v":0}]
[null,{"$f":"C95","v":""},null,null,{"$f":"IFERROR(IF($G$108=\"Agency Mission\",HLOOKUP(B393,'IMPORTED DATA'!$X$13:$CE$322,4,FALSE),IF($G$108=\"Strategy Objective 1\",HLOOKUP(B393,'IMPORTED DATA'!$X$13:$CE$322,256,FALSE),IF($G$108=\"Strategy Objective 2\",HLOOKUP(B393,'IMPORTED DATA'!$X$13:$CE$322,267,FALSE),IF($G$108=\"Strategy Objective 3\",HLOOKUP(B393,'IMPORTED DATA'!$X$13:$CE$322,278,FALSE),IF($G$108=\"Strategy Objective 4\",HLOOKUP(B393,'IMPORTED DATA'!$X$13:$CE$322,289,FALSE),IF($G$108=\"Strategy Objective 5\",HLOOKUP(B393,'IMPORTED DATA'!$X$13:$CE$322,300,FALSE),\"\")))))),\"\")","v":""},null,null,null,null,null,null,null,null,null,null,null,null,null,null,null,null,null,{"$f":"IF(B393<>\"\",1,0)","v":0}]
[null,null,null,null,null,null,null,null,null,null,null,null,null,null,null,null,null,null,null,null,null,null,{"$f":"IF(B393<>\"\",1,0)","v":0}]
[null,null,null,null,null,null,null,null,null,null,null,null,null,null,null,null,null,null,null,null,null,null,{"$f":"IF(B393<>\"\",1,0)","v":0}]
[null,null,null,null,null,null,null,null,null,null,null,null,null,null,null,null,null,null,null,null,null,null,{"$f":"IF(B393<>\"\",1,0)","v":0}]
[null,null,null,null,null,null,null,null,null,null,null,null,null,null,null,null,null,null,null,null,null,null,{"$f":"IF(B393<>\"\",1,0)","v":0}]
[null,{"$f":"C96","v":""},null,null,{"$f":"IFERROR(IF($G$108=\"Agency Mission\",HLOOKUP(B398,'IMPORTED DATA'!$X$13:$CE$322,4,FALSE),IF($G$108=\"Strategy Objective 1\",HLOOKUP(B398,'IMPORTED DATA'!$X$13:$CE$322,256,FALSE),IF($G$108=\"Strategy Objective 2\",HLOOKUP(B398,'IMPORTED DATA'!$X$13:$CE$322,267,FALSE),IF($G$108=\"Strategy Objective 3\",HLOOKUP(B398,'IMPORTED DATA'!$X$13:$CE$322,278,FALSE),IF($G$108=\"Strategy Objective 4\",HLOOKUP(B398,'IMPORTED DATA'!$X$13:$CE$322,289,FALSE),IF($G$108=\"Strategy Objective 5\",HLOOKUP(B398,'IMPORTED DATA'!$X$13:$CE$322,300,FALSE),\"\")))))),\"\")","v":""},null,null,null,null,null,null,null,null,null,null,null,null,null,null,null,null,null,{"$f":"IF(B398<>\"\",1,0)","v":0}]
[null,null,null,null,null,null,null,null,null,null,null,null,null,null,null,null,null,null,null,null,null,null,{"$f":"IF(B398<>\"\",1,0)","v":0}]
[null,null,null,null,null,null,null,null,null,null,null,null,null,null,null,null,null,null,null,null,null,null,{"$f":"IF(B398<>\"\",1,0)","v":0}]
[null,null,null,null,null,null,null,null,null,null,null,null,null,null,null,null,null,null,null,null,null,null,{"$f":"IF(B398<>\"\",1,0)","v":0}]
[null,null,null,null,null,null,null,null,null,null,null,null,null,null,null,null,null,null,null,null,null,null,{"$f":"IF(B398<>\"\",1,0)","v":0}]
[null,{"$f":"C97","v":""},null,null,{"$f":"IFERROR(IF($G$108=\"Agency Mission\",HLOOKUP(B403,'IMPORTED DATA'!$X$13:$CE$322,4,FALSE),IF($G$108=\"Strategy Objective 1\",HLOOKUP(B403,'IMPORTED DATA'!$X$13:$CE$322,256,FALSE),IF($G$108=\"Strategy Objective 2\",HLOOKUP(B403,'IMPORTED DATA'!$X$13:$CE$322,267,FALSE),IF($G$108=\"Strategy Objective 3\",HLOOKUP(B403,'IMPORTED DATA'!$X$13:$CE$322,278,FALSE),IF($G$108=\"Strategy Objective 4\",HLOOKUP(B403,'IMPORTED DATA'!$X$13:$CE$322,289,FALSE),IF($G$108=\"Strategy Objective 5\",HLOOKUP(B403,'IMPORTED DATA'!$X$13:$CE$322,300,FALSE),\"\")))))),\"\")","v":""},null,null,null,null,null,null,null,null,null,null,null,null,null,null,null,null,null,{"$f":"IF(B403<>\"\",1,0)","v":0}]
[null,null,null,null,null,null,null,null,null,null,null,null,null,null,null,null,null,null,null,null,null,null,{"$f":"IF(B403<>\"\",1,0)","v":0}]
[null,null,null,null,null,null,null,null,null,null,null,null,null,null,null,null,null,null,null,null,null,null,{"$f":"IF(B403<>\"\",1,0)","v":0}]
[null,null,null,null,null,null,null,null,null,null,null,null,null,null,null,null,null,null,null,null,null,null,{"$f":"IF(B403<>\"\",1,0)","v":0}]
[null,null,null,null,null,null,null,null,null,null,null,null,null,null,null,null,null,null,null,null,null,null,{"$f":"IF(B403<>\"\",1,0)","v":0}]
[null,{"$f":"C98","v":""},null,null,{"$f":"IFERROR(IF($G$108=\"Agency Mission\",HLOOKUP(B408,'IMPORTED DATA'!$X$13:$CE$322,4,FALSE),IF($G$108=\"Strategy Objective 1\",HLOOKUP(B408,'IMPORTED DATA'!$X$13:$CE$322,256,FALSE),IF($G$108=\"Strategy Objective 2\",HLOOKUP(B408,'IMPORTED DATA'!$X$13:$CE$322,267,FALSE),IF($G$108=\"Strategy Objective 3\",HLOOKUP(B408,'IMPORTED DATA'!$X$13:$CE$322,278,FALSE),IF($G$108=\"Strategy Objective 4\",HLOOKUP(B408,'IMPORTED DATA'!$X$13:$CE$322,289,FALSE),IF($G$108=\"Strategy Objective 5\",HLOOKUP(B408,'IMPORTED DATA'!$X$13:$CE$322,300,FALSE),\"\")))))),\"\")","v":""},null,null,null,null,null,null,null,null,null,null,null,null,null,null,null,null,null,{"$f":"IF(B408<>\"\",1,0)","v":0}]
[null,null,null,null,null,null,null,null,null,null,null,null,null,null,null,null,null,null,null,null,null,null,{"$f":"IF(B408<>\"\",1,0)","v":0}]
[null,null,null,null,null,null,null,null,null,null,null,null,null,null,null,null,null,null,null,null,null,null,{"$f":"IF(B408<>\"\",1,0)","v":0}]
[null,null,null,null,null,null,null,null,null,null,null,null,null,null,null,null,null,null,null,null,null,null,{"$f":"IF(B408<>\"\",1,0)","v":0}]
[null,null,null,null,null,null,null,null,null,null,null,null,null,null,null,null,null,null,null,null,null,null,{"$f":"IF(B408<>\"\",1,0)","v":0}]
[null,{"$f":"C99","v":""},null,null,{"$f":"IFERROR(IF($G$108=\"Agency Mission\",HLOOKUP(B413,'IMPORTED DATA'!$X$13:$CE$322,4,FALSE),IF($G$108=\"Strategy Objective 1\",HLOOKUP(B413,'IMPORTED DATA'!$X$13:$CE$322,256,FALSE),IF($G$108=\"Strategy Objective 2\",HLOOKUP(B413,'IMPORTED DATA'!$X$13:$CE$322,267,FALSE),IF($G$108=\"Strategy Objective 3\",HLOOKUP(B413,'IMPORTED DATA'!$X$13:$CE$322,278,FALSE),IF($G$108=\"Strategy Objective 4\",HLOOKUP(B413,'IMPORTED DATA'!$X$13:$CE$322,289,FALSE),IF($G$108=\"Strategy Objective 5\",HLOOKUP(B413,'IMPORTED DATA'!$X$13:$CE$322,300,FALSE),\"\")))))),\"\")","v":""},null,null,null,null,null,null,null,null,null,null,null,null,null,null,null,null,null,{"$f":"IF(B413<>\"\",1,0)","v":0}]
[null,null,null,null,null,null,null,null,null,null,null,null,null,null,null,null,null,null,null,null,null,null,{"$f":"IF(B413<>\"\",1,0)","v":0}]
[null,null,null,null,null,null,null,null,null,null,null,null,null,null,null,null,null,null,null,null,null,null,{"$f":"IF(B413<>\"\",1,0)","v":0}]
[null,null,null,null,null,null,null,null,null,null,null,null,null,null,null,null,null,null,null,null,null,null,{"$f":"IF(B413<>\"\",1,0)","v":0}]
[null,null,null,null,null,null,null,null,null,null,null,null,null,null,null,null,null,null,null,null,null,null,{"$f":"IF(B413<>\"\",1,0)","v":0}]
[null,null,null,null,null,null,null,null,null,null,null,null,null,null,null,null,null,null,null,null,null,null,1]
[null,null,null,null,null,null,null,null,null,null,null,null,null,null,null,null,null,null,null,null,null,null,1]
[null,"(Optional) Step 3: Clear Data from Imported Internal Tools",null,null,null,null,null,null,null,null,null,null,null,null,null,null,null,null,null,null,null,null,1]
[null,null,null,null,null,null,null,null,null,null,null,null,null,null,null,null,null,null,null,null,null,null,1]
[null,"INSTRUCTIONS: The data from the imported internal plans can remain in the template. However, if the Agency is more comfortable with removing the data, it can be removed by clicking the \"Clear Data\" button below. This will remove all imported internal plan information. ",null,null,null,null,null,null,null,null,null,null,null,null,null,null,null,null,null,null,null,null,1]
[null,null,null,null,null,null,null,null,null,null,null,null,null,null,null,null,null,null,null,null,null,null,1]
[null,null,null,null,null,null,null,null,null,null,null,null,null,null,null,null,null,null,null,null,null,null,1]
[null,null,null,null,null,null,null,null,null,null,null,null,null,null,null,null,null,null,null,null,null,null,1]
[null,null,null,null,null,null,null,null,null,null,null,null,null,null,null,null,null,null,null,null,null,null,1]
[null,null,null,null,null,null,null,null,null,null,null,null,null,null,null,null,null,null,null,null,null,null,1]
[null,null,null,null,null,null,null,null,null,null,null,null,null,null,null,null,null,null,null,null,null,null,1]
[null,null,null,null,null,null,null,null,null,null,null,null,null,null,null,null,null,null,null,null,null,null,0]

{"sheet":"AGENCY DETAILS","index":5,"n_rows":717,"n_cols":23,"rows_kept":717,"cut":false,"hidden":false,"merged":[[141,2,142,12],[141,13,142,15],[143,2,144,15],[123,6,123,9],[122,6,122,9],[125,3,126,14],[127,3,130,15],[224,2,225,15],[135,1,136,12],[122,2,122,3],[122,4,122,5],[122,10,122,11],[122,12,122,13],[122,14,122,15],[123,2,123,3],[123,4,123,5],[123,10,123,11],[123,12,123,13],[123,14,123,15],[222,2,223,12],[222,13,223,15],[150,2,151,12],[150,13,151,15],[152,2,153,15],[114,2,114,3],[114,4,114,5],[114,10,114,11],[114,12,114,13],[114,14,114,15],[115,2,115,3],[115,4,115,5],[115,10,115,11],[115,12,115,13],[115,14,115,15],[115,6,115,9],[114,6,114,9],[112,2,112,3],[112,4,112,5],[112,10,112,11],[112,12,112,13],[112,14,112,15],[113,2,113,3],[113,4,113,5],[113,10,113,11],[113,12,113,13],[113,14,113,15],[112,6,112,9],[113,6,113,9],[110,2,110,3],[110,4,110,5],[110,10,110,11],[110,12,110,13],[110,14,110,15],[111,2,111,3],[111,4,111,5],[111,10,111,11],[111,12,111,13],[111,14,111,15],[110,6,110,9],[111,6,111,9],[108,2,108,3],[108,4,108,5],[108,10,108,11],[108,12,108,13],[108,14,108,15],[109,2,109,3],[109,4,109,5],[109,10,109,11],[109,12,109,13],[109,14,109,15],[108,6,108,9],[109,6,109,9],[106,2,106,3],[106,4,106,5],[106,10,106,11],[106,12,106,13],[106,14,106,15],[107,2,107,3],[107,4,107,5],[107,10,107,11],[107,12,107,13],[107,14,107,15],[106,6,106,9],[107,6,107,9],[104,2,104,3],[104,4,104,5],[104,10,104,11],[104,12,104,13],[104,14,104,15],[105,2,105,3],[105,4,105,5],[105,10,105,11],[105,12,105,13],[105,14,105,15],[104,6,104,9],[105,6,105,9],[102,2,102,3],[102,4,102,5],[102,10,102,11],[102,12,102,13],[102,14,102,15],[103,2,103,3],[103,4,103,5],[103,10,103,11],[103,12,103,13],[103,14,103,15],[102,6,102,9],[103,6,103,9],[100,2,100,3],[100,4,100,5],[100,10,100,11],[100,12,100,13],[100,14,100,15],[101,2,101,3],[101,4,101,5],[101,10,101,11],[101,12,101,13],[101,14,101,15],[100,6,100,9],[101,6,101,9],[98,2,98,3],[98,14,98,15],[98,12,98,13],[98,10,98,11],[99,14,99,15],[99,12,99,13],[99,10,99,11],[99,4,99,5],[99,2,99,3],[98,4,98,5],[98,6,98,9],[99,6,99,9],[121,2,121,3],[121,4,121,5],[121,10,121,11],[121,12,121,13],[121,14,121,15],[118,14,118,15],[119,2,119,3],[119,4,119,5],[119,10,119,11],[119,12,119,13],[118,2,118,3],[118,4,118,5],[118,10,118,11],[118,12,118,13],[119,14,119,15],[120,2,120,3],[120,4,120,5],[120,10,120,11],[120,12,120,13],[120,14,120,15],[74,2,74,5],[74,6,74,15],[75,2,75,5],[75,6,75,15],[76,2,76,5],[76,6,76,15],[77,2,77,5],[77,6,77,15],[91,2,93,15],[79,3,80,14],[81,3,84,15],[66,2,66,5],[66,6,66,15],[67,2,67,5],[67,6,67,15],[68,2,68,5],[68,6,68,15],[69,2,69,5],[69,6,69,15],[70,2,70,5],[70,6,70,15],[37,1,38,15],[53,2,54,12],[53,13,54,15],[55,2,58,15],[89,2,90,12],[40,2,41,12],[40,13,41,15],[42,2,43,15],[45,4,49,15],[62,2,62,5],[62,6,62,15],[63,2,63,5],[63,6,63,15],[64,2,64,5],[89,13,90,15],[64,6,64,15],[65,2,65,5],[65,6,65,15],[71,2,71,5],[71,6,71,15],[72,2,72,5],[72,6,72,15],[73,2,73,5],[73,6,73,15],[5,2,7,14],[8,2,10,14],[20,1,21,12],[20,13,21,15],[22,1,23,15],[25,9,25,15],[26,9,26,15],[28,10,31,15],[35,1,36,12],[35,13,36,15],[18,1,19,3],[13,3,15,9],[259,1,260,12],[259,13,260,15],[261,1,265,15],[116,6,116,9],[117,6,117,9],[186,2,187,12],[186,13,187,15],[188,2,189,15],[116,2,116,3],[116,4,116,5],[116,10,116,11],[116,12,116,13],[116,14,116,15],[117,2,117,3],[117,4,117,5],[117,10,117,11],[117,12,117,13],[117,14,117,15],[135,13,136,15],[137,1,139,15],[118,6,118,9],[119,6,119,9],[120,6,120,9],[121,6,121,9],[292,7,294,15],[295,7,297,15],[289,7,291,15],[286,7,288,15],[272,2,273,12],[272,13,273,15],[274,2,275,15],[277,5,279,15],[283,7,285,15],[319,7,321,15],[322,7,324,15],[313,7,315,15],[316,7,318,15],[299,2,300,12],[299,13,300,15],[301,2,302,15],[304,5,306,15],[310,7,312,15],[346,7,348,15],[349,7,351,15],[340,7,342,15],[343,7,345,15],[326,2,327,12],[326,13,327,15],[328,2,329,15],[331,5,333,15],[337,7,339,15],[373,7,375,15],[376,7,378,15],[367,7,369,15],[370,7,372,15],[353,2,354,12],[353,13,354,15],[355,2,356,15],[358,5,360,15],[364,7,366,15],[400,7,402,15],[403,7,405,15],[394,7,396,15],[397,7,399,15],[380,2,381,12],[380,13,381,15],[382,2,383,15],[385,5,387,15],[391,7,393,15],[427,7,429,15],[430,7,432,15],[421,7,423,15],[424,7,426,15],[407,2,408,12],[407,13,408,15],[409,2,410,15],[412,5,414,15],[418,7,420,15],[454,7,456,15],[457,7,459,15],[448,7,450,15],[451,7,453,15],[434,2,435,12],[434,13,435,15],[436,2,437,15],[439,5,441,15],[445,7,447,15],[481,7,483,15],[484,7,486,15],[475,7,477,15],[478,7,480,15],[461,2,462,12],[461,13,462,15],[463,2,464,15],[466,5,468,15],[472,7,474,15],[508,7,510,15],[511,7,513,15],[502,7,504,15],[505,7,507,15],[488,2,489,12],[488,13,489,15],[490,2,491,15],[493,5,495,15],[499,7,501,15],[535,7,537,15],[538,7,540,15],[529,7,531,15],[532,7,534,15],[515,2,516,12],[515,13,516,15],[517,2,518,15],[520,5,522,15],[526,7,528,15],[562,7,564,15],[565,7,567,15],[556,7,558,15],[559,7,561,15],[542,2,543,12],[542,13,543,15],[544,2,545,15],[547,5,549,15],[553,7,555,15],[589,7,591,15],[592,7,594,15],[583,7,585,15],[586,7,588,15],[569,2,570,12],[569,13,570,15],[571,2,572,15],[574,5,576,15],[580,7,582,15],[596,2,597,12],[709,1,710,15],[670,7,672,15],[673,7,675,15],[683,2,684,13],[685,2,688,15],[661,7,663,15],[643,7,645,15],[646,7,648,15],[637,7,639,15],[640,7,642,15],[596,13,597,15],[598,2,599,15],[601,5,603,15],[607,7,609,15],[267,2,270,14],[51,2,52,4],[33,1,34,3],[133,1,134,3],[257,1,258,3],[87,2,88,4],[678,1,678,15],[707,1,708,12],[707,13,708,15],[664,7,666,15],[667,7,669,15],[650,2,651,12],[650,13,651,15],[652,2,653,15],[655,5,657,15],[623,2,624,12],[623,13,624,15],[625,2,626,15],[628,5,630,15],[634,7,636,15],[616,7,618,15],[619,7,621,15],[610,7,612,15],[613,7,615,15]]}
[null,null,null,null,null,null,null,null,null,null,null,null,null,null,null,null,null,null,null,null,null,null,1]
[null,null,null,null,null,null,null,null,null,null,null,null,null,null,null,null,null,null,null,null,null,null,1]
[null,null,null,null,null,null,null,null,null,null,null,null,null,null,null,null,null,null,null,null,null,null,1]
[null,null,null,null,null,null,null,null,null,null,null,null,null,null,null,null,null,null,null,null,null,null,1]
[null,null,null,null,null,null,null,null,null,null,null,null,null,null,null,null,null,null,null,null,null,null,1]
[null,null,"AGENCY DETAILS",null,null,null,null,null,null,null,null,null,null,null,null,null,null,null,null,null,null,null,1]
[null,null,null,null,null,null,null,null,null,null,null,null,null,null,null,null,null,null,null,null,null,null,1]
[null,null,null,null,null,null,null,null,null,null,null,null,null,null,null,null,null,null,null,null,null,null,1]
[null,null,"This tab identifies information about the agency, beginning with general information and then narrowing in focus. These include the agency name, secretariat, agency number, positions and structure. This tab also includes information of the agency strategic plans that are impacted by or pertain to the continuity of operations, recruitment, retention, engagement, and/or workforce development.",null,null,null,null,null,null,null,null,null,null,null,null,null,null,null,null,null,null,null,1]
[null,null,null,null,null,null,null,null,null,null,null,null,null,null,null,null,null,null,null,null,null,null,1]
[null,null,null,null,null,null,null,null,null,null,null,null,null,null,null,null,null,null,null,null,null,null,1]
[null,null,null,null,null,null,null,null,null,null,null,null,null,null,null,null,null,null,null,null,null,null,1]
[null,null,null,null,null,null,null,null,null,null,null,null,null,null,null,null,null,null,null,null,null,null,1]
[null,null,null,{"$f":"IF(SUMIF($W$1:$W$716,1)<>SUBTOTAL(103,$W$1:$W$716),\"Employee Classifications Need to Be Refreshed.\",\"Employee Classifications are Up to Date.\")","v":"Employee Classifications are Up to Date."},null,null,null,null,null,null,null,null,null,null,null,null,null,null,null,null,null,null,1]
[null,null,null,null,null,null,null,null,null,null,null,null,null,null,null,null,null,null,null,null,null,null,1]
[null,null,null,null,null,null,null,null,null,null,null,null,null,null,null,null,null,null,null,null,null,null,1]
[null,null,null,null,null,null,null,null,null,null,null,null,null,null,null,null,null,null,null,null,null,null,1]
[null,null,null,null,null,null,null,null,null,null,null,null,null,null,null,null,null,null,null,null,null,null,1]
[null,null,null,null,null,null,null,null,null,null,null,null,null,null,null,null,null,null,null,null,null,null,1]
[null,null,null,null,null,null,null,null,null,null,null,null,null,null,null,null,null,null,null,null,null,null,1]
[null,"Step 1: Enter General Agency Information",null,null,null,null,null,null,null,null,null,null,null,{"$f":"IF(AND(J26<>\"\",J27<>\"\",P28<>\"\"),\"Complete\",\"Incomplete\")","v":"Incomplete"},null,null,null,null,null,null,null,null,1]
[null,null,null,null,null,null,null,null,null,null,null,null,null,null,null,null,null,null,null,null,null,null,1]
[null,"INSTRUCTIONS: Please select the agency name from the drop down menu in the yellow box. The secretary and agency number will be displayed. An optional logo can added by clicking the \"insert logo\" button and placing the picture into the box with a green outline.",null,null,null,null,null,null,null,null,null,null,null,null,null,null,null,null,null,null,null,null,1]
[null,null,null,null,null,null,null,null,null,null,null,null,null,null,null,null,null,null,null,null,null,null,1]
[null,null,null,null,null,null,null,null,null,null,null,null,null,null,null,null,null,null,null,null,null,null,1]
[null,null,null,null,null,null,null,null,"Select Agency Name:",null,null,null,null,null,null,null,null,{"$f":"IF(J26<>\"\",1,0)","v":0},null,null,null,null,1]
[null,null,null,null,null,null,null,null,"Agency Secretariat:",{"$f":"IFERROR(VLOOKUP(J26,'CENTRAL DATA'!F13:H141,2,FALSE),\"\")","v":""},null,null,null,null,null,null,null,null,null,null,null,null,1]
[null,null,null,null,null,null,null,null,null,null,null,null,null,null,"Agency Number:",{"$f":"IFERROR(VLOOKUP(J26,'CENTRAL DATA'!F13:H141,3,FALSE),\"\")","v":""},null,null,null,null,null,null,1]
[null,null,null,null,null,null,null,null,null,"Optional Agency Logo:",null,null,null,null,null,null,null,null,null,null,null,null,1]
[null,null,null,null,null,null,null,null,null,null,null,null,null,null,null,null,null,null,null,null,null,null,1]
[null,null,null,null,null,null,null,null,null,null,null,null,null,null,null,null,null,null,null,null,null,null,1]
[null,null,null,null,null,null,null,null,null,null,null,null,null,null,null,null,null,null,null,null,null,null,1]
[null,null,null,null,null,null,null,null,null,null,null,null,null,null,null,null,null,null,null,null,null,null,1]
[null,null,null,null,null,null,null,null,null,null,null,null,null,null,null,null,null,null,null,null,null,null,1]
[null,null,null,null,null,null,null,null,null,null,null,null,null,null,null,null,null,null,null,null,null,null,1]
[null,"Step 2: Enter Agency Operational Information",null,null,null,null,null,null,null,null,null,null,null,{"$f":"IF(AND(N41=\"complete\"),\"Complete\",\"Incomplete\")","v":"Incomplete"},null,null,null,null,null,null,null,null,1]
[null,null,null,null,null,null,null,null,null,null,null,null,null,null,null,null,null,null,null,null,null,null,1]
[null,"INSTRUCTIONS: Please provide a brief overview of the agency mission, identify the agency lines of service, and identify physical locations the agency operates. See the instructions for each sub-step for specifics of how to complete each step.",null,null,null,null,null,null,null,null,null,null,null,null,null,null,null,null,null,null,null,null,1]
[null,null,null,null,null,null,null,null,null,null,null,null,null,null,null,null,null,null,null,null,null,null,1]
[null,null,null,null,null,null,null,null,null,null,null,null,null,null,null,null,null,null,null,null,null,null,1]
[null,null,"Step 2(a): Enter Agency Mission",null,null,null,null,null,null,null,null,null,null,{"$f":"IF(E46<>\"\",\"Complete\",\"Incomplete\")","v":"Incomplete"},null,null,null,null,null,null,null,null,1]
[null,null,null,null,null,null,null,null,null,null,null,null,null,null,null,null,null,null,null,null,null,null,1]
[null,null,"INSTRUCTIONS: Enter a brief, high level, description of the agency mission in the yellow box below. Some items that may be included are what the agency does, who the agency serves, and/or how the agency meets the needs of those they serve.",null,null,null,null,null,null,null,null,null,null,null,null,null,null,null,null,null,null,null,1]
[null,null,null,null,null,null,null,null,null,null,null,null,null,null,null,null,null,null,null,null,null,null,1]
[null,null,null,null,null,null,null,null,null,null,null,null,null,null,null,null,null,null,null,null,null,null,1]
[null,null,null,"Agency Mission",null,null,null,null,null,null,null,null,null,null,null,null,null,{"$f":"IF(E46<>\"\",1,0)","v":0},null,null,null,null,1]
[null,null,null,null,null,null,null,null,null,null,null,null,null,null,null,null,null,null,null,null,null,null,1]
[null,null,null,null,null,null,null,null,null,null,null,null,null,null,null,null,null,null,null,null,null,null,1]
[null,null,null,null,null,null,null,null,null,null,null,null,null,null,null,null,null,null,null,null,null,null,1]
[null,null,null,null,null,null,null,null,null,null,null,null,null,null,null,null,null,null,null,null,null,null,1]
[null,null,null,null,null,null,null,null,null,null,null,null,null,null,null,null,null,null,null,null,null,null,1]
[null,null,null,null,null,null,null,null,null,null,null,null,null,null,null,null,null,null,null,null,null,null,1]
[null,null,null,null,null,null,null,null,null,null,null,null,null,null,null,null,null,null,null,null,null,null,1]
[null,null,"(Optional) Step 2(b): Identify Agency Lines of Service",null,null,null,null,null,null,null,null,null,null,null,null,null,null,null,null,null,null,null,1]
[null,null,null,null,null,null,null,null,null,null,null,null,null,null,null,null,null,null,null,null,null,null,1]
[null,null,"INSTRUCTIONS: A \"line of service\" is a modified approach to the traditional \"line of business\". From the agency mission entered previously, lines of service can be identified by the specific \"how's\" agencies achieve their mission. Please enter the different lines of service at the agency by clicking the \"add line of service\" and enter the line of service and a description. Up to 15 different lines of service can be added. ",null,null,null,null,null,null,null,null,null,null,null,null,null,null,null,null,null,null,null,1]
[null,null,null,null,null,null,null,null,null,null,null,null,null,null,null,null,null,null,null,null,null,null,1]
[null,null,null,null,null,null,null,null,null,null,null,null,null,null,null,null,null,null,null,null,null,null,1]
[null,null,null,null,null,null,null,null,null,null,null,null,null,null,null,null,null,null,null,null,null,null,1]
[null,null,null,null,null,null,null,null,null,null,null,null,null,null,null,null,null,null,null,null,null,null,1]
[null,null,null,null,null,null,null,null,null,null,null,null,null,null,null,null,null,null,null,null,null,null,1]
[null,null,null,null,null,null,null,null,null,null,null,null,null,null,null,null,null,null,null,null,null,null,1]
[null,null,"Line of Service Title",null,null,null,"Description (Very Brief)",null,null,null,null,null,null,null,null,null,null,null,null,null,null,null,{"$f":"IF('CENTRAL ANALYSIS'!$B$41>=1,1,0)","v":0}]
[null,null,"",null,null,null,"",null,null,null,null,null,null,null,null,null,null,null,null,null,null,null,{"$f":"IF('CENTRAL ANALYSIS'!$B$41>=1,1,0)","v":0}]
[null,null,"",null,null,null,"",null,null,null,null,null,null,null,null,null,null,null,null,null,null,null,{"$f":"IF('CENTRAL ANALYSIS'!$B$41>=2,1,0)","v":0}]
[null,null,"",null,null,null,"",null,null,null,null,null,null,null,null,null,null,null,null,null,null,null,{"$f":"IF('CENTRAL ANALYSIS'!$B$41>=3,1,0)","v":0}]
[null,null,"",null,null,null,"",null,null,null,null,null,null,null,null,null,null,null,null,null,null,null,{"$f":"IF('CENTRAL ANALYSIS'!$B$41>=4,1,0)","v":0}]
[null,null,"",null,null,null,"",null,null,null,null,null,null,null,null,null,null,null,null,null,null,null,{"$f":"IF('CENTRAL ANALYSIS'!$B$41>=5,1,0)","v":0}]
[null,null,"",null,null,null,"",null,null,null,null,null,null,null,null,null,null,null,null,null,null,null,{"$f":"IF('CENTRAL ANALYSIS'!$B$41>=6,1,0)","v":0}]
[null,null,"",null,null,null,"",null,null,null,null,null,null,null,null,null,null,null,null,null,null,null,{"$f":"IF('CENTRAL ANALYSIS'!$B$41>=7,1,0)","v":0}]
[null,null,"",null,null,null,"",null,null,null,null,null,null,null,null,null,null,null,null,null,null,null,{"$f":"IF('CENTRAL ANALYSIS'!$B$41>=8,1,0)","v":0}]
[null,null,"",null,null,null,"",null,null,null,null,null,null,null,null,null,null,null,null,null,null,null,{"$f":"IF('CENTRAL ANALYSIS'!$B$41>=9,1,0)","v":0}]
[null,null,"",null,null,null,"",null,null,null,null,null,null,null,null,null,null,null,null,null,null,null,{"$f":"IF('CENTRAL ANALYSIS'!$B$41>=10,1,0)","v":0}]
[null,null,"",null,null,null,"",null,null,null,null,null,null,null,null,null,null,null,null,null,null,null,{"$f":"IF('CENTRAL ANALYSIS'!$B$41>=11,1,0)","v":0}]
[null,null,"",null,null,null,"",null,null,null,null,null,null,null,null,null,null,null,null,null,null,null,{"$f":"IF('CENTRAL ANALYSIS'!$B$41>=12,1,0)","v":0}]
[null,null,"",null,null,null,"",null,null,null,null,null,null,null,null,null,null,null,null,null,null,null,{"$f":"IF('CENTRAL ANALYSIS'!$B$41>=13,1,0)","v":0}]
[null,null,"",null,null,null,"",null,null,null,null,null,null,null,null,null,null,null,null,null,null,null,{"$f":"IF('CENTRAL ANALYSIS'!$B$41>=14,1,0)","v":0}]
[null,null,null,null,null,null,null,null,null,null,null,null,null,null,null,null,null,null,null,null,null,null,{"$f":"IF('CENTRAL ANALYSIS'!$B$41>=15,1,0)","v":0}]
[null,null,null,null,null,null,null,null,null,null,null,null,null,null,null,null,null,null,null,null,null,null,1]
[null,null,null,"(Optional) Step 2(b-i): Enter Lines of Service if Not Using Macros",null,null,null,null,null,null,null,null,null,null,null,null,null,null,null,null,null,null,1]
[null,null,null,null,null,null,null,null,null,null,null,null,null,null,null,null,null,null,null,null,null,null,1]
[null,null,null,"If chosen not to use Macros, please enter the total number of lines of service below. The worksheet will then need to be filtered manually by going to cell \"W1\" and clicking the Filter Icon. This will display a menu where the checkbox next to \"0\" should be empty. If it is, click the \"OK\" button to display the objective and action item entry cells above. Enter the lines of service information in the cells above.",null,null,null,null,null,null,null,null,null,null,null,null,null,null,null,null,null,null,1]
[null,null,null,null,null,null,null,null,null,null,null,null,null,null,null,null,null,null,null,null,null,null,1]
[null,null,null,null,null,null,null,null,null,null,null,null,null,null,null,null,null,null,null,null,null,null,1]
[null,null,null,null,null,null,null,null,null,null,null,null,null,null,null,null,null,null,null,null,null,null,1]
[null,null,null,null,null,null,null,null,null,null,null,null,null,null,"Total Number of Lines of Service",null,null,null,null,null,null,null,1]
[null,null,null,null,null,null,null,null,null,null,null,null,null,null,null,null,null,null,null,null,null,null,1]
[null,null,null,null,null,null,null,null,null,null,null,null,null,null,null,null,null,null,null,null,null,null,1]
[null,null,null,null,null,null,null,null,null,null,null,null,null,null,null,null,null,null,null,null,null,null,1]
[null,null,"(Optional) Step 2(c): Identify Agency Physical Locations",null,null,null,null,null,null,null,null,null,null,null,null,null,null,null,null,null,null,null,1]
[null,null,null,null,null,null,null,null,null,null,null,null,null,null,null,null,null,null,null,null,null,null,1]
[null,null,"INSTRUCTIONS: Please enter the different physical locations the agency operates by clicking the \"add location\". Multiple locations in close proximity can be considered one location. Enter the location name, county that best matches the location, the lines of service at that location, and the total positions, leader positions, and executive positions at the location. Up to 25 different locations can be added. ",null,null,null,null,null,null,null,null,null,null,null,null,null,null,null,null,null,null,null,1]
[null,null,null,null,null,null,null,null,null,null,null,null,null,null,null,null,null,null,null,null,null,null,1]
[null,null,null,null,null,null,null,null,null,null,null,null,null,null,null,null,null,null,null,null,null,null,1]
[null,null,null,null,null,null,null,null,null,null,null,null,null,null,null,null,null,null,null,null,null,null,1]
[null,null,null,null,null,null,null,null,null,null,null,null,null,null,null,null,null,null,null,null,null,null,1]
[null,null,null,null,null,null,null,null,null,null,null,null,null,null,null,null,null,null,null,null,null,null,1]
[null,null,null,null,null,null,null,null,null,null,null,null,null,null,null,null,null,null,null,null,null,null,1]
[null,null,"Location Name",null,"County of Location",null,"Lines of Service at Location",null,null,null,"Total Positions",null,"Leader Positions",null,"Executive Positions",null,null,null,null,null,null,null,{"$f":"IF('CENTRAL ANALYSIS'!$B$47>=1,1,0)","v":0}]
[null,null,"",null,"",null,"",null,null,null,"",null,"",null,"",null,null,null,null,null,null,null,{"$f":"IF('CENTRAL ANALYSIS'!$B$47>=1,1,0)","v":0}]
[null,null,"",null,"",null,"",null,null,null,"",null,"",null,"",null,null,null,null,null,null,null,{"$f":"IF('CENTRAL ANALYSIS'!$B$47>=2,1,0)","v":0}]
[null,null,"",null,"",null,"",null,null,null,"",null,"",null,"",null,null,null,null,null,null,null,{"$f":"IF('CENTRAL ANALYSIS'!$B$47>=3,1,0)","v":0}]
[null,null,"",null,"",null,"",null,null,null,"",null,"",null,"",null,null,null,null,null,null,null,{"$f":"IF('CENTRAL ANALYSIS'!$B$47>=4,1,0)","v":0}]
[null,null,"",null,"",null,"",null,null,null,"",null,"",null,"",null,null,null,null,null,null,null,{"$f":"IF('CENTRAL ANALYSIS'!$B$47>=5,1,0)","v":0}]
[null,null,"",null,"",null,"",null,null,null,"",null,"",null,"",null,null,null,null,null,null,null,{"$f":"IF('CENTRAL ANALYSIS'!$B$47>=6,1,0)","v":0}]
[null,null,"",null,"",null,"",null,null,null,"",null,"",null,"",null,null,null,null,null,null,null,{"$f":"IF('CENTRAL ANALYSIS'!$B$47>=7,1,0)","v":0}]
[null,null,"",null,"",null,"",null,null,null,"",null,"",null,"",null,null,null,null,null,null,null,{"$f":"IF('CENTRAL ANALYSIS'!$B$47>=8,1,0)","v":0}]
[null,null,"",null,"",null,"",null,null,null,"",null,"",null,"",null,null,null,null,null,null,null,{"$f":"IF('CENTRAL ANALYSIS'!$B$47>=9,1,0)","v":0}]
[null,null,"",null,"",null,"",null,null,null,"",null,"",null,"",null,null,null,null,null,null,null,{"$f":"IF('CENTRAL ANALYSIS'!$B$47>=10,1,0)","v":0}]
[null,null,"",null,"",null,"",null,null,null,"",null,"",null,"",null,null,null,null,null,null,null,{"$f":"IF('CENTRAL ANALYSIS'!$B$47>=11,1,0)","v":0}]
[null,null,"",null,"",null,"",null,null,null,"",null,"",null,"",null,null,null,null,null,null,null,{"$f":"IF('CENTRAL ANALYSIS'!$B$47>=12,1,0)","v":0}]
[null,null,"",null,"",null,"",null,null,null,"",null,"",null,"",null,null,null,null,null,null,null,{"$f":"IF('CENTRAL ANALYSIS'!$B$47>=13,1,0)","v":0}]
[null,null,"",null,"",null,"",null,null,null,"",null,"",null,"",null,null,null,null,null,null,null,{"$f":"IF('CENTRAL ANALYSIS'!$B$47>=14,1,0)","v":0}]
[null,null,"",null,"",null,"",null,null,null,"",null,"",null,"",null,null,null,null,null,null,null,{"$f":"IF('CENTRAL ANALYSIS'!$B$47>=15,1,0)","v":0}]
[null,null,"",null,"",null,"",null,null,null,"",null,"",null,"",null,null,null,null,null,null,null,{"$f":"IF('CENTRAL ANALYSIS'!$B$47>=16,1,0)","v":0}]
[null,null,"",null,"",null,"",null,null,null,"",null,"",null,"",null,null,null,null,null,null,null,{"$f":"IF('CENTRAL ANALYSIS'!$B$47>=17,1,0)","v":0}]
[null,null,"",null,"",null,"",null,null,null,"",null,"",null,"",null,null,null,null,null,null,null,{"$f":"IF('CENTRAL ANALYSIS'!$B$47>=18,1,0)","v":0}]
[null,null,"",null,"",null,"",null,null,null,"",null,"",null,"",null,null,null,null,null,null,null,{"$f":"IF('CENTRAL ANALYSIS'!$B$47>=19,1,0)","v":0}]
[null,null,"",null,"",null,"",null,null,null,"",null,"",null,"",null,null,null,null,null,null,null,{"$f":"IF('CENTRAL ANALYSIS'!$B$47>=20,1,0)","v":0}]
[null,null,"",null,"",null,"",null,null,null,"",null,"",null,"",null,null,null,null,null,null,null,{"$f":"IF('CENTRAL ANALYSIS'!$B$47>=21,1,0)","v":0}]
[null,null,"",null,"",null,"",null,null,null,"",null,"",null,"",null,null,null,null,null,null,null,{"$f":"IF('CENTRAL ANALYSIS'!$B$47>=22,1,0)","v":0}]
[null,null,"",null,"",null,"",null,null,null,"",null,"",null,"",null,null,null,null,null,null,null,{"$f":"IF('CENTRAL ANALYSIS'!$B$47>=23,1,0)","v":0}]
[null,null,"",null,"",null,"",null,null,null,"",null,"",null,"",null,null,null,null,null,null,null,{"$f":"IF('CENTRAL ANALYSIS'!$B$47>=24,1,0)","v":0}]
[null,null,"",null,"",null,"",null,null,null,"",null,"",null,"",null,null,null,null,null,null,null,{"$f":"IF('CENTRAL ANALYSIS'!$B$47>=25,1,0)","v":0}]
[null,null,null,null,null,null,null,null,null,null,null,null,null,null,null,null,null,null,null,null,null,null,1]
[null,null,null,"(Optional) Step 2(c-i): Enter Agency Locations if Not Using Macros",null,null,null,null,null,null,null,null,null,null,null,null,null,null,null,null,null,null,1]
[null,null,null,null,null,null,null,null,null,null,null,null,null,null,null,null,null,null,null,null,null,null,1]
[null,null,null,"If chosen not to use Macros, please enter the total number of agency locations below. The worksheet will then need to be filtered manually by going to cell \"W1\" and clicking the Filter Icon. This will display a menu where the checkbox next to \"0\" should be empty. If it is, click the \"OK\" button to display the objective and action item entry cells above. Enter the agency location information in the cells above.",null,null,null,null,null,null,null,null,null,null,null,null,null,null,null,null,null,null,1]
[null,null,null,null,null,null,null,null,null,null,null,null,null,null,null,null,null,null,null,null,null,null,1]
[null,null,null,null,null,null,null,null,null,null,null,null,null,null,null,null,null,null,null,null,null,null,1]
[null,null,null,null,null,null,null,null,null,null,null,null,null,null,null,null,null,null,null,null,null,null,1]
[null,null,null,null,null,null,null,null,null,null,null,null,null,null,"Total Number of Agency Locations",null,null,null,null,null,null,null,1]
[null,null,null,null,null,null,null,null,null,null,null,null,null,null,null,null,null,null,null,null,null,null,1]
[null,null,null,null,null,null,null,null,null,null,null,null,null,null,null,null,null,null,null,null,null,null,1]
[null,null,null,null,null,null,null,null,null,null,null,null,null,null,null,null,null,null,null,null,null,null,1]
[null,"Step 3: Enter Agency Size & Structure Information",null,null,null,null,null,null,null,null,null,null,null,{"$f":"IF(AND(N142=\"Complete\",N151=\"Complete\",N187=\"Complete\",N223=\"Complete\"),\"Complete\",\"Incomplete\")","v":"Incomplete"},null,null,null,null,null,null,null,null,1]
[null,null,null,null,null,null,null,null,null,null,null,null,null,null,null,null,null,null,null,null,null,null,1]
[null,"INSTRUCTIONS: Please enter the maximum employment level and position information for the agency. If the agency wishes to utilize the Sub-Agency or Internal Department review tool (a version of the Agency Profile and Agency Strategy templates), please identify the internal departments and/or sub-agencies. See the instructions for each sub-step for specifics of how to complete each step.",null,null,null,null,null,null,null,null,null,null,null,null,null,null,null,null,null,null,null,null,1]
[null,null,null,null,null,null,null,null,null,null,null,null,null,null,null,null,null,null,null,null,null,null,1]
[null,null,null,null,null,null,null,null,null,null,null,null,null,null,null,null,null,null,null,null,null,null,1]
[null,null,null,null,null,null,null,null,null,null,null,null,null,null,null,null,null,null,null,null,null,null,1]
[null,null,"Step 3(a): Enter Maximum Employment Level (MEL)",null,null,null,null,null,null,null,null,null,null,{"$f":"IF(P148<>\"\",\"Complete\",\"Incomplete\")","v":"Incomplete"},null,null,null,null,null,null,null,null,1]
[null,null,null,null,null,null,null,null,null,null,null,null,null,null,null,null,null,null,null,null,null,null,1]
[null,null,"INSTRUCTIONS: Enter the maximum employment level (MEL) for the agency in the yellow boxes below for each respective fiscal year. The maximum employment level is the authorized number of salaried full-time equivalent employees at the agency from the Appropriations Act.",null,null,null,null,null,null,null,null,null,null,null,null,null,null,null,null,null,null,null,1]
[null,null,null,null,null,null,null,null,null,null,null,null,null,null,null,null,null,null,null,null,null,null,1]
[null,null,null,null,null,null,null,null,null,null,null,null,null,null,null,null,null,null,null,null,null,null,1]
[null,null,null,null,null,null,null,null,null,null,null,null,null,{"$f":"CONCATENATE(\"FY\",RIGHT('DHRM ADMIN'!$P$15,2)-2)","v":"FY21"},{"$f":"CONCATENATE(\"FY\",RIGHT('DHRM ADMIN'!$P$15,2)-1)","v":"FY22"},{"$f":"CONCATENATE(\"FY\",RIGHT('DHRM ADMIN'!$P$15,2))","v":"FY23"},null,null,null,null,null,null,1]
[null,null,null,null,null,null,null,null,null,null,null,null,"Maximum Employment Level (MEL)",null,null,null,null,{"$f":"IF(O148<>\"\",1,0)","v":0},null,null,null,null,1]
[null,null,null,null,null,null,null,null,null,null,null,null,null,null,null,null,null,null,null,null,null,null,1]
[null,null,null,null,null,null,null,null,null,null,null,null,null,null,null,null,null,null,null,null,null,null,1]
[null,null,"Step 3(b): Enter Position Information",null,null,null,null,null,null,null,null,null,null,{"$f":"IF(AND(P157<>\"\",P158<>\"\",P159<>\"\",P160<>\"\",P161<>\"\",P162<>\"\",P163<>\"\",P164<>\"\",P165<>\"\",P166<>\"\",SUM(Q170:Q184)=SUM(C170:C184)),\"Complete\",\"Incomplete\")","v":"Incomplete"},null,null,null,null,null,null,null,null,1]
[null,null,null,null,null,null,null,null,null,null,null,null,null,null,null,null,null,null,null,null,null,null,1]
[null,null,"INSTRUCTIONS: Enter the total number of positions by EEO code and the total number of positions for each employee classification. ",null,null,null,null,null,null,null,null,null,null,null,null,null,null,null,null,null,null,null,1]
[null,null,null,null,null,null,null,null,null,null,null,null,null,null,null,null,null,null,null,null,null,null,1]
[null,null,null,null,null,null,null,null,null,null,null,null,null,null,null,"All Positions by EEO Code",null,null,null,null,null,null,1]
[null,null,null,null,null,null,null,null,null,null,null,null,null,{"$f":"CONCATENATE(\"FY\",RIGHT('DHRM ADMIN'!$P$15,2)-2)","v":"FY21"},{"$f":"CONCATENATE(\"FY\",RIGHT('DHRM ADMIN'!$P$15,2)-1)","v":"FY22"},{"$f":"CONCATENATE(\"FY\",RIGHT('DHRM ADMIN'!$P$15,2))","v":"FY23"},null,null,null,null,null,null,1]
[null,null,null,null,null,null,null,null,null,null,null,null,"Total Positions with EEO Code \"Officials and Administrators\"",null,null,null,null,{"$f":"IF(O157<>\"\",1,0)","v":0},null,null,null,null,1]
[null,null,null,null,null,null,null,null,null,null,null,null,"Total Positions with EEO Code \"Professionals\"",null,null,null,null,{"$f":"IF(O158<>\"\",1,0)","v":0},null,null,null,null,1]
[null,null,null,null,null,null,null,null,null,null,null,null,"Total Positions with EEO Code \"Technicians\"",null,null,null,null,0,null,null,null,null,1]
[null,null,null,null,null,null,null,null,null,null,null,null,"Total Positions with EEO Code \"Protective Service Workers\"",null,null,null,null,0,null,null,null,null,1]
[null,null,null,null,null,null,null,null,null,null,null,null,"Total Positions with EEO Code \"Paraprofessionals\"",null,null,null,null,0,null,null,null,null,1]
[null,null,null,null,null,null,null,null,null,null,null,null,"Total Positions with EEO Code \"Administrative Support\"",null,null,null,null,0,null,null,null,null,1]
[null,null,null,null,null,null,null,null,null,null,null,null,"Total Positions with EEO Code \"Skilled Craft Workers\"",null,null,null,null,0,null,null,null,null,1]
[null,null,null,null,null,null,null,null,null,null,null,null,"Total Positions with EEO Code \"Service/Maintenance\"",null,null,null,null,0,null,null,null,null,1]
[null,null,null,null,null,null,null,null,null,null,null,null,"Total Positions with EEO Code \"Faculty\"",null,null,null,null,0,null,null,null,null,1]
[null,null,null,null,null,null,null,null,null,null,null,null,"Total Positions with EEO Code \"Other\"",null,null,null,null,0,null,null,null,null,1]
[null,null,null,null,null,null,null,null,null,null,null,null,null,null,null,null,null,null,null,null,null,null,1]
[null,null,null,null,null,null,null,null,null,null,null,null,null,null,null,"All Positions by Classification",null,null,null,null,null,null,1]
[null,null,null,null,null,null,null,null,null,null,null,null,null,{"$f":"CONCATENATE(\"FY\",RIGHT('DHRM ADMIN'!$P$15,2)-2)","v":"FY21"},{"$f":"CONCATENATE(\"FY\",RIGHT('DHRM ADMIN'!$P$15,2)-1)","v":"FY22"},{"$f":"CONCATENATE(\"FY\",RIGHT('DHRM ADMIN'!$P$15,2))","v":"FY23"},null,null,null,null,null,null,1]
[null,null,{"$f":"IF(M170<>\"Total  Positions\",1,0)","v":0},null,null,null,null,null,null,null,null,null,{"$f":"CONCATENATE(\"Total \",CUSTOMIZATIONS!C28,\" Positions\")","v":"Total  Positions"},"",null,null,{"$f":"IF(AND(M170<>\"Total  Positions\",P170<>\"\"),1,0)","v":0},{"$f":"IF(O170<>\"\",1,0)","v":0},null,null,null,null,{"$f":"IF(C170=1,1,0)","v":0}]
[null,null,{"$f":"IF(M171<>\"Total  Positions\",1,0)","v":0},null,null,null,null,null,null,null,null,null,{"$f":"CONCATENATE(\"Total \",CUSTOMIZATIONS!C29,\" Positions\")","v":"Total  Positions"},"",null,null,{"$f":"IF(AND(M171<>\"Total  Positions\",P171<>\"\"),1,0)","v":0},0,null,null,null,null,{"$f":"IF(C171=1,1,0)","v":0}]
[null,null,0,null,null,null,null,null,null,null,null,null,{"$f":"CONCATENATE(\"Total \",CUSTOMIZATIONS!C30,\" Positions\")","v":"Total  Positions"},"",null,null,0,0,null,null,null,null,0]
[null,null,0,null,null,null,null,null,null,null,null,null,{"$f":"CONCATENATE(\"Total \",CUSTOMIZATIONS!C31,\" Positions\")","v":"Total  Positions"},"",null,null,0,0,null,null,null,null,0]
[null,null,0,null,null,null,null,null,null,null,null,null,{"$f":"CONCATENATE(\"Total \",CUSTOMIZATIONS!C32,\" Positions\")","v":"Total  Positions"},"",null,null,0,0,null,null,null,null,0]
[null,null,0,null,null,null,null,null,null,null,null,null,{"$f":"CONCATENATE(\"Total \",CUSTOMIZATIONS!C33,\" Positions\")","v":"Total  Positions"},"",null,null,0,0,null,null,null,null,0]
[null,null,0,null,null,null,null,null,null,null,null,null,{"$f":"CONCATENATE(\"Total \",CUSTOMIZATIONS!C34,\" Positions\")","v":"Total  Positions"},"",null,null,0,0,null,null,null,null,0]
[null,null,0,null,null,null,null,null,null,null,null,null,{"$f":"CONCATENATE(\"Total \",CUSTOMIZATIONS!C35,\" Positions\")","v":"Total  Positions"},"",null,null,0,0,null,null,null,null,0]
[null,null,0,null,null,null,null,null,null,null,null,null,{"$f":"CONCATENATE(\"Total \",CUSTOMIZATIONS!C36,\" Positions\")","v":"Total  Positions"},"",null,null,0,0,null,null,null,null,0]
[null,null,0,null,null,null,null,null,null,null,null,null,{"$f":"CONCATENATE(\"Total \",CUSTOMIZATIONS!C37,\" Positions\")","v":"Total  Positions"},"",null,null,0,0,null,null,null,null,0]
[null,null,0,null,null,null,null,null,null,null,null,null,{"$f":"CONCATENATE(\"Total \",CUSTOMIZATIONS!C38,\" Positions\")","v":"Total  Positions"},"",null,null,0,0,null,null,null,null,0]
[null,null,0,null,null,null,null,null,null,null,null,null,{"$f":"CONCATENATE(\"Total \",CUSTOMIZATIONS!C39,\" Positions\")","v":"Total  Positions"},"",null,null,0,0,null,null,null,null,0]
[null,null,0,null,null,null,null,null,null,null,null,null,{"$f":"CONCATENATE(\"Total \",CUSTOMIZATIONS!C40,\" Positions\")","v":"Total  Positions"},"",null,null,0,0,null,null,null,null,0]
[null,null,0,null,null,null,null,null,null,null,null,null,{"$f":"CONCATENATE(\"Total \",CUSTOMIZATIONS!C41,\" Positions\")","v":"Total  Positions"},"",null,null,0,0,null,null,null,null,0]
[null,null,{"$f":"IF(M184<>\"Total  Positions\",1,0)","v":0},null,null,null,null,null,null,null,null,null,{"$f":"CONCATENATE(\"Total \",CUSTOMIZATIONS!C42,\" Positions\")","v":"Total  Positions"},"",null,null,0,0,null,null,null,null,0]
[null,null,null,null,null,null,null,null,null,null,null,null,null,null,null,null,null,null,null,null,null,null,1]
[null,null,null,null,null,null,null,null,null,null,null,null,null,null,null,null,null,null,null,null,null,null,1]
[null,null,"Step 3(c): Enter Leader Position Information",null,null,null,null,null,null,null,null,null,null,{"$f":"IF(AND(P193<>\"\",P194<>\"\",P195<>\"\",P196<>\"\",P197<>\"\",P198<>\"\",P199<>\"\",P200<>\"\",P201<>\"\",P202<>\"\",SUM(Q206:Q220)=SUM(C206:C220)),\"Complete\",\"Incomplete\")","v":"Incomplete"},null,null,null,null,null,null,null,null,1]
[null,null,null,null,null,null,null,null,null,null,null,null,null,null,null,null,null,null,null,null,null,null,1]
[null,null,"INSTRUCTIONS: Enter the total number of leader positions by EEO code and the total number of leader positions for each employee classification. Leaders are defined as any individual who has a direct report. ",null,null,null,null,null,null,null,null,null,null,null,null,null,null,null,null,null,null,null,1]
[null,null,null,null,null,null,null,null,null,null,null,null,null,null,null,null,null,null,null,null,null,null,1]
[null,null,null,null,null,null,null,null,null,null,null,null,null,null,null,"Leader Positions by EEO Code",null,null,null,null,null,null,1]
[null,null,null,null,null,null,null,null,null,null,null,null,null,{"$f":"CONCATENATE(\"FY\",RIGHT('DHRM ADMIN'!$P$15,2)-2)","v":"FY21"},{"$f":"CONCATENATE(\"FY\",RIGHT('DHRM ADMIN'!$P$15,2)-1)","v":"FY22"},{"$f":"CONCATENATE(\"FY\",RIGHT('DHRM ADMIN'!$P$15,2))","v":"FY23"},null,null,null,null,null,null,1]
[null,null,null,null,null,null,null,null,null,null,null,null,"Total Leader Positions with EEO Code \"Officials and Administrators\"","",null,null,null,{"$f":"IF(O193<>\"\",1,0)","v":0},null,null,null,null,1]
[null,null,null,null,null,null,null,null,null,null,null,null,"Total Leader Positions with EEO Code \"Professionals\"","",null,null,null,{"$f":"IF(O194<>\"\",1,0)","v":0},null,null,null,null,1]
[null,null,null,null,null,null,null,null,null,null,null,null,"Total Leader Positions with EEO Code \"Technicians\"","",null,null,null,0,null,null,null,null,1]
[null,null,null,null,null,null,null,null,null,null,null,null,"Total Leader Positions with EEO Code \"Protective Service Workers\"","",null,null,null,0,null,null,null,null,1]
[null,null,null,null,null,null,null,null,null,null,null,null,"Total Leader Positions with EEO Code \"Paraprofessionals\"","",null,null,null,0,null,null,null,null,1]
[null,null,null,null,null,null,null,null,null,null,null,null,"Total Leader Positions with EEO Code \"Administrative Support\"","",null,null,null,0,null,null,null,null,1]
[null,null,null,null,null,null,null,null,null,null,null,null,"Total Leader Positions with EEO Code \"Skilled Craft Workers\"","",null,null,null,0,null,null,null,null,1]
[null,null,null,null,null,null,null,null,null,null,null,null,"Total Leader Positions with EEO Code \"Service/Maintenance\"","",null,null,null,0,null,null,null,null,1]
[null,null,null,null,null,null,null,null,null,null,null,null,"Total Leader Positions with EEO Code \"Faculty\"","",null,null,null,0,null,null,null,null,1]
[null,null,null,null,null,null,null,null,null,null,null,null,"Total Leader Positions with EEO Code \"Other\"","",null,null,null,0,null,null,null,null,1]
[null,null,null,null,null,null,null,null,null,null,null,null,null,null,null,null,null,null,null,null,null,null,1]
[null,null,null,null,null,null,null,null,null,null,null,null,null,null,null,"Leader Positions by Classification",null,null,null,null,null,null,1]
[null,null,null,null,null,null,null,null,null,null,null,null,null,{"$f":"CONCATENATE(\"FY\",RIGHT('DHRM ADMIN'!$P$15,2)-2)","v":"FY21"},{"$f":"CONCATENATE(\"FY\",RIGHT('DHRM ADMIN'!$P$15,2)-1)","v":"FY22"},{"$f":"CONCATENATE(\"FY\",RIGHT('DHRM ADMIN'!$P$15,2))","v":"FY23"},null,null,null,null,null,null,1]
[null,null,{"$f":"IF(M206<>\"Total Leader  Positions\",1,0)","v":0},null,null,null,null,null,null,null,null,null,{"$f":"CONCATENATE(\"Total Leader \",CUSTOMIZATIONS!C28,\" Positions\")","v":"Total Leader  Positions"},"",null,null,{"$f":"IF(AND(M206<>\"Total Leader  Positions\",P206<>\"\"),1,0)","v":0},{"$f":"IF(O206<>\"\",1,0)","v":0},null,null,null,null,{"$f":"IF(C206=1,1,0)","v":0}]
[null,null,{"$f":"IF(M207<>\"Total Leader  Positions\",1,0)","v":0},null,null,null,null,null,null,null,null,null,{"$f":"CONCATENATE(\"Total Leader \",CUSTOMIZATIONS!C29,\" Positions\")","v":"Total Leader  Positions"},"",null,null,{"$f":"IF(AND(M207<>\"Total Leader  Positions\",P207<>\"\"),1,0)","v":0},0,null,null,null,null,{"$f":"IF(C207=1,1,0)","v":0}]
[null,null,0,null,null,null,null,null,null,null,null,null,{"$f":"CONCATENATE(\"Total Leader \",CUSTOMIZATIONS!C30,\" Positions\")","v":"Total Leader  Positions"},"",null,null,0,0,null,null,null,null,0]
[null,null,0,null,null,null,null,null,null,null,null,null,{"$f":"CONCATENATE(\"Total Leader \",CUSTOMIZATIONS!C31,\" Positions\")","v":"Total Leader  Positions"},"",null,null,0,0,null,null,null,null,0]
[null,null,0,null,null,null,null,null,null,null,null,null,{"$f":"CONCATENATE(\"Total Leader \",CUSTOMIZATIONS!C32,\" Positions\")","v":"Total Leader  Positions"},"",null,null,0,0,null,null,null,null,0]
[null,null,0,null,null,null,null,null,null,null,null,null,{"$f":"CONCATENATE(\"Total Leader \",CUSTOMIZATIONS!C33,\" Positions\")","v":"Total Leader  Positions"},"",null,null,0,0,null,null,null,null,0]
[null,null,0,null,null,null,null,null,null,null,null,null,{"$f":"CONCATENATE(\"Total Leader \",CUSTOMIZATIONS!C34,\" Positions\")","v":"Total Leader  Positions"},"",null,null,0,0,null,null,null,null,0]
[null,null,0,null,null,null,null,null,null,null,null,null,{"$f":"CONCATENATE(\"Total Leader \",CUSTOMIZATIONS!C35,\" Positions\")","v":"Total Leader  Positions"},"",null,null,0,0,null,null,null,null,0]
[null,null,0,null,null,null,null,null,null,null,null,null,{"$f":"CONCATENATE(\"Total Leader \",CUSTOMIZATIONS!C36,\" Positions\")","v":"Total Leader  Positions"},"",null,null,0,0,null,null,null,null,0]
[null,null,0,null,null,null,null,null,null,null,null,null,{"$f":"CONCATENATE(\"Total Leader \",CUSTOMIZATIONS!C37,\" Positions\")","v":"Total Leader  Positions"},"",null,null,0,0,null,null,null,null,0]
[null,null,0,null,null,null,null,null,null,null,null,null,{"$f":"CONCATENATE(\"Total Leader \",CUSTOMIZATIONS!C38,\" Positions\")","v":"Total Leader  Positions"},"",null,null,0,0,null,null,null,null,0]
[null,null,0,null,null,null,null,null,null,null,null,null,{"$f":"CONCATENATE(\"Total Leader \",CUSTOMIZATIONS!C39,\" Positions\")","v":"Total Leader  Positions"},"",null,null,0,0,null,null,null,null,0]
[null,null,0,null,null,null,null,null,null,null,null,null,{"$f":"CONCATENATE(\"Total Leader \",CUSTOMIZATIONS!C40,\" Positions\")","v":"Total Leader  Positions"},"",null,null,0,0,null,null,null,null,0]
[null,null,0,null,null,null,null,null,null,null,null,null,{"$f":"CONCATENATE(\"Total Leader \",CUSTOMIZATIONS!C41,\" Positions\")","v":"Total Leader  Positions"},"",null,null,0,0,null,null,null,null,0]
[null,null,0,null,null,null,null,null,null,null,null,null,{"$f":"CONCATENATE(\"Total Leader \",CUSTOMIZATIONS!C42,\" Positions\")","v":"Total Leader  Positions"},"",null,null,0,0,null,null,null,null,0]
[null,null,null,null,null,null,null,null,null,null,null,null,null,null,null,null,null,null,null,null,null,null,1]
[null,null,null,null,null,null,null,null,null,null,null,null,null,null,null,null,null,null,null,null,null,null,1]
[null,null,"Step 3(d): Enter Executive Position Information",null,null,null,null,null,null,null,null,null,null,{"$f":"IF(AND(P228<>\"\",P229<>\"\",P230<>\"\",P231<>\"\",P232<>\"\",P233<>\"\",P234<>\"\",P235<>\"\",P236<>\"\",P237<>\"\",SUM(Q242:Q256)=SUM(C242:C256)),\"Complete\",\"Incomplete\")","v":"Incomplete"},null,null,null,null,null,null,null,null,1]
[null,null,null,null,null,null,null,null,null,null,null,null,null,null,null,null,null,null,null,null,null,null,1]
[null,null,"INSTRUCTIONS: Enter the total of the total number of positions by EEO code and the total number of executive positions for each employee classification. Executives are defined using the position numbers on the Customizations tab.",null,null,null,null,null,null,null,null,null,null,null,null,null,null,null,null,null,null,null,1]
[null,null,null,null,null,null,null,null,null,null,null,null,null,null,null,null,null,null,null,null,null,null,1]
[null,null,null,null,null,null,null,null,null,null,null,null,null,null,null,"All Executive Positions by EEO Code",null,null,null,null,null,null,1]
[null,null,null,null,null,null,null,null,null,null,null,null,null,{"$f":"CONCATENATE(\"FY\",RIGHT('DHRM ADMIN'!$P$15,2)-2)","v":"FY21"},{"$f":"CONCATENATE(\"FY\",RIGHT('DHRM ADMIN'!$P$15,2)-1)","v":"FY22"},{"$f":"CONCATENATE(\"FY\",RIGHT('DHRM ADMIN'!$P$15,2))","v":"FY23"},null,null,null,null,null,null,1]
[null,null,null,null,null,null,null,null,null,null,null,null,"Total Executive Positions with EEO Code \"Officials and Administrators\"","",null,null,null,{"$f":"IF(O229<>\"\",1,0)","v":0},null,null,null,null,1]
[null,null,null,null,null,null,null,null,null,null,null,null,"Total Executive Positions with EEO Code \"Professionals\"","",null,null,null,{"$f":"IF(O230<>\"\",1,0)","v":0},null,null,null,null,1]
[null,null,null,null,null,null,null,null,null,null,null,null,"Total Executive Positions with EEO Code \"Technicians\"","",null,null,null,0,null,null,null,null,1]
[null,null,null,null,null,null,null,null,null,null,null,null,"Total Executive Positions with EEO Code \"Protective Service Workers\"","",null,null,null,0,null,null,null,null,1]
[null,null,null,null,null,null,null,null,null,null,null,null,"Total Executive Positions with EEO Code \"Paraprofessionals\"","",null,null,null,0,null,null,null,null,1]
[null,null,null,null,null,null,null,null,null,null,null,null,"Total Executive Positions with EEO Code \"Administrative Support\"","",null,null,null,0,null,null,null,null,1]
[null,null,null,null,null,null,null,null,null,null,null,null,"Total Executive Positions with EEO Code \"Skilled Craft Workers\"","",null,null,null,0,null,null,null,null,1]
[null,null,null,null,null,null,null,null,null,null,null,null,"Total Executive Positions with EEO Code \"Service/Maintenance\"","",null,null,null,0,null,null,null,null,1]
[null,null,null,null,null,null,null,null,null,null,null,null,"Total Executive Positions with EEO Code \"Faculty\"","",null,null,null,0,null,null,null,null,1]
[null,null,null,null,null,null,null,null,null,null,null,null,"Total Executive Positions with EEO Code \"Other\"","",null,null,null,0,null,null,null,null,1]
[null,null,null,null,null,null,null,null,null,null,null,null,null,null,null,null,null,null,null,null,null,null,1]
[null,null,null,null,null,null,null,null,null,null,null,null,null,null,null,"All Executive Positions by Classification",null,null,null,null,null,null,1]
[null,null,null,null,null,null,null,null,null,null,null,null,null,{"$f":"CONCATENATE(\"FY\",RIGHT('DHRM ADMIN'!$P$15,2)-2)","v":"FY21"},{"$f":"CONCATENATE(\"FY\",RIGHT('DHRM ADMIN'!$P$15,2)-1)","v":"FY22"},{"$f":"CONCATENATE(\"FY\",RIGHT('DHRM ADMIN'!$P$15,2))","v":"FY23"},null,null,null,null,null,null,1]
[null,null,{"$f":"IF(M242<>\"Total Executive  Positions\",1,0)","v":0},null,null,null,null,null,null,null,null,null,{"$f":"CONCATENATE(\"Total Executive \",CUSTOMIZATIONS!C28,\" Positions\")","v":"Total Executive  Positions"},"",null,null,{"$f":"IF(AND(M242<>\"Total Executive  Positions\",P242<>\"\"),1,0)","v":0},{"$f":"IF(O242<>\"\",1,0)","v":0},null,null,null,null,{"$f":"IF(C242=1,1,0)","v":0}]
[null,null,{"$f":"IF(M243<>\"Total Executive  Positions\",1,0)","v":0},null,null,null,null,null,null,null,null,null,{"$f":"CONCATENATE(\"Total Executive \",CUSTOMIZATIONS!C29,\" Positions\")","v":"Total Executive  Positions"},"",null,null,{"$f":"IF(AND(M243<>\"Total Executive  Positions\",P243<>\"\"),1,0)","v":0},0,null,null,null,null,{"$f":"IF(C243=1,1,0)","v":0}]
[null,null,0,null,null,null,null,null,null,null,null,null,{"$f":"CONCATENATE(\"Total Executive \",CUSTOMIZATIONS!C30,\" Positions\")","v":"Total Executive  Positions"},"",null,null,0,0,null,null,null,null,0]
[null,null,0,null,null,null,null,null,null,null,null,null,{"$f":"CONCATENATE(\"Total Executive \",CUSTOMIZATIONS!C31,\" Positions\")","v":"Total Executive  Positions"},"",null,null,0,0,null,null,null,null,0]
[null,null,0,null,null,null,null,null,null,null,null,null,{"$f":"CONCATENATE(\"Total Executive \",CUSTOMIZATIONS!C32,\" Positions\")","v":"Total Executive  Positions"},"",null,null,0,0,null,null,null,null,0]
[null,null,0,null,null,null,null,null,null,null,null,null,{"$f":"CONCATENATE(\"Total Executive \",CUSTOMIZATIONS!C33,\" Positions\")","v":"Total Executive  Positions"},"",null,null,0,0,null,null,null,null,0]
[null,null,0,null,null,null,null,null,null,null,null,null,{"$f":"CONCATENATE(\"Total Executive \",CUSTOMIZATIONS!C34,\" Positions\")","v":"Total Executive  Positions"},"",null,null,0,0,null,null,null,null,0]
[null,null,0,null,null,null,null,null,null,null,null,null,{"$f":"CONCATENATE(\"Total Executive \",CUSTOMIZATIONS!C35,\" Positions\")","v":"Total Executive  Positions"},"",null,null,0,0,null,null,null,null,0]
[null,null,0,null,null,null,null,null,null,null,null,null,{"$f":"CONCATENATE(\"Total Executive \",CUSTOMIZATIONS!C36,\" Positions\")","v":"Total Executive  Positions"},"",null,null,0,0,null,null,null,null,0]
[null,null,0,null,null,null,null,null,null,null,null,null,{"$f":"CONCATENATE(\"Total Executive \",CUSTOMIZATIONS!C37,\" Positions\")","v":"Total Executive  Positions"},"",null,null,0,0,null,null,null,null,0]
[null,null,0,null,null,null,null,null,null,null,null,null,{"$f":"CONCATENATE(\"Total Executive \",CUSTOMIZATIONS!C38,\" Positions\")","v":"Total Executive  Positions"},"",null,null,0,0,null,null,null,null,0]
[null,null,0,null,null,null,null,null,null,null,null,null,{"$f":"CONCATENATE(\"Total Executive \",CUSTOMIZATIONS!C39,\" Positions\")","v":"Total Executive  Positions"},"",null,null,0,0,null,null,null,null,0]
[null,null,0,null,null,null,null,null,null,null,null,null,{"$f":"CONCATENATE(\"Total Executive \",CUSTOMIZATIONS!C40,\" Positions\")","v":"Total Executive  Positions"},"",null,null,0,0,null,null,null,null,0]
[null,null,0,null,null,null,null,null,null,null,null,null,{"$f":"CONCATENATE(\"Total Executive \",CUSTOMIZATIONS!C41,\" Positions\")","v":"Total Executive  Positions"},"",null,null,0,0,null,null,null,null,0]
[null,null,0,null,null,null,null,null,null,null,null,null,{"$f":"CONCATENATE(\"Total Executive \",CUSTOMIZATIONS!C42,\" Positions\")","v":"Total Executive  Positions"},"",null,null,0,0,null,null,null,null,0]
[null,null,null,null,null,null,null,null,null,null,null,null,null,null,null,null,null,null,null,null,null,null,1]
[null,null,null,null,null,null,null,null,null,null,null,null,null,null,null,null,null,null,null,null,null,null,1]
[null,null,null,null,null,null,null,null,null,null,null,null,null,null,null,null,null,null,null,null,null,null,1]
[null,"Step 4: Enter Agency Future Direction (from any other Agency Strategic Plans)",null,null,null,null,null,null,null,null,null,null,null,{"$f":"IF('CENTRAL ANALYSIS'!B98=0,\"Incomplete\",IF(COUNTIF(N273:P677,\"Complete\")='CENTRAL ANALYSIS'!B98,\"Complete\",\"Incomplete\"))","v":"Incomplete"},null,null,null,null,null,null,null,null,1]
[null,null,null,null,null,null,null,null,null,null,null,null,null,null,null,null,null,null,null,null,null,null,1]
[null,"INSTRUCTIONS: Please identify any strategic actions or initiatives the agency is currently working towards that can be impacted by the continuity of operations or the recruitment, retention, engagement, or development of the agency workforce. Potential sources of these actions items could be the prior Workforce Planning and Development Template, Agency's Employment Opportunities Plan, One Virginia Plan, or any other strategic plan the agency may have. The format of this section is to have an overall objective statement and specific action items. Objectives can be added by clicking the \"Add Objective\" button, for a total of 15 overall objectives.",null,null,null,null,null,null,null,null,null,null,null,null,null,null,null,null,null,null,null,null,1]
[null,null,null,null,null,null,null,null,null,null,null,null,null,null,null,null,null,null,null,null,null,null,1]
[null,null,null,null,null,null,null,null,null,null,null,null,null,null,null,null,null,null,null,null,null,null,1]
[null,null,null,null,null,null,null,null,null,null,null,null,null,null,null,null,null,null,null,null,null,null,1]
[null,null,null,null,null,null,null,null,null,null,null,null,null,null,null,null,null,null,null,null,null,null,1]
[null,null,null,null,null,null,null,null,null,null,null,null,null,null,null,null,null,null,null,null,null,null,1]
[null,null,"NOTE: This is NOT the Agency Workforce Strategy or Action Plan for the Annual Workforce Plan. This is a way to capture the current strategic objectives of the Agency to reflect on when developing the Agency Workforce Strategy.",null,null,null,null,null,null,null,null,null,null,null,null,null,null,null,null,null,null,null,1]
[null,null,null,null,null,null,null,null,null,null,null,null,null,null,null,null,null,null,null,null,null,null,1]
[null,null,null,null,null,null,null,null,null,null,null,null,null,null,null,null,null,null,null,null,null,null,1]
[null,null,null,null,null,null,null,null,null,null,null,null,null,null,null,null,null,null,null,null,null,null,1]
[null,null,null,null,null,null,null,null,null,null,null,null,null,null,null,null,null,null,null,null,null,null,1]
[null,null,"Objective 1",null,null,null,null,null,null,null,null,null,null,{"$f":"IF(W273<>1,\"\",IF('CENTRAL ANALYSIS'!$D$99='CENTRAL ANALYSIS'!$B$105+1,\"Complete\",\"Incomplete\"))","v":""},null,null,null,null,null,null,null,null,{"$f":"IF('CENTRAL ANALYSIS'!$B$98>=1,1,0)","v":0}]
[null,null,null,null,null,null,null,null,null,null,null,null,null,null,null,null,null,null,null,null,null,null,{"$f":"IF('CENTRAL ANALYSIS'!$B$98>=1,1,0)","v":0}]
[null,null,"Please enter the item objective statement and corresponding action items. Action items can be added by clicking the \"Add Action Item\" button, for a total of 5 action items per each objective. Action items should describe what the action is and how it will be measured.",null,null,null,null,null,null,null,null,null,null,null,null,null,null,null,null,null,null,null,{"$f":"IF('CENTRAL ANALYSIS'!$B$98>=1,1,0)","v":0}]
[null,null,null,null,null,null,null,null,null,null,null,null,null,null,null,null,null,null,null,null,null,null,{"$f":"IF('CENTRAL ANALYSIS'!$B$98>=1,1,0)","v":0}]
[null,null,null,null,null,null,null,null,null,null,null,null,null,null,null,null,null,null,null,null,null,null,{"$f":"IF('CENTRAL ANALYSIS'!$B$98>=1,1,0)","v":0}]
[null,1,null,null,"Overall Objective Statement",null,null,null,null,null,null,null,null,null,null,null,null,{"$f":"IF(AND(W278=1,F278<>\"\"),1,0)","v":0},null,null,null,null,{"$f":"IF('CENTRAL ANALYSIS'!$B$98>=1,1,0)","v":0}]
[null,null,null,null,null,null,null,null,null,null,null,null,null,null,null,null,null,null,null,null,null,null,{"$f":"IF('CENTRAL ANALYSIS'!$B$98>=1,1,0)","v":0}]
[null,null,null,null,null,null,null,null,null,null,null,null,null,null,null,null,null,null,null,null,null,null,{"$f":"IF('CENTRAL ANALYSIS'!$B$98>=1,1,0)","v":0}]
[null,null,null,null,null,null,null,null,null,null,null,null,null,null,null,null,null,null,null,null,null,null,{"$f":"IF('CENTRAL ANALYSIS'!$B$98>=1,1,0)","v":0}]
[null,null,null,null,null,null,null,null,null,null,null,null,null,null,null,null,null,null,null,null,null,null,{"$f":"IF('CENTRAL ANALYSIS'!$B$98>=1,1,0)","v":0}]
[null,null,null,null,null,null,null,null,null,null,null,null,null,null,null,null,null,null,null,null,null,null,{"$f":"IF('CENTRAL ANALYSIS'!$B$98>=1,1,0)","v":0}]
[null,null,null,null,null,null,"Action Item",null,null,null,null,null,null,null,null,null,null,{"$f":"IF(AND(W284=1,H284<>\"\"),1,0)","v":0},null,null,null,null,{"$f":"IF('CENTRAL ANALYSIS'!$B$105>=1,1,0)","v":0}]
[null,null,null,null,null,null,null,null,null,null,null,null,null,null,null,null,null,null,null,null,null,null,{"$f":"IF('CENTRAL ANALYSIS'!$B$105>=1,1,0)","v":0}]
[null,null,null,null,null,null,null,null,null,null,null,null,null,null,null,null,null,null,null,null,null,null,{"$f":"IF('CENTRAL ANALYSIS'!$B$105>=1,1,0)","v":0}]
[null,null,null,null,null,null,"Action Item","",null,null,null,null,null,null,null,null,null,{"$f":"IF(AND(W287=1,H287<>\"\"),1,0)","v":0},null,null,null,null,{"$f":"IF('CENTRAL ANALYSIS'!$B$105>=2,1,0)","v":0}]
[null,null,null,null,null,null,null,null,null,null,null,null,null,null,null,null,null,null,null,null,null,null,{"$f":"IF('CENTRAL ANALYSIS'!$B$105>=2,1,0)","v":0}]
[null,null,null,null,null,null,null,null,null,null,null,null,null,null,null,null,null,null,null,null,null,null,{"$f":"IF('CENTRAL ANALYSIS'!$B$105>=2,1,0)","v":0}]
[null,null,null,null,null,null,"Action Item","",null,null,null,null,null,null,null,null,null,{"$f":"IF(AND(W290=1,H290<>\"\"),1,0)","v":0},null,null,null,null,{"$f":"IF('CENTRAL ANALYSIS'!$B$105>=3,1,0)","v":0}]
[null,null,null,null,null,null,null,null,null,null,null,null,null,null,null,null,null,null,null,null,null,null,{"$f":"IF('CENTRAL ANALYSIS'!$B$105>=3,1,0)","v":0}]
[null,null,null,null,null,null,null,null,null,null,null,null,null,null,null,null,null,null,null,null,null,null,{"$f":"IF('CENTRAL ANALYSIS'!$B$105>=3,1,0)","v":0}]
[null,null,null,null,null,null,"Action Item","",null,null,null,null,null,null,null,null,null,{"$f":"IF(AND(W293=1,H293<>\"\"),1,0)","v":0},null,null,null,null,{"$f":"IF('CENTRAL ANALYSIS'!$B$105>=4,1,0)","v":0}]
[null,null,null,null,null,null,null,null,null,null,null,null,null,null,null,null,null,null,null,null,null,null,{"$f":"IF('CENTRAL ANALYSIS'!$B$105>=4,1,0)","v":0}]
[null,null,null,null,null,null,null,null,null,null,null,null,null,null,null,null,null,null,null,null,null,null,{"$f":"IF('CENTRAL ANALYSIS'!$B$105>=4,1,0)","v":0}]
[null,null,null,null,null,null,"Action Item","",null,null,null,null,null,null,null,null,null,{"$f":"IF(AND(W296=1,H296<>\"\"),1,0)","v":0},null,null,null,null,{"$f":"IF('CENTRAL ANALYSIS'!$B$105>=5,1,0)","v":0}]
[null,null,null,null,null,null,null,null,null,null,null,null,null,null,null,null,null,null,null,null,null,null,{"$f":"IF('CENTRAL ANALYSIS'!$B$105>=5,1,0)","v":0}]
[null,null,null,null,null,null,null,null,null,null,null,null,null,null,null,null,null,null,null,null,null,null,{"$f":"IF('CENTRAL ANALYSIS'!$B$105>=5,1,0)","v":0}]
[null,null,null,null,null,null,null,null,null,null,null,null,null,null,null,null,null,null,null,null,null,null,{"$f":"IF('CENTRAL ANALYSIS'!$B$98>=2,1,0)","v":0}]
[null,null,"Objective 2",null,null,null,null,null,null,null,null,null,null,{"$f":"IF(W300<>1,\"\",IF('CENTRAL ANALYSIS'!$D$107='CENTRAL ANALYSIS'!$B$113+1,\"Complete\",\"Incomplete\"))","v":""},null,null,null,null,null,null,null,null,{"$f":"IF('CENTRAL ANALYSIS'!$B$98>=2,1,0)","v":0}]
[null,null,null,null,null,null,null,null,null,null,null,null,null,null,null,null,null,null,null,null,null,null,{"$f":"IF('CENTRAL ANALYSIS'!$B$98>=2,1,0)","v":0}]
[null,null,"Please enter the item objective statement and corresponding action items. Action items can be added by clicking the \"Add Action Item\" button, for a total of 5 action items per each objective. Action items should describe what the action is and how it will be measured.",null,null,null,null,null,null,null,null,null,null,null,null,null,null,null,null,null,null,null,{"$f":"IF('CENTRAL ANALYSIS'!$B$98>=2,1,0)","v":0}]
[null,null,null,null,null,null,null,null,null,null,null,null,null,null,null,null,null,null,null,null,null,null,{"$f":"IF('CENTRAL ANALYSIS'!$B$98>=2,1,0)","v":0}]
[null,null,null,null,null,null,null,null,null,null,null,null,null,null,null,null,null,null,null,null,null,null,{"$f":"IF('CENTRAL ANALYSIS'!$B$98>=2,1,0)","v":0}]
[null,2,null,null,"Overall Objective Statement",null,null,null,null,null,null,null,null,null,null,null,null,{"$f":"IF(AND(W305=1,F305<>\"\"),1,0)","v":0},null,null,null,null,{"$f":"IF('CENTRAL ANALYSIS'!$B$98>=2,1,0)","v":0}]
[null,null,null,null,null,null,null,null,null,null,null,null,null,null,null,null,null,null,null,null,null,null,{"$f":"IF('CENTRAL ANALYSIS'!$B$98>=2,1,0)","v":0}]
[null,null,null,null,null,null,null,null,null,null,null,null,null,null,null,null,null,null,null,null,null,null,{"$f":"IF('CENTRAL ANALYSIS'!$B$98>=2,1,0)","v":0}]
[null,null,null,null,null,null,null,null,null,null,null,null,null,null,null,null,null,null,null,null,null,null,{"$f":"IF('CENTRAL ANALYSIS'!$B$98>=2,1,0)","v":0}]
[null,null,null,null,null,null,null,null,null,null,null,null,null,null,null,null,null,null,null,null,null,null,{"$f":"IF('CENTRAL ANALYSIS'!$B$98>=2,1,0)","v":0}]
[null,null,null,null,null,null,null,null,null,null,null,null,null,null,null,null,null,null,null,null,null,null,{"$f":"IF('CENTRAL ANALYSIS'!$B$98>=2,1,0)","v":0}]
[null,null,null,null,null,null,"Action Item",null,null,null,null,null,null,null,null,null,null,{"$f":"IF(AND(W311=1,H311<>\"\"),1,0)","v":0},null,null,null,null,{"$f":"IF('CENTRAL ANALYSIS'!$B$113>=1,1,0)","v":0}]
[null,null,null,null,null,null,null,null,null,null,null,null,null,null,null,null,null,null,null,null,null,null,{"$f":"IF('CENTRAL ANALYSIS'!$B$113>=1,1,0)","v":0}]
[null,null,null,null,null,null,null,null,null,null,null,null,null,null,null,null,null,null,null,null,null,null,{"$f":"IF('CENTRAL ANALYSIS'!$B$113>=1,1,0)","v":0}]
[null,null,null,null,null,null,"Action Item","",null,null,null,null,null,null,null,null,null,{"$f":"IF(AND(W314=1,H314<>\"\"),1,0)","v":0},null,null,null,null,{"$f":"IF('CENTRAL ANALYSIS'!$B$113>=2,1,0)","v":0}]
[null,null,null,null,null,null,null,null,null,null,null,null,null,null,null,null,null,null,null,null,null,null,{"$f":"IF('CENTRAL ANALYSIS'!$B$113>=2,1,0)","v":0}]
[null,null,null,null,null,null,null,null,null,null,null,null,null,null,null,null,null,null,null,null,null,null,{"$f":"IF('CENTRAL ANALYSIS'!$B$113>=2,1,0)","v":0}]
[null,null,null,null,null,null,"Action Item","",null,null,null,null,null,null,null,null,null,{"$f":"IF(AND(W317=1,H317<>\"\"),1,0)","v":0},null,null,null,null,{"$f":"IF('CENTRAL ANALYSIS'!$B$113>=3,1,0)","v":0}]
[null,null,null,null,null,null,null,null,null,null,null,null,null,null,null,null,null,null,null,null,null,null,{"$f":"IF('CENTRAL ANALYSIS'!$B$113>=3,1,0)","v":0}]
[null,null,null,null,null,null,null,null,null,null,null,null,null,null,null,null,null,null,null,null,null,null,{"$f":"IF('CENTRAL ANALYSIS'!$B$113>=3,1,0)","v":0}]
[null,null,null,null,null,null,"Action Item","",null,null,null,null,null,null,null,null,null,{"$f":"IF(AND(W320=1,H320<>\"\"),1,0)","v":0},null,null,null,null,{"$f":"IF('CENTRAL ANALYSIS'!$B$113>=4,1,0)","v":0}]
[null,null,null,null,null,null,null,null,null,null,null,null,null,null,null,null,null,null,null,null,null,null,{"$f":"IF('CENTRAL ANALYSIS'!$B$113>=4,1,0)","v":0}]
[null,null,null,null,null,null,null,null,null,null,null,null,null,null,null,null,null,null,null,null,null,null,{"$f":"IF('CENTRAL ANALYSIS'!$B$113>=4,1,0)","v":0}]
[null,null,null,null,null,null,"Action Item","",null,null,null,null,null,null,null,null,null,{"$f":"IF(AND(W323=1,H323<>\"\"),1,0)","v":0},null,null,null,null,{"$f":"IF('CENTRAL ANALYSIS'!$B$113>=5,1,0)","v":0}]
[null,null,null,null,null,null,null,null,null,null,null,null,null,null,null,null,null,null,null,null,null,null,{"$f":"IF('CENTRAL ANALYSIS'!$B$113>=5,1,0)","v":0}]
[null,null,null,null,null,null,null,null,null,null,null,null,null,null,null,null,null,null,null,null,null,null,{"$f":"IF('CENTRAL ANALYSIS'!$B$113>=5,1,0)","v":0}]
[null,null,null,null,null,null,null,null,null,null,null,null,null,null,null,null,null,null,null,null,null,null,{"$f":"IF('CENTRAL ANALYSIS'!$B$98>=3,1,0)","v":0}]
[null,null,"Objective 3",null,null,null,null,null,null,null,null,null,null,{"$f":"IF(W327<>1,\"\",IF('CENTRAL ANALYSIS'!$D$115='CENTRAL ANALYSIS'!$B$121+1,\"Complete\",\"Incomplete\"))","v":""},null,null,null,null,null,null,null,null,{"$f":"IF('CENTRAL ANALYSIS'!$B$98>=3,1,0)","v":0}]
[null,null,null,null,null,null,null,null,null,null,null,null,null,null,null,null,null,null,null,null,null,null,{"$f":"IF('CENTRAL ANALYSIS'!$B$98>=3,1,0)","v":0}]
[null,null,"Please enter the item objective statement and corresponding action items. Action items can be added by clicking the \"Add Action Item\" button, for a total of 5 action items per each objective. Action items should describe what the action is and how it will be measured.",null,null,null,null,null,null,null,null,null,null,null,null,null,null,null,null,null,null,null,{"$f":"IF('CENTRAL ANALYSIS'!$B$98>=3,1,0)","v":0}]
[null,null,null,null,null,null,null,null,null,null,null,null,null,null,null,null,null,null,null,null,null,null,{"$f":"IF('CENTRAL ANALYSIS'!$B$98>=3,1,0)","v":0}]
[null,null,null,null,null,null,null,null,null,null,null,null,null,null,null,null,null,null,null,null,null,null,{"$f":"IF('CENTRAL ANALYSIS'!$B$98>=3,1,0)","v":0}]
[null,3,null,null,"Overall Objective Statement",null,null,null,null,null,null,null,null,null,null,null,null,{"$f":"IF(AND(W332=1,F332<>\"\"),1,0)","v":0},null,null,null,null,{"$f":"IF('CENTRAL ANALYSIS'!$B$98>=3,1,0)","v":0}]
[null,null,null,null,null,null,null,null,null,null,null,null,null,null,null,null,null,null,null,null,null,null,{"$f":"IF('CENTRAL ANALYSIS'!$B$98>=3,1,0)","v":0}]
[null,null,null,null,null,null,null,null,null,null,null,null,null,null,null,null,null,null,null,null,null,null,{"$f":"IF('CENTRAL ANALYSIS'!$B$98>=3,1,0)","v":0}]
[null,null,null,null,null,null,null,null,null,null,null,null,null,null,null,null,null,null,null,null,null,null,{"$f":"IF('CENTRAL ANALYSIS'!$B$98>=3,1,0)","v":0}]
[null,null,null,null,null,null,null,null,null,null,null,null,null,null,null,null,null,null,null,null,null,null,{"$f":"IF('CENTRAL ANALYSIS'!$B$98>=3,1,0)","v":0}]
[null,null,null,null,null,null,null,null,null,null,null,null,null,null,null,null,null,null,null,null,null,null,{"$f":"IF('CENTRAL ANALYSIS'!$B$98>=3,1,0)","v":0}]
[null,null,null,null,null,null,"Action Item",null,null,null,null,null,null,null,null,null,null,{"$f":"IF(AND(W338=1,H338<>\"\"),1,0)","v":0},null,null,null,null,{"$f":"IF('CENTRAL ANALYSIS'!$B$121>=1,1,0)","v":0}]
[null,null,null,null,null,null,null,null,null,null,null,null,null,null,null,null,null,null,null,null,null,null,{"$f":"IF('CENTRAL ANALYSIS'!$B$121>=1,1,0)","v":0}]
[null,null,null,null,null,null,null,null,null,null,null,null,null,null,null,null,null,null,null,null,null,null,{"$f":"IF('CENTRAL ANALYSIS'!$B$121>=1,1,0)","v":0}]
[null,null,null,null,null,null,"Action Item","",null,null,null,null,null,null,null,null,null,{"$f":"IF(AND(W341=1,H341<>\"\"),1,0)","v":0},null,null,null,null,{"$f":"IF('CENTRAL ANALYSIS'!$B$121>=2,1,0)","v":0}]
[null,null,null,null,null,null,null,null,null,null,null,null,null,null,null,null,null,null,null,null,null,null,{"$f":"IF('CENTRAL ANALYSIS'!$B$121>=2,1,0)","v":0}]
[null,null,null,null,null,null,null,null,null,null,null,null,null,null,null,null,null,null,null,null,null,null,{"$f":"IF('CENTRAL ANALYSIS'!$B$121>=2,1,0)","v":0}]
[null,null,null,null,null,null,"Action Item","",null,null,null,null,null,null,null,null,null,{"$f":"IF(AND(W344=1,H344<>\"\"),1,0)","v":0},null,null,null,null,{"$f":"IF('CENTRAL ANALYSIS'!$B$121>=3,1,0)","v":0}]
[null,null,null,null,null,null,null,null,null,null,null,null,null,null,null,null,null,null,null,null,null,null,{"$f":"IF('CENTRAL ANALYSIS'!$B$121>=3,1,0)","v":0}]
[null,null,null,null,null,null,null,null,null,null,null,null,null,null,null,null,null,null,null,null,null,null,{"$f":"IF('CENTRAL ANALYSIS'!$B$121>=3,1,0)","v":0}]
[null,null,null,null,null,null,"Action Item","",null,null,null,null,null,null,null,null,null,{"$f":"IF(AND(W347=1,H347<>\"\"),1,0)","v":0},null,null,null,null,{"$f":"IF('CENTRAL ANALYSIS'!$B$121>=4,1,0)","v":0}]
[null,null,null,null,null,null,null,null,null,null,null,null,null,null,null,null,null,null,null,null,null,null,{"$f":"IF('CENTRAL ANALYSIS'!$B$121>=4,1,0)","v":0}]
[null,null,null,null,null,null,null,null,null,null,null,null,null,null,null,null,null,null,null,null,null,null,{"$f":"IF('CENTRAL ANALYSIS'!$B$121>=4,1,0)","v":0}]
[null,null,null,null,null,null,"Action Item","",null,null,null,null,null,null,null,null,null,{"$f":"IF(AND(W350=1,H350<>\"\"),1,0)","v":0},null,null,null,null,{"$f":"IF('CENTRAL ANALYSIS'!$B$121>=5,1,0)","v":0}]
[null,null,null,null,null,null,null,null,null,null,null,null,null,null,null,null,null,null,null,null,null,null,{"$f":"IF('CENTRAL ANALYSIS'!$B$121>=5,1,0)","v":0}]
[null,null,null,null,null,null,null,null,null,null,null,null,null,null,null,null,null,null,null,null,null,null,{"$f":"IF('CENTRAL ANALYSIS'!$B$121>=5,1,0)","v":0}]
[null,null,null,null,null,null,null,null,null,null,null,null,null,null,null,null,null,null,null,null,null,null,{"$f":"IF('CENTRAL ANALYSIS'!$B$98>=4,1,0)","v":0}]
[null,null,"Objective 4",null,null,null,null,null,null,null,null,null,null,{"$f":"IF(W354<>1,\"\",IF('CENTRAL ANALYSIS'!$D$123='CENTRAL ANALYSIS'!$B$129+1,\"Complete\",\"Incomplete\"))","v":""},null,null,null,null,null,null,null,null,{"$f":"IF('CENTRAL ANALYSIS'!$B$98>=4,1,0)","v":0}]
[null,null,null,null,null,null,null,null,null,null,null,null,null,null,null,null,null,null,null,null,null,null,{"$f":"IF('CENTRAL ANALYSIS'!$B$98>=4,1,0)","v":0}]
[null,null,"Please enter the item objective statement and corresponding action items. Action items can be added by clicking the \"Add Action Item\" button, for a total of 5 action items per each objective. Action items should describe what the action is and how it will be measured.",null,null,null,null,null,null,null,null,null,null,null,null,null,null,null,null,null,null,null,{"$f":"IF('CENTRAL ANALYSIS'!$B$98>=4,1,0)","v":0}]
[null,null,null,null,null,null,null,null,null,null,null,null,null,null,null,null,null,null,null,null,null,null,{"$f":"IF('CENTRAL ANALYSIS'!$B$98>=4,1,0)","v":0}]
[null,null,null,null,null,null,null,null,null,null,null,null,null,null,null,null,null,null,null,null,null,null,{"$f":"IF('CENTRAL ANALYSIS'!$B$98>=4,1,0)","v":0}]
[null,4,null,null,"Overall Objective Statement",null,null,null,null,null,null,null,null,null,null,null,null,{"$f":"IF(AND(W359=1,F359<>\"\"),1,0)","v":0},null,null,null,null,{"$f":"IF('CENTRAL ANALYSIS'!$B$98>=4,1,0)","v":0}]
[null,null,null,null,null,null,null,null,null,null,null,null,null,null,null,null,null,null,null,null,null,null,{"$f":"IF('CENTRAL ANALYSIS'!$B$98>=4,1,0)","v":0}]
[null,null,null,null,null,null,null,null,null,null,null,null,null,null,null,null,null,null,null,null,null,null,{"$f":"IF('CENTRAL ANALYSIS'!$B$98>=4,1,0)","v":0}]
[null,null,null,null,null,null,null,null,null,null,null,null,null,null,null,null,null,null,null,null,null,null,{"$f":"IF('CENTRAL ANALYSIS'!$B$98>=4,1,0)","v":0}]
[null,null,null,null,null,null,null,null,null,null,null,null,null,null,null,null,null,null,null,null,null,null,{"$f":"IF('CENTRAL ANALYSIS'!$B$98>=4,1,0)","v":0}]
[null,null,null,null,null,null,null,null,null,null,null,null,null,null,null,null,null,null,null,null,null,null,{"$f":"IF('CENTRAL ANALYSIS'!$B$98>=4,1,0)","v":0}]
[null,null,null,null,null,null,"Action Item",null,null,null,null,null,null,null,null,null,null,{"$f":"IF(AND(W365=1,H365<>\"\"),1,0)","v":0},null,null,null,null,{"$f":"IF('CENTRAL ANALYSIS'!$B$129>=1,1,0)","v":0}]
[null,null,null,null,null,null,null,null,null,null,null,null,null,null,null,null,null,null,null,null,null,null,{"$f":"IF('CENTRAL ANALYSIS'!$B$129>=1,1,0)","v":0}]
[null,null,null,null,null,null,null,null,null,null,null,null,null,null,null,null,null,null,null,null,null,null,{"$f":"IF('CENTRAL ANALYSIS'!$B$129>=1,1,0)","v":0}]
[null,null,null,null,null,null,"Action Item","",null,null,null,null,null,null,null,null,null,{"$f":"IF(AND(W368=1,H368<>\"\"),1,0)","v":0},null,null,null,null,{"$f":"IF('CENTRAL ANALYSIS'!$B$129>=2,1,0)","v":0}]
[null,null,null,null,null,null,null,null,null,null,null,null,null,null,null,null,null,null,null,null,null,null,{"$f":"IF('CENTRAL ANALYSIS'!$B$129>=2,1,0)","v":0}]
[null,null,null,null,null,null,null,null,null,null,null,null,null,null,null,null,null,null,null,null,null,null,{"$f":"IF('CENTRAL ANALYSIS'!$B$129>=2,1,0)","v":0}]
[null,null,null,null,null,null,"Action Item","",null,null,null,null,null,null,null,null,null,{"$f":"IF(AND(W371=1,H371<>\"\"),1,0)","v":0},null,null,null,null,{"$f":"IF('CENTRAL ANALYSIS'!$B$129>=3,1,0)","v":0}]
[null,null,null,null,null,null,null,null,null,null,null,null,null,null,null,null,null,null,null,null,null,null,{"$f":"IF('CENTRAL ANALYSIS'!$B$129>=3,1,0)","v":0}]
[null,null,null,null,null,null,null,null,null,null,null,null,null,null,null,null,null,null,null,null,null,null,{"$f":"IF('CENTRAL ANALYSIS'!$B$129>=3,1,0)","v":0}]
[null,null,null,null,null,null,"Action Item","",null,null,null,null,null,null,null,null,null,{"$f":"IF(AND(W374=1,H374<>\"\"),1,0)","v":0},null,null,null,null,{"$f":"IF('CENTRAL ANALYSIS'!$B$129>=4,1,0)","v":0}]
[null,null,null,null,null,null,null,null,null,null,null,null,null,null,null,null,null,null,null,null,null,null,{"$f":"IF('CENTRAL ANALYSIS'!$B$129>=4,1,0)","v":0}]
[null,null,null,null,null,null,null,null,null,null,null,null,null,null,null,null,null,null,null,null,null,null,{"$f":"IF('CENTRAL ANALYSIS'!$B$129>=4,1,0)","v":0}]
[null,null,null,null,null,null,"Action Item","",null,null,null,null,null,null,null,null,null,{"$f":"IF(AND(W377=1,H377<>\"\"),1,0)","v":0},null,null,null,null,{"$f":"IF('CENTRAL ANALYSIS'!$B$129>=5,1,0)","v":0}]
[null,null,null,null,null,null,null,null,null,null,null,null,null,null,null,null,null,null,null,null,null,null,{"$f":"IF('CENTRAL ANALYSIS'!$B$129>=5,1,0)","v":0}]
[null,null,null,null,null,null,null,null,null,null,null,null,null,null,null,null,null,null,null,null,null,null,{"$f":"IF('CENTRAL ANALYSIS'!$B$129>=5,1,0)","v":0}]
[null,null,null,null,null,null,null,null,null,null,null,null,null,null,null,null,null,null,null,null,null,null,{"$f":"IF('CENTRAL ANALYSIS'!$B$98>=5,1,0)","v":0}]
[null,null,"Objective 5",null,null,null,null,null,null,null,null,null,null,{"$f":"IF(W381<>1,\"\",IF('CENTRAL ANALYSIS'!$D$131='CENTRAL ANALYSIS'!$B$137+1,\"Complete\",\"Incomplete\"))","v":""},null,null,null,null,null,null,null,null,{"$f":"IF('CENTRAL ANALYSIS'!$B$98>=5,1,0)","v":0}]
[null,null,null,null,null,null,null,null,null,null,null,null,null,null,null,null,null,null,null,null,null,null,{"$f":"IF('CENTRAL ANALYSIS'!$B$98>=5,1,0)","v":0}]
[null,null,"Please enter the item objective statement and corresponding action items. Action items can be added by clicking the \"Add Action Item\" button, for a total of 5 action items per each objective. Action items should describe what the action is and how it will be measured.",null,null,null,null,null,null,null,null,null,null,null,null,null,null,null,null,null,null,null,{"$f":"IF('CENTRAL ANALYSIS'!$B$98>=5,1,0)","v":0}]
[null,null,null,null,null,null,null,null,null,null,null,null,null,null,null,null,null,null,null,null,null,null,{"$f":"IF('CENTRAL ANALYSIS'!$B$98>=5,1,0)","v":0}]
[null,null,null,null,null,null,null,null,null,null,null,null,null,null,null,null,null,null,null,null,null,null,{"$f":"IF('CENTRAL ANALYSIS'!$B$98>=5,1,0)","v":0}]
[null,5,null,null,"Overall Objective Statement",null,null,null,null,null,null,null,null,null,null,null,null,{"$f":"IF(AND(W386=1,F386<>\"\"),1,0)","v":0},null,null,null,null,{"$f":"IF('CENTRAL ANALYSIS'!$B$98>=5,1,0)","v":0}]
[null,null,null,null,null,null,null,null,null,null,null,null,null,null,null,null,null,null,null,null,null,null,{"$f":"IF('CENTRAL ANALYSIS'!$B$98>=5,1,0)","v":0}]
[null,null,null,null,null,null,null,null,null,null,null,null,null,null,null,null,null,null,null,null,null,null,{"$f":"IF('CENTRAL ANALYSIS'!$B$98>=5,1,0)","v":0}]
[null,null,null,null,null,null,null,null,null,null,null,null,null,null,null,null,null,null,null,null,null,null,{"$f":"IF('CENTRAL ANALYSIS'!$B$98>=5,1,0)","v":0}]
[null,null,null,null,null,null,null,null,null,null,null,null,null,null,null,null,null,null,null,null,null,null,{"$f":"IF('CENTRAL ANALYSIS'!$B$98>=5,1,0)","v":0}]
[null,null,null,null,null,null,null,null,null,null,null,null,null,null,null,null,null,null,null,null,null,null,{"$f":"IF('CENTRAL ANALYSIS'!$B$98>=5,1,0)","v":0}]
[null,null,null,null,null,null,"Action Item",null,null,null,null,null,null,null,null,null,null,{"$f":"IF(AND(W392=1,H392<>\"\"),1,0)","v":0},null,null,null,null,{"$f":"IF('CENTRAL ANALYSIS'!$B$137>=1,1,0)","v":0}]
[null,null,null,null,null,null,null,null,null,null,null,null,null,null,null,null,null,null,null,null,null,null,{"$f":"IF('CENTRAL ANALYSIS'!$B$137>=1,1,0)","v":0}]
[null,null,null,null,null,null,null,null,null,null,null,null,null,null,null,null,null,null,null,null,null,null,{"$f":"IF('CENTRAL ANALYSIS'!$B$137>=1,1,0)","v":0}]
[null,null,null,null,null,null,"Action Item","",null,null,null,null,null,null,null,null,null,{"$f":"IF(AND(W395=1,H395<>\"\"),1,0)","v":0},null,null,null,null,{"$f":"IF('CENTRAL ANALYSIS'!$B$137>=2,1,0)","v":0}]
[null,null,null,null,null,null,null,null,null,null,null,null,null,null,null,null,null,null,null,null,null,null,{"$f":"IF('CENTRAL ANALYSIS'!$B$137>=2,1,0)","v":0}]
[null,null,null,null,null,null,null,null,null,null,null,null,null,null,null,null,null,null,null,null,null,null,{"$f":"IF('CENTRAL ANALYSIS'!$B$137>=2,1,0)","v":0}]
[null,null,null,null,null,null,"Action Item","",null,null,null,null,null,null,null,null,null,{"$f":"IF(AND(W398=1,H398<>\"\"),1,0)","v":0},null,null,null,null,{"$f":"IF('CENTRAL ANALYSIS'!$B$137>=3,1,0)","v":0}]
[null,null,null,null,null,null,null,null,null,null,null,null,null,null,null,null,null,null,null,null,null,null,{"$f":"IF('CENTRAL ANALYSIS'!$B$137>=3,1,0)","v":0}]
[null,null,null,null,null,null,null,null,null,null,null,null,null,null,null,null,null,null,null,null,null,null,{"$f":"IF('CENTRAL ANALYSIS'!$B$137>=3,1,0)","v":0}]
[null,null,null,null,null,null,"Action Item","",null,null,null,null,null,null,null,null,null,{"$f":"IF(AND(W401=1,H401<>\"\"),1,0)","v":0},null,null,null,null,{"$f":"IF('CENTRAL ANALYSIS'!$B$137>=4,1,0)","v":0}]
[null,null,null,null,null,null,null,null,null,null,null,null,null,null,null,null,null,null,null,null,null,null,{"$f":"IF('CENTRAL ANALYSIS'!$B$137>=4,1,0)","v":0}]
[null,null,null,null,null,null,null,null,null,null,null,null,null,null,null,null,null,null,null,null,null,null,{"$f":"IF('CENTRAL ANALYSIS'!$B$137>=4,1,0)","v":0}]
[null,null,null,null,null,null,"Action Item","",null,null,null,null,null,null,null,null,null,{"$f":"IF(AND(W404=1,H404<>\"\"),1,0)","v":0},null,null,null,null,{"$f":"IF('CENTRAL ANALYSIS'!$B$137>=5,1,0)","v":0}]
[null,null,null,null,null,null,null,null,null,null,null,null,null,null,null,null,null,null,null,null,null,null,{"$f":"IF('CENTRAL ANALYSIS'!$B$137>=5,1,0)","v":0}]
[null,null,null,null,null,null,null,null,null,null,null,null,null,null,null,null,null,null,null,null,null,null,{"$f":"IF('CENTRAL ANALYSIS'!$B$137>=5,1,0)","v":0}]
[null,null,null,null,null,null,null,null,null,null,null,null,null,null,null,null,null,null,null,null,null,null,{"$f":"IF('CENTRAL ANALYSIS'!$B$98>=6,1,0)","v":0}]
[null,null,"Objective 6",null,null,null,null,null,null,null,null,null,null,{"$f":"IF(W408<>1,\"\",IF('CENTRAL ANALYSIS'!$D$139='CENTRAL ANALYSIS'!$B$145+1,\"Complete\",\"Incomplete\"))","v":""},null,null,null,null,null,null,null,null,{"$f":"IF('CENTRAL ANALYSIS'!$B$98>=6,1,0)","v":0}]
[null,null,null,null,null,null,null,null,null,null,null,null,null,null,null,null,null,null,null,null,null,null,{"$f":"IF('CENTRAL ANALYSIS'!$B$98>=6,1,0)","v":0}]
[null,null,"Please enter the item objective statement and corresponding action items. Action items can be added by clicking the \"Add Action Item\" button, for a total of 5 action items per each objective. Action items should describe what the action is and how it will be measured.",null,null,null,null,null,null,null,null,null,null,null,null,null,null,null,null,null,null,null,{"$f":"IF('CENTRAL ANALYSIS'!$B$98>=6,1,0)","v":0}]
[null,null,null,null,null,null,null,null,null,null,null,null,null,null,null,null,null,null,null,null,null,null,{"$f":"IF('CENTRAL ANALYSIS'!$B$98>=6,1,0)","v":0}]
[null,null,null,null,null,null,null,null,null,null,null,null,null,null,null,null,null,null,null,null,null,null,{"$f":"IF('CENTRAL ANALYSIS'!$B$98>=6,1,0)","v":0}]
[null,6,null,null,"Overall Objective Statement",null,null,null,null,null,null,null,null,null,null,null,null,{"$f":"IF(AND(W413=1,F413<>\"\"),1,0)","v":0},null,null,null,null,{"$f":"IF('CENTRAL ANALYSIS'!$B$98>=6,1,0)","v":0}]
[null,null,null,null,null,null,null,null,null,null,null,null,null,null,null,null,null,null,null,null,null,null,{"$f":"IF('CENTRAL ANALYSIS'!$B$98>=6,1,0)","v":0}]
[null,null,null,null,null,null,null,null,null,null,null,null,null,null,null,null,null,null,null,null,null,null,{"$f":"IF('CENTRAL ANALYSIS'!$B$98>=6,1,0)","v":0}]
[null,null,null,null,null,null,null,null,null,null,null,null,null,null,null,null,null,null,null,null,null,null,{"$f":"IF('CENTRAL ANALYSIS'!$B$98>=6,1,0)","v":0}]
[null,null,null,null,null,null,null,null,null,null,null,null,null,null,null,null,null,null,null,null,null,null,{"$f":"IF('CENTRAL ANALYSIS'!$B$98>=6,1,0)","v":0}]
[null,null,null,null,null,null,null,null,null,null,null,null,null,null,null,null,null,null,null,null,null,null,{"$f":"IF('CENTRAL ANALYSIS'!$B$98>=6,1,0)","v":0}]
[null,null,null,null,null,null,"Action Item",null,null,null,null,null,null,null,null,null,null,{"$f":"IF(AND(W419=1,H419<>\"\"),1,0)","v":0},null,null,null,null,{"$f":"IF('CENTRAL ANALYSIS'!$B$145>=1,1,0)","v":0}]
[null,null,null,null,null,null,null,null,null,null,null,null,null,null,null,null,null,null,null,null,null,null,{"$f":"IF('CENTRAL ANALYSIS'!$B$145>=1,1,0)","v":0}]
[null,null,null,null,null,null,null,null,null,null,null,null,null,null,null,null,null,null,null,null,null,null,{"$f":"IF('CENTRAL ANALYSIS'!$B$145>=1,1,0)","v":0}]
[null,null,null,null,null,null,"Action Item","",null,null,null,null,null,null,null,null,null,{"$f":"IF(AND(W422=1,H422<>\"\"),1,0)","v":0},null,null,null,null,{"$f":"IF('CENTRAL ANALYSIS'!$B$145>=2,1,0)","v":0}]
[null,null,null,null,null,null,null,null,null,null,null,null,null,null,null,null,null,null,null,null,null,null,{"$f":"IF('CENTRAL ANALYSIS'!$B$145>=2,1,0)","v":0}]
[null,null,null,null,null,null,null,null,null,null,null,null,null,null,null,null,null,null,null,null,null,null,{"$f":"IF('CENTRAL ANALYSIS'!$B$145>=2,1,0)","v":0}]
[null,null,null,null,null,null,"Action Item","",null,null,null,null,null,null,null,null,null,{"$f":"IF(AND(W425=1,H425<>\"\"),1,0)","v":0},null,null,null,null,{"$f":"IF('CENTRAL ANALYSIS'!$B$145>=3,1,0)","v":0}]
[null,null,null,null,null,null,null,null,null,null,null,null,null,null,null,null,null,null,null,null,null,null,{"$f":"IF('CENTRAL ANALYSIS'!$B$145>=3,1,0)","v":0}]
[null,null,null,null,null,null,null,null,null,null,null,null,null,null,null,null,null,null,null,null,null,null,{"$f":"IF('CENTRAL ANALYSIS'!$B$145>=3,1,0)","v":0}]
[null,null,null,null,null,null,"Action Item","",null,null,null,null,null,null,null,null,null,{"$f":"IF(AND(W428=1,H428<>\"\"),1,0)","v":0},null,null,null,null,{"$f":"IF('CENTRAL ANALYSIS'!$B$145>=4,1,0)","v":0}]
[null,null,null,null,null,null,null,null,null,null,null,null,null,null,null,null,null,null,null,null,null,null,{"$f":"IF('CENTRAL ANALYSIS'!$B$145>=4,1,0)","v":0}]
[null,null,null,null,null,null,null,null,null,null,null,null,null,null,null,null,null,null,null,null,null,null,{"$f":"IF('CENTRAL ANALYSIS'!$B$145>=4,1,0)","v":0}]
[null,null,null,null,null,null,"Action Item","",null,null,null,null,null,null,null,null,null,{"$f":"IF(AND(W431=1,H431<>\"\"),1,0)","v":0},null,null,null,null,{"$f":"IF('CENTRAL ANALYSIS'!$B$145>=5,1,0)","v":0}]
[null,null,null,null,null,null,null,null,null,null,null,null,null,null,null,null,null,null,null,null,null,null,{"$f":"IF('CENTRAL ANALYSIS'!$B$145>=5,1,0)","v":0}]
[null,null,null,null,null,null,null,null,null,null,null,null,null,null,null,null,null,null,null,null,null,null,{"$f":"IF('CENTRAL ANALYSIS'!$B$145>=5,1,0)","v":0}]
[null,null,null,null,null,null,null,null,null,null,null,null,null,null,null,null,null,null,null,null,null,null,{"$f":"IF('CENTRAL ANALYSIS'!$B$98>=7,1,0)","v":0}]
[null,null,"Objective 7",null,null,null,null,null,null,null,null,null,null,{"$f":"IF(W435<>1,\"\",IF('CENTRAL ANALYSIS'!$D$147='CENTRAL ANALYSIS'!$B$153+1,\"Complete\",\"Incomplete\"))","v":""},null,null,null,null,null,null,null,null,{"$f":"IF('CENTRAL ANALYSIS'!$B$98>=7,1,0)","v":0}]
[null,null,null,null,null,null,null,null,null,null,null,null,null,null,null,null,null,null,null,null,null,null,{"$f":"IF('CENTRAL ANALYSIS'!$B$98>=7,1,0)","v":0}]
[null,null,"Please enter the item objective statement and corresponding action items. Action items can be added by clicking the \"Add Action Item\" button, for a total of 5 action items per each objective. Action items should describe what the action is and how it will be measured.",null,null,null,null,null,null,null,null,null,null,null,null,null,null,null,null,null,null,null,{"$f":"IF('CENTRAL ANALYSIS'!$B$98>=7,1,0)","v":0}]
[null,null,null,null,null,null,null,null,null,null,null,null,null,null,null,null,null,null,null,null,null,null,{"$f":"IF('CENTRAL ANALYSIS'!$B$98>=7,1,0)","v":0}]
[null,null,null,null,null,null,null,null,null,null,null,null,null,null,null,null,null,null,null,null,null,null,{"$f":"IF('CENTRAL ANALYSIS'!$B$98>=7,1,0)","v":0}]
[null,7,null,null,"Overall Objective Statement","",null,null,null,null,null,null,null,null,null,null,null,{"$f":"IF(AND(W440=1,F440<>\"\"),1,0)","v":0},null,null,null,null,{"$f":"IF('CENTRAL ANALYSIS'!$B$98>=7,1,0)","v":0}]
[null,null,null,null,null,null,null,null,null,null,null,null,null,null,null,null,null,null,null,null,null,null,{"$f":"IF('CENTRAL ANALYSIS'!$B$98>=7,1,0)","v":0}]
[null,null,null,null,null,null,null,null,null,null,null,null,null,null,null,null,null,null,null,null,null,null,{"$f":"IF('CENTRAL ANALYSIS'!$B$98>=7,1,0)","v":0}]
[null,null,null,null,null,null,null,null,null,null,null,null,null,null,null,null,null,null,null,null,null,null,{"$f":"IF('CENTRAL ANALYSIS'!$B$98>=7,1,0)","v":0}]
[null,null,null,null,null,null,null,null,null,null,null,null,null,null,null,null,null,null,null,null,null,null,{"$f":"IF('CENTRAL ANALYSIS'!$B$98>=7,1,0)","v":0}]
[null,null,null,null,null,null,null,null,null,null,null,null,null,null,null,null,null,null,null,null,null,null,{"$f":"IF('CENTRAL ANALYSIS'!$B$98>=7,1,0)","v":0}]
[null,null,null,null,null,null,"Action Item","",null,null,null,null,null,null,null,null,null,{"$f":"IF(AND(W446=1,H446<>\"\"),1,0)","v":0},null,null,null,null,{"$f":"IF('CENTRAL ANALYSIS'!$B$153>=1,1,0)","v":0}]
[null,null,null,null,null,null,null,null,null,null,null,null,null,null,null,null,null,null,null,null,null,null,{"$f":"IF('CENTRAL ANALYSIS'!$B$153>=1,1,0)","v":0}]
[null,null,null,null,null,null,null,null,null,null,null,null,null,null,null,null,null,null,null,null,null,null,{"$f":"IF('CENTRAL ANALYSIS'!$B$153>=1,1,0)","v":0}]
[null,null,null,null,null,null,"Action Item","",null,null,null,null,null,null,null,null,null,{"$f":"IF(AND(W449=1,H449<>\"\"),1,0)","v":0},null,null,null,null,{"$f":"IF('CENTRAL ANALYSIS'!$B$153>=2,1,0)","v":0}]
[null,null,null,null,null,null,null,null,null,null,null,null,null,null,null,null,null,null,null,null,null,null,{"$f":"IF('CENTRAL ANALYSIS'!$B$153>=2,1,0)","v":0}]
[null,null,null,null,null,null,null,null,null,null,null,null,null,null,null,null,null,null,null,null,null,null,{"$f":"IF('CENTRAL ANALYSIS'!$B$153>=2,1,0)","v":0}]
[null,null,null,null,null,null,"Action Item","",null,null,null,null,null,null,null,null,null,{"$f":"IF(AND(W452=1,H452<>\"\"),1,0)","v":0},null,null,null,null,{"$f":"IF('CENTRAL ANALYSIS'!$B$153>=3,1,0)","v":0}]
[null,null,null,null,null,null,null,null,null,null,null,null,null,null,null,null,null,null,null,null,null,null,{"$f":"IF('CENTRAL ANALYSIS'!$B$153>=3,1,0)","v":0}]
[null,null,null,null,null,null,null,null,null,null,null,null,null,null,null,null,null,null,null,null,null,null,{"$f":"IF('CENTRAL ANALYSIS'!$B$153>=3,1,0)","v":0}]
[null,null,null,null,null,null,"Action Item","",null,null,null,null,null,null,null,null,null,{"$f":"IF(AND(W455=1,H455<>\"\"),1,0)","v":0},null,null,null,null,{"$f":"IF('CENTRAL ANALYSIS'!$B$153>=4,1,0)","v":0}]
[null,null,null,null,null,null,null,null,null,null,null,null,null,null,null,null,null,null,null,null,null,null,{"$f":"IF('CENTRAL ANALYSIS'!$B$153>=4,1,0)","v":0}]
[null,null,null,null,null,null,null,null,null,null,null,null,null,null,null,null,null,null,null,null,null,null,{"$f":"IF('CENTRAL ANALYSIS'!$B$153>=4,1,0)","v":0}]
[null,null,null,null,null,null,"Action Item","",null,null,null,null,null,null,null,null,null,{"$f":"IF(AND(W458=1,H458<>\"\"),1,0)","v":0},null,null,null,null,{"$f":"IF('CENTRAL ANALYSIS'!$B$153>=5,1,0)","v":0}]
[null,null,null,null,null,null,null,null,null,null,null,null,null,null,null,null,null,null,null,null,null,null,{"$f":"IF('CENTRAL ANALYSIS'!$B$153>=5,1,0)","v":0}]
[null,null,null,null,null,null,null,null,null,null,null,null,null,null,null,null,null,null,null,null,null,null,{"$f":"IF('CENTRAL ANALYSIS'!$B$153>=5,1,0)","v":0}]
[null,null,null,null,null,null,null,null,null,null,null,null,null,null,null,null,null,null,null,null,null,null,{"$f":"IF('CENTRAL ANALYSIS'!$B$98>=8,1,0)","v":0}]
[null,null,"Objective 8",null,null,null,null,null,null,null,null,null,null,{"$f":"IF(W462<>1,\"\",IF('CENTRAL ANALYSIS'!$D$155='CENTRAL ANALYSIS'!$B$161+1,\"Complete\",\"Incomplete\"))","v":""},null,null,null,null,null,null,null,null,{"$f":"IF('CENTRAL ANALYSIS'!$B$98>=8,1,0)","v":0}]
[null,null,null,null,null,null,null,null,null,null,null,null,null,null,null,null,null,null,null,null,null,null,{"$f":"IF('CENTRAL ANALYSIS'!$B$98>=8,1,0)","v":0}]
[null,null,"Please enter the item objective statement and corresponding action items. Action items can be added by clicking the \"Add Action Item\" button, for a total of 5 action items per each objective. Action items should describe what the action is and how it will be measured.",null,null,null,null,null,null,null,null,null,null,null,null,null,null,null,null,null,null,null,{"$f":"IF('CENTRAL ANALYSIS'!$B$98>=8,1,0)","v":0}]
[null,null,null,null,null,null,null,null,null,null,null,null,null,null,null,null,null,null,null,null,null,null,{"$f":"IF('CENTRAL ANALYSIS'!$B$98>=8,1,0)","v":0}]
[null,null,null,null,null,null,null,null,null,null,null,null,null,null,null,null,null,null,null,null,null,null,{"$f":"IF('CENTRAL ANALYSIS'!$B$98>=8,1,0)","v":0}]
[null,8,null,null,"Overall Objective Statement","",null,null,null,null,null,null,null,null,null,null,null,{"$f":"IF(AND(W467=1,F467<>\"\"),1,0)","v":0},null,null,null,null,{"$f":"IF('CENTRAL ANALYSIS'!$B$98>=8,1,0)","v":0}]
[null,null,null,null,null,null,null,null,null,null,null,null,null,null,null,null,null,null,null,null,null,null,{"$f":"IF('CENTRAL ANALYSIS'!$B$98>=8,1,0)","v":0}]
[null,null,null,null,null,null,null,null,null,null,null,null,null,null,null,null,null,null,null,null,null,null,{"$f":"IF('CENTRAL ANALYSIS'!$B$98>=8,1,0)","v":0}]
[null,null,null,null,null,null,null,null,null,null,null,null,null,null,null,null,null,null,null,null,null,null,{"$f":"IF('CENTRAL ANALYSIS'!$B$98>=8,1,0)","v":0}]
[null,null,null,null,null,null,null,null,null,null,null,null,null,null,null,null,null,null,null,null,null,null,{"$f":"IF('CENTRAL ANALYSIS'!$B$98>=8,1,0)","v":0}]
[null,null,null,null,null,null,null,null,null,null,null,null,null,null,null,null,null,null,null,null,null,null,{"$f":"IF('CENTRAL ANALYSIS'!$B$98>=8,1,0)","v":0}]
[null,null,null,null,null,null,"Action Item","",null,null,null,null,null,null,null,null,null,{"$f":"IF(AND(W473=1,H473<>\"\"),1,0)","v":0},null,null,null,null,{"$f":"IF('CENTRAL ANALYSIS'!$B$161>=1,1,0)","v":0}]
[null,null,null,null,null,null,null,null,null,null,null,null,null,null,null,null,null,null,null,null,null,null,{"$f":"IF('CENTRAL ANALYSIS'!$B$161>=1,1,0)","v":0}]
[null,null,null,null,null,null,null,null,null,null,null,null,null,null,null,null,null,null,null,null,null,null,{"$f":"IF('CENTRAL ANALYSIS'!$B$161>=1,1,0)","v":0}]
[null,null,null,null,null,null,"Action Item","",null,null,null,null,null,null,null,null,null,{"$f":"IF(AND(W476=1,H476<>\"\"),1,0)","v":0},null,null,null,null,{"$f":"IF('CENTRAL ANALYSIS'!$B$161>=2,1,0)","v":0}]
[null,null,null,null,null,null,null,null,null,null,null,null,null,null,null,null,null,null,null,null,null,null,{"$f":"IF('CENTRAL ANALYSIS'!$B$161>=2,1,0)","v":0}]
[null,null,null,null,null,null,null,null,null,null,null,null,null,null,null,null,null,null,null,null,null,null,{"$f":"IF('CENTRAL ANALYSIS'!$B$161>=2,1,0)","v":0}]
[null,null,null,null,null,null,"Action Item","",null,null,null,null,null,null,null,null,null,{"$f":"IF(AND(W479=1,H479<>\"\"),1,0)","v":0},null,null,null,null,{"$f":"IF('CENTRAL ANALYSIS'!$B$161>=3,1,0)","v":0}]
[null,null,null,null,null,null,null,null,null,null,null,null,null,null,null,null,null,null,null,null,null,null,{"$f":"IF('CENTRAL ANALYSIS'!$B$161>=3,1,0)","v":0}]
[null,null,null,null,null,null,null,null,null,null,null,null,null,null,null,null,null,null,null,null,null,null,{"$f":"IF('CENTRAL ANALYSIS'!$B$161>=3,1,0)","v":0}]
[null,null,null,null,null,null,"Action Item","",null,null,null,null,null,null,null,null,null,{"$f":"IF(AND(W482=1,H482<>\"\"),1,0)","v":0},null,null,null,null,{"$f":"IF('CENTRAL ANALYSIS'!$B$161>=4,1,0)","v":0}]
[null,null,null,null,null,null,null,null,null,null,null,null,null,null,null,null,null,null,null,null,null,null,{"$f":"IF('CENTRAL ANALYSIS'!$B$161>=4,1,0)","v":0}]
[null,null,null,null,null,null,null,null,null,null,null,null,null,null,null,null,null,null,null,null,null,null,{"$f":"IF('CENTRAL ANALYSIS'!$B$161>=4,1,0)","v":0}]
[null,null,null,null,null,null,"Action Item","",null,null,null,null,null,null,null,null,null,{"$f":"IF(AND(W485=1,H485<>\"\"),1,0)","v":0},null,null,null,null,{"$f":"IF('CENTRAL ANALYSIS'!$B$161>=5,1,0)","v":0}]
[null,null,null,null,null,null,null,null,null,null,null,null,null,null,null,null,null,null,null,null,null,null,{"$f":"IF('CENTRAL ANALYSIS'!$B$161>=5,1,0)","v":0}]
[null,null,null,null,null,null,null,null,null,null,null,null,null,null,null,null,null,null,null,null,null,null,{"$f":"IF('CENTRAL ANALYSIS'!$B$161>=5,1,0)","v":0}]
[null,null,null,null,null,null,null,null,null,null,null,null,null,null,null,null,null,null,null,null,null,null,{"$f":"IF('CENTRAL ANALYSIS'!$B$98>=9,1,0)","v":0}]
[null,null,"Objective 9",null,null,null,null,null,null,null,null,null,null,{"$f":"IF(W489<>1,\"\",IF('CENTRAL ANALYSIS'!$D$163='CENTRAL ANALYSIS'!$B$169+1,\"Complete\",\"Incomplete\"))","v":""},null,null,null,null,null,null,null,null,{"$f":"IF('CENTRAL ANALYSIS'!$B$98>=9,1,0)","v":0}]
[null,null,null,null,null,null,null,null,null,null,null,null,null,null,null,null,null,null,null,null,null,null,{"$f":"IF('CENTRAL ANALYSIS'!$B$98>=9,1,0)","v":0}]
[null,null,"Please enter the item objective statement and corresponding action items. Action items can be added by clicking the \"Add Action Item\" button, for a total of 5 action items per each objective. Action items should describe what the action is and how it will be measured.",null,null,null,null,null,null,null,null,null,null,null,null,null,null,null,null,null,null,null,{"$f":"IF('CENTRAL ANALYSIS'!$B$98>=9,1,0)","v":0}]
[null,null,null,null,null,null,null,null,null,null,null,null,null,null,null,null,null,null,null,null,null,null,{"$f":"IF('CENTRAL ANALYSIS'!$B$98>=9,1,0)","v":0}]
[null,null,null,null,null,null,null,null,null,null,null,null,null,null,null,null,null,null,null,null,null,null,{"$f":"IF('CENTRAL ANALYSIS'!$B$98>=9,1,0)","v":0}]
[null,9,null,null,"Overall Objective Statement","",null,null,null,null,null,null,null,null,null,null,null,{"$f":"IF(AND(W494=1,F494<>\"\"),1,0)","v":0},null,null,null,null,{"$f":"IF('CENTRAL ANALYSIS'!$B$98>=9,1,0)","v":0}]
[null,null,null,null,null,null,null,null,null,null,null,null,null,null,null,null,null,null,null,null,null,null,{"$f":"IF('CENTRAL ANALYSIS'!$B$98>=9,1,0)","v":0}]
[null,null,null,null,null,null,null,null,null,null,null,null,null,null,null,null,null,null,null,null,null,null,{"$f":"IF('CENTRAL ANALYSIS'!$B$98>=9,1,0)","v":0}]
[null,null,null,null,null,null,null,null,null,null,null,null,null,null,null,null,null,null,null,null,null,null,{"$f":"IF('CENTRAL ANALYSIS'!$B$98>=9,1,0)","v":0}]
[null,null,null,null,null,null,null,null,null,null,null,null,null,null,null,null,null,null,null,null,null,null,{"$f":"IF('CENTRAL ANALYSIS'!$B$98>=9,1,0)","v":0}]
[null,null,null,null,null,null,null,null,null,null,null,null,null,null,null,null,null,null,null,null,null,null,{"$f":"IF('CENTRAL ANALYSIS'!$B$98>=9,1,0)","v":0}]
[null,null,null,null,null,null,"Action Item","",null,null,null,null,null,null,null,null,null,{"$f":"IF(AND(W500=1,H500<>\"\"),1,0)","v":0},null,null,null,null,{"$f":"IF('CENTRAL ANALYSIS'!$B$169>=1,1,0)","v":0}]
[null,null,null,null,null,null,null,null,null,null,null,null,null,null,null,null,null,null,null,null,null,null,{"$f":"IF('CENTRAL ANALYSIS'!$B$169>=1,1,0)","v":0}]
[null,null,null,null,null,null,null,null,null,null,null,null,null,null,null,null,null,null,null,null,null,null,{"$f":"IF('CENTRAL ANALYSIS'!$B$169>=1,1,0)","v":0}]
[null,null,null,null,null,null,"Action Item","",null,null,null,null,null,null,null,null,null,{"$f":"IF(AND(W503=1,H503<>\"\"),1,0)","v":0},null,null,null,null,{"$f":"IF('CENTRAL ANALYSIS'!$B$169>=2,1,0)","v":0}]
[null,null,null,null,null,null,null,null,null,null,null,null,null,null,null,null,null,null,null,null,null,null,{"$f":"IF('CENTRAL ANALYSIS'!$B$169>=2,1,0)","v":0}]
[null,null,null,null,null,null,null,null,null,null,null,null,null,null,null,null,null,null,null,null,null,null,{"$f":"IF('CENTRAL ANALYSIS'!$B$169>=2,1,0)","v":0}]
[null,null,null,null,null,null,"Action Item","",null,null,null,null,null,null,null,null,null,{"$f":"IF(AND(W506=1,H506<>\"\"),1,0)","v":0},null,null,null,null,{"$f":"IF('CENTRAL ANALYSIS'!$B$169>=3,1,0)","v":0}]
[null,null,null,null,null,null,null,null,null,null,null,null,null,null,null,null,null,null,null,null,null,null,{"$f":"IF('CENTRAL ANALYSIS'!$B$169>=3,1,0)","v":0}]
[null,null,null,null,null,null,null,null,null,null,null,null,null,null,null,null,null,null,null,null,null,null,{"$f":"IF('CENTRAL ANALYSIS'!$B$169>=3,1,0)","v":0}]
[null,null,null,null,null,null,"Action Item","",null,null,null,null,null,null,null,null,null,{"$f":"IF(AND(W509=1,H509<>\"\"),1,0)","v":0},null,null,null,null,{"$f":"IF('CENTRAL ANALYSIS'!$B$169>=4,1,0)","v":0}]
[null,null,null,null,null,null,null,null,null,null,null,null,null,null,null,null,null,null,null,null,null,null,{"$f":"IF('CENTRAL ANALYSIS'!$B$169>=4,1,0)","v":0}]
[null,null,null,null,null,null,null,null,null,null,null,null,null,null,null,null,null,null,null,null,null,null,{"$f":"IF('CENTRAL ANALYSIS'!$B$169>=4,1,0)","v":0}]
[null,null,null,null,null,null,"Action Item","",null,null,null,null,null,null,null,null,null,{"$f":"IF(AND(W512=1,H512<>\"\"),1,0)","v":0},null,null,null,null,{"$f":"IF('CENTRAL ANALYSIS'!$B$169>=5,1,0)","v":0}]
[null,null,null,null,null,null,null,null,null,null,null,null,null,null,null,null,null,null,null,null,null,null,{"$f":"IF('CENTRAL ANALYSIS'!$B$169>=5,1,0)","v":0}]
[null,null,null,null,null,null,null,null,null,null,null,null,null,null,null,null,null,null,null,null,null,null,{"$f":"IF('CENTRAL ANALYSIS'!$B$169>=5,1,0)","v":0}]
[null,null,null,null,null,null,null,null,null,null,null,null,null,null,null,null,null,null,null,null,null,null,{"$f":"IF('CENTRAL ANALYSIS'!$B$98>=10,1,0)","v":0}]
[null,null,"Objective 10",null,null,null,null,null,null,null,null,null,null,{"$f":"IF(W516<>1,\"\",IF('CENTRAL ANALYSIS'!$D$171='CENTRAL ANALYSIS'!$B$177+1,\"Complete\",\"Incomplete\"))","v":""},null,null,null,null,null,null,null,null,{"$f":"IF('CENTRAL ANALYSIS'!$B$98>=10,1,0)","v":0}]
[null,null,null,null,null,null,null,null,null,null,null,null,null,null,null,null,null,null,null,null,null,null,{"$f":"IF('CENTRAL ANALYSIS'!$B$98>=10,1,0)","v":0}]
[null,null,"Please enter the item objective statement and corresponding action items. Action items can be added by clicking the \"Add Action Item\" button, for a total of 5 action items per each objective. Action items should describe what the action is and how it will be measured.",null,null,null,null,null,null,null,null,null,null,null,null,null,null,null,null,null,null,null,{"$f":"IF('CENTRAL ANALYSIS'!$B$98>=10,1,0)","v":0}]
[null,null,null,null,null,null,null,null,null,null,null,null,null,null,null,null,null,null,null,null,null,null,{"$f":"IF('CENTRAL ANALYSIS'!$B$98>=10,1,0)","v":0}]
[null,null,null,null,null,null,null,null,null,null,null,null,null,null,null,null,null,null,null,null,null,null,{"$f":"IF('CENTRAL ANALYSIS'!$B$98>=10,1,0)","v":0}]
[null,10,null,null,"Overall Objective Statement","",null,null,null,null,null,null,null,null,null,null,null,{"$f":"IF(AND(W521=1,F521<>\"\"),1,0)","v":0},null,null,null,null,{"$f":"IF('CENTRAL ANALYSIS'!$B$98>=10,1,0)","v":0}]
[null,null,null,null,null,null,null,null,null,null,null,null,null,null,null,null,null,null,null,null,null,null,{"$f":"IF('CENTRAL ANALYSIS'!$B$98>=10,1,0)","v":0}]
[null,null,null,null,null,null,null,null,null,null,null,null,null,null,null,null,null,null,null,null,null,null,{"$f":"IF('CENTRAL ANALYSIS'!$B$98>=10,1,0)","v":0}]
[null,null,null,null,null,null,null,null,null,null,null,null,null,null,null,null,null,null,null,null,null,null,{"$f":"IF('CENTRAL ANALYSIS'!$B$98>=10,1,0)","v":0}]
[null,null,null,null,null,null,null,null,null,null,null,null,null,null,null,null,null,null,null,null,null,null,{"$f":"IF('CENTRAL ANALYSIS'!$B$98>=10,1,0)","v":0}]
[null,null,null,null,null,null,null,null,null,null,null,null,null,null,null,null,null,null,null,null,null,null,{"$f":"IF('CENTRAL ANALYSIS'!$B$98>=10,1,0)","v":0}]
[null,null,null,null,null,null,"Action Item","",null,null,null,null,null,null,null,null,null,{"$f":"IF(AND(W527=1,H527<>\"\"),1,0)","v":0},null,null,null,null,{"$f":"IF('CENTRAL ANALYSIS'!$B$177>=1,1,0)","v":0}]
[null,null,null,null,null,null,null,null,null,null,null,null,null,null,null,null,null,null,null,null,null,null,{"$f":"IF('CENTRAL ANALYSIS'!$B$177>=1,1,0)","v":0}]
[null,null,null,null,null,null,null,null,null,null,null,null,null,null,null,null,null,null,null,null,null,null,{"$f":"IF('CENTRAL ANALYSIS'!$B$177>=1,1,0)","v":0}]
[null,null,null,null,null,null,"Action Item","",null,null,null,null,null,null,null,null,null,{"$f":"IF(AND(W530=1,H530<>\"\"),1,0)","v":0},null,null,null,null,{"$f":"IF('CENTRAL ANALYSIS'!$B$177>=2,1,0)","v":0}]
[null,null,null,null,null,null,null,null,null,null,null,null,null,null,null,null,null,null,null,null,null,null,{"$f":"IF('CENTRAL ANALYSIS'!$B$177>=2,1,0)","v":0}]
[null,null,null,null,null,null,null,null,null,null,null,null,null,null,null,null,null,null,null,null,null,null,{"$f":"IF('CENTRAL ANALYSIS'!$B$177>=2,1,0)","v":0}]
[null,null,null,null,null,null,"Action Item","",null,null,null,null,null,null,null,null,null,{"$f":"IF(AND(W533=1,H533<>\"\"),1,0)","v":0},null,null,null,null,{"$f":"IF('CENTRAL ANALYSIS'!$B$177>=3,1,0)","v":0}]
[null,null,null,null,null,null,null,null,null,null,null,null,null,null,null,null,null,null,null,null,null,null,{"$f":"IF('CENTRAL ANALYSIS'!$B$177>=3,1,0)","v":0}]
[null,null,null,null,null,null,null,null,null,null,null,null,null,null,null,null,null,null,null,null,null,null,{"$f":"IF('CENTRAL ANALYSIS'!$B$177>=3,1,0)","v":0}]
[null,null,null,null,null,null,"Action Item","",null,null,null,null,null,null,null,null,null,{"$f":"IF(AND(W536=1,H536<>\"\"),1,0)","v":0},null,null,null,null,{"$f":"IF('CENTRAL ANALYSIS'!$B$177>=4,1,0)","v":0}]
[null,null,null,null,null,null,null,null,null,null,null,null,null,null,null,null,null,null,null,null,null,null,{"$f":"IF('CENTRAL ANALYSIS'!$B$177>=4,1,0)","v":0}]
[null,null,null,null,null,null,null,null,null,null,null,null,null,null,null,null,null,null,null,null,null,null,{"$f":"IF('CENTRAL ANALYSIS'!$B$177>=4,1,0)","v":0}]
[null,null,null,null,null,null,"Action Item","",null,null,null,null,null,null,null,null,null,{"$f":"IF(AND(W539=1,H539<>\"\"),1,0)","v":0},null,null,null,null,{"$f":"IF('CENTRAL ANALYSIS'!$B$177>=5,1,0)","v":0}]
[null,null,null,null,null,null,null,null,null,null,null,null,null,null,null,null,null,null,null,null,null,null,{"$f":"IF('CENTRAL ANALYSIS'!$B$177>=5,1,0)","v":0}]
[null,null,null,null,null,null,null,null,null,null,null,null,null,null,null,null,null,null,null,null,null,null,{"$f":"IF('CENTRAL ANALYSIS'!$B$177>=5,1,0)","v":0}]
[null,null,null,null,null,null,null,null,null,null,null,null,null,null,null,null,null,null,null,null,null,null,{"$f":"IF('CENTRAL ANALYSIS'!$B$98>=11,1,0)","v":0}]
[null,null,"Objective 11",null,null,null,null,null,null,null,null,null,null,{"$f":"IF(W543<>1,\"\",IF('CENTRAL ANALYSIS'!$D$179='CENTRAL ANALYSIS'!$B$185+1,\"Complete\",\"Incomplete\"))","v":""},null,null,null,null,null,null,null,null,{"$f":"IF('CENTRAL ANALYSIS'!$B$98>=11,1,0)","v":0}]
[null,null,null,null,null,null,null,null,null,null,null,null,null,null,null,null,null,null,null,null,null,null,{"$f":"IF('CENTRAL ANALYSIS'!$B$98>=11,1,0)","v":0}]
[null,null,"Please enter the item objective statement and corresponding action items. Action items can be added by clicking the \"Add Action Item\" button, for a total of 5 action items per each objective. Action items should describe what the action is and how it will be measured.",null,null,null,null,null,null,null,null,null,null,null,null,null,null,null,null,null,null,null,{"$f":"IF('CENTRAL ANALYSIS'!$B$98>=11,1,0)","v":0}]
[null,null,null,null,null,null,null,null,null,null,null,null,null,null,null,null,null,null,null,null,null,null,{"$f":"IF('CENTRAL ANALYSIS'!$B$98>=11,1,0)","v":0}]
[null,null,null,null,null,null,null,null,null,null,null,null,null,null,null,null,null,null,null,null,null,null,{"$f":"IF('CENTRAL ANALYSIS'!$B$98>=11,1,0)","v":0}]
[null,11,null,null,"Overall Objective Statement","",null,null,null,null,null,null,null,null,null,null,null,{"$f":"IF(AND(W548=1,F548<>\"\"),1,0)","v":0},null,null,null,null,{"$f":"IF('CENTRAL ANALYSIS'!$B$98>=11,1,0)","v":0}]
[null,null,null,null,null,null,null,null,null,null,null,null,null,null,null,null,null,null,null,null,null,null,{"$f":"IF('CENTRAL ANALYSIS'!$B$98>=11,1,0)","v":0}]
[null,null,null,null,null,null,null,null,null,null,null,null,null,null,null,null,null,null,null,null,null,null,{"$f":"IF('CENTRAL ANALYSIS'!$B$98>=11,1,0)","v":0}]
[null,null,null,null,null,null,null,null,null,null,null,null,null,null,null,null,null,null,null,null,null,null,{"$f":"IF('CENTRAL ANALYSIS'!$B$98>=11,1,0)","v":0}]
[null,null,null,null,null,null,null,null,null,null,null,null,null,null,null,null,null,null,null,null,null,null,{"$f":"IF('CENTRAL ANALYSIS'!$B$98>=11,1,0)","v":0}]
[null,null,null,null,null,null,null,null,null,null,null,null,null,null,null,null,null,null,null,null,null,null,{"$f":"IF('CENTRAL ANALYSIS'!$B$98>=11,1,0)","v":0}]
[null,null,null,null,null,null,"Action Item","",null,null,null,null,null,null,null,null,null,{"$f":"IF(AND(W554=1,H554<>\"\"),1,0)","v":0},null,null,null,null,{"$f":"IF('CENTRAL ANALYSIS'!$B$185>=1,1,0)","v":0}]
[null,null,null,null,null,null,null,null,null,null,null,null,null,null,null,null,null,null,null,null,null,null,{"$f":"IF('CENTRAL ANALYSIS'!$B$185>=1,1,0)","v":0}]
[null,null,null,null,null,null,null,null,null,null,null,null,null,null,null,null,null,null,null,null,null,null,{"$f":"IF('CENTRAL ANALYSIS'!$B$185>=1,1,0)","v":0}]
[null,null,null,null,null,null,"Action Item","",null,null,null,null,null,null,null,null,null,{"$f":"IF(AND(W557=1,H557<>\"\"),1,0)","v":0},null,null,null,null,{"$f":"IF('CENTRAL ANALYSIS'!$B$185>=2,1,0)","v":0}]
[null,null,null,null,null,null,null,null,null,null,null,null,null,null,null,null,null,null,null,null,null,null,{"$f":"IF('CENTRAL ANALYSIS'!$B$185>=2,1,0)","v":0}]
[null,null,null,null,null,null,null,null,null,null,null,null,null,null,null,null,null,null,null,null,null,null,{"$f":"IF('CENTRAL ANALYSIS'!$B$185>=2,1,0)","v":0}]
[null,null,null,null,null,null,"Action Item","",null,null,null,null,null,null,null,null,null,{"$f":"IF(AND(W560=1,H560<>\"\"),1,0)","v":0},null,null,null,null,{"$f":"IF('CENTRAL ANALYSIS'!$B$185>=3,1,0)","v":0}]
[null,null,null,null,null,null,null,null,null,null,null,null,null,null,null,null,null,null,null,null,null,null,{"$f":"IF('CENTRAL ANALYSIS'!$B$185>=3,1,0)","v":0}]
[null,null,null,null,null,null,null,null,null,null,null,null,null,null,null,null,null,null,null,null,null,null,{"$f":"IF('CENTRAL ANALYSIS'!$B$185>=3,1,0)","v":0}]
[null,null,null,null,null,null,"Action Item","",null,null,null,null,null,null,null,null,null,{"$f":"IF(AND(W563=1,H563<>\"\"),1,0)","v":0},null,null,null,null,{"$f":"IF('CENTRAL ANALYSIS'!$B$185>=4,1,0)","v":0}]
[null,null,null,null,null,null,null,null,null,null,null,null,null,null,null,null,null,null,null,null,null,null,{"$f":"IF('CENTRAL ANALYSIS'!$B$185>=4,1,0)","v":0}]
[null,null,null,null,null,null,null,null,null,null,null,null,null,null,null,null,null,null,null,null,null,null,{"$f":"IF('CENTRAL ANALYSIS'!$B$185>=4,1,0)","v":0}]
[null,null,null,null,null,null,"Action Item","",null,null,null,null,null,null,null,null,null,{"$f":"IF(AND(W566=1,H566<>\"\"),1,0)","v":0},null,null,null,null,{"$f":"IF('CENTRAL ANALYSIS'!$B$185>=5,1,0)","v":0}]
[null,null,null,null,null,null,null,null,null,null,null,null,null,null,null,null,null,null,null,null,null,null,{"$f":"IF('CENTRAL ANALYSIS'!$B$185>=5,1,0)","v":0}]
[null,null,null,null,null,null,null,null,null,null,null,null,null,null,null,null,null,null,null,null,null,null,{"$f":"IF('CENTRAL ANALYSIS'!$B$185>=5,1,0)","v":0}]
[null,null,null,null,null,null,null,null,null,null,null,null,null,null,null,null,null,null,null,null,null,null,{"$f":"IF('CENTRAL ANALYSIS'!$B$98>=12,1,0)","v":0}]
[null,null,"Objective 12",null,null,null,null,null,null,null,null,null,null,{"$f":"IF(W570<>1,\"\",IF('CENTRAL ANALYSIS'!$D$187='CENTRAL ANALYSIS'!$B$193+1,\"Complete\",\"Incomplete\"))","v":""},null,null,null,null,null,null,null,null,{"$f":"IF('CENTRAL ANALYSIS'!$B$98>=12,1,0)","v":0}]
[null,null,null,null,null,null,null,null,null,null,null,null,null,null,null,null,null,null,null,null,null,null,{"$f":"IF('CENTRAL ANALYSIS'!$B$98>=12,1,0)","v":0}]
[null,null,"Please enter the item objective statement and corresponding action items. Action items can be added by clicking the \"Add Action Item\" button, for a total of 5 action items per each objective. Action items should describe what the action is and how it will be measured.",null,null,null,null,null,null,null,null,null,null,null,null,null,null,null,null,null,null,null,{"$f":"IF('CENTRAL ANALYSIS'!$B$98>=12,1,0)","v":0}]
[null,null,null,null,null,null,null,null,null,null,null,null,null,null,null,null,null,null,null,null,null,null,{"$f":"IF('CENTRAL ANALYSIS'!$B$98>=12,1,0)","v":0}]
[null,null,null,null,null,null,null,null,null,null,null,null,null,null,null,null,null,null,null,null,null,null,{"$f":"IF('CENTRAL ANALYSIS'!$B$98>=12,1,0)","v":0}]
[null,12,null,null,"Overall Objective Statement",null,null,null,null,null,null,null,null,null,null,null,null,{"$f":"IF(AND(W575=1,F575<>\"\"),1,0)","v":0},null,null,null,null,{"$f":"IF('CENTRAL ANALYSIS'!$B$98>=12,1,0)","v":0}]
[null,null,null,null,null,null,null,null,null,null,null,null,null,null,null,null,null,null,null,null,null,null,{"$f":"IF('CENTRAL ANALYSIS'!$B$98>=12,1,0)","v":0}]
[null,null,null,null,null,null,null,null,null,null,null,null,null,null,null,null,null,null,null,null,null,null,{"$f":"IF('CENTRAL ANALYSIS'!$B$98>=12,1,0)","v":0}]
[null,null,null,null,null,null,null,null,null,null,null,null,null,null,null,null,null,null,null,null,null,null,{"$f":"IF('CENTRAL ANALYSIS'!$B$98>=12,1,0)","v":0}]
[null,null,null,null,null,null,null,null,null,null,null,null,null,null,null,null,null,null,null,null,null,null,{"$f":"IF('CENTRAL ANALYSIS'!$B$98>=12,1,0)","v":0}]
[null,null,null,null,null,null,null,null,null,null,null,null,null,null,null,null,null,null,null,null,null,null,{"$f":"IF('CENTRAL ANALYSIS'!$B$98>=12,1,0)","v":0}]
[null,null,null,null,null,null,"Action Item",null,null,null,null,null,null,null,null,null,null,{"$f":"IF(AND(W581=1,H581<>\"\"),1,0)","v":0},null,null,null,null,{"$f":"IF('CENTRAL ANALYSIS'!$B$193>=1,1,0)","v":0}]
[null,null,null,null,null,null,null,null,null,null,null,null,null,null,null,null,null,null,null,null,null,null,{"$f":"IF('CENTRAL ANALYSIS'!$B$193>=1,1,0)","v":0}]
[null,null,null,null,null,null,null,null,null,null,null,null,null,null,null,null,null,null,null,null,null,null,{"$f":"IF('CENTRAL ANALYSIS'!$B$193>=1,1,0)","v":0}]
[null,null,null,null,null,null,"Action Item","",null,null,null,null,null,null,null,null,null,{"$f":"IF(AND(W584=1,H584<>\"\"),1,0)","v":0},null,null,null,null,{"$f":"IF('CENTRAL ANALYSIS'!$B$193>=2,1,0)","v":0}]
[null,null,null,null,null,null,null,null,null,null,null,null,null,null,null,null,null,null,null,null,null,null,{"$f":"IF('CENTRAL ANALYSIS'!$B$193>=2,1,0)","v":0}]
[null,null,null,null,null,null,null,null,null,null,null,null,null,null,null,null,null,null,null,null,null,null,{"$f":"IF('CENTRAL ANALYSIS'!$B$193>=2,1,0)","v":0}]
[null,null,null,null,null,null,"Action Item","",null,null,null,null,null,null,null,null,null,{"$f":"IF(AND(W587=1,H587<>\"\"),1,0)","v":0},null,null,null,null,{"$f":"IF('CENTRAL ANALYSIS'!$B$193>=3,1,0)","v":0}]
[null,null,null,null,null,null,null,null,null,null,null,null,null,null,null,null,null,null,null,null,null,null,{"$f":"IF('CENTRAL ANALYSIS'!$B$193>=3,1,0)","v":0}]
[null,null,null,null,null,null,null,null,null,null,null,null,null,null,null,null,null,null,null,null,null,null,{"$f":"IF('CENTRAL ANALYSIS'!$B$193>=3,1,0)","v":0}]
[null,null,null,null,null,null,"Action Item","",null,null,null,null,null,null,null,null,null,{"$f":"IF(AND(W590=1,H590<>\"\"),1,0)","v":0},null,null,null,null,{"$f":"IF('CENTRAL ANALYSIS'!$B$193>=4,1,0)","v":0}]
[null,null,null,null,null,null,null,null,null,null,null,null,null,null,null,null,null,null,null,null,null,null,{"$f":"IF('CENTRAL ANALYSIS'!$B$193>=4,1,0)","v":0}]
[null,null,null,null,null,null,null,null,null,null,null,null,null,null,null,null,null,null,null,null,null,null,{"$f":"IF('CENTRAL ANALYSIS'!$B$193>=4,1,0)","v":0}]
[null,null,null,null,null,null,"Action Item","",null,null,null,null,null,null,null,null,null,{"$f":"IF(AND(W593=1,H593<>\"\"),1,0)","v":0},null,null,null,null,{"$f":"IF('CENTRAL ANALYSIS'!$B$193>=5,1,0)","v":0}]
[null,null,null,null,null,null,null,null,null,null,null,null,null,null,null,null,null,null,null,null,null,null,{"$f":"IF('CENTRAL ANALYSIS'!$B$193>=5,1,0)","v":0}]
[null,null,null,null,null,null,null,null,null,null,null,null,null,null,null,null,null,null,null,null,null,null,{"$f":"IF('CENTRAL ANALYSIS'!$B$193>=5,1,0)","v":0}]
[null,null,null,null,null,null,null,null,null,null,null,null,null,null,null,null,null,null,null,null,null,null,{"$f":"IF('CENTRAL ANALYSIS'!$B$98>=13,1,0)","v":0}]
[null,null,"Objective 13",null,null,null,null,null,null,null,null,null,null,{"$f":"IF(W597<>1,\"\",IF('CENTRAL ANALYSIS'!$D$195='CENTRAL ANALYSIS'!$B$201+1,\"Complete\",\"Incomplete\"))","v":""},null,null,null,null,null,null,null,null,{"$f":"IF('CENTRAL ANALYSIS'!$B$98>=13,1,0)","v":0}]
[null,null,null,null,null,null,null,null,null,null,null,null,null,null,null,null,null,null,null,null,null,null,{"$f":"IF('CENTRAL ANALYSIS'!$B$98>=13,1,0)","v":0}]
[null,null,"Please enter the item objective statement and corresponding action items. Action items can be added by clicking the \"Add Action Item\" button, for a total of 5 action items per each objective. Action items should describe what the action is and how it will be measured.",null,null,null,null,null,null,null,null,null,null,null,null,null,null,null,null,null,null,null,{"$f":"IF('CENTRAL ANALYSIS'!$B$98>=13,1,0)","v":0}]
[null,null,null,null,null,null,null,null,null,null,null,null,null,null,null,null,null,null,null,null,null,null,{"$f":"IF('CENTRAL ANALYSIS'!$B$98>=13,1,0)","v":0}]
[null,null,null,null,null,null,null,null,null,null,null,null,null,null,null,null,null,null,null,null,null,null,{"$f":"IF('CENTRAL ANALYSIS'!$B$98>=13,1,0)","v":0}]
[null,13,null,null,"Overall Objective Statement",null,null,null,null,null,null,null,null,null,null,null,null,{"$f":"IF(AND(W602=1,F602<>\"\"),1,0)","v":0},null,null,null,null,{"$f":"IF('CENTRAL ANALYSIS'!$B$98>=13,1,0)","v":0}]
[null,null,null,null,null,null,null,null,null,null,null,null,null,null,null,null,null,null,null,null,null,null,{"$f":"IF('CENTRAL ANALYSIS'!$B$98>=13,1,0)","v":0}]
[null,null,null,null,null,null,null,null,null,null,null,null,null,null,null,null,null,null,null,null,null,null,{"$f":"IF('CENTRAL ANALYSIS'!$B$98>=13,1,0)","v":0}]
[null,null,null,null,null,null,null,null,null,null,null,null,null,null,null,null,null,null,null,null,null,null,{"$f":"IF('CENTRAL ANALYSIS'!$B$98>=13,1,0)","v":0}]
[null,null,null,null,null,null,null,null,null,null,null,null,null,null,null,null,null,null,null,null,null,null,{"$f":"IF('CENTRAL ANALYSIS'!$B$98>=13,1,0)","v":0}]
[null,null,null,null,null,null,null,null,null,null,null,null,null,null,null,null,null,null,null,null,null,null,{"$f":"IF('CENTRAL ANALYSIS'!$B$98>=13,1,0)","v":0}]
[null,null,null,null,null,null,"Action Item",null,null,null,null,null,null,null,null,null,null,{"$f":"IF(AND(W608=1,H608<>\"\"),1,0)","v":0},null,null,null,null,{"$f":"IF('CENTRAL ANALYSIS'!$B$201>=1,1,0)","v":0}]
[null,null,null,null,null,null,null,null,null,null,null,null,null,null,null,null,null,null,null,null,null,null,{"$f":"IF('CENTRAL ANALYSIS'!$B$201>=1,1,0)","v":0}]
[null,null,null,null,null,null,null,null,null,null,null,null,null,null,null,null,null,null,null,null,null,null,{"$f":"IF('CENTRAL ANALYSIS'!$B$201>=1,1,0)","v":0}]
[null,null,null,null,null,null,"Action Item","",null,null,null,null,null,null,null,null,null,{"$f":"IF(AND(W611=1,H611<>\"\"),1,0)","v":0},null,null,null,null,{"$f":"IF('CENTRAL ANALYSIS'!$B$201>=2,1,0)","v":0}]
[null,null,null,null,null,null,null,null,null,null,null,null,null,null,null,null,null,null,null,null,null,null,{"$f":"IF('CENTRAL ANALYSIS'!$B$201>=2,1,0)","v":0}]
[null,null,null,null,null,null,null,null,null,null,null,null,null,null,null,null,null,null,null,null,null,null,{"$f":"IF('CENTRAL ANALYSIS'!$B$201>=2,1,0)","v":0}]
[null,null,null,null,null,null,"Action Item","",null,null,null,null,null,null,null,null,null,{"$f":"IF(AND(W614=1,H614<>\"\"),1,0)","v":0},null,null,null,null,{"$f":"IF('CENTRAL ANALYSIS'!$B$201>=3,1,0)","v":0}]
[null,null,null,null,null,null,null,null,null,null,null,null,null,null,null,null,null,null,null,null,null,null,{"$f":"IF('CENTRAL ANALYSIS'!$B$201>=3,1,0)","v":0}]
[null,null,null,null,null,null,null,null,null,null,null,null,null,null,null,null,null,null,null,null,null,null,{"$f":"IF('CENTRAL ANALYSIS'!$B$201>=3,1,0)","v":0}]
[null,null,null,null,null,null,"Action Item","",null,null,null,null,null,null,null,null,null,{"$f":"IF(AND(W617=1,H617<>\"\"),1,0)","v":0},null,null,null,null,{"$f":"IF('CENTRAL ANALYSIS'!$B$201>=4,1,0)","v":0}]
[null,null,null,null,null,null,null,null,null,null,null,null,null,null,null,null,null,null,null,null,null,null,{"$f":"IF('CENTRAL ANALYSIS'!$B$201>=4,1,0)","v":0}]
[null,null,null,null,null,null,null,null,null,null,null,null,null,null,null,null,null,null,null,null,null,null,{"$f":"IF('CENTRAL ANALYSIS'!$B$201>=4,1,0)","v":0}]
[null,null,null,null,null,null,"Action Item","",null,null,null,null,null,null,null,null,null,{"$f":"IF(AND(W620=1,H620<>\"\"),1,0)","v":0},null,null,null,null,{"$f":"IF('CENTRAL ANALYSIS'!$B$201>=5,1,0)","v":0}]
[null,null,null,null,null,null,null,null,null,null,null,null,null,null,null,null,null,null,null,null,null,null,{"$f":"IF('CENTRAL ANALYSIS'!$B$201>=5,1,0)","v":0}]
[null,null,null,null,null,null,null,null,null,null,null,null,null,null,null,null,null,null,null,null,null,null,{"$f":"IF('CENTRAL ANALYSIS'!$B$201>=5,1,0)","v":0}]
[null,null,null,null,null,null,null,null,null,null,null,null,null,null,null,null,null,null,null,null,null,null,{"$f":"IF('CENTRAL ANALYSIS'!$B$98>=14,1,0)","v":0}]
[null,null,"Objective 14",null,null,null,null,null,null,null,null,null,null,{"$f":"IF(W624<>1,\"\",IF('CENTRAL ANALYSIS'!$D$203='CENTRAL ANALYSIS'!$B$209+1,\"Complete\",\"Incomplete\"))","v":""},null,null,null,null,null,null,null,null,{"$f":"IF('CENTRAL ANALYSIS'!$B$98>=14,1,0)","v":0}]
[null,null,null,null,null,null,null,null,null,null,null,null,null,null,null,null,null,null,null,null,null,null,{"$f":"IF('CENTRAL ANALYSIS'!$B$98>=14,1,0)","v":0}]
[null,null,"Please enter the item objective statement and corresponding action items. Action items can be added by clicking the \"Add Action Item\" button, for a total of 5 action items per each objective. Action items should describe what the action is and how it will be measured.",null,null,null,null,null,null,null,null,null,null,null,null,null,null,null,null,null,null,null,{"$f":"IF('CENTRAL ANALYSIS'!$B$98>=14,1,0)","v":0}]
[null,null,null,null,null,null,null,null,null,null,null,null,null,null,null,null,null,null,null,null,null,null,{"$f":"IF('CENTRAL ANALYSIS'!$B$98>=14,1,0)","v":0}]
[null,null,null,null,null,null,null,null,null,null,null,null,null,null,null,null,null,null,null,null,null,null,{"$f":"IF('CENTRAL ANALYSIS'!$B$98>=14,1,0)","v":0}]
[null,14,null,null,"Overall Objective Statement",null,null,null,null,null,null,null,null,null,null,null,null,{"$f":"IF(AND(W629=1,F629<>\"\"),1,0)","v":0},null,null,null,null,{"$f":"IF('CENTRAL ANALYSIS'!$B$98>=14,1,0)","v":0}]
[null,null,null,null,null,null,null,null,null,null,null,null,null,null,null,null,null,null,null,null,null,null,{"$f":"IF('CENTRAL ANALYSIS'!$B$98>=14,1,0)","v":0}]
[null,null,null,null,null,null,null,null,null,null,null,null,null,null,null,null,null,null,null,null,null,null,{"$f":"IF('CENTRAL ANALYSIS'!$B$98>=14,1,0)","v":0}]
[null,null,null,null,null,null,null,null,null,null,null,null,null,null,null,null,null,null,null,null,null,null,{"$f":"IF('CENTRAL ANALYSIS'!$B$98>=14,1,0)","v":0}]
[null,null,null,null,null,null,null,null,null,null,null,null,null,null,null,null,null,null,null,null,null,null,{"$f":"IF('CENTRAL ANALYSIS'!$B$98>=14,1,0)","v":0}]
[null,null,null,null,null,null,null,null,null,null,null,null,null,null,null,null,null,null,null,null,null,null,{"$f":"IF('CENTRAL ANALYSIS'!$B$98>=14,1,0)","v":0}]
[null,null,null,null,null,null,"Action Item",null,null,null,null,null,null,null,null,null,null,{"$f":"IF(AND(W635=1,H635<>\"\"),1,0)","v":0},null,null,null,null,{"$f":"IF('CENTRAL ANALYSIS'!$B$209>=1,1,0)","v":0}]
[null,null,null,null,null,null,null,null,null,null,null,null,null,null,null,null,null,null,null,null,null,null,{"$f":"IF('CENTRAL ANALYSIS'!$B$209>=1,1,0)","v":0}]
[null,null,null,null,null,null,null,null,null,null,null,null,null,null,null,null,null,null,null,null,null,null,{"$f":"IF('CENTRAL ANALYSIS'!$B$209>=1,1,0)","v":0}]
[null,null,null,null,null,null,"Action Item","",null,null,null,null,null,null,null,null,null,{"$f":"IF(AND(W638=1,H638<>\"\"),1,0)","v":0},null,null,null,null,{"$f":"IF('CENTRAL ANALYSIS'!$B$209>=2,1,0)","v":0}]
[null,null,null,null,null,null,null,null,null,null,null,null,null,null,null,null,null,null,null,null,null,null,{"$f":"IF('CENTRAL ANALYSIS'!$B$209>=2,1,0)","v":0}]
[null,null,null,null,null,null,null,null,null,null,null,null,null,null,null,null,null,null,null,null,null,null,{"$f":"IF('CENTRAL ANALYSIS'!$B$209>=2,1,0)","v":0}]
[null,null,null,null,null,null,"Action Item","",null,null,null,null,null,null,null,null,null,{"$f":"IF(AND(W641=1,H641<>\"\"),1,0)","v":0},null,null,null,null,{"$f":"IF('CENTRAL ANALYSIS'!$B$209>=3,1,0)","v":0}]
[null,null,null,null,null,null,null,null,null,null,null,null,null,null,null,null,null,null,null,null,null,null,{"$f":"IF('CENTRAL ANALYSIS'!$B$209>=3,1,0)","v":0}]
[null,null,null,null,null,null,null,null,null,null,null,null,null,null,null,null,null,null,null,null,null,null,{"$f":"IF('CENTRAL ANALYSIS'!$B$209>=3,1,0)","v":0}]
[null,null,null,null,null,null,"Action Item","",null,null,null,null,null,null,null,null,null,{"$f":"IF(AND(W644=1,H644<>\"\"),1,0)","v":0},null,null,null,null,{"$f":"IF('CENTRAL ANALYSIS'!$B$209>=4,1,0)","v":0}]
[null,null,null,null,null,null,null,null,null,null,null,null,null,null,null,null,null,null,null,null,null,null,{"$f":"IF('CENTRAL ANALYSIS'!$B$209>=4,1,0)","v":0}]
[null,null,null,null,null,null,null,null,null,null,null,null,null,null,null,null,null,null,null,null,null,null,{"$f":"IF('CENTRAL ANALYSIS'!$B$209>=4,1,0)","v":0}]
[null,null,null,null,null,null,"Action Item","",null,null,null,null,null,null,null,null,null,{"$f":"IF(AND(W647=1,H647<>\"\"),1,0)","v":0},null,null,null,null,{"$f":"IF('CENTRAL ANALYSIS'!$B$209>=5,1,0)","v":0}]
[null,null,null,null,null,null,null,null,null,null,null,null,null,null,null,null,null,null,null,null,null,null,{"$f":"IF('CENTRAL ANALYSIS'!$B$209>=5,1,0)","v":0}]
[null,null,null,null,null,null,null,null,null,null,null,null,null,null,null,null,null,null,null,null,null,null,{"$f":"IF('CENTRAL ANALYSIS'!$B$209>=5,1,0)","v":0}]
[null,null,null,null,null,null,null,null,null,null,null,null,null,null,null,null,null,null,null,null,null,null,{"$f":"IF('CENTRAL ANALYSIS'!$B$98>=15,1,0)","v":0}]
[null,null,"Objective 15",null,null,null,null,null,null,null,null,null,null,{"$f":"IF(W651<>1,\"\",IF('CENTRAL ANALYSIS'!$D$211='CENTRAL ANALYSIS'!$B$217+1,\"Complete\",\"Incomplete\"))","v":""},null,null,null,null,null,null,null,null,{"$f":"IF('CENTRAL ANALYSIS'!$B$98>=15,1,0)","v":0}]
[null,null,null,null,null,null,null,null,null,null,null,null,null,null,null,null,null,null,null,null,null,null,{"$f":"IF('CENTRAL ANALYSIS'!$B$98>=15,1,0)","v":0}]
[null,null,"Please enter the item objective statement and corresponding action items. Action items can be added by clicking the \"Add Action Item\" button, for a total of 5 action items per each objective. Action items should describe what the action is and how it will be measured.",null,null,null,null,null,null,null,null,null,null,null,null,null,null,null,null,null,null,null,{"$f":"IF('CENTRAL ANALYSIS'!$B$98>=15,1,0)","v":0}]
[null,null,null,null,null,null,null,null,null,null,null,null,null,null,null,null,null,null,null,null,null,null,{"$f":"IF('CENTRAL ANALYSIS'!$B$98>=15,1,0)","v":0}]
[null,null,null,null,null,null,null,null,null,null,null,null,null,null,null,null,null,null,null,null,null,null,{"$f":"IF('CENTRAL ANALYSIS'!$B$98>=15,1,0)","v":0}]
[null,15,null,null,"Overall Objective Statement",null,null,null,null,null,null,null,null,null,null,null,null,{"$f":"IF(AND(W656=1,F656<>\"\"),1,0)","v":0},null,null,null,null,{"$f":"IF('CENTRAL ANALYSIS'!$B$98>=15,1,0)","v":0}]
[null,null,null,null,null,null,null,null,null,null,null,null,null,null,null,null,null,null,null,null,null,null,{"$f":"IF('CENTRAL ANALYSIS'!$B$98>=15,1,0)","v":0}]
[null,null,null,null,null,null,null,null,null,null,null,null,null,null,null,null,null,null,null,null,null,null,{"$f":"IF('CENTRAL ANALYSIS'!$B$98>=15,1,0)","v":0}]
[null,null,null,null,null,null,null,null,null,null,null,null,null,null,null,null,null,null,null,null,null,null,{"$f":"IF('CENTRAL ANALYSIS'!$B$98>=15,1,0)","v":0}]
[null,null,null,null,null,null,null,null,null,null,null,null,null,null,null,null,null,null,null,null,null,null,{"$f":"IF('CENTRAL ANALYSIS'!$B$98>=15,1,0)","v":0}]
[null,null,null,null,null,null,null,null,null,null,null,null,null,null,null,null,null,null,null,null,null,null,{"$f":"IF('CENTRAL ANALYSIS'!$B$98>=15,1,0)","v":0}]
[null,null,null,null,null,null,"Action Item",null,null,null,null,null,null,null,null,null,null,{"$f":"IF(AND(W662=1,H662<>\"\"),1,0)","v":0},null,null,null,null,{"$f":"IF('CENTRAL ANALYSIS'!$B$217>=1,1,0)","v":0}]
[null,null,null,null,null,null,null,null,null,null,null,null,null,null,null,null,null,null,null,null,null,null,{"$f":"IF('CENTRAL ANALYSIS'!$B$217>=1,1,0)","v":0}]
[null,null,null,null,null,null,null,null,null,null,null,null,null,null,null,null,null,null,null,null,null,null,{"$f":"IF('CENTRAL ANALYSIS'!$B$217>=1,1,0)","v":0}]
[null,null,null,null,null,null,"Action Item","",null,null,null,null,null,null,null,null,null,{"$f":"IF(AND(W665=1,H665<>\"\"),1,0)","v":0},null,null,null,null,{"$f":"IF('CENTRAL ANALYSIS'!$B$217>=2,1,0)","v":0}]
[null,null,null,null,null,null,null,null,null,null,null,null,null,null,null,null,null,null,null,null,null,null,{"$f":"IF('CENTRAL ANALYSIS'!$B$217>=2,1,0)","v":0}]
[null,null,null,null,null,null,null,null,null,null,null,null,null,null,null,null,null,null,null,null,null,null,{"$f":"IF('CENTRAL ANALYSIS'!$B$217>=2,1,0)","v":0}]
[null,null,null,null,null,null,"Action Item","",null,null,null,null,null,null,null,null,null,{"$f":"IF(AND(W668=1,H668<>\"\"),1,0)","v":0},null,null,null,null,{"$f":"IF('CENTRAL ANALYSIS'!$B$217>=3,1,0)","v":0}]
[null,null,null,null,null,null,null,null,null,null,null,null,null,null,null,null,null,null,null,null,null,null,{"$f":"IF('CENTRAL ANALYSIS'!$B$217>=3,1,0)","v":0}]
[null,null,null,null,null,null,null,null,null,null,null,null,null,null,null,null,null,null,null,null,null,null,{"$f":"IF('CENTRAL ANALYSIS'!$B$217>=3,1,0)","v":0}]
[null,null,null,null,null,null,"Action Item","",null,null,null,null,null,null,null,null,null,{"$f":"IF(AND(W671=1,H671<>\"\"),1,0)","v":0},null,null,null,null,{"$f":"IF('CENTRAL ANALYSIS'!$B$217>=4,1,0)","v":0}]
[null,null,null,null,null,null,null,null,null,null,null,null,null,null,null,null,null,null,null,null,null,null,{"$f":"IF('CENTRAL ANALYSIS'!$B$217>=4,1,0)","v":0}]
[null,null,null,null,null,null,null,null,null,null,null,null,null,null,null,null,null,null,null,null,null,null,{"$f":"IF('CENTRAL ANALYSIS'!$B$217>=4,1,0)","v":0}]
[null,null,null,null,null,null,"Action Item","",null,null,null,null,null,null,null,null,null,{"$f":"IF(AND(W674=1,H674<>\"\"),1,0)","v":0},null,null,null,null,{"$f":"IF('CENTRAL ANALYSIS'!$B$217>=5,1,0)","v":0}]
[null,null,null,null,null,null,null,null,null,null,null,null,null,null,null,null,null,null,null,null,null,null,{"$f":"IF('CENTRAL ANALYSIS'!$B$217>=5,1,0)","v":0}]
[null,null,null,null,null,null,null,null,null,null,null,null,null,null,null,null,null,null,null,null,null,null,{"$f":"IF('CENTRAL ANALYSIS'!$B$217>=5,1,0)","v":0}]
[null,null,null,null,null,null,null,null,null,null,null,null,null,null,null,null,null,null,null,null,null,null,{"$f":"IF('CENTRAL ANALYSIS'!$B$217>=5,1,0)","v":0}]
[null,null,null,null,null,null,null,null,null,null,null,null,null,null,null,null,null,null,null,null,null,null,1]
[null,"**************************************************************************************************************************************",null,null,null,null,null,null,null,null,null,null,null,null,null,null,null,null,null,null,null,null,1]
[null,null,null,null,null,null,null,null,null,null,null,null,null,null,null,null,null,null,null,null,null,null,1]
[null,null,null,null,null,null,null,null,null,null,null,null,null,null,null,null,null,null,null,null,null,null,1]
[null,null,null,null,null,null,null,null,null,null,null,null,null,null,null,null,null,null,null,null,null,null,1]
[null,null,null,null,null,null,null,null,null,null,null,null,null,null,null,null,null,null,null,null,null,null,1]
[null,null,"(Optional) Step 4(a): Enter Objectives & Action Items if Not Using Macros",null,null,null,null,null,null,null,null,null,null,null,null,null,null,null,null,null,null,null,1]
[null,null,null,null,null,null,null,null,null,null,null,null,null,null,null,null,null,null,null,null,null,null,1]
[null,null,"If chosen not to use Macros, please enter the total number of objectives and the total number of action items for each objective below. The worksheet will then need to be filtered manually by going to cell \"W1\" and clicking the Filter Icon. This will display a menu where the checkbox next to \"0\" should be empty. If it is, click the \"OK\" button to display the objective and action item entry cells above. Enter the objective and action item information in the respective cells above.",null,null,null,null,null,null,null,null,null,null,null,null,null,null,null,null,null,null,null,1]
[null,null,null,null,null,null,null,null,null,null,null,null,null,null,null,null,null,null,null,null,null,null,1]
[null,null,null,null,null,null,null,null,null,null,null,null,null,null,null,null,null,null,null,null,null,null,1]
[null,null,null,null,null,null,null,null,null,null,null,null,null,null,null,null,null,null,null,null,null,null,1]
[null,null,null,null,null,null,null,null,null,null,null,null,null,null,null,null,null,null,null,null,null,null,1]
[null,null,null,null,null,null,null,null,null,null,null,null,null,null,"Total Objectives",null,null,null,null,null,null,null,1]
[null,null,null,null,null,null,null,null,null,null,null,null,null,null,"Total Objective 1 Action Items",null,null,null,null,null,null,null,1]
[null,null,null,null,null,null,null,null,null,null,null,null,null,null,"Total Objective 2 Action Items",null,null,null,null,null,null,null,1]
[null,null,null,null,null,null,null,null,null,null,null,null,null,null,"Total Objective 3 Action Items",null,null,null,null,null,null,null,1]
[null,null,null,null,null,null,null,null,null,null,null,null,null,null,"Total Objective 4 Action Items",null,null,null,null,null,null,null,1]
[null,null,null,null,null,null,null,null,null,null,null,null,null,null,"Total Objective 5 Action Items",null,null,null,null,null,null,null,1]
[null,null,null,null,null,null,null,null,null,null,null,null,null,null,"Total Objective 6 Action Items",null,null,null,null,null,null,null,1]
[null,null,null,null,null,null,null,null,null,null,null,null,null,null,"Total Objective 7 Action Items",null,null,null,null,null,null,null,1]
[null,null,null,null,null,null,null,null,null,null,null,null,null,null,"Total Objective 8 Action Items",null,null,null,null,null,null,null,1]
[null,null,null,null,null,null,null,null,null,null,null,null,null,null,"Total Objective 9 Action Items",null,null,null,null,null,null,null,1]
[null,null,null,null,null,null,null,null,null,null,null,null,null,null,"Total Objective 10 Action Items",null,null,null,null,null,null,null,1]
[null,null,null,null,null,null,null,null,null,null,null,null,null,null,"Total Objective 11 Action Items",null,null,null,null,null,null,null,1]
[null,null,null,null,null,null,null,null,null,null,null,null,null,null,"Total Objective 12 Action Items",null,null,null,null,null,null,null,1]
[null,null,null,null,null,null,null,null,null,null,null,null,null,null,"Total Objective 13 Action Items",null,null,null,null,null,null,null,1]
[null,null,null,null,null,null,null,null,null,null,null,null,null,null,"Total Objective 14 Action Items",null,null,null,null,null,null,null,1]
[null,null,null,null,null,null,null,null,null,null,null,null,null,null,"Total Objective 15 Action Items",null,null,null,null,null,null,null,1]
[null,null,null,null,null,null,null,null,null,null,null,null,null,null,null,null,null,null,null,null,null,null,1]
[null,"(Optional) Step 5: Check Spelling",null,null,null,null,null,null,null,null,null,null,null,null,null,null,null,null,null,null,null,null,1]
[null,null,null,null,null,null,null,null,null,null,null,null,null,null,null,null,null,null,null,null,null,null,1]
[null,"INSTRUCTIONS: To check the spelling of items on this tab, please click the blue \"Spell Check This Tab\" button below. Correcting the spelling on this tab will ensure the report is correct as well. ",null,null,null,null,null,null,null,null,null,null,null,null,null,null,null,null,null,null,null,null,1]
[null,null,null,null,null,null,null,null,null,null,null,null,null,null,null,null,null,null,null,null,null,null,1]
[null,null,null,null,null,null,null,null,null,null,null,null,null,null,null,null,null,null,null,null,null,null,1]
[null,null,null,null,null,null,null,null,null,null,null,null,null,null,null,null,null,null,null,null,null,null,1]
[null,null,null,null,null,null,null,null,null,null,null,null,null,null,null,null,null,null,null,null,null,null,1]
[null,null,null,null,null,null,null,null,null,null,null,null,null,null,null,null,null,null,null,null,null,null,1]
[null,null,null,null,null,null,null,null,null,null,null,null,null,null,null,null,null,null,null,null,null,null,1]
[null,null,null,null,null,null,null,null,null,null,null,null,null,null,null,null,null,null,null,null,null,null,0]

{"sheet":"AGENCY WORKFORCE","index":6,"n_rows":270,"n_cols":23,"rows_kept":270,"cut":false,"hidden":false,"merged":[[236,1,237,15],[79,1,80,12],[79,13,80,15],[81,1,82,15],[197,1,198,12],[197,13,198,15],[199,1,200,15],[234,1,235,12],[234,13,235,15],[77,1,78,3],[136,1,137,3],[195,1,196,3],[232,1,233,3],[5,2,7,14],[8,2,10,14],[20,1,21,12],[20,13,21,15],[22,1,23,15],[18,1,19,3],[138,1,139,12],[138,13,139,15],[140,1,141,15],[13,3,15,9]]}
[null,null,null,null,null,null,null,null,null,null,null,null,null,null,null,null,null,null,null,null,null,null,1]
[null,null,null,null,null,null,null,null,null,null,null,null,null,null,null,null,null,null,null,null,null,null,1]
[null,null,null,null,null,null,null,null,null,null,null,null,null,null,null,null,null,null,null,null,null,null,1]
[null,null,null,null,null,null,null,null,null,null,null,null,null,null,null,null,null,null,null,null,null,null,1]
[null,null,null,null,null,null,null,null,null,null,null,null,null,null,null,null,null,null,null,null,null,null,1]
[null,null,"AGENCY WORKFORCE",null,null,null,null,null,null,null,null,null,null,null,null,null,null,null,null,null,null,null,1]
[null,null,null,null,null,null,null,null,null,null,null,null,null,null,null,null,null,null,null,null,null,null,1]
[null,null,null,null,null,null,null,null,null,null,null,null,null,null,null,null,null,null,null,null,null,null,1]
[null,null,"This tab identifies employee demographic information, broken down by race, gender, EEO Code, classifications, employees with disabilities, and veteran status for all employees, employees who are leaders, and executives. Employees with disabilities and veterans are further broken down by EEO code and classifications. ",null,null,null,null,null,null,null,null,null,null,null,null,null,null,null,null,null,null,null,1]
[null,null,null,null,null,null,null,null,null,null,null,null,null,null,null,null,null,null,null,null,null,null,1]
[null,null,null,null,null,null,null,null,null,null,null,null,null,null,null,null,null,null,null,null,null,null,1]
[null,null,null,null,null,null,null,null,null,null,null,null,null,null,null,null,null,null,null,null,null,null,1]
[null,null,null,null,null,null,null,null,null,null,null,null,null,null,null,null,null,null,null,null,null,null,1]
[null,null,null,{"$f":"IF(SUMIF($W$1:$W$269,1)<>SUBTOTAL(103,$W$1:$W$269),\"Employee Classifications Need to Be Refreshed.\",\"Employee Classifications are Up to Date.\")","v":"Employee Classifications are Up to Date."},null,null,null,null,null,null,null,null,null,null,null,null,null,null,null,null,null,null,1]
[null,null,null,null,null,null,null,null,null,null,null,null,null,null,null,null,null,null,null,null,null,null,1]
[null,null,null,null,null,null,null,null,null,null,null,null,null,null,null,null,null,null,null,null,null,null,1]
[null,null,null,null,null,null,null,null,null,null,null,null,null,null,null,null,null,null,null,null,null,null,1]
[null,null,null,null,null,null,null,null,null,null,null,null,null,null,null,null,null,null,null,null,null,null,1]
[null,null,null,null,null,null,null,null,null,null,null,null,null,null,null,null,null,null,null,null,null,null,1]
[null,null,null,null,null,null,null,null,null,null,null,null,null,null,null,null,null,null,null,null,null,null,1]
[null,"Step 1: Enter Employee Demographic Information (All Employees)",null,null,null,null,null,null,null,null,null,null,null,{"$f":"IF(AND(COUNTBLANK(P28:P29)=0,COUNTBLANK(P33:P40)=0,COUNTBLANK(P44:P53)=0,SUM(C57:C71)=SUM(Q57:Q71),COUNTBLANK(P75:P76)=0),\"Complete\",\"Incomplete\")","v":"Incomplete"},null,null,null,null,null,null,null,null,1]
[null,null,null,null,null,null,null,null,null,null,null,null,null,null,null,null,null,null,null,null,null,null,1]
[null,"INSTRUCTIONS: Please enter the total number of employees in the yellow boxes for each gender, race, EEO code, classification, employees with disabilities and employees who are veterans for the respective fiscal year.",null,null,null,null,null,null,null,null,null,null,null,null,null,null,null,null,null,null,null,null,1]
[null,null,null,null,null,null,null,null,null,null,null,null,null,null,null,null,null,null,null,null,null,null,1]
[null,null,null,null,null,null,null,null,null,null,null,null,null,null,null,null,null,null,null,null,null,null,1]
[null,null,null,null,null,null,null,null,null,null,null,null,null,null,null,"Total Employees by Gender",null,null,null,null,null,null,1]
[null,null,null,null,null,null,null,null,null,null,null,null,null,{"$f":"CONCATENATE(\"FY\",RIGHT('DHRM ADMIN'!$P$15,2)-2)","v":"FY21"},{"$f":"CONCATENATE(\"FY\",RIGHT('DHRM ADMIN'!$P$15,2)-1)","v":"FY22"},{"$f":"CONCATENATE(\"FY\",RIGHT('DHRM ADMIN'!$P$15,2))","v":"FY23"},null,null,null,null,null,null,1]
[null,null,null,null,null,null,null,null,null,null,null,null,"Total Male Employees",null,null,null,null,{"$f":"IF(O28<>\"\",1,0)","v":0},null,null,null,null,1]
[null,null,null,null,null,null,null,null,null,null,null,null,"Total Female Employees",null,null,null,null,{"$f":"IF(O29<>\"\",1,0)","v":0},null,null,null,null,1]
[null,null,null,null,null,null,null,null,null,null,null,null,null,null,null,null,null,null,null,null,null,null,1]
[null,null,null,null,null,null,null,null,null,null,null,null,null,null,null,"Total Employees by Race",null,null,null,null,null,null,1]
[null,null,null,null,null,null,null,null,null,null,null,null,null,{"$f":"CONCATENATE(\"FY\",RIGHT('DHRM ADMIN'!$P$15,2)-2)","v":"FY21"},{"$f":"CONCATENATE(\"FY\",RIGHT('DHRM ADMIN'!$P$15,2)-1)","v":"FY22"},{"$f":"CONCATENATE(\"FY\",RIGHT('DHRM ADMIN'!$P$15,2))","v":"FY23"},null,null,null,null,null,null,1]
[null,null,null,null,null,null,null,null,null,null,null,null,"Total American Indian or Alaskan Native Employees",null,null,null,null,{"$f":"IF(O33<>\"\",1,0)","v":0},null,null,null,null,1]
[null,null,"",null,null,null,null,null,null,null,null,null,"Total Asian Employees",null,null,null,null,{"$f":"IF(O34<>\"\",1,0)","v":0},null,null,null,null,1]
[null,null,null,null,null,null,null,null,null,null,null,null,"Total Black or African American Employees",null,null,null,null,0,null,null,null,null,1]
[null,null,null,null,null,null,null,null,null,null,null,null,"Total Hispanic or Latino Employees",null,null,null,null,0,null,null,null,null,1]
[null,null,null,null,null,null,null,null,null,null,null,null,"Total Native Hawaiian or Other Pac. Islander Employees",null,null,null,null,0,null,null,null,null,1]
[null,null,null,null,null,null,null,null,null,null,null,null,"Total White Employees",null,null,null,null,0,null,null,null,null,1]
[null,null,null,null,null,null,null,null,null,null,null,null,"Two or More Races",null,null,null,null,0,null,null,null,null,1]
[null,null,null,null,null,null,null,null,null,null,null,null,"Total Race Unknown or not Entered Employees",null,null,null,null,0,null,null,null,null,1]
[null,null,null,null,null,null,null,null,null,null,null,null,null,null,null,null,null,null,null,null,null,null,1]
[null,null,null,null,null,null,null,null,null,null,null,null,null,null,null,"Total Employees by EEO Code",null,null,null,null,null,null,1]
[null,null,null,null,null,null,null,null,null,null,null,null,null,{"$f":"CONCATENATE(\"FY\",RIGHT('DHRM ADMIN'!$P$15,2)-2)","v":"FY21"},{"$f":"CONCATENATE(\"FY\",RIGHT('DHRM ADMIN'!$P$15,2)-1)","v":"FY22"},{"$f":"CONCATENATE(\"FY\",RIGHT('DHRM ADMIN'!$P$15,2))","v":"FY23"},null,null,null,null,null,null,1]
[null,null,null,null,null,null,null,null,null,null,null,null,"Total EEO Code Officials and Administrators","",null,null,null,{"$f":"IF(O44<>\"\",1,0)","v":0},null,null,null,null,1]
[null,null,null,null,null,null,null,null,null,null,null,null,"Total EEO Code Professionals","",null,null,null,0,null,null,null,null,1]
[null,null,null,null,null,null,null,null,null,null,null,null,"Total EEO Code Technicians","",null,null,null,0,null,null,null,null,1]
[null,null,null,null,null,null,null,null,null,null,null,null,"Total EEO Code Protective Service Workers","",null,null,null,0,null,null,null,null,1]
[null,null,null,null,null,null,null,null,null,null,null,null,"Total EEO Code Paraprofessionals","",null,null,null,0,null,null,null,null,1]
[null,null,null,null,null,null,null,null,null,null,null,null,"Total EEO Code Administrative Support","",null,null,null,0,null,null,null,null,1]
[null,null,null,null,null,null,null,null,null,null,null,null,"Total EEO Code Skilled Craft Workers","",null,null,null,0,null,null,null,null,1]
[null,null,null,null,null,null,null,null,null,null,null,null,"Total EEO Code Service/Maintenance","",null,null,null,0,null,null,null,null,1]
[null,null,null,null,null,null,null,null,null,null,null,null,"Total EEO Code Faculty","",null,null,null,0,null,null,null,null,1]
[null,null,null,null,null,null,null,null,null,null,null,null,"Total EEO Code Other","",null,null,null,0,null,null,null,null,1]
[null,null,null,null,null,null,null,null,null,null,null,null,null,null,null,null,null,null,null,null,null,null,1]
[null,null,null,null,null,null,null,null,null,null,null,null,null,null,null,"Total Employees by Classification",null,null,null,null,null,null,1]
[null,null,null,null,null,null,null,null,null,null,null,null,null,{"$f":"CONCATENATE(\"FY\",RIGHT('DHRM ADMIN'!$P$15,2)-2)","v":"FY21"},{"$f":"CONCATENATE(\"FY\",RIGHT('DHRM ADMIN'!$P$15,2)-1)","v":"FY22"},{"$f":"CONCATENATE(\"FY\",RIGHT('DHRM ADMIN'!$P$15,2))","v":"FY23"},null,null,null,null,null,null,1]
[null,null,{"$f":"IF(M57<>\"Total  Employees\",1,0)","v":0},null,null,null,null,null,null,null,null,null,{"$f":"CONCATENATE(\"Total \",CUSTOMIZATIONS!C28,\" Employees\")","v":"Total  Employees"},"",null,null,{"$f":"IF(AND(M57<>\"Total  Employees\",P57<>\"\"),1,0)","v":0},{"$f":"IF(AND(W57=1,O57<>\"\"),1,0)","v":0},null,null,null,null,{"$f":"IF(C57=1,1,0)","v":0}]
[null,null,{"$f":"IF(M58<>\"Total  Employees\",1,0)","v":0},null,null,null,null,null,null,null,null,null,{"$f":"CONCATENATE(\"Total \",CUSTOMIZATIONS!C29,\" Employees\")","v":"Total  Employees"},"",null,null,{"$f":"IF(AND(M58<>\"Total  Employees\",P58<>\"\"),1,0)","v":0},{"$f":"IF(AND(W58=1,O58<>\"\"),1,0)","v":0},null,null,null,null,{"$f":"IF(C58=1,1,0)","v":0}]
[null,null,0,null,null,null,null,null,null,null,null,null,{"$f":"CONCATENATE(\"Total \",CUSTOMIZATIONS!C30,\" Employees\")","v":"Total  Employees"},"",null,null,0,0,null,null,null,null,0]
[null,null,0,null,null,null,null,null,null,null,null,null,{"$f":"CONCATENATE(\"Total \",CUSTOMIZATIONS!C31,\" Employees\")","v":"Total  Employees"},"",null,null,0,0,null,null,null,null,0]
[null,null,0,null,null,null,null,null,null,null,null,null,{"$f":"CONCATENATE(\"Total \",CUSTOMIZATIONS!C32,\" Employees\")","v":"Total  Employees"},"",null,null,0,0,null,null,null,null,0]
[null,null,0,null,null,null,null,null,null,null,null,null,{"$f":"CONCATENATE(\"Total \",CUSTOMIZATIONS!C33,\" Employees\")","v":"Total  Employees"},"",null,null,0,0,null,null,null,null,0]
[null,null,0,null,null,null,null,null,null,null,null,null,{"$f":"CONCATENATE(\"Total \",CUSTOMIZATIONS!C34,\" Employees\")","v":"Total  Employees"},"",null,null,0,0,null,null,null,null,0]
[null,null,0,null,null,null,null,null,null,null,null,null,{"$f":"CONCATENATE(\"Total \",CUSTOMIZATIONS!C35,\" Employees\")","v":"Total  Employees"},"",null,null,0,0,null,null,null,null,0]
[null,null,0,null,null,null,null,null,null,null,null,null,{"$f":"CONCATENATE(\"Total \",CUSTOMIZATIONS!C36,\" Employees\")","v":"Total  Employees"},"",null,null,0,0,null,null,null,null,0]
[null,null,0,null,null,null,null,null,null,null,null,null,{"$f":"CONCATENATE(\"Total \",CUSTOMIZATIONS!C37,\" Employees\")","v":"Total  Employees"},"",null,null,0,0,null,null,null,null,0]
[null,null,0,null,null,null,null,null,null,null,null,null,{"$f":"CONCATENATE(\"Total \",CUSTOMIZATIONS!C38,\" Employees\")","v":"Total  Employees"},"",null,null,0,0,null,null,null,null,0]
[null,null,0,null,null,null,null,null,null,null,null,null,{"$f":"CONCATENATE(\"Total \",CUSTOMIZATIONS!C39,\" Employees\")","v":"Total  Employees"},"",null,null,0,0,null,null,null,null,0]
[null,null,0,null,null,null,null,null,null,null,null,null,{"$f":"CONCATENATE(\"Total \",CUSTOMIZATIONS!C40,\" Employees\")","v":"Total  Employees"},"",null,null,0,0,null,null,null,null,0]
[null,null,0,null,null,null,null,null,null,null,null,null,{"$f":"CONCATENATE(\"Total \",CUSTOMIZATIONS!C41,\" Employees\")","v":"Total  Employees"},"",null,null,0,0,null,null,null,null,0]
[null,null,null,null,null,null,null,null,null,null,null,null,{"$f":"CONCATENATE(\"Total \",CUSTOMIZATIONS!C42,\" Employees\")","v":"Total  Employees"},"",null,null,0,0,null,null,null,null,0]
[null,null,null,null,null,null,null,null,null,null,null,null,null,null,null,null,null,null,null,null,null,null,1]
[null,null,null,null,null,null,null,null,null,null,null,null,null,null,null,"Additional Employee Demographics",null,null,null,null,null,null,1]
[null,null,null,null,null,null,null,null,null,null,null,null,null,{"$f":"CONCATENATE(\"FY\",RIGHT('DHRM ADMIN'!$P$15,2)-2)","v":"FY21"},{"$f":"CONCATENATE(\"FY\",RIGHT('DHRM ADMIN'!$P$15,2)-1)","v":"FY22"},{"$f":"CONCATENATE(\"FY\",RIGHT('DHRM ADMIN'!$P$15,2))","v":"FY23"},null,null,null,null,null,null,1]
[null,null,null,null,null,null,null,null,null,null,null,null,"Total Employees with Disabilities",null,null,null,null,{"$f":"IF(O75<>\"\",1,0)","v":0},null,null,null,null,1]
[null,null,null,null,null,null,null,null,null,null,null,null,"Total Veterans",null,null,null,null,0,null,null,null,null,1]
[null,null,null,null,null,null,null,null,null,null,null,null,null,null,null,null,null,null,null,null,null,null,1]
[null,null,null,null,null,null,null,null,null,null,null,null,null,null,null,null,null,null,null,null,null,null,1]
[null,null,null,null,null,null,null,null,null,null,null,null,null,null,null,null,null,null,null,null,null,null,1]
[null,"Step 2: Enter Leader Demographic Information",null,null,null,null,null,null,null,null,null,null,null,{"$f":"IF(AND(COUNTBLANK(P87:P88)=0,COUNTBLANK(P92:P99)=0,COUNTBLANK(P103:P112)=0,SUM(C116:C130)=SUM(Q116:Q130),COUNTBLANK(P134:P135)=0),\"Complete\",\"Incomplete\")","v":"Incomplete"},null,null,null,null,null,null,null,null,1]
[null,null,null,null,null,null,null,null,null,null,null,null,null,null,null,null,null,null,null,null,null,null,1]
[null,"INSTRUCTIONS: Please enter the total number of leaders in the yellow boxes for each gender, race, EEO code, classification, employees with disabilities and employees who are veterans for the respective fiscal year. Leaders are defined as individuals with direct reports.",null,null,null,null,null,null,null,null,null,null,null,null,null,null,null,null,null,null,null,null,1]
[null,null,null,null,null,null,null,null,null,null,null,null,null,null,null,null,null,null,null,null,null,null,1]
[null,null,null,null,null,null,null,null,null,null,null,null,null,null,null,null,null,null,null,null,null,null,1]
[null,null,null,null,null,null,null,null,null,null,null,null,null,null,null,"Total Leaders by Gender",null,null,null,null,null,null,1]
[null,null,null,null,null,null,null,null,null,null,null,null,null,{"$f":"CONCATENATE(\"FY\",RIGHT('DHRM ADMIN'!$P$15,2)-2)","v":"FY21"},{"$f":"CONCATENATE(\"FY\",RIGHT('DHRM ADMIN'!$P$15,2)-1)","v":"FY22"},{"$f":"CONCATENATE(\"FY\",RIGHT('DHRM ADMIN'!$P$15,2))","v":"FY23"},null,null,null,null,null,null,1]
[null,null,null,null,null,null,null,null,null,null,null,null,"Total Male Leaders",null,null,null,null,{"$f":"IF(O87<>\"\",1,0)","v":0},null,null,null,null,1]
[null,null,null,null,null,null,null,null,null,null,null,null,"Total Female Leaders",null,null,null,null,{"$f":"IF(O88<>\"\",1,0)","v":0},null,null,null,null,1]
[null,null,null,null,null,null,null,null,null,null,null,null,null,null,null,null,null,null,null,null,null,null,1]
[null,null,null,null,null,null,null,null,null,null,null,null,null,null,null,"Total Leaders by Race",null,null,null,null,null,null,1]
[null,null,null,null,null,null,null,null,null,null,null,null,null,{"$f":"CONCATENATE(\"FY\",RIGHT('DHRM ADMIN'!$P$15,2)-2)","v":"FY21"},{"$f":"CONCATENATE(\"FY\",RIGHT('DHRM ADMIN'!$P$15,2)-1)","v":"FY22"},{"$f":"CONCATENATE(\"FY\",RIGHT('DHRM ADMIN'!$P$15,2))","v":"FY23"},null,null,null,null,null,null,1]
[null,null,null,null,null,null,null,null,null,null,null,null,"Total American Indian or Alaskan Native Leaders",null,null,null,null,{"$f":"IF(O92<>\"\",1,0)","v":0},null,null,null,null,1]
[null,null,null,null,null,null,null,null,null,null,null,null,"Total Asian Leaders",null,null,null,null,{"$f":"IF(O93<>\"\",1,0)","v":0},null,null,null,null,1]
[null,null,null,null,null,null,null,null,null,null,null,null,"Total Black or African American Leaders",null,null,null,null,0,null,null,null,null,1]
[null,null,null,null,null,null,null,null,null,null,null,null,"Total Hispanic or Latino Leaders",null,null,null,null,0,null,null,null,null,1]
[null,null,null,null,null,null,null,null,null,null,null,null,"Total Native Hawaiian or Other Pac. Islander Leaders",null,null,null,null,0,null,null,null,null,1]
[null,null,null,null,null,null,null,null,null,null,null,null,"Total White Leaders",null,null,null,null,0,null,null,null,null,1]
[null,null,null,null,null,null,null,null,null,null,null,null,"Two or More Races",null,null,null,null,0,null,null,null,null,1]
[null,null,null,null,null,null,null,null,null,null,null,null,"Total Race Unknown or not Entered Leaders",null,null,null,null,0,null,null,null,null,1]
[null,null,null,null,null,null,null,null,null,null,null,null,null,null,null,null,null,null,null,null,null,null,1]
[null,null,null,null,null,null,null,null,null,null,null,null,null,null,null,"Total Leaders by EEO Code",null,null,null,null,null,null,1]
[null,null,null,null,null,null,null,null,null,null,null,null,null,{"$f":"CONCATENATE(\"FY\",RIGHT('DHRM ADMIN'!$P$15,2)-2)","v":"FY21"},{"$f":"CONCATENATE(\"FY\",RIGHT('DHRM ADMIN'!$P$15,2)-1)","v":"FY22"},{"$f":"CONCATENATE(\"FY\",RIGHT('DHRM ADMIN'!$P$15,2))","v":"FY23"},null,null,null,null,null,null,1]
[null,null,null,null,null,null,null,null,null,null,null,null,"Total Leader EEO Code Officials and Administrators","",null,null,null,{"$f":"IF(O103<>\"\",1,0)","v":0},null,null,null,null,1]
[null,null,null,null,null,null,null,null,null,null,null,null,"Total Leader EEO Code Professionals","",null,null,null,0,null,null,null,null,1]
[null,null,null,null,null,null,null,null,null,null,null,null,"Total Leader EEO Code Technicians","",null,null,null,0,null,null,null,null,1]
[null,null,null,null,null,null,null,null,null,null,null,null,"Total Leader EEO Code Protective Service Workers","",null,null,null,0,null,null,null,null,1]
[null,null,null,null,null,null,null,null,null,null,null,null,"Total Leader EEO Code Paraprofessionals","",null,null,null,0,null,null,null,null,1]
[null,null,null,null,null,null,null,null,null,null,null,null,"Total Leader EEO Code Administrative Support","",null,null,null,0,null,null,null,null,1]
[null,null,null,null,null,null,null,null,null,null,null,null,"Total Leader EEO Code Skilled Craft Workers","",null,null,null,0,null,null,null,null,1]
[null,null,null,null,null,null,null,null,null,null,null,null,"Total Leader EEO Code Service/Maintenance","",null,null,null,0,null,null,null,null,1]
[null,null,null,null,null,null,null,null,null,null,null,null,"Total Leader EEO Code Faculty","",null,null,null,0,null,null,null,null,1]
[null,null,null,null,null,null,null,null,null,null,null,null,"Total Leader EEO Code Other","",null,null,null,0,null,null,null,null,1]
[null,null,null,null,null,null,null,null,null,null,null,null,null,null,null,null,null,null,null,null,null,null,1]
[null,null,null,null,null,null,null,null,null,null,null,null,null,null,null,"Total Leaders by Classification",null,null,null,null,null,null,1]
[null,null,null,null,null,null,null,null,null,null,null,null,null,{"$f":"CONCATENATE(\"FY\",RIGHT('DHRM ADMIN'!$P$15,2)-2)","v":"FY21"},{"$f":"CONCATENATE(\"FY\",RIGHT('DHRM ADMIN'!$P$15,2)-1)","v":"FY22"},{"$f":"CONCATENATE(\"FY\",RIGHT('DHRM ADMIN'!$P$15,2))","v":"FY23"},null,null,null,null,null,null,1]
[null,null,{"$f":"IF(M116<>\"Total  Leaders\",1,0)","v":0},null,null,null,null,null,null,null,null,null,{"$f":"CONCATENATE(\"Total \",CUSTOMIZATIONS!C28,\" Leaders\")","v":"Total  Leaders"},"",null,null,{"$f":"IF(AND(M116<>\"Total  Leaders\",P116<>\"\"),1,0)","v":0},{"$f":"IF(AND(W116=1,O116<>\"\"),1,0)","v":0},null,null,null,null,{"$f":"IF(C116=1,1,0)","v":0}]
[null,null,{"$f":"IF(M117<>\"Total  Leaders\",1,0)","v":0},null,null,null,null,null,null,null,null,null,{"$f":"CONCATENATE(\"Total \",CUSTOMIZATIONS!C29,\" Leaders\")","v":"Total  Leaders"},"",null,null,{"$f":"IF(AND(M117<>\"Total  Leaders\",P117<>\"\"),1,0)","v":0},{"$f":"IF(AND(W117=1,O117<>\"\"),1,0)","v":0},null,null,null,null,{"$f":"IF(C117=1,1,0)","v":0}]
[null,null,0,null,null,null,null,null,null,null,null,null,{"$f":"CONCATENATE(\"Total \",CUSTOMIZATIONS!C30,\" Leaders\")","v":"Total  Leaders"},"",null,null,0,0,null,null,null,null,0]
[null,null,0,null,null,null,null,null,null,null,null,null,{"$f":"CONCATENATE(\"Total \",CUSTOMIZATIONS!C31,\" Leaders\")","v":"Total  Leaders"},"",null,null,0,0,null,null,null,null,0]
[null,null,0,null,null,null,null,null,null,null,null,null,{"$f":"CONCATENATE(\"Total \",CUSTOMIZATIONS!C32,\" Leaders\")","v":"Total  Leaders"},"",null,null,0,0,null,null,null,null,0]
[null,null,0,null,null,null,null,null,null,null,null,null,{"$f":"CONCATENATE(\"Total \",CUSTOMIZATIONS!C33,\" Leaders\")","v":"Total  Leaders"},"",null,null,0,0,null,null,null,null,0]
[null,null,0,null,null,null,null,null,null,null,null,null,{"$f":"CONCATENATE(\"Total \",CUSTOMIZATIONS!C34,\" Leaders\")","v":"Total  Leaders"},"",null,null,0,0,null,null,null,null,0]
[null,null,0,null,null,null,null,null,null,null,null,null,{"$f":"CONCATENATE(\"Total \",CUSTOMIZATIONS!C35,\" Leaders\")","v":"Total  Leaders"},"",null,null,0,0,null,null,null,null,0]
[null,null,0,null,null,null,null,null,null,null,null,null,{"$f":"CONCATENATE(\"Total \",CUSTOMIZATIONS!C36,\" Leaders\")","v":"Total  Leaders"},"",null,null,0,0,null,null,null,null,0]
[null,null,0,null,null,null,null,null,null,null,null,null,{"$f":"CONCATENATE(\"Total \",CUSTOMIZATIONS!C37,\" Leaders\")","v":"Total  Leaders"},"",null,null,0,0,null,null,null,null,0]
[null,null,0,null,null,null,null,null,null,null,null,null,{"$f":"CONCATENATE(\"Total \",CUSTOMIZATIONS!C38,\" Leaders\")","v":"Total  Leaders"},"",null,null,0,0,null,null,null,null,0]
[null,null,0,null,null,null,null,null,null,null,null,null,{"$f":"CONCATENATE(\"Total \",CUSTOMIZATIONS!C39,\" Leaders\")","v":"Total  Leaders"},"",null,null,0,0,null,null,null,null,0]
[null,null,0,null,null,null,null,null,null,null,null,null,{"$f":"CONCATENATE(\"Total \",CUSTOMIZATIONS!C40,\" Leaders\")","v":"Total  Leaders"},"",null,null,0,0,null,null,null,null,0]
[null,null,0,null,null,null,null,null,null,null,null,null,{"$f":"CONCATENATE(\"Total \",CUSTOMIZATIONS!C41,\" Leaders\")","v":"Total  Leaders"},"",null,null,0,0,null,null,null,null,0]
[null,null,null,null,null,null,null,null,null,null,null,null,{"$f":"CONCATENATE(\"Total \",CUSTOMIZATIONS!C42,\" Leaders\")","v":"Total  Leaders"},"",null,null,0,0,null,null,null,null,0]
[null,null,null,null,null,null,null,null,null,null,null,null,null,null,null,null,null,null,null,null,null,null,1]
[null,null,null,null,null,null,null,null,null,null,null,null,null,null,null,"Additional Leader Demographics",null,null,null,null,null,null,1]
[null,null,null,null,null,null,null,null,null,null,null,null,null,{"$f":"CONCATENATE(\"FY\",RIGHT('DHRM ADMIN'!$P$15,2)-2)","v":"FY21"},{"$f":"CONCATENATE(\"FY\",RIGHT('DHRM ADMIN'!$P$15,2)-1)","v":"FY22"},{"$f":"CONCATENATE(\"FY\",RIGHT('DHRM ADMIN'!$P$15,2))","v":"FY23"},null,null,null,null,null,null,1]
[null,null,null,null,null,null,null,null,null,null,null,null,"Total Leaders with Disabilities",null,null,null,null,{"$f":"IF(O134<>\"\",1,0)","v":0},null,null,null,null,1]
[null,null,null,null,null,null,null,null,null,null,null,null,"Total Veterans Leaders",null,null,null,null,0,null,null,null,null,1]
[null,null,null,null,null,null,null,null,null,null,null,null,null,null,null,null,null,null,null,null,null,null,1]
[null,null,null,null,null,null,null,null,null,null,null,null,null,null,null,null,null,null,null,null,null,null,1]
[null,null,null,null,null,null,null,null,null,null,null,null,null,null,null,null,null,null,null,null,null,null,1]
[null,"Step 3: Enter Executive Demographic Information",null,null,null,null,null,null,null,null,null,null,null,{"$f":"IF(AND(COUNTBLANK(P146:P147)=0,COUNTBLANK(P151:P158)=0,COUNTBLANK(P162:P171)=0,SUM(C175:C189)=SUM(Q175:Q189),COUNTBLANK(P193:P194)=0),\"Complete\",\"Incomplete\")","v":"Incomplete"},null,null,null,null,null,null,null,null,1]
[null,null,null,null,null,null,null,null,null,null,null,null,null,null,null,null,null,null,null,null,null,null,1]
[null,"INSTRUCTIONS: Please enter the total number of executives in the yellow boxes for each gender, race, EEO code, classification, employees with disabilities and employees who are veterans for the respective fiscal year. Executives are defined using the position numbers on the Customizations tab.",null,null,null,null,null,null,null,null,null,null,null,null,null,null,null,null,null,null,null,null,1]
[null,null,null,null,null,null,null,null,null,null,null,null,null,null,null,null,null,null,null,null,null,null,1]
[null,null,null,null,null,null,null,null,null,null,null,null,null,null,null,null,null,null,null,null,null,null,1]
[null,null,null,null,null,null,null,null,null,null,null,null,null,null,null,"Total Executives by Gender",null,null,null,null,null,null,1]
[null,null,null,null,null,null,null,null,null,null,null,null,null,{"$f":"CONCATENATE(\"FY\",RIGHT('DHRM ADMIN'!$P$15,2)-2)","v":"FY21"},{"$f":"CONCATENATE(\"FY\",RIGHT('DHRM ADMIN'!$P$15,2)-1)","v":"FY22"},{"$f":"CONCATENATE(\"FY\",RIGHT('DHRM ADMIN'!$P$15,2))","v":"FY23"},null,null,null,null,null,null,1]
[null,null,null,null,null,null,null,null,null,null,null,null,"Total Male Executives",null,null,null,null,{"$f":"IF(O146<>\"\",1,0)","v":0},null,null,null,null,1]
[null,null,null,null,null,null,null,null,null,null,null,null,"Total Female Executives",null,null,null,null,{"$f":"IF(O147<>\"\",1,0)","v":0},null,null,null,null,1]
[null,null,null,null,null,null,null,null,null,null,null,null,null,null,null,null,null,null,null,null,null,null,1]
[null,null,null,null,null,null,null,null,null,null,null,null,null,null,null,"Total Executives by Race",null,null,null,null,null,null,1]
[null,null,null,null,null,null,null,null,null,null,null,null,null,{"$f":"CONCATENATE(\"FY\",RIGHT('DHRM ADMIN'!$P$15,2)-2)","v":"FY21"},{"$f":"CONCATENATE(\"FY\",RIGHT('DHRM ADMIN'!$P$15,2)-1)","v":"FY22"},{"$f":"CONCATENATE(\"FY\",RIGHT('DHRM ADMIN'!$P$15,2))","v":"FY23"},null,null,null,null,null,null,1]
[null,null,null,null,null,null,null,null,null,null,null,null,"Total American Indian or Alaskan Native Executives",null,null,null,null,{"$f":"IF(O151<>\"\",1,0)","v":0},null,null,null,null,1]
[null,null,null,null,null,null,null,null,null,null,null,null,"Total Asian Executives",null,null,null,null,{"$f":"IF(O152<>\"\",1,0)","v":0},null,null,null,null,1]
[null,null,null,null,null,null,null,null,null,null,null,null,"Total Black or African American Executives",null,null,null,null,0,null,null,null,null,1]
[null,null,null,null,null,null,null,null,null,null,null,null,"Total Hispanic or Latino Executives",null,null,null,null,0,null,null,null,null,1]
[null,null,null,null,null,null,null,null,null,null,null,null,"Total Native Hawaiian or Other Pac. Islander Executives",null,null,null,null,0,null,null,null,null,1]
[null,null,null,null,null,null,null,null,null,null,null,null,"Total White Executives",null,null,null,null,0,null,null,null,null,1]
[null,null,null,null,null,null,null,null,null,null,null,null,"Two or More Races",null,null,null,null,0,null,null,null,null,1]
[null,null,null,null,null,null,null,null,null,null,null,null,"Total Race Unknown or not Entered Executives",null,null,null,null,0,null,null,null,null,1]
[null,null,null,null,null,null,null,null,null,null,null,null,null,null,null,null,null,null,null,null,null,null,1]
[null,null,null,null,null,null,null,null,null,null,null,null,null,null,null,"Total Executives by EEO Code",null,null,null,null,null,null,1]
[null,null,null,null,null,null,null,null,null,null,null,null,null,{"$f":"CONCATENATE(\"FY\",RIGHT('DHRM ADMIN'!$P$15,2)-2)","v":"FY21"},{"$f":"CONCATENATE(\"FY\",RIGHT('DHRM ADMIN'!$P$15,2)-1)","v":"FY22"},{"$f":"CONCATENATE(\"FY\",RIGHT('DHRM ADMIN'!$P$15,2))","v":"FY23"},null,null,null,null,null,null,1]
[null,null,null,null,null,null,null,null,null,null,null,null,"Total Executive EEO Code Officials and Administrators","",null,null,null,{"$f":"IF(O162<>\"\",1,0)","v":0},null,null,null,null,1]
[null,null,null,null,null,null,null,null,null,null,null,null,"Total Executive EEO Code Professionals","",null,null,null,0,null,null,null,null,1]
[null,null,null,null,null,null,null,null,null,null,null,null,"Total Executive EEO Code Technicians","",null,null,null,0,null,null,null,null,1]
[null,null,null,null,null,null,null,null,null,null,null,null,"Total Executive EEO Code Protective Service Workers","",null,null,null,0,null,null,null,null,1]
[null,null,null,null,null,null,null,null,null,null,null,null,"Total Executive EEO Code Paraprofessionals","",null,null,null,0,null,null,null,null,1]
[null,null,null,null,null,null,null,null,null,null,null,null,"Total Executive EEO Code Administrative Support","",null,null,null,0,null,null,null,null,1]
[null,null,null,null,null,null,null,null,null,null,null,null,"Total Executive EEO Code Skilled Craft Workers","",null,null,null,0,null,null,null,null,1]
[null,null,null,null,null,null,null,null,null,null,null,null,"Total Executive EEO Code Service/Maintenance","",null,null,null,0,null,null,null,null,1]
[null,null,null,null,null,null,null,null,null,null,null,null,"Total Executive EEO Code Faculty","",null,null,null,0,null,null,null,null,1]
[null,null,null,null,null,null,null,null,null,null,null,null,"Total Executive EEO Code Other","",null,null,null,0,null,null,null,null,1]
[null,null,null,null,null,null,null,null,null,null,null,null,null,null,null,null,null,null,null,null,null,null,1]
[null,null,null,null,null,null,null,null,null,null,null,null,null,null,null,"Total Executives by Classification",null,null,null,null,null,null,1]
[null,null,null,null,null,null,null,null,null,null,null,null,null,{"$f":"CONCATENATE(\"FY\",RIGHT('DHRM ADMIN'!$P$15,2)-2)","v":"FY21"},{"$f":"CONCATENATE(\"FY\",RIGHT('DHRM ADMIN'!$P$15,2)-1)","v":"FY22"},{"$f":"CONCATENATE(\"FY\",RIGHT('DHRM ADMIN'!$P$15,2))","v":"FY23"},null,null,null,null,null,null,1]
[null,null,{"$f":"IF(M175<>\"Total  Executives\",1,0)","v":0},null,null,null,null,null,null,null,null,null,{"$f":"CONCATENATE(\"Total \",CUSTOMIZATIONS!C28,\" Executives\")","v":"Total  Executives"},"",null,null,{"$f":"IF(AND(M175<>\"Total  Executives\",P175<>\"\"),1,0)","v":0},{"$f":"IF(AND(W175=1,O175<>\"\"),1,0)","v":0},null,null,null,null,{"$f":"IF(C175=1,1,0)","v":0}]
[null,null,{"$f":"IF(M176<>\"Total  Executives\",1,0)","v":0},null,null,null,null,null,null,null,null,null,{"$f":"CONCATENATE(\"Total \",CUSTOMIZATIONS!C29,\" Executives\")","v":"Total  Executives"},"",null,null,{"$f":"IF(AND(M176<>\"Total  Executives\",P176<>\"\"),1,0)","v":0},{"$f":"IF(AND(W176=1,O176<>\"\"),1,0)","v":0},null,null,null,null,{"$f":"IF(C176=1,1,0)","v":0}]
[null,null,0,null,null,null,null,null,null,null,null,null,{"$f":"CONCATENATE(\"Total \",CUSTOMIZATIONS!C30,\" Executives\")","v":"Total  Executives"},"",null,null,0,0,null,null,null,null,0]
[null,null,0,null,null,null,null,null,null,null,null,null,{"$f":"CONCATENATE(\"Total \",CUSTOMIZATIONS!C31,\" Executives\")","v":"Total  Executives"},"",null,null,0,0,null,null,null,null,0]
[null,null,0,null,null,null,null,null,null,null,null,null,{"$f":"CONCATENATE(\"Total \",CUSTOMIZATIONS!C32,\" Executives\")","v":"Total  Executives"},"",null,null,0,0,null,null,null,null,0]
[null,null,0,null,null,null,null,null,null,null,null,null,{"$f":"CONCATENATE(\"Total \",CUSTOMIZATIONS!C33,\" Executives\")","v":"Total  Executives"},"",null,null,0,0,null,null,null,null,0]
[null,null,0,null,null,null,null,null,null,null,null,null,{"$f":"CONCATENATE(\"Total \",CUSTOMIZATIONS!C34,\" Executives\")","v":"Total  Executives"},"",null,null,0,0,null,null,null,null,0]
[null,null,0,null,null,null,null,null,null,null,null,null,{"$f":"CONCATENATE(\"Total \",CUSTOMIZATIONS!C35,\" Executives\")","v":"Total  Executives"},"",null,null,0,0,null,null,null,null,0]
[null,null,0,null,null,null,null,null,null,null,null,null,{"$f":"CONCATENATE(\"Total \",CUSTOMIZATIONS!C36,\" Executives\")","v":"Total  Executives"},"",null,null,0,0,null,null,null,null,0]
[null,null,0,null,null,null,null,null,null,null,null,null,{"$f":"CONCATENATE(\"Total \",CUSTOMIZATIONS!C37,\" Executives\")","v":"Total  Executives"},"",null,null,0,0,null,null,null,null,0]
[null,null,0,null,null,null,null,null,null,null,null,null,{"$f":"CONCATENATE(\"Total \",CUSTOMIZATIONS!C38,\" Executives\")","v":"Total  Executives"},"",null,null,0,0,null,null,null,null,0]
[null,null,0,null,null,null,null,null,null,null,null,null,{"$f":"CONCATENATE(\"Total \",CUSTOMIZATIONS!C39,\" Executives\")","v":"Total  Executives"},"",null,null,0,0,null,null,null,null,0]
[null,null,0,null,null,null,null,null,null,null,null,null,{"$f":"CONCATENATE(\"Total \",CUSTOMIZATIONS!C40,\" Executives\")","v":"Total  Executives"},"",null,null,0,0,null,null,null,null,0]
[null,null,0,null,null,null,null,null,null,null,null,null,{"$f":"CONCATENATE(\"Total \",CUSTOMIZATIONS!C41,\" Executives\")","v":"Total  Executives"},"",null,null,0,0,null,null,null,null,0]
[null,null,null,null,null,null,null,null,null,null,null,null,{"$f":"CONCATENATE(\"Total \",CUSTOMIZATIONS!C42,\" Executives\")","v":"Total  Executives"},"",null,null,0,0,null,null,null,null,0]
[null,null,null,null,null,null,null,null,null,null,null,null,null,null,null,null,null,null,null,null,null,null,1]
[null,null,null,null,null,null,null,null,null,null,null,null,null,null,null,"Additional Executive Demographics",null,null,null,null,null,null,1]
[null,null,null,null,null,null,null,null,null,null,null,null,null,{"$f":"CONCATENATE(\"FY\",RIGHT('DHRM ADMIN'!$P$15,2)-2)","v":"FY21"},{"$f":"CONCATENATE(\"FY\",RIGHT('DHRM ADMIN'!$P$15,2)-1)","v":"FY22"},{"$f":"CONCATENATE(\"FY\",RIGHT('DHRM ADMIN'!$P$15,2))","v":"FY23"},null,null,null,null,null,null,1]
[null,null,null,null,null,null,null,null,null,null,null,null,"Total Executives with Disabilities",null,null,null,null,{"$f":"IF(O193<>\"\",1,0)","v":0},null,null,null,null,1]
[null,null,null,null,null,null,null,null,null,null,null,null,"Total Veterans",null,null,null,null,0,null,null,null,null,1]
[null,null,null,null,null,null,null,null,null,null,null,null,null,null,null,null,null,null,null,null,null,null,1]
[null,null,null,null,null,null,null,null,null,null,null,null,null,null,null,null,null,null,null,null,null,null,1]
[null,null,null,null,null,null,null,null,null,null,null,null,null,null,null,null,null,null,null,null,null,null,1]
[null,"Step 4: Enter Demographic Information for Employees with Disabilities",null,null,null,null,null,null,null,null,null,null,null,{"$f":"IF(AND(COUNTBLANK(P204:P213)=0,SUM(C217:C231)=SUM(Q217:Q231)),\"Complete\",\"Incomplete\")","v":"Incomplete"},null,null,null,null,null,null,null,null,1]
[null,null,null,null,null,null,null,null,null,null,null,null,null,null,null,null,null,null,null,null,null,null,1]
[null,"INSTRUCTIONS: Please enter the total number of employees with disabilities for each EEO code and employee classification for each respective fiscal year.",null,null,null,null,null,null,null,null,null,null,null,null,null,null,null,null,null,null,null,null,1]
[null,null,null,null,null,null,null,null,null,null,null,null,null,null,null,null,null,null,null,null,null,null,1]
[null,null,null,null,null,null,null,null,null,null,null,null,null,null,null,"Total Employees with Disabilities by EEO Code",null,null,null,null,null,null,1]
[null,null,null,null,null,null,null,null,null,null,null,null,null,{"$f":"CONCATENATE(\"FY\",RIGHT('DHRM ADMIN'!$P$15,2)-2)","v":"FY21"},{"$f":"CONCATENATE(\"FY\",RIGHT('DHRM ADMIN'!$P$15,2)-1)","v":"FY22"},{"$f":"CONCATENATE(\"FY\",RIGHT('DHRM ADMIN'!$P$15,2))","v":"FY23"},null,null,null,null,null,null,1]
[null,null,null,null,null,null,null,null,null,null,null,null,"Total Employees with Disabilities EEO Code Officials and Administrators","",null,null,null,{"$f":"IF(O204<>\"\",1,0)","v":0},null,null,null,null,1]
[null,null,null,null,null,null,null,null,null,null,null,null,"Total Employees with Disabilities EEO Code Professionals","",null,null,null,{"$f":"IF(O205<>\"\",1,0)","v":0},null,null,null,null,1]
[null,null,null,null,null,null,null,null,null,null,null,null,"Total Employees with Disabilities EEO Code Technicians","",null,null,null,0,null,null,null,null,1]
[null,null,null,null,null,null,null,null,null,null,null,null,"Total Employees with Disabilities EEO Code Protective Service Workers","",null,null,null,0,null,null,null,null,1]
[null,null,null,null,null,null,null,null,null,null,null,null,"Total Employees with Disabilities EEO Code Paraprofessionals","",null,null,null,0,null,null,null,null,1]
[null,null,null,null,null,null,null,null,null,null,null,null,"Total Employees with Disabilities EEO Code Administrative Support","",null,null,null,0,null,null,null,null,1]
[null,null,null,null,null,null,null,null,null,null,null,null,"Total Employees with Disabilities EEO Code Skilled Craft Workers","",null,null,null,0,null,null,null,null,1]
[null,null,null,null,null,null,null,null,null,null,null,null,"Total Employees with Disabilities EEO Code Service/Maintenance","",null,null,null,0,null,null,null,null,1]
[null,null,null,null,null,null,null,null,null,null,null,null,"Total Employees with Disabilities EEO Code Faculty","",null,null,null,0,null,null,null,null,1]
[null,null,null,null,null,null,null,null,null,null,null,null,"Total Employees with Disabilities EEO Code Other","",null,null,null,0,null,null,null,null,1]
[null,null,null,null,null,null,null,null,null,null,null,null,null,null,null,null,null,null,null,null,null,null,1]
[null,null,null,null,null,null,null,null,null,null,null,null,null,null,null,"Total Employees with Disabilities by Classification",null,null,null,null,null,null,1]
[null,null,null,null,null,null,null,null,null,null,null,null,null,{"$f":"CONCATENATE(\"FY\",RIGHT('DHRM ADMIN'!$P$15,2)-2)","v":"FY21"},{"$f":"CONCATENATE(\"FY\",RIGHT('DHRM ADMIN'!$P$15,2)-1)","v":"FY22"},{"$f":"CONCATENATE(\"FY\",RIGHT('DHRM ADMIN'!$P$15,2))","v":"FY23"},null,null,null,null,null,null,1]
[null,null,{"$f":"IF(M217<>\"Total  Employees with Disabilities\",1,0)","v":0},null,null,null,null,null,null,null,null,null,{"$f":"CONCATENATE(\"Total \",CUSTOMIZATIONS!C28,\" Employees with Disabilities\")","v":"Total  Employees with Disabilities"},"",null,null,{"$f":"IF(AND(M217<>\"Total  Employees with Disabilities\",P217<>\"\"),1,0)","v":0},{"$f":"IF(O217<>\"\",1,0)","v":0},null,null,null,null,{"$f":"IF(C217=1,1,0)","v":0}]
[null,null,{"$f":"IF(M218<>\"Total  Employees with Disabilities\",1,0)","v":0},null,null,null,null,null,null,null,null,null,{"$f":"CONCATENATE(\"Total \",CUSTOMIZATIONS!C29,\" Employees with Disabilities\")","v":"Total  Employees with Disabilities"},"",null,null,{"$f":"IF(AND(M218<>\"Total  Employees with Disabilities\",P218<>\"\"),1,0)","v":0},0,null,null,null,null,{"$f":"IF(C218=1,1,0)","v":0}]
[null,null,0,null,null,null,null,null,null,null,null,null,{"$f":"CONCATENATE(\"Total \",CUSTOMIZATIONS!C30,\" Employees with Disabilities\")","v":"Total  Employees with Disabilities"},"",null,null,0,0,null,null,null,null,0]
[null,null,0,null,null,null,null,null,null,null,null,null,{"$f":"CONCATENATE(\"Total \",CUSTOMIZATIONS!C31,\" Employees with Disabilities\")","v":"Total  Employees with Disabilities"},"",null,null,0,0,null,null,null,null,0]
[null,null,0,null,null,null,null,null,null,null,null,null,{"$f":"CONCATENATE(\"Total \",CUSTOMIZATIONS!C32,\" Employees with Disabilities\")","v":"Total  Employees with Disabilities"},"",null,null,0,0,null,null,null,null,0]
[null,null,0,null,null,null,null,null,null,null,null,null,{"$f":"CONCATENATE(\"Total \",CUSTOMIZATIONS!C33,\" Employees with Disabilities\")","v":"Total  Employees with Disabilities"},"",null,null,0,0,null,null,null,null,0]
[null,null,0,null,null,null,null,null,null,null,null,null,{"$f":"CONCATENATE(\"Total \",CUSTOMIZATIONS!C34,\" Employees with Disabilities\")","v":"Total  Employees with Disabilities"},"",null,null,0,0,null,null,null,null,0]
[null,null,0,null,null,null,null,null,null,null,null,null,{"$f":"CONCATENATE(\"Total \",CUSTOMIZATIONS!C35,\" Employees with Disabilities\")","v":"Total  Employees with Disabilities"},"",null,null,0,0,null,null,null,null,0]
[null,null,0,null,null,null,null,null,null,null,null,null,{"$f":"CONCATENATE(\"Total \",CUSTOMIZATIONS!C36,\" Employees with Disabilities\")","v":"Total  Employees with Disabilities"},"",null,null,0,0,null,null,null,null,0]
[null,null,0,null,null,null,null,null,null,null,null,null,{"$f":"CONCATENATE(\"Total \",CUSTOMIZATIONS!C37,\" Employees with Disabilities\")","v":"Total  Employees with Disabilities"},"",null,null,0,0,null,null,null,null,0]
[null,null,0,null,null,null,null,null,null,null,null,null,{"$f":"CONCATENATE(\"Total \",CUSTOMIZATIONS!C38,\" Employees with Disabilities\")","v":"Total  Employees with Disabilities"},"",null,null,0,0,null,null,null,null,0]
[null,null,0,null,null,null,null,null,null,null,null,null,{"$f":"CONCATENATE(\"Total \",CUSTOMIZATIONS!C39,\" Employees with Disabilities\")","v":"Total  Employees with Disabilities"},"",null,null,0,0,null,null,null,null,0]
[null,null,0,null,null,null,null,null,null,null,null,null,{"$f":"CONCATENATE(\"Total \",CUSTOMIZATIONS!C40,\" Employees with Disabilities\")","v":"Total  Employees with Disabilities"},"",null,null,0,0,null,null,null,null,0]
[null,null,0,null,null,null,null,null,null,null,null,null,{"$f":"CONCATENATE(\"Total \",CUSTOMIZATIONS!C41,\" Employees with Disabilities\")","v":"Total  Employees with Disabilities"},"",null,null,0,0,null,null,null,null,0]
[null,null,0,null,null,null,null,null,null,null,null,null,{"$f":"CONCATENATE(\"Total \",CUSTOMIZATIONS!C42,\" Employees with Disabilities\")","v":"Total  Employees with Disabilities"},"",null,null,0,0,null,null,null,null,0]
[null,null,null,null,null,null,null,null,null,null,null,null,null,null,null,null,null,null,null,null,null,null,1]
[null,null,null,null,null,null,null,null,null,null,null,null,null,null,null,null,null,null,null,null,null,null,1]
[null,null,null,null,null,null,null,null,null,null,null,null,null,null,null,null,null,null,null,null,null,null,1]
[null,"Step 5: Enter Demographic Information for Veteran Employees",null,null,null,null,null,null,null,null,null,null,null,{"$f":"IF(AND(COUNTBLANK(P241:P250)=0,SUM(C254:C268)=SUM(Q254:Q268)),\"Complete\",\"Incomplete\")","v":"Incomplete"},null,null,null,null,null,null,null,null,1]
[null,null,null,null,null,null,null,null,null,null,null,null,null,null,null,null,null,null,null,null,null,null,1]
[null,"INSTRUCTIONS: Please enter the total number of veterans for each EEO code and employee classification for each respective fiscal year.",null,null,null,null,null,null,null,null,null,null,null,null,null,null,null,null,null,null,null,null,1]
[null,null,null,null,null,null,null,null,null,null,null,null,null,null,null,null,null,null,null,null,null,null,1]
[null,null,null,null,null,null,null,null,null,null,null,null,null,null,null,"Total Veterans by EEO Code",null,null,null,null,null,null,1]
[null,null,null,null,null,null,null,null,null,null,null,null,null,{"$f":"CONCATENATE(\"FY\",RIGHT('DHRM ADMIN'!$P$15,2)-2)","v":"FY21"},{"$f":"CONCATENATE(\"FY\",RIGHT('DHRM ADMIN'!$P$15,2)-1)","v":"FY22"},{"$f":"CONCATENATE(\"FY\",RIGHT('DHRM ADMIN'!$P$15,2))","v":"FY23"},null,null,null,null,null,null,1]
[null,null,null,null,null,null,null,null,null,null,null,null,"Total Veteran EEO Code Officials and Administrators","",null,null,null,{"$f":"IF(O241<>\"\",1,0)","v":0},null,null,null,null,1]
[null,null,null,null,null,null,null,null,null,null,null,null,"Total Veteran EEO Code Professionals","",null,null,null,0,null,null,null,null,1]
[null,null,null,null,null,null,null,null,null,null,null,null,"Total Veteran EEO Code Technicians","",null,null,null,0,null,null,null,null,1]
[null,null,null,null,null,null,null,null,null,null,null,null,"Total Veteran EEO Code Protective Service Workers","",null,null,null,0,null,null,null,null,1]
[null,null,null,null,null,null,null,null,null,null,null,null,"Total Veteran EEO Code Paraprofessionals","",null,null,null,0,null,null,null,null,1]
[null,null,null,null,null,null,null,null,null,null,null,null,"Total Veteran EEO Code Administrative Support","",null,null,null,0,null,null,null,null,1]
[null,null,null,null,null,null,null,null,null,null,null,null,"Total Veteran EEO Code Skilled Craft Workers","",null,null,null,0,null,null,null,null,1]
[null,null,null,null,null,null,null,null,null,null,null,null,"Total Veteran EEO Code Service/Maintenance","",null,null,null,0,null,null,null,null,1]
[null,null,null,null,null,null,null,null,null,null,null,null,"Total Veteran EEO Code Faculty","",null,null,null,0,null,null,null,null,1]
[null,null,null,null,null,null,null,null,null,null,null,null,"Total Veteran EEO Code Other","",null,null,null,0,null,null,null,null,1]
[null,null,null,null,null,null,null,null,null,null,null,null,null,null,null,null,null,null,null,null,null,null,1]
[null,null,null,null,null,null,null,null,null,null,null,null,null,null,null,"Total Veterans by Classification",null,null,null,null,null,null,1]
[null,null,null,null,null,null,null,null,null,null,null,null,null,{"$f":"CONCATENATE(\"FY\",RIGHT('DHRM ADMIN'!$P$15,2)-2)","v":"FY21"},{"$f":"CONCATENATE(\"FY\",RIGHT('DHRM ADMIN'!$P$15,2)-1)","v":"FY22"},{"$f":"CONCATENATE(\"FY\",RIGHT('DHRM ADMIN'!$P$15,2))","v":"FY23"},null,null,null,null,null,null,1]
[null,null,{"$f":"IF(M254<>\"Total  Veterans\",1,0)","v":0},null,null,null,null,null,null,null,null,null,{"$f":"CONCATENATE(\"Total \",CUSTOMIZATIONS!C28,\" Veterans\")","v":"Total  Veterans"},"",null,null,{"$f":"IF(AND(M254<>\"Total  Veterans\",P254<>\"\"),1,0)","v":0},{"$f":"IF(O254<>\"\",1,0)","v":0},null,null,null,null,{"$f":"IF(C254=1,1,0)","v":0}]
[null,null,{"$f":"IF(M255<>\"Total  Veterans\",1,0)","v":0},null,null,null,null,null,null,null,null,null,{"$f":"CONCATENATE(\"Total \",CUSTOMIZATIONS!C29,\" Veterans\")","v":"Total  Veterans"},"",null,null,{"$f":"IF(AND(M255<>\"Total  Veterans\",P255<>\"\"),1,0)","v":0},0,null,null,null,null,{"$f":"IF(C255=1,1,0)","v":0}]
[null,null,0,null,null,null,null,null,null,null,null,null,{"$f":"CONCATENATE(\"Total \",CUSTOMIZATIONS!C30,\" Veterans\")","v":"Total  Veterans"},"",null,null,0,0,null,null,null,null,0]
[null,null,0,null,null,null,null,null,null,null,null,null,{"$f":"CONCATENATE(\"Total \",CUSTOMIZATIONS!C31,\" Veterans\")","v":"Total  Veterans"},"",null,null,0,0,null,null,null,null,0]
[null,null,0,null,null,null,null,null,null,null,null,null,{"$f":"CONCATENATE(\"Total \",CUSTOMIZATIONS!C32,\" Veterans\")","v":"Total  Veterans"},"",null,null,0,0,null,null,null,null,0]
[null,null,0,null,null,null,null,null,null,null,null,null,{"$f":"CONCATENATE(\"Total \",CUSTOMIZATIONS!C33,\" Veterans\")","v":"Total  Veterans"},"",null,null,0,0,null,null,null,null,0]
[null,null,0,null,null,null,null,null,null,null,null,null,{"$f":"CONCATENATE(\"Total \",CUSTOMIZATIONS!C34,\" Veterans\")","v":"Total  Veterans"},"",null,null,0,0,null,null,null,null,0]
[null,null,0,null,null,null,null,null,null,null,null,null,{"$f":"CONCATENATE(\"Total \",CUSTOMIZATIONS!C35,\" Veterans\")","v":"Total  Veterans"},"",null,null,0,0,null,null,null,null,0]
[null,null,0,null,null,null,null,null,null,null,null,null,{"$f":"CONCATENATE(\"Total \",CUSTOMIZATIONS!C36,\" Veterans\")","v":"Total  Veterans"},"",null,null,0,0,null,null,null,null,0]
[null,null,0,null,null,null,null,null,null,null,null,null,{"$f":"CONCATENATE(\"Total \",CUSTOMIZATIONS!C37,\" Veterans\")","v":"Total  Veterans"},"",null,null,0,0,null,null,null,null,0]
[null,null,0,null,null,null,null,null,null,null,null,null,{"$f":"CONCATENATE(\"Total \",CUSTOMIZATIONS!C38,\" Veterans\")","v":"Total  Veterans"},"",null,null,0,0,null,null,null,null,0]
[null,null,0,null,null,null,null,null,null,null,null,null,{"$f":"CONCATENATE(\"Total \",CUSTOMIZATIONS!C39,\" Veterans\")","v":"Total  Veterans"},"",null,null,0,0,null,null,null,null,0]
[null,null,0,null,null,null,null,null,null,null,null,null,{"$f":"CONCATENATE(\"Total \",CUSTOMIZATIONS!C40,\" Veterans\")","v":"Total  Veterans"},"",null,null,0,0,null,null,null,null,0]
[null,null,0,null,null,null,null,null,null,null,null,null,{"$f":"CONCATENATE(\"Total \",CUSTOMIZATIONS!C41,\" Veterans\")","v":"Total  Veterans"},"",null,null,0,0,null,null,null,null,0]
[null,null,0,null,null,null,null,null,null,null,null,null,{"$f":"CONCATENATE(\"Total \",CUSTOMIZATIONS!C42,\" Veterans\")","v":"Total  Veterans"},"",null,null,0,0,null,null,null,null,0]
[null,null,null,null,null,null,null,null,null,null,null,null,null,null,null,null,null,null,null,null,null,null,1]
[null,null,null,null,null,null,null,null,null,null,null,null,null,null,null,null,null,null,null,null,null,null,0]

{"sheet":"PROFILE SUMMARY","index":7,"n_rows":154,"n_cols":23,"rows_kept":154,"cut":false,"hidden":false,"merged":[[146,2,147,15],[148,2,150,15],[72,12,72,13],[73,12,73,13],[47,4,48,5],[47,10,48,11],[47,12,48,14],[135,1,136,12],[135,13,136,15],[137,1,138,15],[79,2,80,14],[52,6,52,7],[53,6,53,7],[52,12,52,13],[53,12,53,13],[52,9,52,10],[53,9,53,10],[54,9,54,10],[55,9,55,10],[56,9,56,10],[57,9,57,10],[58,9,58,10],[59,9,59,10],[60,9,60,10],[5,2,7,14],[8,2,11,14],[19,1,20,12],[19,13,20,15],[42,8,42,9],[21,1,24,15],[50,11,51,13],[50,8,51,10],[44,2,45,14],[37,2,38,14],[13,3,15,9],[39,2,40,8],[41,2,41,4],[39,11,40,14],[47,2,48,3],[47,6,48,7],[47,8,48,9],[35,1,36,11],[35,12,36,15],[30,1,32,8],[33,1,33,8],[50,5,51,7],[54,12,54,13],[55,12,55,13],[56,12,56,13],[57,12,57,13],[58,12,58,13],[59,12,59,13],[60,12,60,13],[61,12,61,13],[82,2,83,3],[82,4,83,5],[82,6,83,7],[82,8,83,9],[82,10,83,11],[82,12,83,14],[54,6,54,7],[55,6,55,7],[56,6,56,7],[57,6,57,7],[58,6,58,7],[59,6,59,7],[60,6,60,7],[61,6,61,7],[61,9,61,10],[72,6,72,7],[130,6,130,7],[109,6,109,7],[110,6,110,7],[111,6,111,7],[114,6,114,7],[113,6,113,7],[85,5,86,7],[85,8,86,10],[85,11,86,13],[98,6,98,7],[99,6,99,7],[100,6,100,7],[98,9,98,10],[99,9,99,10],[100,9,100,10],[98,12,98,13],[99,12,99,13],[100,12,100,13],[102,6,102,7],[103,6,103,7],[104,6,104,7],[105,6,105,7],[106,6,106,7],[107,6,107,7],[72,9,72,10],[73,9,73,10],[74,9,74,10],[75,9,75,10],[76,9,76,10],[77,9,77,10],[63,6,63,7],[64,6,64,7],[65,6,65,7],[66,6,66,7],[67,6,67,7],[68,6,68,7],[69,6,69,7],[70,6,70,7],[71,6,71,7],[73,6,73,7],[63,9,63,10],[64,9,64,10],[65,9,65,10],[66,9,66,10],[67,9,67,10],[68,9,68,10],[69,9,69,10],[70,9,70,10],[71,9,71,10],[63,12,63,13],[64,12,64,13],[65,12,65,13],[66,12,66,13],[67,12,67,13],[68,12,68,13],[69,12,69,13],[70,12,70,13],[71,12,71,13],[74,12,74,13],[75,12,75,13],[76,12,76,13],[77,12,77,13],[93,6,93,7],[94,6,94,7],[95,6,95,7],[96,6,96,7],[97,6,97,7],[93,9,93,10],[94,9,94,10],[95,9,95,10],[96,9,96,10],[97,9,97,10],[93,12,93,13],[94,12,94,13],[95,12,95,13],[96,12,96,13],[97,12,97,13],[74,6,74,7],[75,6,75,7],[76,6,76,7],[77,6,77,7],[108,6,108,7],[102,9,102,10],[103,9,103,10],[104,9,104,10],[105,9,105,10],[106,9,106,10],[107,9,107,10],[108,9,108,10],[109,9,109,10],[110,9,110,10],[111,9,111,10],[102,12,102,13],[103,12,103,13],[104,12,104,13],[105,12,105,13],[106,12,106,13],[107,12,107,13],[108,12,108,13],[109,12,109,13],[110,12,110,13],[111,12,111,13],[129,9,129,10],[113,9,113,10],[114,9,114,10],[113,12,113,13],[114,12,114,13],[116,6,116,7],[117,6,117,7],[118,6,118,7],[119,6,119,7],[120,6,120,7],[116,9,116,10],[117,9,117,10],[118,9,118,10],[119,9,119,10],[120,9,120,10],[121,6,121,7],[122,6,122,7],[123,6,123,7],[124,6,124,7],[125,6,125,7],[126,6,126,7],[127,6,127,7],[128,6,128,7],[129,6,129,7],[130,9,130,10],[116,12,116,13],[117,12,117,13],[118,12,118,13],[119,12,119,13],[120,12,120,13],[121,12,121,13],[122,12,122,13],[123,12,123,13],[124,12,124,13],[125,12,125,13],[126,12,126,13],[127,12,127,13],[128,12,128,13],[129,12,129,13],[130,12,130,13],[121,9,121,10],[122,9,122,10],[123,9,123,10],[124,9,124,10],[125,9,125,10],[126,9,126,10],[127,9,127,10],[128,9,128,10]]}
[null,null,null,null,null,null,null,null,null,null,null,null,null,null,null,null,null,null,null,null,null,null,1]
[null,null,null,null,null,null,null,null,null,null,null,null,null,null,null,null,null,null,null,null,null,null,1]
[null,null,null,null,null,null,null,null,null,null,null,null,null,null,null,null,null,null,null,null,null,null,1]
[null,null,null,null,null,null,null,null,null,null,null,null,null,null,null,null,null,null,null,null,null,null,1]
[null,null,null,null,null,null,null,null,null,null,null,null,null,null,null,null,null,null,null,null,null,null,1]
[null,null,"PROFILE SUMMARY",null,null,null,null,null,null,null,null,null,null,null,null,null,null,null,null,null,null,null,1]
[null,null,null,null,null,null,null,null,null,null,null,null,null,null,null,null,null,null,null,null,null,null,1]
[null,null,null,null,null,null,null,null,null,null,null,null,null,null,null,null,null,null,null,null,null,null,1]
[null,null,"The Profile Summary is an optional tab that can be used to explore information in the agency profile by fiscal year and demographic (employee, leader, or executive). It provides an overview of the agency operations and the agency workforce. The workforce insights section (noted with the blue background) can be exported as a PDF to be a standalone summary if desired.",null,null,null,null,null,null,null,null,null,null,null,null,null,null,null,null,null,null,null,1]
[null,null,null,null,null,null,null,null,null,null,null,null,null,null,null,null,null,null,null,null,null,null,1]
[null,null,null,null,null,null,null,null,null,null,null,null,null,null,null,null,null,null,null,null,null,null,1]
[null,null,null,null,null,null,null,null,null,null,null,null,null,null,null,null,null,null,null,null,null,null,1]
[null,null,null,null,null,null,null,null,null,null,null,null,null,null,null,null,null,null,null,null,null,null,1]
[null,null,null,{"$f":"IF(SUMIF($W$1:$W$248,1)<>SUBTOTAL(103,$W$1:$W$248),\"Employee Classifications Need to Be Refreshed.\",\"Employee Classifications are Up to Date.\")","v":"Employee Classifications are Up to Date."},null,null,null,null,null,null,null,null,null,null,null,null,null,null,null,null,null,null,1]
[null,null,null,null,null,null,null,null,null,null,null,null,null,null,null,null,null,null,null,null,null,null,1]
[null,null,null,null,null,null,null,null,null,null,null,null,null,null,null,null,null,null,null,null,null,null,1]
[null,null,null,null,null,null,null,null,null,null,null,null,null,null,null,null,null,null,null,null,null,null,1]
[null,null,null,null,null,null,null,null,null,null,null,null,null,null,null,null,null,null,null,null,null,null,1]
[null,null,null,null,null,null,null,null,null,null,null,null,null,null,null,null,null,null,null,null,null,null,1]
[null,"(Optional) Step 1: Review the Workforce Insights of the Agency Profile",null,null,null,null,null,null,null,null,null,null,null,null,null,null,null,null,null,null,null,null,1]
[null,null,null,null,null,null,null,null,null,null,null,null,null,null,null,null,null,null,null,null,null,null,1]
[null,"INSTRUCTIONS: The Agency Profile Workforce Insights section provides a breakdown of agency positions, locations, workforce planning areas of strategic initiatives, and workforce demographics. The information can be filtered based on fiscal year and demographic (non-leader, leader, executive, or all employees) by using the dropdown menu in the boxes highlighted yellow. After selecting the yellow box, click the drop down arrow on the right to see the dropdown menu and select the desired filter.",null,null,null,null,null,null,null,null,null,null,null,null,null,null,null,null,null,null,null,null,1]
[null,null,null,null,null,null,null,null,null,null,null,null,null,null,null,null,null,null,null,null,null,null,1]
[null,null,null,null,null,null,null,null,null,null,null,null,null,null,null,null,null,null,null,null,null,null,1]
[null,null,null,null,null,null,null,null,null,null,null,null,null,null,null,null,null,null,null,null,null,null,1]
[null,null,null,null,null,null,null,null,null,null,null,null,null,null,null,null,null,null,null,null,null,null,1]
[null,null,null,null,null,null,null,null,null,null,null,null,null,"Format the workforce insights section as an Appendix to the Workforce plan?   ",null,null,null,null,null,null,null,null,1]
[null,null,null,null,null,null,null,null,null,null,null,null,null,null,null,null,null,null,null,null,null,null,1]
[null,null,null,null,null,null,null,null,null,null,null,null,null,null,null,null,null,null,null,null,null,null,1]
[null,null,null,null,null,null,null,null,null,null,null,null,null,null,null,null,null,null,null,null,null,null,1]
[null,{"$f":"'AGENCY DETAILS'!J26","v":0},null,null,null,null,null,null,null,null,null,null,null,null,null,null,null,null,null,null,null,null,0]
[null,null,null,null,null,null,null,null,null,null,null,null,null,null,null,null,null,null,null,null,null,null,0]
[null,null,null,null,null,null,null,null,null,null,null,null,null,null,null,null,null,null,null,null,null,null,0]
[null,{"$f":"CONCATENATE(\"Agency Number: \",'AGENCY DETAILS'!P28)","v":"Agency Number: "},null,null,null,null,null,null,null,null,null,null,null,null,null,null,null,null,null,null,null,null,0]
[null,null,null,null,null,null,null,null,null,null,null,null,null,null,null,null,null,null,null,null,null,null,0]
[null,"   Agency Workforce Planning and Development Summary - Appendix",null,null,null,null,null,null,null,null,null,null,{"$f":"CONCATENATE(\"Fiscal Year 20\",RIGHT(I43,2))","v":"Fiscal Year 2023"},null,null,null,null,null,null,null,null,null,0]
[null,null,null,null,null,null,null,null,null,null,null,null,null,null,null,null,null,null,null,null,null,null,0]
[null,null,"WORKFORCE PLANNING AND DEVELOPMENT: AGENCY PROFILE",null,null,null,null,null,null,null,null,null,null,null,null,null,null,null,null,null,null,null,1]
[null,null,null,null,null,null,null,null,null,null,null,null,null,null,null,null,null,null,null,null,null,null,1]
[null,null,{"$f":"'AGENCY DETAILS'!J26","v":0},null,null,null,null,null,null,null,null,{"$f":"IF(P141=\"\",CONCATENATE(\"Summary Date: \",Q140),CONCATENATE(\"Summary Date: \",Q141))","v":"Summary Date: 08/16/23"},null,null,null,null,null,null,null,null,null,null,1]
[null,null,null,null,null,null,null,null,null,null,null,null,null,null,null,null,null,null,null,null,null,null,1]
[null,null,{"$f":"CONCATENATE(\"Agency Number: \",'AGENCY DETAILS'!P28)","v":"Agency Number: "},null,null,null,null,null,null,null,null,null,null,null,null,null,null,null,null,null,null,null,1]
[null,null,null,null,null,null,null,"Fiscal Year","FY23",null,null,null,null,null,null,null,null,null,null,null,null,null,1]
[null,null,null,null,null,null,null,null,null,null,null,null,null,null,null,null,null,null,null,null,null,null,1]
[null,null,"AGENCY POSITIONS",null,null,null,null,null,null,null,null,null,null,null,null,null,null,null,null,null,null,null,1]
[null,null,null,null,null,null,null,null,null,null,null,null,null,null,null,null,null,null,null,null,null,null,1]
[null,null,null,null,null,null,null,null,null,null,null,null,null,null,null,null,null,null,null,null,null,null,1]
[null,null,{"$f":"HLOOKUP($I$43,'CENTRAL ANALYSIS'!$B$64:$D$65,2,FALSE)","v":0},null,"TOTAL \nPOSITIONS",null,{"$f":"HLOOKUP($I$43,'CENTRAL ANALYSIS'!$F$64:$H$65,2,FALSE)","v":0},null,"TOTAL LEADER POSITIONS",null,{"$f":"HLOOKUP($I$43,'CENTRAL ANALYSIS'!$J$64:$L$65,2,FALSE)","v":0},null,"TOTAL EXECUTIVE POSITIONS",null,null,null,null,null,null,null,null,null,1]
[null,null,null,null,null,null,null,null,null,null,null,null,null,null,null,null,null,null,null,null,null,null,1]
[null,null,null,null,null,null,null,null,null,null,null,null,null,null,null,null,null,null,null,null,null,null,1]
[null,null,null,null,null,"All Positions",null,null,"Leader Positions",null,null,"Executive Positions",null,null,null,null,null,null,null,null,null,null,1]
[null,null,null,null,null,null,null,null,null,null,null,null,null,null,null,null,null,null,null,null,null,null,1]
[null,null,null,null,"Officials and Administrators",{"$f":"HLOOKUP($I$43,'CENTRAL ANALYSIS'!$B$64:$D$90,3,FALSE)","v":0},{"$f":"HLOOKUP($I$43,'CENTRAL ANALYSIS'!$B$64:$D$90,3,FALSE)","v":0},null,{"$f":"HLOOKUP($I$43,'CENTRAL ANALYSIS'!$F$64:$H$90,3,FALSE)","v":0},{"$f":"HLOOKUP($I$43,'CENTRAL ANALYSIS'!$F$64:$H$90,3,FALSE)","v":0},null,{"$f":"HLOOKUP($I$43,'CENTRAL ANALYSIS'!$J$64:$L$90,3,FALSE)","v":0},{"$f":"HLOOKUP($I$43,'CENTRAL ANALYSIS'!$J$64:$L$90,3,FALSE)","v":0},null,null,null,null,null,null,null,null,null,1]
[null,null,null,null,"Professionals",{"$f":"HLOOKUP($I$43,'CENTRAL ANALYSIS'!$B$64:$D$90,4,FALSE)","v":0},{"$f":"HLOOKUP($I$43,'CENTRAL ANALYSIS'!$B$64:$D$90,4,FALSE)","v":0},null,{"$f":"HLOOKUP($I$43,'CENTRAL ANALYSIS'!$F$64:$H$90,4,FALSE)","v":0},{"$f":"HLOOKUP($I$43,'CENTRAL ANALYSIS'!$F$64:$H$90,4,FALSE)","v":0},null,{"$f":"HLOOKUP($I$43,'CENTRAL ANALYSIS'!$J$64:$L$90,4,FALSE)","v":0},{"$f":"HLOOKUP($I$43,'CENTRAL ANALYSIS'!$J$64:$L$90,4,FALSE)","v":0},null,null,null,null,null,null,null,null,null,1]
[null,null,null,null,"Technicians",{"$f":"HLOOKUP($I$43,'CENTRAL ANALYSIS'!$B$64:$D$90,5,FALSE)","v":0},{"$f":"HLOOKUP($I$43,'CENTRAL ANALYSIS'!$B$64:$D$90,5,FALSE)","v":0},null,{"$f":"HLOOKUP($I$43,'CENTRAL ANALYSIS'!$F$64:$H$90,5,FALSE)","v":0},{"$f":"HLOOKUP($I$43,'CENTRAL ANALYSIS'!$F$64:$H$90,5,FALSE)","v":0},null,{"$f":"HLOOKUP($I$43,'CENTRAL ANALYSIS'!$J$64:$L$90,5,FALSE)","v":0},{"$f":"HLOOKUP($I$43,'CENTRAL ANALYSIS'!$J$64:$L$90,5,FALSE)","v":0},null,null,null,null,null,null,null,null,null,1]
[null,null,null,null,"Protective Service Workers",{"$f":"HLOOKUP($I$43,'CENTRAL ANALYSIS'!$B$64:$D$90,6,FALSE)","v":0},{"$f":"HLOOKUP($I$43,'CENTRAL ANALYSIS'!$B$64:$D$90,6,FALSE)","v":0},null,{"$f":"HLOOKUP($I$43,'CENTRAL ANALYSIS'!$F$64:$H$90,6,FALSE)","v":0},{"$f":"HLOOKUP($I$43,'CENTRAL ANALYSIS'!$F$64:$H$90,6,FALSE)","v":0},null,{"$f":"HLOOKUP($I$43,'CENTRAL ANALYSIS'!$J$64:$L$90,6,FALSE)","v":0},{"$f":"HLOOKUP($I$43,'CENTRAL ANALYSIS'!$J$64:$L$90,6,FALSE)","v":0},null,null,null,null,null,null,null,null,null,1]
[null,null,null,null,"Paraprofessionals",{"$f":"HLOOKUP($I$43,'CENTRAL ANALYSIS'!$B$64:$D$90,7,FALSE)","v":0},{"$f":"HLOOKUP($I$43,'CENTRAL ANALYSIS'!$B$64:$D$90,7,FALSE)","v":0},null,{"$f":"HLOOKUP($I$43,'CENTRAL ANALYSIS'!$F$64:$H$90,7,FALSE)","v":0},{"$f":"HLOOKUP($I$43,'CENTRAL ANALYSIS'!$F$64:$H$90,7,FALSE)","v":0},null,{"$f":"HLOOKUP($I$43,'CENTRAL ANALYSIS'!$J$64:$L$90,7,FALSE)","v":0},{"$f":"HLOOKUP($I$43,'CENTRAL ANALYSIS'!$J$64:$L$90,7,FALSE)","v":0},null,null,null,null,null,null,null,null,null,1]
[null,null,null,null,"Administrative Support",{"$f":"HLOOKUP($I$43,'CENTRAL ANALYSIS'!$B$64:$D$90,8,FALSE)","v":0},{"$f":"HLOOKUP($I$43,'CENTRAL ANALYSIS'!$B$64:$D$90,8,FALSE)","v":0},null,{"$f":"HLOOKUP($I$43,'CENTRAL ANALYSIS'!$F$64:$H$90,8,FALSE)","v":0},{"$f":"HLOOKUP($I$43,'CENTRAL ANALYSIS'!$F$64:$H$90,8,FALSE)","v":0},null,{"$f":"HLOOKUP($I$43,'CENTRAL ANALYSIS'!$J$64:$L$90,8,FALSE)","v":0},{"$f":"HLOOKUP($I$43,'CENTRAL ANALYSIS'!$J$64:$L$90,8,FALSE)","v":0},null,null,null,null,null,null,null,null,null,1]
[null,null,null,null,"Skilled Craft Workers",{"$f":"HLOOKUP($I$43,'CENTRAL ANALYSIS'!$B$64:$D$90,9,FALSE)","v":0},{"$f":"HLOOKUP($I$43,'CENTRAL ANALYSIS'!$B$64:$D$90,9,FALSE)","v":0},null,{"$f":"HLOOKUP($I$43,'CENTRAL ANALYSIS'!$F$64:$H$90,9,FALSE)","v":0},{"$f":"HLOOKUP($I$43,'CENTRAL ANALYSIS'!$F$64:$H$90,9,FALSE)","v":0},null,{"$f":"HLOOKUP($I$43,'CENTRAL ANALYSIS'!$J$64:$L$90,9,FALSE)","v":0},{"$f":"HLOOKUP($I$43,'CENTRAL ANALYSIS'!$J$64:$L$90,9,FALSE)","v":0},null,null,null,null,null,null,null,null,null,1]
[null,null,null,null,"Service/Maintenance",{"$f":"HLOOKUP($I$43,'CENTRAL ANALYSIS'!$B$64:$D$90,10,FALSE)","v":0},{"$f":"HLOOKUP($I$43,'CENTRAL ANALYSIS'!$B$64:$D$90,10,FALSE)","v":0},null,{"$f":"HLOOKUP($I$43,'CENTRAL ANALYSIS'!$F$64:$H$90,10,FALSE)","v":0},{"$f":"HLOOKUP($I$43,'CENTRAL ANALYSIS'!$F$64:$H$90,10,FALSE)","v":0},null,{"$f":"HLOOKUP($I$43,'CENTRAL ANALYSIS'!$J$64:$L$90,10,FALSE)","v":0},{"$f":"HLOOKUP($I$43,'CENTRAL ANALYSIS'!$J$64:$L$90,10,FALSE)","v":0},null,null,null,null,null,null,null,null,null,1]
[null,null,null,null,"Faculty",{"$f":"HLOOKUP($I$43,'CENTRAL ANALYSIS'!$B$64:$D$90,11,FALSE)","v":0},{"$f":"HLOOKUP($I$43,'CENTRAL ANALYSIS'!$B$64:$D$90,11,FALSE)","v":0},null,{"$f":"HLOOKUP($I$43,'CENTRAL ANALYSIS'!$F$64:$H$90,11,FALSE)","v":0},{"$f":"HLOOKUP($I$43,'CENTRAL ANALYSIS'!$F$64:$H$90,11,FALSE)","v":0},null,{"$f":"HLOOKUP($I$43,'CENTRAL ANALYSIS'!$J$64:$L$90,11,FALSE)","v":0},{"$f":"HLOOKUP($I$43,'CENTRAL ANALYSIS'!$J$64:$L$90,11,FALSE)","v":0},null,null,null,null,null,null,null,null,null,1]
[null,null,null,null,"Other",{"$f":"HLOOKUP($I$43,'CENTRAL ANALYSIS'!$B$64:$D$90,12,FALSE)","v":0},{"$f":"HLOOKUP($I$43,'CENTRAL ANALYSIS'!$B$64:$D$90,12,FALSE)","v":0},null,{"$f":"HLOOKUP($I$43,'CENTRAL ANALYSIS'!$F$64:$H$90,12,FALSE)","v":0},{"$f":"HLOOKUP($I$43,'CENTRAL ANALYSIS'!$F$64:$H$90,12,FALSE)","v":0},null,{"$f":"HLOOKUP($I$43,'CENTRAL ANALYSIS'!$J$64:$L$90,12,FALSE)","v":0},{"$f":"HLOOKUP($I$43,'CENTRAL ANALYSIS'!$J$64:$L$90,12,FALSE)","v":0},null,null,null,null,null,null,null,null,null,1]
[null,null,null,null,null,null,null,null,null,null,null,null,null,null,null,null,null,null,null,null,null,null,1]
[null,null,null,null,{"$f":"CUSTOMIZATIONS!C28","v":0},{"$f":"HLOOKUP($I$43,'CENTRAL ANALYSIS'!$B$64:$D$90,13,FALSE)","v":0},{"$f":"HLOOKUP($I$43,'CENTRAL ANALYSIS'!$B$64:$D$90,13,FALSE)","v":0},null,{"$f":"HLOOKUP($I$43,'CENTRAL ANALYSIS'!$F$64:$H$90,13,FALSE)","v":0},{"$f":"HLOOKUP($I$43,'CENTRAL ANALYSIS'!$F$64:$H$90,13,FALSE)","v":0},null,{"$f":"HLOOKUP($I$43,'CENTRAL ANALYSIS'!$J$64:$L$90,13,FALSE)","v":0},{"$f":"HLOOKUP($I$43,'CENTRAL ANALYSIS'!$J$64:$L$90,13,FALSE)","v":0},null,null,null,null,null,null,null,null,null,{"$f":"IF(E64<>0,1,0)","v":0}]
[null,null,null,null,{"$f":"CUSTOMIZATIONS!C29","v":0},{"$f":"HLOOKUP($I$43,'CENTRAL ANALYSIS'!$B$64:$D$90,14,FALSE)","v":0},{"$f":"HLOOKUP($I$43,'CENTRAL ANALYSIS'!$B$64:$D$90,14,FALSE)","v":0},null,{"$f":"HLOOKUP($I$43,'CENTRAL ANALYSIS'!$F$64:$H$90,14,FALSE)","v":0},{"$f":"HLOOKUP($I$43,'CENTRAL ANALYSIS'!$F$64:$H$90,14,FALSE)","v":0},null,{"$f":"HLOOKUP($I$43,'CENTRAL ANALYSIS'!$J$64:$L$90,14,FALSE)","v":0},{"$f":"HLOOKUP($I$43,'CENTRAL ANALYSIS'!$J$64:$L$90,14,FALSE)","v":0},null,null,null,null,null,null,null,null,null,{"$f":"IF(E65<>0,1,0)","v":0}]
[null,null,null,null,{"$f":"CUSTOMIZATIONS!C30","v":""},{"$f":"HLOOKUP($I$43,'CENTRAL ANALYSIS'!$B$64:$D$90,15,FALSE)","v":0},{"$f":"HLOOKUP($I$43,'CENTRAL ANALYSIS'!$B$64:$D$90,15,FALSE)","v":0},null,{"$f":"HLOOKUP($I$43,'CENTRAL ANALYSIS'!$F$64:$H$90,15,FALSE)","v":0},{"$f":"HLOOKUP($I$43,'CENTRAL ANALYSIS'!$F$64:$H$90,15,FALSE)","v":0},null,{"$f":"HLOOKUP($I$43,'CENTRAL ANALYSIS'!$J$64:$L$90,15,FALSE)","v":0},{"$f":"HLOOKUP($I$43,'CENTRAL ANALYSIS'!$J$64:$L$90,15,FALSE)","v":0},null,null,null,null,null,null,null,null,null,1]
[null,null,null,null,{"$f":"CUSTOMIZATIONS!C31","v":""},{"$f":"HLOOKUP($I$43,'CENTRAL ANALYSIS'!$B$64:$D$90,16,FALSE)","v":0},{"$f":"HLOOKUP($I$43,'CENTRAL ANALYSIS'!$B$64:$D$90,16,FALSE)","v":0},null,{"$f":"HLOOKUP($I$43,'CENTRAL ANALYSIS'!$F$64:$H$90,16,FALSE)","v":0},{"$f":"HLOOKUP($I$43,'CENTRAL ANALYSIS'!$F$64:$H$90,16,FALSE)","v":0},null,{"$f":"HLOOKUP($I$43,'CENTRAL ANALYSIS'!$J$64:$L$90,16,FALSE)","v":0},{"$f":"HLOOKUP($I$43,'CENTRAL ANALYSIS'!$J$64:$L$90,16,FALSE)","v":0},null,null,null,null,null,null,null,null,null,1]
[null,null,null,null,{"$f":"CUSTOMIZATIONS!C32","v":""},{"$f":"HLOOKUP($I$43,'CENTRAL ANALYSIS'!$B$64:$D$90,17,FALSE)","v":0},{"$f":"HLOOKUP($I$43,'CENTRAL ANALYSIS'!$B$64:$D$90,17,FALSE)","v":0},null,{"$f":"HLOOKUP($I$43,'CENTRAL ANALYSIS'!$F$64:$H$90,17,FALSE)","v":0},{"$f":"HLOOKUP($I$43,'CENTRAL ANALYSIS'!$F$64:$H$90,17,FALSE)","v":0},null,{"$f":"HLOOKUP($I$43,'CENTRAL ANALYSIS'!$J$64:$L$90,17,FALSE)","v":0},{"$f":"HLOOKUP($I$43,'CENTRAL ANALYSIS'!$J$64:$L$90,17,FALSE)","v":0},null,null,null,null,null,null,null,null,null,1]
[null,null,null,null,{"$f":"CUSTOMIZATIONS!C33","v":""},{"$f":"HLOOKUP($I$43,'CENTRAL ANALYSIS'!$B$64:$D$90,18,FALSE)","v":0},{"$f":"HLOOKUP($I$43,'CENTRAL ANALYSIS'!$B$64:$D$90,18,FALSE)","v":0},null,{"$f":"HLOOKUP($I$43,'CENTRAL ANALYSIS'!$F$64:$H$90,18,FALSE)","v":0},{"$f":"HLOOKUP($I$43,'CENTRAL ANALYSIS'!$F$64:$H$90,18,FALSE)","v":0},null,{"$f":"HLOOKUP($I$43,'CENTRAL ANALYSIS'!$J$64:$L$90,18,FALSE)","v":0},{"$f":"HLOOKUP($I$43,'CENTRAL ANALYSIS'!$J$64:$L$90,18,FALSE)","v":0},null,null,null,null,null,null,null,null,null,1]
[null,null,null,null,{"$f":"CUSTOMIZATIONS!C34","v":""},{"$f":"HLOOKUP($I$43,'CENTRAL ANALYSIS'!$B$64:$D$90,19,FALSE)","v":0},{"$f":"HLOOKUP($I$43,'CENTRAL ANALYSIS'!$B$64:$D$90,19,FALSE)","v":0},null,{"$f":"HLOOKUP($I$43,'CENTRAL ANALYSIS'!$F$64:$H$90,19,FALSE)","v":0},{"$f":"HLOOKUP($I$43,'CENTRAL ANALYSIS'!$F$64:$H$90,19,FALSE)","v":0},null,{"$f":"HLOOKUP($I$43,'CENTRAL ANALYSIS'!$J$64:$L$90,19,FALSE)","v":0},{"$f":"HLOOKUP($I$43,'CENTRAL ANALYSIS'!$J$64:$L$90,19,FALSE)","v":0},null,null,null,null,null,null,null,null,null,1]
[null,null,null,null,{"$f":"CUSTOMIZATIONS!C35","v":""},{"$f":"HLOOKUP($I$43,'CENTRAL ANALYSIS'!$B$64:$D$90,20,FALSE)","v":0},{"$f":"HLOOKUP($I$43,'CENTRAL ANALYSIS'!$B$64:$D$90,20,FALSE)","v":0},null,{"$f":"HLOOKUP($I$43,'CENTRAL ANALYSIS'!$F$64:$H$90,20,FALSE)","v":0},{"$f":"HLOOKUP($I$43,'CENTRAL ANALYSIS'!$F$64:$H$90,20,FALSE)","v":0},null,{"$f":"HLOOKUP($I$43,'CENTRAL ANALYSIS'!$J$64:$L$90,20,FALSE)","v":0},{"$f":"HLOOKUP($I$43,'CENTRAL ANALYSIS'!$J$64:$L$90,20,FALSE)","v":0},null,null,null,null,null,null,null,null,null,1]
[null,null,null,null,{"$f":"CUSTOMIZATIONS!C36","v":""},{"$f":"HLOOKUP($I$43,'CENTRAL ANALYSIS'!$B$64:$D$90,21,FALSE)","v":0},{"$f":"HLOOKUP($I$43,'CENTRAL ANALYSIS'!$B$64:$D$90,21,FALSE)","v":0},null,{"$f":"HLOOKUP($I$43,'CENTRAL ANALYSIS'!$F$64:$H$90,21,FALSE)","v":0},{"$f":"HLOOKUP($I$43,'CENTRAL ANALYSIS'!$F$64:$H$90,21,FALSE)","v":0},null,{"$f":"HLOOKUP($I$43,'CENTRAL ANALYSIS'!$J$64:$L$90,21,FALSE)","v":0},{"$f":"HLOOKUP($I$43,'CENTRAL ANALYSIS'!$J$64:$L$90,21,FALSE)","v":0},null,null,null,null,null,null,null,null,null,1]
[null,null,null,null,{"$f":"CUSTOMIZATIONS!C37","v":""},{"$f":"HLOOKUP($I$43,'CENTRAL ANALYSIS'!$B$64:$D$90,22,FALSE)","v":0},{"$f":"HLOOKUP($I$43,'CENTRAL ANALYSIS'!$B$64:$D$90,22,FALSE)","v":0},null,{"$f":"HLOOKUP($I$43,'CENTRAL ANALYSIS'!$F$64:$H$90,22,FALSE)","v":0},{"$f":"HLOOKUP($I$43,'CENTRAL ANALYSIS'!$F$64:$H$90,22,FALSE)","v":0},null,{"$f":"HLOOKUP($I$43,'CENTRAL ANALYSIS'!$J$64:$L$90,22,FALSE)","v":0},{"$f":"HLOOKUP($I$43,'CENTRAL ANALYSIS'!$J$64:$L$90,22,FALSE)","v":0},null,null,null,null,null,null,null,null,null,1]
[null,null,null,null,{"$f":"CUSTOMIZATIONS!C38","v":""},{"$f":"HLOOKUP($I$43,'CENTRAL ANALYSIS'!$B$64:$D$90,23,FALSE)","v":0},{"$f":"HLOOKUP($I$43,'CENTRAL ANALYSIS'!$B$64:$D$90,23,FALSE)","v":0},null,{"$f":"HLOOKUP($I$43,'CENTRAL ANALYSIS'!$F$64:$H$90,23,FALSE)","v":0},{"$f":"HLOOKUP($I$43,'CENTRAL ANALYSIS'!$F$64:$H$90,23,FALSE)","v":0},null,{"$f":"HLOOKUP($I$43,'CENTRAL ANALYSIS'!$J$64:$L$90,23,FALSE)","v":0},{"$f":"HLOOKUP($I$43,'CENTRAL ANALYSIS'!$J$64:$L$90,23,FALSE)","v":0},null,null,null,null,null,null,null,null,null,1]
[null,null,null,null,{"$f":"CUSTOMIZATIONS!C39","v":""},{"$f":"HLOOKUP($I$43,'CENTRAL ANALYSIS'!$B$64:$D$90,24,FALSE)","v":0},{"$f":"HLOOKUP($I$43,'CENTRAL ANALYSIS'!$B$64:$D$90,24,FALSE)","v":0},null,{"$f":"HLOOKUP($I$43,'CENTRAL ANALYSIS'!$F$64:$H$90,24,FALSE)","v":0},{"$f":"HLOOKUP($I$43,'CENTRAL ANALYSIS'!$F$64:$H$90,24,FALSE)","v":0},null,{"$f":"HLOOKUP($I$43,'CENTRAL ANALYSIS'!$J$64:$L$90,24,FALSE)","v":0},{"$f":"HLOOKUP($I$43,'CENTRAL ANALYSIS'!$J$64:$L$90,24,FALSE)","v":0},null,null,null,null,null,null,null,null,null,1]
[null,null,null,null,{"$f":"CUSTOMIZATIONS!C40","v":""},{"$f":"HLOOKUP($I$43,'CENTRAL ANALYSIS'!$B$64:$D$90,25,FALSE)","v":0},{"$f":"HLOOKUP($I$43,'CENTRAL ANALYSIS'!$B$64:$D$90,25,FALSE)","v":0},null,{"$f":"HLOOKUP($I$43,'CENTRAL ANALYSIS'!$F$64:$H$90,25,FALSE)","v":0},{"$f":"HLOOKUP($I$43,'CENTRAL ANALYSIS'!$F$64:$H$90,25,FALSE)","v":0},null,{"$f":"HLOOKUP($I$43,'CENTRAL ANALYSIS'!$J$64:$L$90,25,FALSE)","v":0},{"$f":"HLOOKUP($I$43,'CENTRAL ANALYSIS'!$J$64:$L$90,25,FALSE)","v":0},null,null,null,null,null,null,null,null,null,1]
[null,null,null,null,{"$f":"CUSTOMIZATIONS!C41","v":""},{"$f":"HLOOKUP($I$43,'CENTRAL ANALYSIS'!$B$64:$D$90,26,FALSE)","v":0},{"$f":"HLOOKUP($I$43,'CENTRAL ANALYSIS'!$B$64:$D$90,26,FALSE)","v":0},null,{"$f":"HLOOKUP($I$43,'CENTRAL ANALYSIS'!$F$64:$H$90,26,FALSE)","v":0},{"$f":"HLOOKUP($I$43,'CENTRAL ANALYSIS'!$F$64:$H$90,26,FALSE)","v":0},null,{"$f":"HLOOKUP($I$43,'CENTRAL ANALYSIS'!$J$64:$L$90,26,FALSE)","v":0},{"$f":"HLOOKUP($I$43,'CENTRAL ANALYSIS'!$J$64:$L$90,26,FALSE)","v":0},null,null,null,null,null,null,null,null,null,1]
[null,null,null,null,{"$f":"CUSTOMIZATIONS!C42","v":""},{"$f":"HLOOKUP($I$43,'CENTRAL ANALYSIS'!$B$64:$D$90,27,FALSE)","v":0},{"$f":"HLOOKUP($I$43,'CENTRAL ANALYSIS'!$B$64:$D$90,27,FALSE)","v":0},null,{"$f":"HLOOKUP($I$43,'CENTRAL ANALYSIS'!$F$64:$H$90,27,FALSE)","v":0},{"$f":"HLOOKUP($I$43,'CENTRAL ANALYSIS'!$F$64:$H$90,27,FALSE)","v":0},null,{"$f":"HLOOKUP($I$43,'CENTRAL ANALYSIS'!$J$64:$L$90,27,FALSE)","v":0},{"$f":"HLOOKUP($I$43,'CENTRAL ANALYSIS'!$J$64:$L$90,27,FALSE)","v":0},null,null,null,null,null,null,null,null,null,1]
[null,null,null,null,null,null,null,null,null,null,null,null,null,null,null,null,null,null,null,null,null,null,1]
[null,null,"AGENCY EMPLOYEES (WORKFORCE DEMOGRAPHICS)",null,null,null,null,null,null,null,null,null,null,null,null,null,null,null,null,null,null,null,1]
[null,null,null,null,null,null,null,null,null,null,null,null,null,null,null,null,null,null,null,null,null,null,1]
[null,null,null,null,null,null,null,null,null,null,null,null,null,null,null,null,null,null,null,null,null,null,1]
[null,null,{"$f":"HLOOKUP($I$43,'CENTRAL ANALYSIS'!$B$221:$D$222,2,FALSE)","v":0},null,"TOTAL \nEMPLOYEES",null,{"$f":"HLOOKUP($I$43,'CENTRAL ANALYSIS'!$J$221:$L$222,2,FALSE)","v":0},null,"TOTAL LEADERS",null,{"$f":"HLOOKUP($I$43,'CENTRAL ANALYSIS'!$R$221:$T$222,2,FALSE)","v":0},null,"TOTAL\nEXECUTIVES",null,null,null,null,null,null,null,null,null,1]
[null,null,null,null,null,null,null,null,null,null,null,null,null,null,null,null,null,null,null,null,null,null,1]
[null,null,null,null,null,null,null,null,null,null,null,null,null,null,null,null,null,null,null,null,null,null,1]
[null,null,null,null,null,"All Employees",null,null,"Leader Employees",null,null,"Executive Employees",null,null,null,null,null,null,null,null,null,null,1]
[null,null,null,null,null,null,null,null,null,null,null,null,null,null,null,null,null,null,null,null,null,null,1]
[null,null,null,null,null,null,null,null,null,null,null,null,null,null,null,null,null,null,null,null,null,null,1]
[null,null,null,null,null,null,null,null,null,null,null,null,null,null,null,null,null,null,null,null,null,null,1]
[null,null,null,null,null,null,null,null,null,null,null,null,null,null,null,null,null,null,null,null,null,null,1]
[null,null,null,null,null,null,null,null,null,null,null,null,null,null,null,null,null,null,null,null,null,null,1]
[null,null,null,null,null,null,null,null,null,null,null,null,null,null,null,null,null,null,null,null,null,null,1]
[null,null,null,null,null,null,null,null,null,null,null,null,null,null,null,null,null,null,null,null,null,null,1]
[null,null,null,null,"American Indian/Alaskan Native",{"$f":"HLOOKUP($I$43,'CENTRAL ANALYSIS'!$B$226:$D$234,2,FALSE)","v":0},{"$f":"HLOOKUP($I$43,'CENTRAL ANALYSIS'!$B$226:$D$234,2,FALSE)","v":0},null,{"$f":"HLOOKUP($I$43,'CENTRAL ANALYSIS'!$J$226:$L$234,2,FALSE)","v":0},{"$f":"HLOOKUP($I$43,'CENTRAL ANALYSIS'!$J$226:$L$234,2,FALSE)","v":0},null,{"$f":"HLOOKUP($I$43,'CENTRAL ANALYSIS'!$R$226:$T$234,2,FALSE)","v":0},{"$f":"HLOOKUP($I$43,'CENTRAL ANALYSIS'!$R$226:$T$234,2,FALSE)","v":0},null,null,null,null,null,null,null,null,null,1]
[null,null,null,null,"Asian",{"$f":"HLOOKUP($I$43,'CENTRAL ANALYSIS'!$B$226:$D$234,3,FALSE)","v":0},{"$f":"HLOOKUP($I$43,'CENTRAL ANALYSIS'!$B$226:$D$234,3,FALSE)","v":0},null,{"$f":"HLOOKUP($I$43,'CENTRAL ANALYSIS'!$J$226:$L$234,3,FALSE)","v":0},{"$f":"HLOOKUP($I$43,'CENTRAL ANALYSIS'!$J$226:$L$234,3,FALSE)","v":0},null,{"$f":"HLOOKUP($I$43,'CENTRAL ANALYSIS'!$R$226:$T$234,3,FALSE)","v":0},{"$f":"HLOOKUP($I$43,'CENTRAL ANALYSIS'!$R$226:$T$234,3,FALSE)","v":0},null,null,null,null,null,null,null,null,null,1]
[null,null,null,null,"Black or African American",{"$f":"HLOOKUP($I$43,'CENTRAL ANALYSIS'!$B$226:$D$234,4,FALSE)","v":0},{"$f":"HLOOKUP($I$43,'CENTRAL ANALYSIS'!$B$226:$D$234,4,FALSE)","v":0},null,{"$f":"HLOOKUP($I$43,'CENTRAL ANALYSIS'!$J$226:$L$234,4,FALSE)","v":0},{"$f":"HLOOKUP($I$43,'CENTRAL ANALYSIS'!$J$226:$L$234,4,FALSE)","v":0},null,{"$f":"HLOOKUP($I$43,'CENTRAL ANALYSIS'!$R$226:$T$234,4,FALSE)","v":0},{"$f":"HLOOKUP($I$43,'CENTRAL ANALYSIS'!$R$226:$T$234,4,FALSE)","v":0},null,null,null,null,null,null,null,null,null,1]
[null,null,null,null,"Hispanic or Latino",{"$f":"HLOOKUP($I$43,'CENTRAL ANALYSIS'!$B$226:$D$234,5,FALSE)","v":0},{"$f":"HLOOKUP($I$43,'CENTRAL ANALYSIS'!$B$226:$D$234,5,FALSE)","v":0},null,{"$f":"HLOOKUP($I$43,'CENTRAL ANALYSIS'!$J$226:$L$234,5,FALSE)","v":0},{"$f":"HLOOKUP($I$43,'CENTRAL ANALYSIS'!$J$226:$L$234,5,FALSE)","v":0},null,{"$f":"HLOOKUP($I$43,'CENTRAL ANALYSIS'!$R$226:$T$234,5,FALSE)","v":0},{"$f":"HLOOKUP($I$43,'CENTRAL ANALYSIS'!$R$226:$T$234,5,FALSE)","v":0},null,null,null,null,null,null,null,null,null,1]
[null,null,null,null,"Native Hawaiian/Other Pac. Islander",{"$f":"HLOOKUP($I$43,'CENTRAL ANALYSIS'!$B$226:$D$234,6,FALSE)","v":0},{"$f":"HLOOKUP($I$43,'CENTRAL ANALYSIS'!$B$226:$D$234,6,FALSE)","v":0},null,{"$f":"HLOOKUP($I$43,'CENTRAL ANALYSIS'!$J$226:$L$234,6,FALSE)","v":0},{"$f":"HLOOKUP($I$43,'CENTRAL ANALYSIS'!$J$226:$L$234,6,FALSE)","v":0},null,{"$f":"HLOOKUP($I$43,'CENTRAL ANALYSIS'!$R$226:$T$234,6,FALSE)","v":0},{"$f":"HLOOKUP($I$43,'CENTRAL ANALYSIS'!$R$226:$T$234,6,FALSE)","v":0},null,null,null,null,null,null,null,null,null,1]
[null,null,null,null,"White",{"$f":"HLOOKUP($I$43,'CENTRAL ANALYSIS'!$B$226:$D$234,7,FALSE)","v":0},{"$f":"HLOOKUP($I$43,'CENTRAL ANALYSIS'!$B$226:$D$234,7,FALSE)","v":0},null,{"$f":"HLOOKUP($I$43,'CENTRAL ANALYSIS'!$J$226:$L$234,7,FALSE)","v":0},{"$f":"HLOOKUP($I$43,'CENTRAL ANALYSIS'!$J$226:$L$234,7,FALSE)","v":0},null,{"$f":"HLOOKUP($I$43,'CENTRAL ANALYSIS'!$R$226:$T$234,7,FALSE)","v":0},{"$f":"HLOOKUP($I$43,'CENTRAL ANALYSIS'!$R$226:$T$234,7,FALSE)","v":0},null,null,null,null,null,null,null,null,null,1]
[null,null,null,null,"Two or More Races",{"$f":"HLOOKUP($I$43,'CENTRAL ANALYSIS'!$B$226:$D$234,8,FALSE)","v":0},{"$f":"HLOOKUP($I$43,'CENTRAL ANALYSIS'!$B$226:$D$234,8,FALSE)","v":0},null,{"$f":"HLOOKUP($I$43,'CENTRAL ANALYSIS'!$J$226:$L$234,8,FALSE)","v":0},{"$f":"HLOOKUP($I$43,'CENTRAL ANALYSIS'!$J$226:$L$234,8,FALSE)","v":0},null,{"$f":"HLOOKUP($I$43,'CENTRAL ANALYSIS'!$R$226:$T$234,8,FALSE)","v":0},{"$f":"HLOOKUP($I$43,'CENTRAL ANALYSIS'!$R$226:$T$234,8,FALSE)","v":0},null,null,null,null,null,null,null,null,null,1]
[null,null,null,null,"Unknown or Not Entered",{"$f":"HLOOKUP($I$43,'CENTRAL ANALYSIS'!$B$226:$D$234,9,FALSE)","v":0},{"$f":"HLOOKUP($I$43,'CENTRAL ANALYSIS'!$B$226:$D$234,9,FALSE)","v":0},null,{"$f":"HLOOKUP($I$43,'CENTRAL ANALYSIS'!$J$226:$L$234,9,FALSE)","v":0},{"$f":"HLOOKUP($I$43,'CENTRAL ANALYSIS'!$J$226:$L$234,9,FALSE)","v":0},null,{"$f":"HLOOKUP($I$43,'CENTRAL ANALYSIS'!$R$226:$T$234,9,FALSE)","v":0},{"$f":"HLOOKUP($I$43,'CENTRAL ANALYSIS'!$R$226:$T$234,9,FALSE)","v":0},null,null,null,null,null,null,null,null,null,1]
[null,null,null,null,null,null,null,null,null,null,null,null,null,null,null,null,null,null,null,null,null,null,1]
[null,null,null,null,"Officials and Administrators",{"$f":"HLOOKUP($I$43,'CENTRAL ANALYSIS'!$B$236:$D$246,2,FALSE)","v":0},{"$f":"HLOOKUP($I$43,'CENTRAL ANALYSIS'!$B$236:$D$246,2,FALSE)","v":0},null,{"$f":"HLOOKUP($I$43,'CENTRAL ANALYSIS'!$J$236:$L$246,2,FALSE)","v":0},{"$f":"HLOOKUP($I$43,'CENTRAL ANALYSIS'!$J$236:$L$246,2,FALSE)","v":0},null,{"$f":"HLOOKUP($I$43,'CENTRAL ANALYSIS'!$R$236:$T$246,2,FALSE)","v":0},{"$f":"HLOOKUP($I$43,'CENTRAL ANALYSIS'!$R$236:$T$246,2,FALSE)","v":0},null,null,null,null,null,null,null,null,null,1]
[null,null,null,null,"Professionals",{"$f":"HLOOKUP($I$43,'CENTRAL ANALYSIS'!$B$236:$D$246,3,FALSE)","v":0},{"$f":"HLOOKUP($I$43,'CENTRAL ANALYSIS'!$B$236:$D$246,3,FALSE)","v":0},null,{"$f":"HLOOKUP($I$43,'CENTRAL ANALYSIS'!$J$236:$L$246,3,FALSE)","v":0},{"$f":"HLOOKUP($I$43,'CENTRAL ANALYSIS'!$J$236:$L$246,3,FALSE)","v":0},null,{"$f":"HLOOKUP($I$43,'CENTRAL ANALYSIS'!$R$236:$T$246,3,FALSE)","v":0},{"$f":"HLOOKUP($I$43,'CENTRAL ANALYSIS'!$R$236:$T$246,3,FALSE)","v":0},null,null,null,null,null,null,null,null,null,1]
[null,null,null,null,"Technicians",{"$f":"HLOOKUP($I$43,'CENTRAL ANALYSIS'!$B$236:$D$246,4,FALSE)","v":0},{"$f":"HLOOKUP($I$43,'CENTRAL ANALYSIS'!$B$236:$D$246,4,FALSE)","v":0},null,{"$f":"HLOOKUP($I$43,'CENTRAL ANALYSIS'!$J$236:$L$246,4,FALSE)","v":0},{"$f":"HLOOKUP($I$43,'CENTRAL ANALYSIS'!$J$236:$L$246,4,FALSE)","v":0},null,{"$f":"HLOOKUP($I$43,'CENTRAL ANALYSIS'!$R$236:$T$246,4,FALSE)","v":0},{"$f":"HLOOKUP($I$43,'CENTRAL ANALYSIS'!$R$236:$T$246,4,FALSE)","v":0},null,null,null,null,null,null,null,null,null,1]
[null,null,null,null,"Protective Service Workers",{"$f":"HLOOKUP($I$43,'CENTRAL ANALYSIS'!$B$236:$D$246,5,FALSE)","v":0},{"$f":"HLOOKUP($I$43,'CENTRAL ANALYSIS'!$B$236:$D$246,5,FALSE)","v":0},null,{"$f":"HLOOKUP($I$43,'CENTRAL ANALYSIS'!$J$236:$L$246,5,FALSE)","v":0},{"$f":"HLOOKUP($I$43,'CENTRAL ANALYSIS'!$J$236:$L$246,5,FALSE)","v":0},null,{"$f":"HLOOKUP($I$43,'CENTRAL ANALYSIS'!$R$236:$T$246,5,FALSE)","v":0},{"$f":"HLOOKUP($I$43,'CENTRAL ANALYSIS'!$R$236:$T$246,5,FALSE)","v":0},null,null,null,null,null,null,null,null,null,1]
[null,null,null,null,"Paraprofessionals",{"$f":"HLOOKUP($I$43,'CENTRAL ANALYSIS'!$B$236:$D$246,6,FALSE)","v":0},{"$f":"HLOOKUP($I$43,'CENTRAL ANALYSIS'!$B$236:$D$246,6,FALSE)","v":0},null,{"$f":"HLOOKUP($I$43,'CENTRAL ANALYSIS'!$J$236:$L$246,6,FALSE)","v":0},{"$f":"HLOOKUP($I$43,'CENTRAL ANALYSIS'!$J$236:$L$246,6,FALSE)","v":0},null,{"$f":"HLOOKUP($I$43,'CENTRAL ANALYSIS'!$R$236:$T$246,6,FALSE)","v":0},{"$f":"HLOOKUP($I$43,'CENTRAL ANALYSIS'!$R$236:$T$246,6,FALSE)","v":0},null,null,null,null,null,null,null,null,null,1]
[null,null,null,null,"Administrative Support",{"$f":"HLOOKUP($I$43,'CENTRAL ANALYSIS'!$B$236:$D$246,7,FALSE)","v":0},{"$f":"HLOOKUP($I$43,'CENTRAL ANALYSIS'!$B$236:$D$246,7,FALSE)","v":0},null,{"$f":"HLOOKUP($I$43,'CENTRAL ANALYSIS'!$J$236:$L$246,7,FALSE)","v":0},{"$f":"HLOOKUP($I$43,'CENTRAL ANALYSIS'!$J$236:$L$246,7,FALSE)","v":0},null,{"$f":"HLOOKUP($I$43,'CENTRAL ANALYSIS'!$R$236:$T$246,7,FALSE)","v":0},{"$f":"HLOOKUP($I$43,'CENTRAL ANALYSIS'!$R$236:$T$246,7,FALSE)","v":0},null,null,null,null,null,null,null,null,null,1]
[null,null,null,null,"Skilled Craft Workers",{"$f":"HLOOKUP($I$43,'CENTRAL ANALYSIS'!$B$236:$D$246,8,FALSE)","v":0},{"$f":"HLOOKUP($I$43,'CENTRAL ANALYSIS'!$B$236:$D$246,8,FALSE)","v":0},null,{"$f":"HLOOKUP($I$43,'CENTRAL ANALYSIS'!$J$236:$L$246,8,FALSE)","v":0},{"$f":"HLOOKUP($I$43,'CENTRAL ANALYSIS'!$J$236:$L$246,8,FALSE)","v":0},null,{"$f":"HLOOKUP($I$43,'CENTRAL ANALYSIS'!$R$236:$T$246,8,FALSE)","v":0},{"$f":"HLOOKUP($I$43,'CENTRAL ANALYSIS'!$R$236:$T$246,8,FALSE)","v":0},null,null,null,null,null,null,null,null,null,1]
[null,null,null,null,"Service/Maintenance",{"$f":"HLOOKUP($I$43,'CENTRAL ANALYSIS'!$B$236:$D$246,9,FALSE)","v":0},{"$f":"HLOOKUP($I$43,'CENTRAL ANALYSIS'!$B$236:$D$246,9,FALSE)","v":0},null,{"$f":"HLOOKUP($I$43,'CENTRAL ANALYSIS'!$J$236:$L$246,9,FALSE)","v":0},{"$f":"HLOOKUP($I$43,'CENTRAL ANALYSIS'!$J$236:$L$246,9,FALSE)","v":0},null,{"$f":"HLOOKUP($I$43,'CENTRAL ANALYSIS'!$R$236:$T$246,9,FALSE)","v":0},{"$f":"HLOOKUP($I$43,'CENTRAL ANALYSIS'!$R$236:$T$246,9,FALSE)","v":0},null,null,null,null,null,null,null,null,null,1]
[null,null,null,null,"Faculty",{"$f":"HLOOKUP($I$43,'CENTRAL ANALYSIS'!$B$236:$D$246,10,FALSE)","v":0},{"$f":"HLOOKUP($I$43,'CENTRAL ANALYSIS'!$B$236:$D$246,10,FALSE)","v":0},null,{"$f":"HLOOKUP($I$43,'CENTRAL ANALYSIS'!$J$236:$L$246,10,FALSE)","v":0},{"$f":"HLOOKUP($I$43,'CENTRAL ANALYSIS'!$J$236:$L$246,10,FALSE)","v":0},null,{"$f":"HLOOKUP($I$43,'CENTRAL ANALYSIS'!$R$236:$T$246,10,FALSE)","v":0},{"$f":"HLOOKUP($I$43,'CENTRAL ANALYSIS'!$R$236:$T$246,10,FALSE)","v":0},null,null,null,null,null,null,null,null,null,1]
[null,null,null,null,"Other",{"$f":"HLOOKUP($I$43,'CENTRAL ANALYSIS'!$B$236:$D$246,11,FALSE)","v":0},{"$f":"HLOOKUP($I$43,'CENTRAL ANALYSIS'!$B$236:$D$246,11,FALSE)","v":0},null,{"$f":"HLOOKUP($I$43,'CENTRAL ANALYSIS'!$J$236:$L$246,11,FALSE)","v":0},{"$f":"HLOOKUP($I$43,'CENTRAL ANALYSIS'!$J$236:$L$246,11,FALSE)","v":0},null,{"$f":"HLOOKUP($I$43,'CENTRAL ANALYSIS'!$R$236:$T$246,11,FALSE)","v":0},{"$f":"HLOOKUP($I$43,'CENTRAL ANALYSIS'!$R$236:$T$246,11,FALSE)","v":0},null,null,null,null,null,null,null,null,null,1]
[null,null,null,null,null,null,null,null,null,null,null,null,null,null,null,null,null,null,null,null,null,null,1]
[null,null,null,null,"Employees with Disabilities",{"$f":"HLOOKUP($I$43,'CENTRAL ANALYSIS'!$B$248:$D$250,2,FALSE)","v":0},{"$f":"HLOOKUP($I$43,'CENTRAL ANALYSIS'!$B$248:$D$250,2,FALSE)","v":0},null,{"$f":"HLOOKUP($I$43,'CENTRAL ANALYSIS'!$J$248:$L$250,2,FALSE)","v":0},{"$f":"HLOOKUP($I$43,'CENTRAL ANALYSIS'!$J$248:$L$250,2,FALSE)","v":0},null,{"$f":"HLOOKUP($I$43,'CENTRAL ANALYSIS'!$R$248:$T$250,2,FALSE)","v":0},{"$f":"HLOOKUP($I$43,'CENTRAL ANALYSIS'!$R$248:$T$250,2,FALSE)","v":0},null,null,null,null,null,null,null,null,null,1]
[null,null,null,null,"Veterans",{"$f":"HLOOKUP($I$43,'CENTRAL ANALYSIS'!$B$248:$D$250,3,FALSE)","v":0},{"$f":"HLOOKUP($I$43,'CENTRAL ANALYSIS'!$B$248:$D$250,3,FALSE)","v":0},null,{"$f":"HLOOKUP($I$43,'CENTRAL ANALYSIS'!$J$248:$L$250,3,FALSE)","v":0},{"$f":"HLOOKUP($I$43,'CENTRAL ANALYSIS'!$J$248:L$250,3,FALSE)","v":0},null,{"$f":"HLOOKUP($I$43,'CENTRAL ANALYSIS'!$T$248:$T$250,3,FALSE)","v":0},{"$f":"HLOOKUP($I$43,'CENTRAL ANALYSIS'!$R$248:$T$250,3,FALSE)","v":0},null,null,null,null,null,null,null,null,null,1]
[null,null,null,null,null,null,null,null,null,null,null,null,null,null,null,null,null,null,null,null,null,null,1]
[null,null,null,null,{"$f":"CUSTOMIZATIONS!C28","v":0},{"$f":"HLOOKUP($I$43,'CENTRAL ANALYSIS'!$B$253:$D$268,2,FALSE)","v":0},{"$f":"HLOOKUP($I$43,'CENTRAL ANALYSIS'!$B$253:$D$268,2,FALSE)","v":0},null,{"$f":"HLOOKUP($I$43,'CENTRAL ANALYSIS'!$J$253:$L$268,2,FALSE)","v":0},{"$f":"HLOOKUP($I$43,'CENTRAL ANALYSIS'!$J$253:$L$268,2,FALSE)","v":0},null,{"$f":"HLOOKUP($I$43,'CENTRAL ANALYSIS'!$R$253:$T$268,2,FALSE)","v":0},{"$f":"HLOOKUP($I$43,'CENTRAL ANALYSIS'!$R$253:$T$268,2,FALSE)","v":0},null,null,null,null,null,null,null,null,null,{"$f":"IF(E117<>0,1,0)","v":0}]
[null,null,null,null,{"$f":"CUSTOMIZATIONS!C29","v":0},{"$f":"HLOOKUP($I$43,'CENTRAL ANALYSIS'!$B$253:$D$268,3,FALSE)","v":0},{"$f":"HLOOKUP($I$43,'CENTRAL ANALYSIS'!$B$253:$D$268,3,FALSE)","v":0},null,{"$f":"HLOOKUP($I$43,'CENTRAL ANALYSIS'!$J$253:$L$268,3,FALSE)","v":0},{"$f":"HLOOKUP($I$43,'CENTRAL ANALYSIS'!$J$253:$L$268,3,FALSE)","v":0},null,{"$f":"HLOOKUP($I$43,'CENTRAL ANALYSIS'!$R$253:$T$268,3,FALSE)","v":0},{"$f":"HLOOKUP($I$43,'CENTRAL ANALYSIS'!$R$253:$T$268,3,FALSE)","v":0},null,null,null,null,null,null,null,null,null,{"$f":"IF(E118<>0,1,0)","v":0}]
[null,null,null,null,{"$f":"CUSTOMIZATIONS!C30","v":""},{"$f":"HLOOKUP($I$43,'CENTRAL ANALYSIS'!$B$253:$D$268,4,FALSE)","v":0},{"$f":"HLOOKUP($I$43,'CENTRAL ANALYSIS'!$B$253:$D$268,4,FALSE)","v":0},null,{"$f":"HLOOKUP($I$43,'CENTRAL ANALYSIS'!$J$253:$L$268,4,FALSE)","v":0},{"$f":"HLOOKUP($I$43,'CENTRAL ANALYSIS'!$J$253:$L$268,4,FALSE)","v":0},null,{"$f":"HLOOKUP($I$43,'CENTRAL ANALYSIS'!$R$253:$T$268,4,FALSE)","v":0},{"$f":"HLOOKUP($I$43,'CENTRAL ANALYSIS'!$R$253:$T$268,4,FALSE)","v":0},null,null,null,null,null,null,null,null,null,1]
[null,null,null,null,{"$f":"CUSTOMIZATIONS!C31","v":""},{"$f":"HLOOKUP($I$43,'CENTRAL ANALYSIS'!$B$253:$D$268,5,FALSE)","v":0},{"$f":"HLOOKUP($I$43,'CENTRAL ANALYSIS'!$B$253:$D$268,5,FALSE)","v":0},null,{"$f":"HLOOKUP($I$43,'CENTRAL ANALYSIS'!$J$253:$L$268,5,FALSE)","v":0},{"$f":"HLOOKUP($I$43,'CENTRAL ANALYSIS'!$J$253:$L$268,5,FALSE)","v":0},null,{"$f":"HLOOKUP($I$43,'CENTRAL ANALYSIS'!$R$253:$T$268,5,FALSE)","v":0},{"$f":"HLOOKUP($I$43,'CENTRAL ANALYSIS'!$R$253:$T$268,5,FALSE)","v":0},null,null,null,null,null,null,null,null,null,1]
[null,null,null,null,{"$f":"CUSTOMIZATIONS!C32","v":""},{"$f":"HLOOKUP($I$43,'CENTRAL ANALYSIS'!$B$253:$D$268,6,FALSE)","v":0},{"$f":"HLOOKUP($I$43,'CENTRAL ANALYSIS'!$B$253:$D$268,6,FALSE)","v":0},null,{"$f":"HLOOKUP($I$43,'CENTRAL ANALYSIS'!$J$253:$L$268,6,FALSE)","v":0},{"$f":"HLOOKUP($I$43,'CENTRAL ANALYSIS'!$J$253:$L$268,6,FALSE)","v":0},null,{"$f":"HLOOKUP($I$43,'CENTRAL ANALYSIS'!$R$253:$T$268,6,FALSE)","v":0},{"$f":"HLOOKUP($I$43,'CENTRAL ANALYSIS'!$R$253:$T$268,6,FALSE)","v":0},null,null,null,null,null,null,null,null,null,1]
[null,null,null,null,{"$f":"CUSTOMIZATIONS!C33","v":""},{"$f":"HLOOKUP($I$43,'CENTRAL ANALYSIS'!$B$253:$D$268,7,FALSE)","v":0},{"$f":"HLOOKUP($I$43,'CENTRAL ANALYSIS'!$B$253:$D$268,7,FALSE)","v":0},null,{"$f":"HLOOKUP($I$43,'CENTRAL ANALYSIS'!$J$253:$L$268,7,FALSE)","v":0},{"$f":"HLOOKUP($I$43,'CENTRAL ANALYSIS'!$J$253:$L$268,7,FALSE)","v":0},null,{"$f":"HLOOKUP($I$43,'CENTRAL ANALYSIS'!$R$253:$T$268,7,FALSE)","v":0},{"$f":"HLOOKUP($I$43,'CENTRAL ANALYSIS'!$R$253:$T$268,7,FALSE)","v":0},null,null,null,null,null,null,null,null,null,1]
[null,null,null,null,{"$f":"CUSTOMIZATIONS!C34","v":""},{"$f":"HLOOKUP($I$43,'CENTRAL ANALYSIS'!$B$253:$D$268,8,FALSE)","v":0},{"$f":"HLOOKUP($I$43,'CENTRAL ANALYSIS'!$B$253:$D$268,8,FALSE)","v":0},null,{"$f":"HLOOKUP($I$43,'CENTRAL ANALYSIS'!$J$253:$L$268,8,FALSE)","v":0},{"$f":"HLOOKUP($I$43,'CENTRAL ANALYSIS'!$J$253:$L$268,8,FALSE)","v":0},null,{"$f":"HLOOKUP($I$43,'CENTRAL ANALYSIS'!$R$253:$T$268,8,FALSE)","v":0},{"$f":"HLOOKUP($I$43,'CENTRAL ANALYSIS'!$R$253:$T$268,8,FALSE)","v":0},null,null,null,null,null,null,null,null,null,1]
[null,null,null,null,{"$f":"CUSTOMIZATIONS!C35","v":""},{"$f":"HLOOKUP($I$43,'CENTRAL ANALYSIS'!$B$253:$D$268,9,FALSE)","v":0},{"$f":"HLOOKUP($I$43,'CENTRAL ANALYSIS'!$B$253:$D$268,9,FALSE)","v":0},null,{"$f":"HLOOKUP($I$43,'CENTRAL ANALYSIS'!$J$253:$L$268,9,FALSE)","v":0},{"$f":"HLOOKUP($I$43,'CENTRAL ANALYSIS'!$J$253:$L$268,9,FALSE)","v":0},null,{"$f":"HLOOKUP($I$43,'CENTRAL ANALYSIS'!$R$253:$T$268,9,FALSE)","v":0},{"$f":"HLOOKUP($I$43,'CENTRAL ANALYSIS'!$R$253:$T$268,9,FALSE)","v":0},null,null,null,null,null,null,null,null,null,1]
[null,null,null,null,{"$f":"CUSTOMIZATIONS!C36","v":""},{"$f":"HLOOKUP($I$43,'CENTRAL ANALYSIS'!$B$253:$D$268,10,FALSE)","v":0},{"$f":"HLOOKUP($I$43,'CENTRAL ANALYSIS'!$B$253:$D$268,10,FALSE)","v":0},null,{"$f":"HLOOKUP($I$43,'CENTRAL ANALYSIS'!$J$253:$L$268,10,FALSE)","v":0},{"$f":"HLOOKUP($I$43,'CENTRAL ANALYSIS'!$J$253:$L$268,10,FALSE)","v":0},null,{"$f":"HLOOKUP($I$43,'CENTRAL ANALYSIS'!$R$253:$T$268,10,FALSE)","v":0},{"$f":"HLOOKUP($I$43,'CENTRAL ANALYSIS'!$R$253:$T$268,10,FALSE)","v":0},null,null,null,null,null,null,null,null,null,1]
[null,null,null,null,{"$f":"CUSTOMIZATIONS!C37","v":""},{"$f":"HLOOKUP($I$43,'CENTRAL ANALYSIS'!$B$253:$D$268,11,FALSE)","v":0},{"$f":"HLOOKUP($I$43,'CENTRAL ANALYSIS'!$B$253:$D$268,11,FALSE)","v":0},null,{"$f":"HLOOKUP($I$43,'CENTRAL ANALYSIS'!$J$253:$L$268,11,FALSE)","v":0},{"$f":"HLOOKUP($I$43,'CENTRAL ANALYSIS'!$J$253:$L$268,11,FALSE)","v":0},null,{"$f":"HLOOKUP($I$43,'CENTRAL ANALYSIS'!$R$253:$T$268,11,FALSE)","v":0},{"$f":"HLOOKUP($I$43,'CENTRAL ANALYSIS'!$R$253:$T$268,11,FALSE)","v":0},null,null,null,null,null,null,null,null,null,1]
[null,null,null,null,{"$f":"CUSTOMIZATIONS!C38","v":""},{"$f":"HLOOKUP($I$43,'CENTRAL ANALYSIS'!$B$253:$D$268,12,FALSE)","v":0},{"$f":"HLOOKUP($I$43,'CENTRAL ANALYSIS'!$B$253:$D$268,12,FALSE)","v":0},null,{"$f":"HLOOKUP($I$43,'CENTRAL ANALYSIS'!$J$253:$L$268,12,FALSE)","v":0},{"$f":"HLOOKUP($I$43,'CENTRAL ANALYSIS'!$J$253:$L$268,12,FALSE)","v":0},null,{"$f":"HLOOKUP($I$43,'CENTRAL ANALYSIS'!$R$253:$T$268,12,FALSE)","v":0},{"$f":"HLOOKUP($I$43,'CENTRAL ANALYSIS'!$R$253:$T$268,12,FALSE)","v":0},null,null,null,null,null,null,null,null,null,1]
[null,null,null,null,{"$f":"CUSTOMIZATIONS!C39","v":""},{"$f":"HLOOKUP($I$43,'CENTRAL ANALYSIS'!$B$253:$D$268,13,FALSE)","v":0},{"$f":"HLOOKUP($I$43,'CENTRAL ANALYSIS'!$B$253:$D$268,13,FALSE)","v":0},null,{"$f":"HLOOKUP($I$43,'CENTRAL ANALYSIS'!$J$253:$L$268,13,FALSE)","v":0},{"$f":"HLOOKUP($I$43,'CENTRAL ANALYSIS'!$J$253:$L$268,13,FALSE)","v":0},null,{"$f":"HLOOKUP($I$43,'CENTRAL ANALYSIS'!$R$253:$T$268,13,FALSE)","v":0},{"$f":"HLOOKUP($I$43,'CENTRAL ANALYSIS'!$R$253:$T$268,13,FALSE)","v":0},null,null,null,null,null,null,null,null,null,1]
[null,null,null,null,{"$f":"CUSTOMIZATIONS!C40","v":""},{"$f":"HLOOKUP($I$43,'CENTRAL ANALYSIS'!$B$253:$D$268,14,FALSE)","v":0},{"$f":"HLOOKUP($I$43,'CENTRAL ANALYSIS'!$B$253:$D$268,14,FALSE)","v":0},null,{"$f":"HLOOKUP($I$43,'CENTRAL ANALYSIS'!$J$253:$L$268,14,FALSE)","v":0},{"$f":"HLOOKUP($I$43,'CENTRAL ANALYSIS'!$J$253:$L$268,14,FALSE)","v":0},null,{"$f":"HLOOKUP($I$43,'CENTRAL ANALYSIS'!$R$253:$T$268,14,FALSE)","v":0},{"$f":"HLOOKUP($I$43,'CENTRAL ANALYSIS'!$R$253:$T$268,14,FALSE)","v":0},null,null,null,null,null,null,null,null,null,1]
[null,null,null,null,{"$f":"CUSTOMIZATIONS!C41","v":""},{"$f":"HLOOKUP($I$43,'CENTRAL ANALYSIS'!$B$253:$D$268,15,FALSE)","v":0},{"$f":"HLOOKUP($I$43,'CENTRAL ANALYSIS'!$B$253:$D$268,15,FALSE)","v":0},null,{"$f":"HLOOKUP($I$43,'CENTRAL ANALYSIS'!$J$253:$L$268,15,FALSE)","v":0},{"$f":"HLOOKUP($I$43,'CENTRAL ANALYSIS'!$J$253:$L$268,15,FALSE)","v":0},null,{"$f":"HLOOKUP($I$43,'CENTRAL ANALYSIS'!$R$253:$T$268,15,FALSE)","v":0},{"$f":"HLOOKUP($I$43,'CENTRAL ANALYSIS'!$R$253:$T$268,15,FALSE)","v":0},null,null,null,null,null,null,null,null,null,1]
[null,null,null,null,{"$f":"CUSTOMIZATIONS!C42","v":""},{"$f":"HLOOKUP($I$43,'CENTRAL ANALYSIS'!$B$253:$D$268,16,FALSE)","v":0},{"$f":"HLOOKUP($I$43,'CENTRAL ANALYSIS'!$B$253:$D$268,16,FALSE)","v":0},null,{"$f":"HLOOKUP($I$43,'CENTRAL ANALYSIS'!$J$253:$L$268,16,FALSE)","v":0},{"$f":"HLOOKUP($I$43,'CENTRAL ANALYSIS'!$J$253:$L$268,16,FALSE)","v":0},null,{"$f":"HLOOKUP($I$43,'CENTRAL ANALYSIS'!$R$253:$T$268,16,FALSE)","v":0},{"$f":"HLOOKUP($I$43,'CENTRAL ANALYSIS'!$R$253:$T$268,16,FALSE)","v":0},null,null,null,null,null,null,null,null,null,1]
[null,null,null,null,null,null,null,null,null,null,null,null,null,null,null,null,null,null,null,null,null,null,1]
[null,null,null,null,null,null,null,null,null,null,null,null,null,null,null,null,null,null,null,null,null,null,1]
[null,null,null,null,null,null,null,null,null,null,null,null,null,null,null,null,null,null,null,null,null,null,1]
[null,null,null,null,null,null,null,null,null,null,null,null,null,null,null,null,null,null,null,null,null,null,1]
[null,"(Optional) Step 2: Export the Workforce Insights to PDF",null,null,null,null,null,null,null,null,null,null,null,null,null,null,null,null,null,null,null,null,1]
[null,null,null,null,null,null,null,null,null,null,null,null,null,null,null,null,null,null,null,null,null,null,1]
[null,"INSTRUCTIONS: Click the blue button below to Export the Workforce Insights section to a PDF. The report will be exported to reflect today's date by default, but the date that appears on the report may be adjusted using the date box below. ",null,null,null,null,null,null,null,null,null,null,null,null,null,null,null,null,null,null,null,null,1]
[null,null,null,null,null,null,null,null,null,null,null,null,null,null,null,null,null,null,null,null,null,null,1]
[null,null,null,null,null,null,null,null,null,null,null,null,null,null,null,{"$f":"TODAY()","v":"2023-08-16"},{"$f":"TEXT(P140,\"mm/dd/yy\")","v":"08/16/23"},null,null,null,null,null,1]
[null,null,null,null,null,null,null,null,null,null,null,null,null,null,"Enter Date to be reflected on Summary (if different from Today): MM/DD/YY",null,{"$f":"TEXT(P141,\"MM/DD/YY\")","v":"01/00/00"},null,null,null,null,null,1]
[null,null,null,null,null,null,null,null,null,null,null,null,null,null,null,null,null,null,null,null,null,null,1]
[null,null,null,null,null,null,null,null,null,null,null,null,null,null,null,null,null,null,null,null,null,null,1]
[null,null,null,null,null,null,null,null,null,null,null,null,null,null,null,null,null,null,null,null,null,null,1]
[null,null,null,null,null,null,null,null,null,null,null,null,null,null,null,null,null,null,null,null,null,null,1]
[null,null,null,null,null,null,null,null,null,null,null,null,null,null,null,null,null,null,null,null,null,null,1]
[null,null,"(Optional) Step 2(a): Export the Summary to PDF if Not Using Macros",null,null,null,null,null,null,null,null,null,null,null,null,null,null,null,null,null,null,null,1]
[null,null,null,null,null,null,null,null,null,null,null,null,null,null,null,null,null,null,null,null,null,null,1]
[null,null,"If chosen not to use Macros, the workforce insights section can be exported to PDF by going to the file menu and print. Select \"Microsoft Print to PDF\" as the printer and click \"Print\". If the date of the summary should be changed, use the same procedures descripted in the Step 2.",null,null,null,null,null,null,null,null,null,null,null,null,null,null,null,null,null,null,null,1]
[null,null,null,null,null,null,null,null,null,null,null,null,null,null,null,null,null,null,null,null,null,null,1]
[null,null,null,null,null,null,null,null,null,null,null,null,null,null,null,null,null,null,null,null,null,null,1]
[null,null,null,null,null,null,null,null,null,null,null,null,null,null,null,null,null,null,null,null,null,null,1]
[null,null,null,null,null,null,null,null,null,null,null,null,null,null,null,null,null,null,null,null,null,null,1]
[null,null,null,null,null,null,null,null,null,null,null,null,null,null,null,null,null,null,null,null,null,null,0]

{"sheet":"CENTRAL DATA","index":8,"n_rows":146,"n_cols":27,"rows_kept":146,"cut":false,"hidden":true,"merged":[[5,1,7,18],[8,1,9,18]]}
[]
[]
[]
[]
[]
[null,"CENTRAL DATA"]
[]
[]
[null,"This tab serves as a central place for all data for drop down lists or look up formulas within the tool. "]
[]
[]
[]
[null,"Yes/NO",null,"And/Or",null,"Agency Names","Secretary","Agency Number",null,"Fiscal Year","Demographic",null,"Home Tab Pictures",null,null,"PMIS Transaction","Cardinal Transaction",null,"County Name",null,"Select/Not Selected",null,"Internal Tool Groups",null,"Internal Review Items",null,"Add/Replace"]
[null,"Yes/NO",null,"And/Or",null,"Assistive Technology Loan Fund Authority","Health and Human Resources",null,null,{"$f":"CONCATENATE(\"FY\",RIGHT('DHRM ADMIN'!$P$15,2)+0)","v":"FY23"},"ALL",null,"LOCKED",null,null,"Transaction Lists","Cardinal List",null,"Accomack",null,"Select/Not Selected",null,"Internal Tool Groups",null,"Internal Tool Groups",null,"Add/Replace"]
[null,"Yes",null,"And",null,"Blue Ridge Community College","Higher Education",291,null,{"$f":"IF('DHRM ADMIN'!$P$16>=1,CONCATENATE(\"FY\",RIGHT('DHRM ADMIN'!$P$15,2)-1),\"\")","v":"FY22"},"Non-Leader",null,"UNLOCKED",null,null,"Classified Promotion",null,null,"Albemarle",null,"Not Selected",null,"Sub-Agency",null,"Agency Mission",null,"Add"]
[null,"No",null,"Or",null,"Board of Accountancy","Finance",226,null,{"$f":"IF('DHRM ADMIN'!$P$16>=2,CONCATENATE(\"FY\",RIGHT('DHRM ADMIN'!$P$15,2)-2),\"\")","v":"FY21"},"Leader/Sup",null,null,null,null,"Competitive Voluntary Transfer",null,null,"Alexandria",null,"Selected",null,"Internal Department",null,"Strategy Objective 1",null,"Replace"]
[null,null,null,"End",null,"Center for Innovative Technology","Independent",null,null,{"$f":"IF('DHRM ADMIN'!$P$16>=3,CONCATENATE(\"FY\",RIGHT('DHRM ADMIN'!$P$15,2)-3),\"\")","v":""},"Executive",null,null,null,null,"Death",null,null,"Alleghany",null,null,null,"Internal Team",null,"Strategy Objective 2"]
[null,null,null,null,null,"Central Virginia Community College","Higher Education",292,null,{"$f":"IF('DHRM ADMIN'!$P$16>=4,CONCATENATE(\"FY\",RIGHT('DHRM ADMIN'!$P$15,2)-4),\"\")","v":""},null,null,null,null,null,"Demotion in Lieu of Layoff",null,null,"Amelia",null,null,null,null,null,"Strategy Objective 3"]
[null,null,null,null,null,"Christopher Newport University","Higher Education",242,null,{"$f":"IF('DHRM ADMIN'!$P$16>=5,CONCATENATE(\"FY\",RIGHT('DHRM ADMIN'!$P$15,2)-5),\"\")","v":""},null,null,null,null,null,"Disability Retirement",null,null,"Amherst",null,null,null,null,null,"Strategy Objective 4"]
[null,null,null,null,null,"Commonwealth's Attorneys' Services Council","Public Safety and Homeland Security",null,null,null,null,null,null,null,null,"Disciplinary Demotion",null,null,"Appomattox",null,null,null,null,null,"Strategy Objective 5"]
[null,null,null,null,null,"Compensation Board","Administration",157,null,null,null,null,null,null,null,"Disciplinary Lateral Transfer",null,null,"Arlington"]
[null,null,null,null,null,"Mountain Gateway Community College","Higher Education",287,null,null,null,null,null,null,null,"Enhanced Retirement",null,null,"Augusta"]
[null,null,null,null,null,"Danville Community College ","Higher Education",279,null,null,null,null,null,null,null,"Field Change: Classified/Faculty",null,null,"Bath"]
[null,null,null,null,null,"Department for the Blind and Vision Impaired","Health and Human Resources",702,null,null,null,null,null,null,null,"Lateral Transfer in Lieu of Layoff",null,null,"Bedford"]
[null,null,null,null,null,"Department for the Deaf and Hard of Hearing","Health and Human Resources",751,null,null,null,null,null,null,null,"Leave / Layoff / LTD",null,null,"Bland"]
[null,null,null,null,null,"Department of Accounts","Finance",151,null,null,null,null,null,null,null,"LTD / Separation",null,null,"Botetourt"]
[null,null,null,null,null,"Department for Aging and Rehabilitative Services","Health and Human Resources",262,null,null,null,null,null,null,null,"Military Leave without Pay",null,null,"Bristol"]
[null,null,null,null,null,"Department of Aviation","Transportation",841,null,null,null,null,null,null,null,"Non-Competitive Vol. Transfer",null,null,"Brunswick"]
[null,null,null,null,null,"Department of Behavioral Health and Developmental Services","Health and Human Resources",720,null,null,null,null,null,null,null,"Performance Demotion",null,null,"Buchanan"]
[null,null,null,null,null,"Department of Corrections","Public Safety and Homeland Security",701,null,null,null,null,null,null,null,"Reassignment Within Band",null,null,"Buckingham"]
[null,null,null,null,null,"Department of Criminal Justice Services","Public Safety and Homeland Security",140,null,null,null,null,null,null,null,"Resign (Various Categoroies)",null,null,"Buena Vista"]
[null,null,null,null,null,"Department of Education","Education",201,null,null,null,null,null,null,null,"Retirement in Lieu of Layoff",null,null,"Campbell"]
[null,null,null,null,null,"Department of Elections","Administration",132,null,null,null,null,null,null,null,"Service Retirement",null,null,"Caroline"]
[null,null,null,null,null,"Department of Emergency Management","Public Safety and Homeland Security",127,null,null,null,null,null,null,null,"Short Term Disability",null,null,"Carroll"]
[null,null,null,null,null,"Department of Energy","Commerce and Trade",409,null,null,null,null,null,null,null,"Transfer Out",null,null,"Charles City"]
[null,null,null,null,null,"Department of Environmental Quality","Natural Resources",440,null,null,null,null,null,null,null,"Transfer to Local",null,null,"Charlotte"]
[null,null,null,null,null,"Department of Forensic Science","Public Safety and Homeland Security",778,null,null,null,null,null,null,null,"Voluntary Demotion",null,null,"Charlottesville"]
[null,null,null,null,null,"Department of Forestry","Agriculture and Forestry",411,null,null,null,null,null,null,null,null,null,null,"Chesapeake"]
[null,null,null,null,null,"Department of General Services","Administration",194,null,null,null,null,null,null,null,null,null,null,"Chesterfield"]
[null,null,null,null,null,"Department of Health Professions","Health and Human Resources",223,null,null,null,null,null,null,null,null,null,null,"Clarke"]
[null,null,null,null,null,"Department of Historic Resources","Natural Resources",423,null,null,null,null,null,null,null,null,null,null,"Colonial Heights"]
[null,null,null,null,null,"Department of Housing & Community Development","Commerce and Trade",165,null,null,null,null,null,null,null,null,null,null,"Covington"]
[null,null,null,null,null,"Department of Human Resources Management","Administration",129,null,null,null,null,null,null,null,null,null,null,"Craig"]
[null,null,null,null,null,"Department of Juvenile Justice","Public Safety and Homeland Security",777,null,null,null,null,null,null,null,null,null,null,"Culpeper"]
[null,null,null,null,null,"Department of Labor and Industry","Commerce and Trade",181,null,null,null,null,null,null,null,null,null,null,"Cumberland"]
[null,null,null,null,null,"Department of Medical Assistance Services","Health and Human Resources",602,null,null,null,null,null,null,null,null,null,null,"Danville"]
[null,null,null,null,null,"Department of Military Affairs","Veterans and Defense Affairs",123,null,null,null,null,null,null,null,null,null,null,"Dickenson"]
[null,null,null,null,null,"Department of Motor Vehicles","Transportation",154,null,null,null,null,null,null,null,null,null,null,"Dinwiddie"]
[null,null,null,null,null,"Department of Planning and Budget","Administration",122,null,null,null,null,null,null,null,null,null,null,"Emporia"]
[null,null,null,null,null,"Department of Professional and Occupational Regulation","Commerce and Trade",222,null,null,null,null,null,null,null,null,null,null,"Essex"]
[null,null,null,null,null,"Department of Rail and Public Transportation","Transportation",505,null,null,null,null,null,null,null,null,null,null,"Fairfax"]
[null,null,null,null,null,"Department of Small Business and Supplier Diversity","Commerce and Trade",350,null,null,null,null,null,null,null,null,null,null,"Fairfax City"]
[null,null,null,null,null,"Department of Social Services","Health and Human Resources",765,null,null,null,null,null,null,null,null,null,null,"Falls Church"]
[null,null,null,null,null,"Department of State Police","Public Safety and Homeland Security",156,null,null,null,null,null,null,null,null,null,null,"Fauquier"]
[null,null,null,null,null,"Department of Taxation","Finance",161,null,null,null,null,null,null,null,null,null,null,"Floyd"]
[null,null,null,null,null,"Department of the Treasury","Finance",152,null,null,null,null,null,null,null,null,null,null,"Fluvanna"]
[null,null,null,null,null,"Department of Transportation","Transportation",501,null,null,null,null,null,null,null,null,null,null,"Franklin"]
[null,null,null,null,null,"Department of Veterans Services","Veterans and Defense Affairs",912,null,null,null,null,null,null,null,null,null,null,"Franklin-City"]
[null,null,null,null,null,"Department of Wildlife Resources","Natural Resources",403,null,null,null,null,null,null,null,null,null,null,"Frederick"]
[null,null,null,null,null,"Eastern Shore Community College","Higher Education",284,null,null,null,null,null,null,null,null,null,null,"Fredericksburg"]
[null,null,null,null,null,"Foundation for Healthy Youth","Health and Human Resources",852,null,null,null,null,null,null,null,null,null,null,"Galax"]
[null,null,null,null,null,"Frontier Culture Museum of Virginia","Education",239,null,null,null,null,null,null,null,null,null,null,"Giles"]
[null,null,null,null,null,"George Mason University","Higher Education",247,null,null,null,null,null,null,null,null,null,null,"Gloucester"]
[null,null,null,null,null,"Germanna Community College","Higher Education",297,null,null,null,null,null,null,null,null,null,null,"Goochland"]
[null,null,null,null,null,"Gunston Hall","Education",417,null,null,null,null,null,null,null,null,null,null,"Grayson"]
[null,null,null,null,null,"J. Sargeant Reynolds Community College","Higher Education",283,null,null,null,null,null,null,null,null,null,null,"Greene"]
[null,null,null,null,null,"James Madison University","Higher Education",216,null,null,null,null,null,null,null,null,null,null,"Greensville"]
[null,null,null,null,null,"Jamestown-Yorktown Foundation","Education",425,null,null,null,null,null,null,null,null,null,null,"Halifax"]
[null,null,null,null,null,"Brightpoint Community College","Higher Education",290,null,null,null,null,null,null,null,null,null,null,"Hampton"]
[null,null,null,null,null,"Library of Virginia","Education",202,null,null,null,null,null,null,null,null,null,null,"Hanover"]
[null,null,null,null,null,"Longwood University","Higher Education",214,null,null,null,null,null,null,null,null,null,null,"Harrisonburg"]
[null,null,null,null,null,"Laurel Ridge Community College","Higher Education",298,null,null,null,null,null,null,null,null,null,null,"Henrico"]
[null,null,null,null,null,"Marine Resources Commission","Natural Resources",402,null,null,null,null,null,null,null,null,null,null,"Henry"]
[null,null,null,null,null,"Motor Vehicle Dealer Board","Transportation",506,null,null,null,null,null,null,null,null,null,null,"Highland"]
[null,null,null,null,null,"Mountain Empire Community College","Higher Education",299,null,null,null,null,null,null,null,null,null,null,"Hopewell"]
[null,null,null,null,null,"New College Institute","Higher Education",938,null,null,null,null,null,null,null,null,null,null,"Isle Of Wight"]
[null,null,null,null,null,"New River Community College","Higher Education",275,null,null,null,null,null,null,null,null,null,null,"James City"]
[null,null,null,null,null,"Norfolk State University","Higher Education",213,null,null,null,null,null,null,null,null,null,null,"King And Queen"]
[null,null,null,null,null,"Northern Virginia Community College","Higher Education",280,null,null,null,null,null,null,null,null,null,null,"King George"]
[null,null,null,null,null,"Northern Virginia Mental Health Institute","Health and Human Resources",null,null,null,null,null,null,null,null,null,null,null,"King William"]
[null,null,null,null,null,"Office of the State Inspector General","Independent",147,null,null,null,null,null,null,null,null,null,null,"Lancaster"]
[null,null,null,null,null,"Old Dominion University","Higher Education",221,null,null,null,null,null,null,null,null,null,null,"Lee"]
[null,null,null,null,null,"Patrick & Henry Community College","Higher Education",285,null,null,null,null,null,null,null,null,null,null,"Lexington"]
[null,null,null,null,null,"Paul D. Camp Community College","Higher Education",277,null,null,null,null,null,null,null,null,null,null,"Loudoun"]
[null,null,null,null,null,"Piedmont Virginia Community College","Higher Education",282,null,null,null,null,null,null,null,null,null,null,"Louisa"]
[null,null,null,null,null,"Radford University","Higher Education",217,null,null,null,null,null,null,null,null,null,null,"Lunenburg"]
[null,null,null,null,null,"Rappahannock Community College","Higher Education",278,null,null,null,null,null,null,null,null,null,null,"Lynchburg"]
[null,null,null,null,null,"Richard Bland College","Higher Education",241,null,null,null,null,null,null,null,null,null,null,"Madison"]
[null,null,null,null,null,"Sitter and Barfoot Veterans Care Center","Veterans and Defense Affairs",922,null,null,null,null,null,null,null,null,null,null,"Manassas"]
[null,null,null,null,null,"Southern Virginia Higher Education Center","Higher Education",937,null,null,null,null,null,null,null,null,null,null,"Manassas Park"]
[null,null,null,null,null,"Southside Virginia Community College","Higher Education",276,null,null,null,null,null,null,null,null,null,null,"Martinsville"]
[null,null,null,null,null,"Southwest Virginia Community College","Higher Education",294,null,null,null,null,null,null,null,null,null,null,"Mathews"]
[null,null,null,null,null,"Southwest Virginia Higher Education Center","Higher Education",948,null,null,null,null,null,null,null,null,null,null,"Mecklenburg"]
[null,null,null,null,null,"State Corporation Commission","Independent",171,null,null,null,null,null,null,null,null,null,null,"Middlesex"]
[null,null,null,null,null,"State Council for Higher Education for Virginia","Education",245,null,null,null,null,null,null,null,null,null,null,"Montgomery"]
[null,null,null,null,null,"The College of William and Mary","Higher Education",204,null,null,null,null,null,null,null,null,null,null,"Nelson"]
[null,null,null,null,null,"The Science Museum of Virginia","Education",146,null,null,null,null,null,null,null,null,null,null,"New Kent"]
[null,null,null,null,null,"Virginia Peninsula Community College","Higher Education",293,null,null,null,null,null,null,null,null,null,null,"Newport News"]
[null,null,null,null,null,"Tidewater Community College","Higher Education",295,null,null,null,null,null,null,null,null,null,null,"Norfolk"]
[null,null,null,null,null,"University of Mary Washington","Higher Education",215,null,null,null,null,null,null,null,null,null,null,"Northampton"]
[null,null,null,null,null,"University of Virginia","Higher Education",207,null,null,null,null,null,null,null,null,null,null,"Northumberland"]
[null,null,null,null,null,"University of Virginia at Wise","Higher Education",246,null,null,null,null,null,null,null,null,null,null,"Norton"]
[null,null,null,null,null,"University of Virginia Medical Center","Higher Education",209,null,null,null,null,null,null,null,null,null,null,"Nottoway"]
[null,null,null,null,null,"VCCS Shared Services Center","Higher Education",270,null,null,null,null,null,null,null,null,null,null,"Orange"]
[null,null,null,null,null,"VCCS System Office","Higher Education",270,null,null,null,null,null,null,null,null,null,null,"Page"]
[null,null,null,null,null,"Virginia Alcoholic Beverage Control","Independent",999,null,null,null,null,null,null,null,null,null,null,"Patrick"]
[null,null,null,null,null,"Virginia Board for People with Disabilities","Health and Human Resources",606,null,null,null,null,null,null,null,null,null,null,"Petersburg"]
[null,null,null,null,null,"Virginia Commercial Space Flight Authority","Transportation",null,null,null,null,null,null,null,null,null,null,null,"Pittsylvania"]
[null,null,null,null,null,"Virginia Commission for the Arts","Education",148,null,null,null,null,null,null,null,null,null,null,"Poquoson"]
[null,null,null,null,null,"Virginia Commonwealth University","Higher Education",236,null,null,null,null,null,null,null,null,null,null,"Portsmouth"]
[null,null,null,null,null,"Virginia Commonwealth University Health Systems Authority","Independent",null,null,null,null,null,null,null,null,null,null,null,"Powhatan"]
[null,null,null,null,null,"Virginia Community College System","Higher Education",261,null,null,null,null,null,null,null,null,null,null,"Prince Edward"]
[null,null,null,null,null,"Virginia Department of Agriculture and Consumer Services","Agriculture and Forestry",301,null,null,null,null,null,null,null,null,null,null,"Prince George"]
[null,null,null,null,null,"Virginia Department of Conservation and Recreation","Natural Resources",199,null,null,null,null,null,null,null,null,null,null,"Prince William"]
[null,null,null,null,null,"Virginia Department of Fire Programs","Public Safety and Homeland Security",960,null,null,null,null,null,null,null,null,null,null,"Pulaski"]
[null,null,null,null,null,"Virginia Department of Health","Health and Human Resources",601,null,null,null,null,null,null,null,null,null,null,"Radford"]
[null,null,null,null,null,"Virginia Economic Development Partnership","Commerce and Trade",310,null,null,null,null,null,null,null,null,null,null,"Rappahannock"]
[null,null,null,null,null,"Virginia Employment Commission","Commerce and Trade",182,null,null,null,null,null,null,null,null,null,null,"Richmond"]
[null,null,null,null,null,"Virginia Highlands Community College","Higher Education",296,null,null,null,null,null,null,null,null,null,null,"Richmond-City"]
[null,null,null,null,null,"Virginia Housing Development Authority","Commerce and Trade",null,null,null,null,null,null,null,null,null,null,null,"Roanoke"]
[null,null,null,null,null,"Virginia Information Technologies Agency","Administration",136,null,null,null,null,null,null,null,null,null,null,"Roanoke-City"]
[null,null,null,null,null,"Virginia Lottery","Independent",172,null,null,null,null,null,null,null,null,null,null,"Rockbridge"]
[null,null,null,null,null,"Virginia Military Institute","Higher Education",211,null,null,null,null,null,null,null,null,null,null,"Rockingham"]
[null,null,null,null,null,"Virginia Museum of Fine Arts","Education",238,null,null,null,null,null,null,null,null,null,null,"Russell"]
[null,null,null,null,null,"Virginia Museum of Natural History","Education",942,null,null,null,null,null,null,null,null,null,null,"Scott"]
[null,null,null,null,null,"Virginia Parole Board","Public Safety and Homeland Security",766,null,null,null,null,null,null,null,null,null,null,"Shenandoah"]
[null,null,null,null,null,"Virginia Polytechnic Institute and State University","Higher Education",208,null,null,null,null,null,null,null,null,null,null,"Smyth"]
[null,null,null,null,null,"Virginia Port Authority","Transportation",407,null,null,null,null,null,null,null,null,null,null,"South Boston"]
[null,null,null,null,null,"Virginia Racing Commission","Agriculture and Forestry",405,null,null,null,null,null,null,null,null,null,null,"Southampton"]
[null,null,null,null,null,"Virginia Resources Authority","Finance",null,null,null,null,null,null,null,null,null,null,null,"Spotsylvania"]
[null,null,null,null,null,"Virginia Retirement System","Independent",158,null,null,null,null,null,null,null,null,null,null,"Stafford"]
[null,null,null,null,null,"Virginia School for the Deaf and the Blind","Education",218,null,null,null,null,null,null,null,null,null,null,"Staunton"]
[null,null,null,null,null,"Virginia State University","Higher Education",212,null,null,null,null,null,null,null,null,null,null,"Suffolk"]
[null,null,null,null,null,"Virginia Tobacco Region Revitalization Commission","Commerce and Trade",851,null,null,null,null,null,null,null,null,null,null,"Surry"]
[null,null,null,null,null,"Virginia Tourism Corporation","Commerce and Trade",320,null,null,null,null,null,null,null,null,null,null,"Sussex"]
[null,null,null,null,null,"Virginia Veterans Care Center","Veterans and Defense Affairs",128,null,null,null,null,null,null,null,null,null,null,"Tazewell"]
[null,null,null,null,null,"Virginia Western Community College","Higher Education",286,null,null,null,null,null,null,null,null,null,null,"Virginia Beach"]
[null,null,null,null,null,"Virginia Workers' Compensation Commission","Independent",191,null,null,null,null,null,null,null,null,null,null,"Warren"]
[null,null,null,null,null,"Virginia529 College Savings Plan","Independent",174,null,null,null,null,null,null,null,null,null,null,"Washington"]
[null,null,null,null,null,"Wilson Workforce Rehabilitation Center","Health and Human Resources",203,null,null,null,null,null,null,null,null,null,null,"Waynesboro"]
[null,null,null,null,null,"Wytheville Community College","Higher Education",288,null,null,null,null,null,null,null,null,null,null,"Westmoreland"]
[null,null,null,null,null,null,null,null,null,null,null,null,null,null,null,null,null,null,"Williamsburg"]
[null,null,null,null,null,null,null,null,null,null,null,null,null,null,null,null,null,null,"Winchester"]
[null,null,null,null,null,null,null,null,null,null,null,null,null,null,null,null,null,null,"Wise"]
[null,null,null,null,null,null,null,null,null,null,null,null,null,null,null,null,null,null,"Wythe"]
[null,null,null,null,null,null,null,null,null,null,null,null,null,null,null,null,null,null,"York"]

{"sheet":"CENTRAL ANALYSIS","index":9,"n_rows":302,"n_cols":23,"rows_kept":302,"cut":false,"hidden":true,"merged":[[37,3,38,4],[43,0,44,1],[43,3,44,4],[187,3,188,4],[195,3,196,4],[131,3,132,4],[139,3,140,4],[99,3,100,4],[107,3,108,4],[115,3,116,4],[123,3,124,4],[203,3,204,4],[211,3,212,4],[147,3,148,4],[155,3,156,4],[163,3,164,4],[171,3,172,4],[179,3,180,4],[1,2,3,14],[4,2,5,14],[92,0,93,1],[92,3,93,4],[92,6,93,7],[31,0,32,1],[31,3,32,4],[19,0,20,1],[19,3,20,4],[25,0,26,1],[25,3,26,4],[49,0,50,1],[49,3,50,4],[57,0,58,1],[57,3,58,4],[37,0,38,1]]}
[]
[null,null,"CENTRAL ANALYSIS"]
[]
[]
[null,null,"This tab serves as a central place for all calculations for charts and tables. The yellow highlighted cells identify what the information is corresponding to throughout the workbook."]
[]
[]
[]
["Agency Customizations Progress Bar",null,null,null,null,null,null,"Toggle Buttons"]
["Total Steps",{"$f":"1+C23+C29","v":1},null,null,null,null,null,"Import Process",true]
["Steps Completed",{"$f":"SUM(CUSTOMIZATIONS!R:R)","v":0},{"$f":"B11/$B$10","v":0},null,null,null,null,"Internal Tool",false]
["Steps Remaining",{"$f":"B10-B11","v":1},{"$f":"1-C11","v":1},null,null,null,null,"Format as Appendix",false]
[null,null,null,null,null,null,null,"PY Change Indicators",true]
["Agency Details and Workforce Progress Bar"]
["Total Steps",{"$f":"119+(SUM(CUSTOMIZATIONS!R28:R42)*8)+SUM(C98,C105,C113,C121,C129,C137,C145,C153,C161,C169,C177,C185,C193,C201,C209,C217)","v":119}]
["Steps Completed",{"$f":"SUM('AGENCY DETAILS'!R:R)+SUM('AGENCY WORKFORCE'!R:R)","v":0},{"$f":"IF(B16/$B$15>1,1,B16/$B$15)","v":0},null,null,null,null,null,"Colum Start","Colum End","Address"]
["Steps Remaining",{"$f":"B15-B16","v":119},{"$f":"1-C16","v":1},null,null,null,null,"Add Data",null,null,{"$f":"CONCATENATE(\"'INTERNAL TOOL SETTINGS'!\",I17)","v":"'INTERNAL TOOL SETTINGS'!"},{"$f":"CONCATENATE(\"'INTERNAL TOOL SETTINGS'!\",J17)","v":"'INTERNAL TOOL SETTINGS'!"}]
[null,null,null,null,null,null,null,"Profile","C","L",{"$f":"CONCATENATE(\"'INTERNAL TOOL SETTINGS'!\",I18)","v":"'INTERNAL TOOL SETTINGS'!C"},{"$f":"CONCATENATE(\"'INTERNAL TOOL SETTINGS'!\",J18)","v":"'INTERNAL TOOL SETTINGS'!L"}]
["Employee Classifications",null,null,null,null,null,null,"COO","M","V","'INTERNAL TOOL SETTINGS'!M","'INTERNAL TOOL SETTINGS'!V"]
["Add Employee Classification",null,null,"Remove Last Classification",null,null,null,"Recruit","W","AV","'INTERNAL TOOL SETTINGS'!W","'INTERNAL TOOL SETTINGS'!AV"]
[null,null,null,null,null,null,null,"Reten.","AW","BT","'INTERNAL TOOL SETTINGS'!AW","'INTERNAL TOOL SETTINGS'!BT"]
[null,null,null,null,null,null,null,"WF Dev.","BU","CH","'INTERNAL TOOL SETTINGS'!BU","'INTERNAL TOOL SETTINGS'!CH"]
["Total Number",{"$f":"IF(CUSTOMIZATIONS!$P$51=\"\",'CENTRAL ANALYSIS'!C23,CUSTOMIZATIONS!$P$51)","v":0},null,null,null,null,null,"Future","CI","CK","'INTERNAL TOOL SETTINGS'!CI","'INTERNAL TOOL SETTINGS'!CK"]
[]
["Executive Positions"]
["Add Executive Position",null,null,"Remove Last Position"]
[]
[]
["Total Number",{"$f":"IF(CUSTOMIZATIONS!$P$117=\"\",'CENTRAL ANALYSIS'!C29,CUSTOMIZATIONS!$P$117)","v":0}]
[]
["Additional Retirement Eligibility Parameters"]
["Add Custom Parameter",null,null,"Remove Last Parameter"]
[]
[]
["Total Number",null,0]
[]
["Lines of Service"]
["Add Line of            Service",null,null,"Remove Last Line of Service"]
[]
[]
["Total Number",{"$f":"IF('AGENCY DETAILS'!$P$86=\"\",'CENTRAL ANALYSIS'!C41,'AGENCY DETAILS'!$P$86)","v":0},0]
[]
["Agency Locations"]
["Add Location",null,null,"Remove Last Location"]
[]
[]
["Total Number",{"$f":"IF('AGENCY DETAILS'!$P$132=\"\",'CENTRAL ANALYSIS'!C47,'AGENCY DETAILS'!$P$132)","v":0},0]
[]
["Internal Depatments"]
["Add Selected Group",null,null,"Remove Last Selected Group"]
[]
["Type",{"$f":"'SUB AGENCY & INTERNAL TOOL'!M32","v":0}]
["Sub-Agency",{"$f":"IF('SUB AGENCY & INTERNAL TOOL'!P115<>\"\",'SUB AGENCY & INTERNAL TOOL'!P115,'CENTRAL ANALYSIS'!C53)","v":0}]
["Departments",{"$f":"IF('SUB AGENCY & INTERNAL TOOL'!P116<>\"\",'SUB AGENCY & INTERNAL TOOL'!P116,'CENTRAL ANALYSIS'!C54)","v":0}]
["Teams",{"$f":"IF('SUB AGENCY & INTERNAL TOOL'!P117<>\"\",'SUB AGENCY & INTERNAL TOOL'!P117,'CENTRAL ANALYSIS'!C55)","v":0}]
[]
["Sub Agencies or Divisions"]
["Add Sub-Agency or Division",null,null,"Remove Last Sub-Agency or Division"]
[]
[]
["Total Number"]
[]
["Profile Summary Workforce Insights Analysis","Total Positions",null,null,null,"Leader Positions",null,null,null,"Executive Positions"]
[null,{"$f":"CONCATENATE(\"FY\",RIGHT('DHRM ADMIN'!$P$15,2)-2)","v":"FY21"},{"$f":"CONCATENATE(\"FY\",RIGHT('DHRM ADMIN'!$P$15,2)-1)","v":"FY22"},{"$f":"CONCATENATE(\"FY\",RIGHT('DHRM ADMIN'!$P$15,2))","v":"FY23"},null,{"$f":"CONCATENATE(\"FY\",RIGHT('DHRM ADMIN'!$P$15,2)-2)","v":"FY21"},{"$f":"CONCATENATE(\"FY\",RIGHT('DHRM ADMIN'!$P$15,2)-1)","v":"FY22"},{"$f":"CONCATENATE(\"FY\",RIGHT('DHRM ADMIN'!$P$15,2))","v":"FY23"},null,{"$f":"CONCATENATE(\"FY\",RIGHT('DHRM ADMIN'!$P$15,2)-2)","v":"FY21"},{"$f":"CONCATENATE(\"FY\",RIGHT('DHRM ADMIN'!$P$15,2)-1)","v":"FY22"},{"$f":"CONCATENATE(\"FY\",RIGHT('DHRM ADMIN'!$P$15,2))","v":"FY23"}]
["Total Positions",{"$f":"SUM('AGENCY DETAILS'!N157:N166)","v":0},{"$f":"SUM('AGENCY DETAILS'!O157:O166)","v":0},{"$f":"SUM('AGENCY DETAILS'!P157:P166)","v":0},null,{"$f":"SUM('AGENCY DETAILS'!N193:N202)","v":0},{"$f":"SUM('AGENCY DETAILS'!O193:O202)","v":0},{"$f":"SUM('AGENCY DETAILS'!P193:P202)","v":0},null,{"$f":"SUM('AGENCY DETAILS'!N229:N238)","v":0},{"$f":"SUM('AGENCY DETAILS'!O229:O238)","v":0},{"$f":"SUM('AGENCY DETAILS'!P229:P238)","v":0}]
["Officials and Administrators",{"$f":"'AGENCY DETAILS'!N157","v":0},{"$f":"'AGENCY DETAILS'!O157","v":0},{"$f":"'AGENCY DETAILS'!P157","v":0},null,{"$f":"'AGENCY DETAILS'!N193","v":""},{"$f":"'AGENCY DETAILS'!O193","v":0},{"$f":"'AGENCY DETAILS'!P193","v":0},null,{"$f":"'AGENCY DETAILS'!N229","v":""},{"$f":"'AGENCY DETAILS'!O229","v":0},{"$f":"'AGENCY DETAILS'!P229","v":0}]
["Professionals",{"$f":"'AGENCY DETAILS'!N158","v":0},{"$f":"'AGENCY DETAILS'!O158","v":0},{"$f":"'AGENCY DETAILS'!P158","v":0},null,{"$f":"'AGENCY DETAILS'!N194","v":""},{"$f":"'AGENCY DETAILS'!O194","v":0},{"$f":"'AGENCY DETAILS'!P194","v":0},null,{"$f":"'AGENCY DETAILS'!N230","v":""},{"$f":"'AGENCY DETAILS'!O230","v":0},{"$f":"'AGENCY DETAILS'!P230","v":0}]
["Technicians",{"$f":"'AGENCY DETAILS'!N159","v":0},{"$f":"'AGENCY DETAILS'!O159","v":0},{"$f":"'AGENCY DETAILS'!P159","v":0},null,{"$f":"'AGENCY DETAILS'!N195","v":""},{"$f":"'AGENCY DETAILS'!O195","v":0},{"$f":"'AGENCY DETAILS'!P195","v":0},null,{"$f":"'AGENCY DETAILS'!N231","v":""},{"$f":"'AGENCY DETAILS'!O231","v":0},{"$f":"'AGENCY DETAILS'!P231","v":0}]
["Protective Service Workers",{"$f":"'AGENCY DETAILS'!N160","v":0},{"$f":"'AGENCY DETAILS'!O160","v":0},{"$f":"'AGENCY DETAILS'!P160","v":0},null,{"$f":"'AGENCY DETAILS'!N196","v":""},{"$f":"'AGENCY DETAILS'!O196","v":0},{"$f":"'AGENCY DETAILS'!P196","v":0},null,{"$f":"'AGENCY DETAILS'!N232","v":""},{"$f":"'AGENCY DETAILS'!O232","v":0},{"$f":"'AGENCY DETAILS'!P232","v":0}]
["Paraprofessionals",{"$f":"'AGENCY DETAILS'!N161","v":0},{"$f":"'AGENCY DETAILS'!O161","v":0},{"$f":"'AGENCY DETAILS'!P161","v":0},null,{"$f":"'AGENCY DETAILS'!N197","v":""},{"$f":"'AGENCY DETAILS'!O197","v":0},{"$f":"'AGENCY DETAILS'!P197","v":0},null,{"$f":"'AGENCY DETAILS'!N233","v":""},{"$f":"'AGENCY DETAILS'!O233","v":0},{"$f":"'AGENCY DETAILS'!P233","v":0}]
["Administrative Support",{"$f":"'AGENCY DETAILS'!N162","v":0},{"$f":"'AGENCY DETAILS'!O162","v":0},{"$f":"'AGENCY DETAILS'!P162","v":0},null,{"$f":"'AGENCY DETAILS'!N198","v":""},{"$f":"'AGENCY DETAILS'!O198","v":0},{"$f":"'AGENCY DETAILS'!P198","v":0},null,{"$f":"'AGENCY DETAILS'!N234","v":""},{"$f":"'AGENCY DETAILS'!O234","v":0},{"$f":"'AGENCY DETAILS'!P234","v":0}]
["Skilled Craft Workers",{"$f":"'AGENCY DETAILS'!N163","v":0},{"$f":"'AGENCY DETAILS'!O163","v":0},{"$f":"'AGENCY DETAILS'!P163","v":0},null,{"$f":"'AGENCY DETAILS'!N199","v":""},{"$f":"'AGENCY DETAILS'!O199","v":0},{"$f":"'AGENCY DETAILS'!P199","v":0},null,{"$f":"'AGENCY DETAILS'!N235","v":""},{"$f":"'AGENCY DETAILS'!O235","v":0},{"$f":"'AGENCY DETAILS'!P235","v":0}]
["Service/Maintenance",{"$f":"'AGENCY DETAILS'!N164","v":0},{"$f":"'AGENCY DETAILS'!O164","v":0},{"$f":"'AGENCY DETAILS'!P164","v":0},null,{"$f":"'AGENCY DETAILS'!N200","v":""},{"$f":"'AGENCY DETAILS'!O200","v":0},{"$f":"'AGENCY DETAILS'!P200","v":0},null,{"$f":"'AGENCY DETAILS'!N236","v":""},{"$f":"'AGENCY DETAILS'!O236","v":0},{"$f":"'AGENCY DETAILS'!P236","v":0}]
["Faculty",{"$f":"'AGENCY DETAILS'!N165","v":0},{"$f":"'AGENCY DETAILS'!O165","v":0},{"$f":"'AGENCY DETAILS'!P165","v":0},null,{"$f":"'AGENCY DETAILS'!N201","v":""},{"$f":"'AGENCY DETAILS'!O201","v":0},{"$f":"'AGENCY DETAILS'!P201","v":0},null,{"$f":"'AGENCY DETAILS'!N237","v":""},{"$f":"'AGENCY DETAILS'!O237","v":0},{"$f":"'AGENCY DETAILS'!P237","v":0}]
["Other",{"$f":"'AGENCY DETAILS'!N166","v":0},{"$f":"'AGENCY DETAILS'!O166","v":0},{"$f":"'AGENCY DETAILS'!P166","v":0},null,{"$f":"'AGENCY DETAILS'!N202","v":""},{"$f":"'AGENCY DETAILS'!O202","v":0},{"$f":"'AGENCY DETAILS'!P202","v":0},null,{"$f":"'AGENCY DETAILS'!N238","v":""},{"$f":"'AGENCY DETAILS'!O238","v":0},{"$f":"'AGENCY DETAILS'!P238","v":0}]
[{"$f":"CUSTOMIZATIONS!C28","v":0},{"$f":"'AGENCY DETAILS'!N170","v":""},{"$f":"'AGENCY DETAILS'!O170","v":0},{"$f":"'AGENCY DETAILS'!P170","v":0},null,{"$f":"'AGENCY DETAILS'!N206","v":""},{"$f":"'AGENCY DETAILS'!O206","v":0},{"$f":"'AGENCY DETAILS'!P206","v":0},null,{"$f":"'AGENCY DETAILS'!N242","v":""},{"$f":"'AGENCY DETAILS'!O242","v":0},{"$f":"'AGENCY DETAILS'!P242","v":0}]
[{"$f":"CUSTOMIZATIONS!C29","v":0},{"$f":"'AGENCY DETAILS'!N171","v":""},{"$f":"'AGENCY DETAILS'!O171","v":0},{"$f":"'AGENCY DETAILS'!P171","v":0},null,{"$f":"'AGENCY DETAILS'!N207","v":""},{"$f":"'AGENCY DETAILS'!O207","v":0},{"$f":"'AGENCY DETAILS'!P207","v":0},null,{"$f":"'AGENCY DETAILS'!N243","v":""},{"$f":"'AGENCY DETAILS'!O243","v":0},{"$f":"'AGENCY DETAILS'!P243","v":0}]
[{"$f":"CUSTOMIZATIONS!C30","v":""},{"$f":"'AGENCY DETAILS'!N172","v":""},{"$f":"'AGENCY DETAILS'!O172","v":0},{"$f":"'AGENCY DETAILS'!P172","v":0},null,{"$f":"'AGENCY DETAILS'!N208","v":""},{"$f":"'AGENCY DETAILS'!O208","v":0},{"$f":"'AGENCY DETAILS'!P208","v":0},null,{"$f":"'AGENCY DETAILS'!N244","v":""},{"$f":"'AGENCY DETAILS'!O244","v":0},{"$f":"'AGENCY DETAILS'!P244","v":0}]
[{"$f":"CUSTOMIZATIONS!C31","v":""},{"$f":"'AGENCY DETAILS'!N173","v":""},{"$f":"'AGENCY DETAILS'!O173","v":0},{"$f":"'AGENCY DETAILS'!P173","v":0},null,{"$f":"'AGENCY DETAILS'!N209","v":""},{"$f":"'AGENCY DETAILS'!O209","v":0},{"$f":"'AGENCY DETAILS'!P209","v":0},null,{"$f":"'AGENCY DETAILS'!N245","v":""},{"$f":"'AGENCY DETAILS'!O245","v":0},{"$f":"'AGENCY DETAILS'!P245","v":0}]
[{"$f":"CUSTOMIZATIONS!C32","v":""},{"$f":"'AGENCY DETAILS'!N174","v":""},{"$f":"'AGENCY DETAILS'!O174","v":0},{"$f":"'AGENCY DETAILS'!P174","v":0},null,{"$f":"'AGENCY DETAILS'!N210","v":""},{"$f":"'AGENCY DETAILS'!O210","v":0},{"$f":"'AGENCY DETAILS'!P210","v":0},null,{"$f":"'AGENCY DETAILS'!N246","v":""},{"$f":"'AGENCY DETAILS'!O246","v":0},{"$f":"'AGENCY DETAILS'!P246","v":0}]
[{"$f":"CUSTOMIZATIONS!C33","v":""},{"$f":"'AGENCY DETAILS'!N175","v":""},{"$f":"'AGENCY DETAILS'!O175","v":0},{"$f":"'AGENCY DETAILS'!P175","v":0},null,{"$f":"'AGENCY DETAILS'!N211","v":""},{"$f":"'AGENCY DETAILS'!O211","v":0},{"$f":"'AGENCY DETAILS'!P211","v":0},null,{"$f":"'AGENCY DETAILS'!N247","v":""},{"$f":"'AGENCY DETAILS'!O247","v":0},{"$f":"'AGENCY DETAILS'!P247","v":0}]
[{"$f":"CUSTOMIZATIONS!C34","v":""},{"$f":"'AGENCY DETAILS'!N176","v":""},{"$f":"'AGENCY DETAILS'!O176","v":0},{"$f":"'AGENCY DETAILS'!P176","v":0},null,{"$f":"'AGENCY DETAILS'!N212","v":""},{"$f":"'AGENCY DETAILS'!O212","v":0},{"$f":"'AGENCY DETAILS'!P212","v":0},null,{"$f":"'AGENCY DETAILS'!N248","v":""},{"$f":"'AGENCY DETAILS'!O248","v":0},{"$f":"'AGENCY DETAILS'!P248","v":0}]
[{"$f":"CUSTOMIZATIONS!C35","v":""},{"$f":"'AGENCY DETAILS'!N177","v":""},{"$f":"'AGENCY DETAILS'!O177","v":0},{"$f":"'AGENCY DETAILS'!P177","v":0},null,{"$f":"'AGENCY DETAILS'!N213","v":""},{"$f":"'AGENCY DETAILS'!O213","v":0},{"$f":"'AGENCY DETAILS'!P213","v":0},null,{"$f":"'AGENCY DETAILS'!N249","v":""},{"$f":"'AGENCY DETAILS'!O249","v":0},{"$f":"'AGENCY DETAILS'!P249","v":0}]
[{"$f":"CUSTOMIZATIONS!C36","v":""},{"$f":"'AGENCY DETAILS'!N178","v":""},{"$f":"'AGENCY DETAILS'!O178","v":0},{"$f":"'AGENCY DETAILS'!P178","v":0},null,{"$f":"'AGENCY DETAILS'!N214","v":""},{"$f":"'AGENCY DETAILS'!O214","v":0},{"$f":"'AGENCY DETAILS'!P214","v":0},null,{"$f":"'AGENCY DETAILS'!N250","v":""},{"$f":"'AGENCY DETAILS'!O250","v":0},{"$f":"'AGENCY DETAILS'!P250","v":0}]
[{"$f":"CUSTOMIZATIONS!C37","v":""},{"$f":"'AGENCY DETAILS'!N179","v":""},{"$f":"'AGENCY DETAILS'!O179","v":0},{"$f":"'AGENCY DETAILS'!P179","v":0},null,{"$f":"'AGENCY DETAILS'!N215","v":""},{"$f":"'AGENCY DETAILS'!O215","v":0},{"$f":"'AGENCY DETAILS'!P215","v":0},null,{"$f":"'AGENCY DETAILS'!N251","v":""},{"$f":"'AGENCY DETAILS'!O251","v":0},{"$f":"'AGENCY DETAILS'!P251","v":0}]
[{"$f":"CUSTOMIZATIONS!C38","v":""},{"$f":"'AGENCY DETAILS'!N180","v":""},{"$f":"'AGENCY DETAILS'!O180","v":0},{"$f":"'AGENCY DETAILS'!P180","v":0},null,{"$f":"'AGENCY DETAILS'!N216","v":""},{"$f":"'AGENCY DETAILS'!O216","v":0},{"$f":"'AGENCY DETAILS'!P216","v":0},null,{"$f":"'AGENCY DETAILS'!N252","v":""},{"$f":"'AGENCY DETAILS'!O252","v":0},{"$f":"'AGENCY DETAILS'!P252","v":0}]
[{"$f":"CUSTOMIZATIONS!C39","v":""},{"$f":"'AGENCY DETAILS'!N181","v":""},{"$f":"'AGENCY DETAILS'!O181","v":0},{"$f":"'AGENCY DETAILS'!P181","v":0},null,{"$f":"'AGENCY DETAILS'!N217","v":""},{"$f":"'AGENCY DETAILS'!O217","v":0},{"$f":"'AGENCY DETAILS'!P217","v":0},null,{"$f":"'AGENCY DETAILS'!N253","v":""},{"$f":"'AGENCY DETAILS'!O253","v":0},{"$f":"'AGENCY DETAILS'!P253","v":0}]
[{"$f":"CUSTOMIZATIONS!C40","v":""},{"$f":"'AGENCY DETAILS'!N182","v":""},{"$f":"'AGENCY DETAILS'!O182","v":0},{"$f":"'AGENCY DETAILS'!P182","v":0},null,{"$f":"'AGENCY DETAILS'!N218","v":""},{"$f":"'AGENCY DETAILS'!O218","v":0},{"$f":"'AGENCY DETAILS'!P218","v":0},null,{"$f":"'AGENCY DETAILS'!N254","v":""},{"$f":"'AGENCY DETAILS'!O254","v":0},{"$f":"'AGENCY DETAILS'!P254","v":0}]
[{"$f":"CUSTOMIZATIONS!C41","v":""},{"$f":"'AGENCY DETAILS'!N183","v":""},{"$f":"'AGENCY DETAILS'!O183","v":0},{"$f":"'AGENCY DETAILS'!P183","v":0},null,{"$f":"'AGENCY DETAILS'!N219","v":""},{"$f":"'AGENCY DETAILS'!O219","v":0},{"$f":"'AGENCY DETAILS'!P219","v":0},null,{"$f":"'AGENCY DETAILS'!N255","v":""},{"$f":"'AGENCY DETAILS'!O255","v":0},{"$f":"'AGENCY DETAILS'!P255","v":0}]
[{"$f":"CUSTOMIZATIONS!C42","v":""},{"$f":"'AGENCY DETAILS'!N184","v":""},{"$f":"'AGENCY DETAILS'!O184","v":0},{"$f":"'AGENCY DETAILS'!P184","v":0},null,{"$f":"'AGENCY DETAILS'!N220","v":""},{"$f":"'AGENCY DETAILS'!O220","v":0},{"$f":"'AGENCY DETAILS'!P220","v":0},null,{"$f":"'AGENCY DETAILS'!N256","v":""},{"$f":"'AGENCY DETAILS'!O256","v":0},{"$f":"'AGENCY DETAILS'!P256","v":0}]
[]
["Conditional Formatting for Action Plan Buttons",null,null,null,null,null,"Remove Objective"]
["Add Objective",null,null,"Remove Last Item",null,null,"Remove Last Objective"]
[]
[]
[]
["Agency Action Plan Items Visibility and Complete",null,null,null,null,null,"Total with EOP Import added"]
["Total Objective",{"$f":"IF('AGENCY DETAILS'!$P$691=\"\",'CENTRAL ANALYSIS'!C98,'AGENCY DETAILS'!$P$691)","v":0},0,null,null,null,{"$f":"B98+COUNTIF('GETTING STARTED'!K159:L163,\"add\")","v":0}]
["Objective 1",{"$f":"IF(AND($B$98>=1,'AGENCY DETAILS'!$F$278<>\"\"),1,0)","v":0},"Total",{"$f":"B99+SUM(B100:B104)","v":0},{"$f":"IF(AND($B$98>=1,D99=B105+1),1,0)","v":0}]
["Action 1",{"$f":"IF('AGENCY DETAILS'!$H$284<>\"\",1,0)","v":0},null,"Add Action Item"]
["Action 2",{"$f":"IF('AGENCY DETAILS'!$H$287<>\"\",1,0)","v":0}]
["Action 3",{"$f":"IF('AGENCY DETAILS'!$H$290<>\"\",1,0)","v":0}]
["Action 4",{"$f":"IF('AGENCY DETAILS'!$H$293<>\"\",1,0)","v":0}]
["Action 5",{"$f":"IF('AGENCY DETAILS'!$H$296<>\"\",1,0)","v":0}]
["Total Actions",{"$f":"IF('AGENCY DETAILS'!$P$692=\"\",'CENTRAL ANALYSIS'!C105,'AGENCY DETAILS'!$P$692)","v":0},0]
[]
["Objective 2",{"$f":"IF(AND($B$98>=1,'AGENCY DETAILS'!$F$305<>\"\"),1,0)","v":0},"Total",{"$f":"B107+SUM(B108:B112)","v":0},{"$f":"IF(AND($B$98>=1,D107=B113+1),1,0)","v":0}]
["Action 1",{"$f":"IF('AGENCY DETAILS'!$H$311<>\"\",1,0)","v":0},null,"Add Action Item"]
["Action 2",{"$f":"IF('AGENCY DETAILS'!$H$314<>\"\",1,0)","v":0}]
["Action 3",{"$f":"IF('AGENCY DETAILS'!$H$317<>\"\",1,0)","v":0}]
["Action 4",{"$f":"IF('AGENCY DETAILS'!$H$320<>\"\",1,0)","v":0}]
["Action 5",{"$f":"IF('AGENCY DETAILS'!$H$323<>\"\",1,0)","v":0}]
["Total Actions",{"$f":"IF('AGENCY DETAILS'!$P$693=\"\",'CENTRAL ANALYSIS'!C113,'AGENCY DETAILS'!$P$693)","v":0},0]
[]
["Objective 3",{"$f":"IF(AND($B$98>=1,'AGENCY DETAILS'!$F$332<>\"\"),1,0)","v":0},"Total",{"$f":"B115+SUM(B116:B120)","v":0},{"$f":"IF(AND($B$98>=1,D115=B121+1),1,0)","v":0}]
["Action 1",{"$f":"IF('AGENCY DETAILS'!$H$338<>\"\",1,0)","v":0},null,"Add Action Item"]
["Action 2",{"$f":"IF('AGENCY DETAILS'!$H$341<>\"\",1,0)","v":0}]
["Action 3",{"$f":"IF('AGENCY DETAILS'!$H$344<>\"\",1,0)","v":0}]
["Action 4",{"$f":"IF('AGENCY DETAILS'!$H$347<>\"\",1,0)","v":0}]
["Action 5",{"$f":"IF('AGENCY DETAILS'!$H$350<>\"\",1,0)","v":0}]
["Total Actions",{"$f":"IF('AGENCY DETAILS'!$P$694=\"\",'CENTRAL ANALYSIS'!C121,'AGENCY DETAILS'!$P$694)","v":0},0]
[]
["Objective 4",{"$f":"IF(AND($B$98>=1,'AGENCY DETAILS'!$F$359<>\"\"),1,0)","v":0},"Total",{"$f":"B123+SUM(B124:B128)","v":0},{"$f":"IF(AND($B$98>=1,D123=B129+1),1,0)","v":0}]
["Action 1",{"$f":"IF('AGENCY DETAILS'!$H$365<>\"\",1,0)","v":0},null,"Add Action Item"]
["Action 2",{"$f":"IF('AGENCY DETAILS'!$H$368<>\"\",1,0)","v":0}]
["Action 3",{"$f":"IF('AGENCY DETAILS'!$H$371<>\"\",1,0)","v":0}]
["Action 4",{"$f":"IF('AGENCY DETAILS'!$H$374<>\"\",1,0)","v":0}]
["Action 5",{"$f":"IF('AGENCY DETAILS'!$H$377<>\"\",1,0)","v":0}]
["Total Actions",{"$f":"IF('AGENCY DETAILS'!$P$695=\"\",'CENTRAL ANALYSIS'!C129,'AGENCY DETAILS'!$P$695)","v":0},0]
[]
["Objective 5",{"$f":"IF(AND($B$98>=1,'AGENCY DETAILS'!$F$386<>\"\"),1,0)","v":0},"Total",{"$f":"B131+SUM(B132:B136)","v":0},{"$f":"IF(AND($B$98>=1,D131=B137+1),1,0)","v":0}]
["Action 1",{"$f":"IF('AGENCY DETAILS'!$H$392<>\"\",1,0)","v":0},null,"Add Action Item"]
["Action 2",{"$f":"IF('AGENCY DETAILS'!$H$395<>\"\",1,0)","v":0}]
["Action 3",{"$f":"IF('AGENCY DETAILS'!$H$398<>\"\",1,0)","v":0}]
["Action 4",{"$f":"IF('AGENCY DETAILS'!$H$401<>\"\",1,0)","v":0}]
["Action 5",{"$f":"IF('AGENCY DETAILS'!$H$404<>\"\",1,0)","v":0}]
["Total Actions",{"$f":"IF('AGENCY DETAILS'!$P$696=\"\",'CENTRAL ANALYSIS'!C137,'AGENCY DETAILS'!$P$696)","v":0},0]
[]
["Objective 6",{"$f":"IF(AND($B$98>=1,'AGENCY DETAILS'!$F$413<>\"\"),1,0)","v":0},"Total",{"$f":"B139+SUM(B140:B144)","v":0},{"$f":"IF(AND($B$98>=1,D139=B145+1),1,0)","v":0}]
["Action 1",{"$f":"IF('AGENCY DETAILS'!$H$419<>\"\",1,0)","v":0},null,"Add Action Item"]
["Action 2",{"$f":"IF('AGENCY DETAILS'!$H$422<>\"\",1,0)","v":0}]
["Action 3",{"$f":"IF('AGENCY DETAILS'!$H$425<>\"\",1,0)","v":0}]
["Action 4",{"$f":"IF('AGENCY DETAILS'!$H$428<>\"\",1,0)","v":0}]
["Action 5",{"$f":"IF('AGENCY DETAILS'!$H$431<>\"\",1,0)","v":0}]
["Total Actions",{"$f":"IF('AGENCY DETAILS'!$P$697=\"\",'CENTRAL ANALYSIS'!C145,'AGENCY DETAILS'!$P$697)","v":0},0]
[]
["Objective 7",{"$f":"IF(AND($B$98>=1,'AGENCY DETAILS'!$F$440<>\"\"),1,0)","v":0},"Total",{"$f":"B147+SUM(B148:B152)","v":0},{"$f":"IF(AND($B$98>=1,D147=B153+1),1,0)","v":0}]
["Action 1",{"$f":"IF('AGENCY DETAILS'!$H$446<>\"\",1,0)","v":0},null,"Add Action Item"]
["Action 2",{"$f":"IF('AGENCY DETAILS'!$H$449<>\"\",1,0)","v":0}]
["Action 3",{"$f":"IF('AGENCY DETAILS'!$H$452<>\"\",1,0)","v":0}]
["Action 4",{"$f":"IF('AGENCY DETAILS'!$H$455<>\"\",1,0)","v":0}]
["Action 5",{"$f":"IF('AGENCY DETAILS'!$H$458<>\"\",1,0)","v":0}]
["Total Actions",{"$f":"IF('AGENCY DETAILS'!$P$698=\"\",'CENTRAL ANALYSIS'!C153,'AGENCY DETAILS'!$P$698)","v":0},0]
[]
["Objective 8",{"$f":"IF(AND($B$98>=1,'AGENCY DETAILS'!$F$467<>\"\"),1,0)","v":0},"Total",{"$f":"B155+SUM(B156:B160)","v":0},{"$f":"IF(AND($B$98>=1,D155=B161+1),1,0)","v":0}]
["Action 1",{"$f":"IF('AGENCY DETAILS'!$H$473<>\"\",1,0)","v":0},null,"Add Action Item"]
["Action 2",{"$f":"IF('AGENCY DETAILS'!$H$476<>\"\",1,0)","v":0}]
["Action 3",{"$f":"IF('AGENCY DETAILS'!$H$479<>\"\",1,0)","v":0}]
["Action 4",{"$f":"IF('AGENCY DETAILS'!$H$482<>\"\",1,0)","v":0}]
["Action 5",{"$f":"IF('AGENCY DETAILS'!$H$485<>\"\",1,0)","v":0}]
["Total Actions",{"$f":"IF('AGENCY DETAILS'!$P$699=\"\",'CENTRAL ANALYSIS'!C161,'AGENCY DETAILS'!$P$699)","v":0},0]
[]
["Objective 9",{"$f":"IF(AND($B$98>=1,'AGENCY DETAILS'!$F$494<>\"\"),1,0)","v":0},"Total",{"$f":"B163+SUM(B164:B168)","v":0},{"$f":"IF(AND($B$98>=1,D163=B169+1),1,0)","v":0}]
["Action 1",{"$f":"IF('AGENCY DETAILS'!$H$500<>\"\",1,0)","v":0},null,"Add Action Item"]
["Action 2",{"$f":"IF('AGENCY DETAILS'!$H$503<>\"\",1,0)","v":0}]
["Action 3",{"$f":"IF('AGENCY DETAILS'!$H$506<>\"\",1,0)","v":0}]
["Action 4",{"$f":"IF('AGENCY DETAILS'!$H$509<>\"\",1,0)","v":0}]
["Action 5",{"$f":"IF('AGENCY DETAILS'!$H$512<>\"\",1,0)","v":0}]
["Total Actions",{"$f":"IF('AGENCY DETAILS'!$P$700=\"\",'CENTRAL ANALYSIS'!C169,'AGENCY DETAILS'!$P$700)","v":0},0]
[]
["Objective 10",{"$f":"IF(AND($B$98>=1,'AGENCY DETAILS'!$F$521<>\"\"),1,0)","v":0},"Total",{"$f":"B171+SUM(B172:B176)","v":0},{"$f":"IF(AND($B$98>=1,D171=B177+1),1,0)","v":0}]
["Action 1",{"$f":"IF('AGENCY DETAILS'!$H$527<>\"\",1,0)","v":0},null,"Add Action Item"]
["Action 2",{"$f":"IF('AGENCY DETAILS'!$H$530<>\"\",1,0)","v":0}]
["Action 3",{"$f":"IF('AGENCY DETAILS'!$H$533<>\"\",1,0)","v":0}]
["Action 4",{"$f":"IF('AGENCY DETAILS'!$H$536<>\"\",1,0)","v":0}]
["Action 5",{"$f":"IF('AGENCY DETAILS'!$H$539<>\"\",1,0)","v":0}]
["Total Actions",{"$f":"IF('AGENCY DETAILS'!$P$701=\"\",'CENTRAL ANALYSIS'!C177,'AGENCY DETAILS'!$P$701)","v":0},0]
[]
["Objective 11",{"$f":"IF(AND($B$98>=1,'AGENCY DETAILS'!$F$548<>\"\"),1,0)","v":0},"Total",{"$f":"B179+SUM(B180:B184)","v":0},{"$f":"IF(AND($B$98>=1,D179=B185+1),1,0)","v":0}]
["Action 1",{"$f":"IF('AGENCY DETAILS'!$H$554<>\"\",1,0)","v":0},null,"Add Action Item"]
["Action 2",{"$f":"IF('AGENCY DETAILS'!$H$557<>\"\",1,0)","v":0}]
["Action 3",{"$f":"IF('AGENCY DETAILS'!$H$560<>\"\",1,0)","v":0}]
["Action 4",{"$f":"IF('AGENCY DETAILS'!$H$563<>\"\",1,0)","v":0}]
["Action 5",{"$f":"IF('AGENCY DETAILS'!$H$566<>\"\",1,0)","v":0}]
["Total Actions",{"$f":"IF('AGENCY DETAILS'!$P$702=\"\",'CENTRAL ANALYSIS'!C185,'AGENCY DETAILS'!$P$702)","v":0},0]
[]
["Objective 12",{"$f":"IF(AND($B$98>=1,'AGENCY DETAILS'!$F$575<>\"\"),1,0)","v":0},"Total",{"$f":"B187+SUM(B188:B192)","v":0},{"$f":"IF(AND($B$98>=1,D187=B193+1),1,0)","v":0}]
["Action 1",{"$f":"IF('AGENCY DETAILS'!$H$581<>\"\",1,0)","v":0},null,"Add Action Item"]
["Action 2",{"$f":"IF('AGENCY DETAILS'!$H$584<>\"\",1,0)","v":0}]
["Action 3",{"$f":"IF('AGENCY DETAILS'!$H$587<>\"\",1,0)","v":0}]
["Action 4",{"$f":"IF('AGENCY DETAILS'!$H$590<>\"\",1,0)","v":0}]
["Action 5",{"$f":"IF('AGENCY DETAILS'!$H$593<>\"\",1,0)","v":0}]
["Total Actions",{"$f":"IF('AGENCY DETAILS'!$P$703=\"\",'CENTRAL ANALYSIS'!C193,'AGENCY DETAILS'!$P$703)","v":0},0]
[]
["Objective 13",{"$f":"IF(AND($B$98>=1,'AGENCY DETAILS'!$F$602<>\"\"),1,0)","v":0},"Total",{"$f":"B195+SUM(B196:B200)","v":0},{"$f":"IF(AND($B$98>=1,D195=B201+1),1,0)","v":0}]
["Action 1",{"$f":"IF('AGENCY DETAILS'!$H$608<>\"\",1,0)","v":0},null,"Add Action Item"]
["Action 2",{"$f":"IF('AGENCY DETAILS'!$H$611<>\"\",1,0)","v":0}]
["Action 3",{"$f":"IF('AGENCY DETAILS'!$H$614<>\"\",1,0)","v":0}]
["Action 4",{"$f":"IF('AGENCY DETAILS'!$H$617<>\"\",1,0)","v":0}]
["Action 5",{"$f":"IF('AGENCY DETAILS'!$H$620<>\"\",1,0)","v":0}]
["Total Actions",{"$f":"IF('AGENCY DETAILS'!$P$704=\"\",'CENTRAL ANALYSIS'!C201,'AGENCY DETAILS'!$P$704)","v":0},0]
[]
["Objective 14",{"$f":"IF(AND($B$98>=1,'AGENCY DETAILS'!$F$629<>\"\"),1,0)","v":0},"Total",{"$f":"B203+SUM(B204:B208)","v":0},{"$f":"IF(AND($B$98>=1,D203=B209+1),1,0)","v":0}]
["Action 1",{"$f":"IF('AGENCY DETAILS'!$H$635<>\"\",1,0)","v":0},null,"Add Action Item"]
["Action 2",{"$f":"IF('AGENCY DETAILS'!$H$638<>\"\",1,0)","v":0}]
["Action 3",{"$f":"IF('AGENCY DETAILS'!$H$641<>\"\",1,0)","v":0}]
["Action 4",{"$f":"IF('AGENCY DETAILS'!$H$644<>\"\",1,0)","v":0}]
["Action 5",{"$f":"IF('AGENCY DETAILS'!$H$647<>\"\",1,0)","v":0}]
["Total Actions",{"$f":"IF('AGENCY DETAILS'!$P$705=\"\",'CENTRAL ANALYSIS'!C209,'AGENCY DETAILS'!$P$705)","v":0},0]
[]
["Objective 15",{"$f":"IF(AND($B$98>=1,'AGENCY DETAILS'!$F$656<>\"\"),1,0)","v":0},"Total",{"$f":"B211+SUM(B212:B216)","v":0},{"$f":"IF(AND($B$98>=1,D211=B217+1),1,0)","v":0}]
["Action 1",{"$f":"IF('AGENCY DETAILS'!$H$662<>\"\",1,0)","v":0},null,"Add Action Item"]
["Action 2",{"$f":"IF('AGENCY DETAILS'!$H$665<>\"\",1,0)","v":0}]
["Action 3",{"$f":"IF('AGENCY DETAILS'!$H$668<>\"\",1,0)","v":0}]
["Action 4",{"$f":"IF('AGENCY DETAILS'!$H$671<>\"\",1,0)","v":0}]
["Action 5",{"$f":"IF('AGENCY DETAILS'!$H$674<>\"\",1,0)","v":0}]
["Total Actions",{"$f":"IF('AGENCY DETAILS'!$P$706=\"\",'CENTRAL ANALYSIS'!C217,'AGENCY DETAILS'!$P$706)","v":0},0]
[]
[]
["Profile WF Insights Gender All",null,null,null,null,null,null,null,"Profile WF Insights Gender Leaders",null,null,null,null,null,null,null,"Profile WF Insights Gender Executives"]
[null,{"$f":"CONCATENATE(\"FY\",RIGHT('DHRM ADMIN'!$P$15,2)-2)","v":"FY21"},{"$f":"CONCATENATE(\"FY\",RIGHT('DHRM ADMIN'!$P$15,2)-1)","v":"FY22"},{"$f":"CONCATENATE(\"FY\",RIGHT('DHRM ADMIN'!$P$15,2))","v":"FY23"},"Chart","Percentages","Percent Negative",null,null,{"$f":"CONCATENATE(\"FY\",RIGHT('DHRM ADMIN'!$P$15,2)-2)","v":"FY21"},{"$f":"CONCATENATE(\"FY\",RIGHT('DHRM ADMIN'!$P$15,2)-1)","v":"FY22"},{"$f":"CONCATENATE(\"FY\",RIGHT('DHRM ADMIN'!$P$15,2))","v":"FY23"},"Chart","Percentages","Percent Negative",null,null,{"$f":"CONCATENATE(\"FY\",RIGHT('DHRM ADMIN'!$P$15,2)-2)","v":"FY21"},{"$f":"CONCATENATE(\"FY\",RIGHT('DHRM ADMIN'!$P$15,2)-1)","v":"FY22"},{"$f":"CONCATENATE(\"FY\",RIGHT('DHRM ADMIN'!$P$15,2))","v":"FY23"},"Chart","Percentages","Percent Negative"]
["Total Employees",{"$f":"SUM(B223:B224)","v":0},{"$f":"SUM(C223:C224)","v":0},0,{"$f":"HLOOKUP('PROFILE SUMMARY'!$I$43,'CENTRAL ANALYSIS'!B221:E222,2,FALSE)","v":0},null,null,null,"Total Employees",{"$f":"SUM(J223:J224)","v":0},{"$f":"SUM(K223:K224)","v":0},{"$f":"SUM(L223:L224)","v":0},{"$f":"HLOOKUP('PROFILE SUMMARY'!$I$43,'CENTRAL ANALYSIS'!J221:M222,2,FALSE)","v":0},null,null,null,"Total Employees",{"$f":"SUM(R223:R224)","v":0},{"$f":"SUM(S223:S224)","v":0},{"$f":"SUM(T223:T224)","v":0},{"$f":"HLOOKUP('PROFILE SUMMARY'!$I$43,'CENTRAL ANALYSIS'!R221:U222,2,FALSE)","v":0}]
["Male",{"$f":"'AGENCY WORKFORCE'!N28","v":0},{"$f":"'AGENCY WORKFORCE'!O28","v":0},{"$f":"'AGENCY WORKFORCE'!P28","v":0},{"$f":"IF('PROFILE SUMMARY'!$I$43='CENTRAL ANALYSIS'!$B$221,'CENTRAL ANALYSIS'!B223,IF('PROFILE SUMMARY'!$I$43='CENTRAL ANALYSIS'!$C$221,'CENTRAL ANALYSIS'!C223,IF('PROFILE SUMMARY'!$I$43='CENTRAL ANALYSIS'!$D$221,'CENTRAL ANALYSIS'!D223,0)))","v":0},{"$f":"E223/E222","v":{"$error":"#DIV/0!"}},{"$f":"1-F223","v":{"$error":"#DIV/0!"}},null,"Male",{"$f":"'AGENCY WORKFORCE'!N87","v":0},{"$f":"'AGENCY WORKFORCE'!O87","v":0},{"$f":"'AGENCY WORKFORCE'!P87","v":0},{"$f":"IF('PROFILE SUMMARY'!$I$43='CENTRAL ANALYSIS'!$B$221,'CENTRAL ANALYSIS'!J223,IF('PROFILE SUMMARY'!$I$43='CENTRAL ANALYSIS'!$C$221,'CENTRAL ANALYSIS'!K223,IF('PROFILE SUMMARY'!$I$43='CENTRAL ANALYSIS'!$D$221,'CENTRAL ANALYSIS'!L223,0)))","v":0},{"$f":"M223/M222","v":{"$error":"#DIV/0!"}},{"$f":"1-N223","v":{"$error":"#DIV/0!"}},null,"Male",{"$f":"'AGENCY WORKFORCE'!N146","v":0},{"$f":"'AGENCY WORKFORCE'!O146","v":0},{"$f":"'AGENCY WORKFORCE'!P146","v":0},{"$f":"IF('PROFILE SUMMARY'!$I$43='CENTRAL ANALYSIS'!$B$221,'CENTRAL ANALYSIS'!R223,IF('PROFILE SUMMARY'!$I$43='CENTRAL ANALYSIS'!$C$221,'CENTRAL ANALYSIS'!S223,IF('PROFILE SUMMARY'!$I$43='CENTRAL ANALYSIS'!$D$221,'CENTRAL ANALYSIS'!T223,0)))","v":0},{"$f":"U223/U222","v":{"$error":"#DIV/0!"}},{"$f":"1-V223","v":{"$error":"#DIV/0!"}}]
["Female",{"$f":"'AGENCY WORKFORCE'!N29","v":0},{"$f":"'AGENCY WORKFORCE'!O29","v":0},{"$f":"'AGENCY WORKFORCE'!P29","v":0},{"$f":"IF('PROFILE SUMMARY'!$I$43='CENTRAL ANALYSIS'!$B$221,'CENTRAL ANALYSIS'!B224,IF('PROFILE SUMMARY'!$I$43='CENTRAL ANALYSIS'!$C$221,'CENTRAL ANALYSIS'!C224,IF('PROFILE SUMMARY'!$I$43='CENTRAL ANALYSIS'!$D$221,'CENTRAL ANALYSIS'!D224,0)))","v":0},{"$f":"E224/E222","v":{"$error":"#DIV/0!"}},{"$f":"1-F224","v":{"$error":"#DIV/0!"}},null,"Female",{"$f":"'AGENCY WORKFORCE'!N88","v":0},{"$f":"'AGENCY WORKFORCE'!O88","v":0},{"$f":"'AGENCY WORKFORCE'!P88","v":0},{"$f":"IF('PROFILE SUMMARY'!$I$43='CENTRAL ANALYSIS'!$B$221,'CENTRAL ANALYSIS'!J224,IF('PROFILE SUMMARY'!$I$43='CENTRAL ANALYSIS'!$C$221,'CENTRAL ANALYSIS'!K224,IF('PROFILE SUMMARY'!$I$43='CENTRAL ANALYSIS'!$D$221,'CENTRAL ANALYSIS'!L224,0)))","v":0},{"$f":"M224/M222","v":{"$error":"#DIV/0!"}},{"$f":"1-N224","v":{"$error":"#DIV/0!"}},null,"Female",{"$f":"'AGENCY WORKFORCE'!N147","v":0},{"$f":"'AGENCY WORKFORCE'!O147","v":0},{"$f":"'AGENCY WORKFORCE'!P147","v":0},{"$f":"IF('PROFILE SUMMARY'!$I$43='CENTRAL ANALYSIS'!$B$221,'CENTRAL ANALYSIS'!R224,IF('PROFILE SUMMARY'!$I$43='CENTRAL ANALYSIS'!$C$221,'CENTRAL ANALYSIS'!S224,IF('PROFILE SUMMARY'!$I$43='CENTRAL ANALYSIS'!$D$221,'CENTRAL ANALYSIS'!T224,0)))","v":0},{"$f":"U224/U222","v":{"$error":"#DIV/0!"}},{"$f":"1-V224","v":{"$error":"#DIV/0!"}}]
["Profile WF Insights Race"]
[null,{"$f":"CONCATENATE(\"FY\",RIGHT('DHRM ADMIN'!$P$15,2)-2)","v":"FY21"},{"$f":"CONCATENATE(\"FY\",RIGHT('DHRM ADMIN'!$P$15,2)-1)","v":"FY22"},{"$f":"CONCATENATE(\"FY\",RIGHT('DHRM ADMIN'!$P$15,2))","v":"FY23"},null,null,null,null,null,{"$f":"CONCATENATE(\"FY\",RIGHT('DHRM ADMIN'!$P$15,2)-2)","v":"FY21"},{"$f":"CONCATENATE(\"FY\",RIGHT('DHRM ADMIN'!$P$15,2)-1)","v":"FY22"},{"$f":"CONCATENATE(\"FY\",RIGHT('DHRM ADMIN'!$P$15,2))","v":"FY23"},null,null,null,null,null,{"$f":"CONCATENATE(\"FY\",RIGHT('DHRM ADMIN'!$P$15,2)-2)","v":"FY21"},{"$f":"CONCATENATE(\"FY\",RIGHT('DHRM ADMIN'!$P$15,2)-1)","v":"FY22"},{"$f":"CONCATENATE(\"FY\",RIGHT('DHRM ADMIN'!$P$15,2))","v":"FY23"}]
["American Indian or Alaskan Native",{"$f":"'AGENCY WORKFORCE'!N33","v":0},{"$f":"'AGENCY WORKFORCE'!O33","v":0},{"$f":"'AGENCY WORKFORCE'!P33","v":0},null,null,null,null,"American Indian or Alaskan Native",{"$f":"'AGENCY WORKFORCE'!N92","v":0},{"$f":"'AGENCY WORKFORCE'!O92","v":0},{"$f":"'AGENCY WORKFORCE'!P92","v":0},null,null,null,null,"American Indian or Alaskan Native",{"$f":"'AGENCY WORKFORCE'!N151","v":0},{"$f":"'AGENCY WORKFORCE'!O151","v":0},{"$f":"'AGENCY WORKFORCE'!P151","v":0}]
["Asian",{"$f":"'AGENCY WORKFORCE'!N34","v":0},{"$f":"'AGENCY WORKFORCE'!O34","v":0},{"$f":"'AGENCY WORKFORCE'!P34","v":0},null,null,null,null,"Asian",{"$f":"'AGENCY WORKFORCE'!N93","v":0},{"$f":"'AGENCY WORKFORCE'!O93","v":0},{"$f":"'AGENCY WORKFORCE'!P93","v":0},null,null,null,null,"Asian",{"$f":"'AGENCY WORKFORCE'!N152","v":0},{"$f":"'AGENCY WORKFORCE'!O152","v":0},{"$f":"'AGENCY WORKFORCE'!P152","v":0}]
["Black or African American",{"$f":"'AGENCY WORKFORCE'!N35","v":0},{"$f":"'AGENCY WORKFORCE'!O35","v":0},{"$f":"'AGENCY WORKFORCE'!P35","v":0},null,null,null,null,"Black or African American",{"$f":"'AGENCY WORKFORCE'!N94","v":0},{"$f":"'AGENCY WORKFORCE'!O94","v":0},{"$f":"'AGENCY WORKFORCE'!P94","v":0},null,null,null,null,"Black or African American",{"$f":"'AGENCY WORKFORCE'!N153","v":0},{"$f":"'AGENCY WORKFORCE'!O153","v":0},{"$f":"'AGENCY WORKFORCE'!P153","v":0}]
["Hispanic or Latino",{"$f":"'AGENCY WORKFORCE'!N36","v":0},{"$f":"'AGENCY WORKFORCE'!O36","v":0},{"$f":"'AGENCY WORKFORCE'!P36","v":0},null,null,null,null,"Hispanic or Latino",{"$f":"'AGENCY WORKFORCE'!N95","v":0},{"$f":"'AGENCY WORKFORCE'!O95","v":0},{"$f":"'AGENCY WORKFORCE'!P95","v":0},null,null,null,null,"Hispanic or Latino",{"$f":"'AGENCY WORKFORCE'!N154","v":0},{"$f":"'AGENCY WORKFORCE'!O154","v":0},{"$f":"'AGENCY WORKFORCE'!P154","v":0}]
["Native Hawaiian or Other Pac. Islander",{"$f":"'AGENCY WORKFORCE'!N37","v":0},{"$f":"'AGENCY WORKFORCE'!O37","v":0},{"$f":"'AGENCY WORKFORCE'!P37","v":0},null,null,null,null,"Native Hawaiian or Other Pac. Islander",{"$f":"'AGENCY WORKFORCE'!N96","v":0},{"$f":"'AGENCY WORKFORCE'!O96","v":0},{"$f":"'AGENCY WORKFORCE'!P96","v":0},null,null,null,null,"Native Hawaiian or Other Pac. Islander",{"$f":"'AGENCY WORKFORCE'!N155","v":0},{"$f":"'AGENCY WORKFORCE'!O155","v":0},{"$f":"'AGENCY WORKFORCE'!P155","v":0}]
["White",{"$f":"'AGENCY WORKFORCE'!N38","v":0},{"$f":"'AGENCY WORKFORCE'!O38","v":0},{"$f":"'AGENCY WORKFORCE'!P38","v":0},null,null,null,null,"White",{"$f":"'AGENCY WORKFORCE'!N97","v":0},{"$f":"'AGENCY WORKFORCE'!O97","v":0},{"$f":"'AGENCY WORKFORCE'!P97","v":0},null,null,null,null,"White",{"$f":"'AGENCY WORKFORCE'!N156","v":0},{"$f":"'AGENCY WORKFORCE'!O156","v":0},{"$f":"'AGENCY WORKFORCE'!P156","v":0}]
["Two or More Races",{"$f":"'AGENCY WORKFORCE'!N39","v":0},{"$f":"'AGENCY WORKFORCE'!O39","v":0},{"$f":"'AGENCY WORKFORCE'!P39","v":0},null,null,null,null,"Two or More Races",{"$f":"'AGENCY WORKFORCE'!N98","v":0},{"$f":"'AGENCY WORKFORCE'!O98","v":0},{"$f":"'AGENCY WORKFORCE'!P98","v":0},null,null,null,null,"Two or More Races",{"$f":"'AGENCY WORKFORCE'!N157","v":0},{"$f":"'AGENCY WORKFORCE'!O157","v":0},{"$f":"'AGENCY WORKFORCE'!P157","v":0}]
["Unknown or not Entered",{"$f":"'AGENCY WORKFORCE'!N40","v":0},{"$f":"'AGENCY WORKFORCE'!O40","v":0},{"$f":"'AGENCY WORKFORCE'!P40","v":0},null,null,null,null,"Unknown or not Entered",{"$f":"'AGENCY WORKFORCE'!N99","v":0},{"$f":"'AGENCY WORKFORCE'!O99","v":0},{"$f":"'AGENCY WORKFORCE'!P99","v":0},null,null,null,null,"Unknown or not Entered",{"$f":"'AGENCY WORKFORCE'!N158","v":0},{"$f":"'AGENCY WORKFORCE'!O158","v":0},{"$f":"'AGENCY WORKFORCE'!P158","v":0}]
["Employee EEO Chart"]
[null,{"$f":"CONCATENATE(\"FY\",RIGHT('DHRM ADMIN'!$P$15,2)-2)","v":"FY21"},{"$f":"CONCATENATE(\"FY\",RIGHT('DHRM ADMIN'!$P$15,2)-1)","v":"FY22"},{"$f":"CONCATENATE(\"FY\",RIGHT('DHRM ADMIN'!$P$15,2))","v":"FY23"},null,null,null,null,null,{"$f":"CONCATENATE(\"FY\",RIGHT('DHRM ADMIN'!$P$15,2)-2)","v":"FY21"},{"$f":"CONCATENATE(\"FY\",RIGHT('DHRM ADMIN'!$P$15,2)-1)","v":"FY22"},{"$f":"CONCATENATE(\"FY\",RIGHT('DHRM ADMIN'!$P$15,2))","v":"FY23"},null,null,null,null,null,{"$f":"CONCATENATE(\"FY\",RIGHT('DHRM ADMIN'!$P$15,2)-2)","v":"FY21"},{"$f":"CONCATENATE(\"FY\",RIGHT('DHRM ADMIN'!$P$15,2)-1)","v":"FY22"},{"$f":"CONCATENATE(\"FY\",RIGHT('DHRM ADMIN'!$P$15,2))","v":"FY23"}]
["Officials and Administrators",{"$f":"'AGENCY WORKFORCE'!N44","v":""},{"$f":"'AGENCY WORKFORCE'!O44","v":0},{"$f":"'AGENCY WORKFORCE'!P44","v":0},null,null,null,null,"Officials and Administrators",{"$f":"'AGENCY WORKFORCE'!N103","v":""},{"$f":"'AGENCY WORKFORCE'!O103","v":0},{"$f":"'AGENCY WORKFORCE'!P103","v":0},null,null,null,null,"Officials and Administrators",{"$f":"'AGENCY WORKFORCE'!N162","v":""},{"$f":"'AGENCY WORKFORCE'!O162","v":0},{"$f":"'AGENCY WORKFORCE'!P162","v":0}]
["Professionals",{"$f":"'AGENCY WORKFORCE'!N45","v":""},{"$f":"'AGENCY WORKFORCE'!O45","v":0},{"$f":"'AGENCY WORKFORCE'!P45","v":0},null,null,null,null,"Professionals",{"$f":"'AGENCY WORKFORCE'!N104","v":""},{"$f":"'AGENCY WORKFORCE'!O104","v":0},{"$f":"'AGENCY WORKFORCE'!P104","v":0},null,null,null,null,"Professionals",{"$f":"'AGENCY WORKFORCE'!N163","v":""},{"$f":"'AGENCY WORKFORCE'!O163","v":0},{"$f":"'AGENCY WORKFORCE'!P163","v":0}]
["Technicians",{"$f":"'AGENCY WORKFORCE'!N46","v":""},{"$f":"'AGENCY WORKFORCE'!O46","v":0},{"$f":"'AGENCY WORKFORCE'!P46","v":0},null,null,null,null,"Technicians",{"$f":"'AGENCY WORKFORCE'!N105","v":""},{"$f":"'AGENCY WORKFORCE'!O105","v":0},{"$f":"'AGENCY WORKFORCE'!P105","v":0},null,null,null,null,"Technicians",{"$f":"'AGENCY WORKFORCE'!N164","v":""},{"$f":"'AGENCY WORKFORCE'!O164","v":0},{"$f":"'AGENCY WORKFORCE'!P164","v":0}]
["Protective Service Workers",{"$f":"'AGENCY WORKFORCE'!N47","v":""},{"$f":"'AGENCY WORKFORCE'!O47","v":0},{"$f":"'AGENCY WORKFORCE'!P47","v":0},null,null,null,null,"Protective Service Workers",{"$f":"'AGENCY WORKFORCE'!N106","v":""},{"$f":"'AGENCY WORKFORCE'!O106","v":0},{"$f":"'AGENCY WORKFORCE'!P106","v":0},null,null,null,null,"Protective Service Workers",{"$f":"'AGENCY WORKFORCE'!N165","v":""},{"$f":"'AGENCY WORKFORCE'!O165","v":0},{"$f":"'AGENCY WORKFORCE'!P165","v":0}]
["Paraprofessionals",{"$f":"'AGENCY WORKFORCE'!N48","v":""},{"$f":"'AGENCY WORKFORCE'!O48","v":0},{"$f":"'AGENCY WORKFORCE'!P48","v":0},null,null,null,null,"Paraprofessionals",{"$f":"'AGENCY WORKFORCE'!N107","v":""},{"$f":"'AGENCY WORKFORCE'!O107","v":0},{"$f":"'AGENCY WORKFORCE'!P107","v":0},null,null,null,null,"Paraprofessionals",{"$f":"'AGENCY WORKFORCE'!N166","v":""},{"$f":"'AGENCY WORKFORCE'!O166","v":0},{"$f":"'AGENCY WORKFORCE'!P166","v":0}]
["Administrative Support",{"$f":"'AGENCY WORKFORCE'!N49","v":""},{"$f":"'AGENCY WORKFORCE'!O49","v":0},{"$f":"'AGENCY WORKFORCE'!P49","v":0},null,null,null,null,"Administrative Support",{"$f":"'AGENCY WORKFORCE'!N108","v":""},{"$f":"'AGENCY WORKFORCE'!O108","v":0},{"$f":"'AGENCY WORKFORCE'!P108","v":0},null,null,null,null,"Administrative Support",{"$f":"'AGENCY WORKFORCE'!N167","v":""},{"$f":"'AGENCY WORKFORCE'!O167","v":0},{"$f":"'AGENCY WORKFORCE'!P167","v":0}]
["Skilled Craft Workers",{"$f":"'AGENCY WORKFORCE'!N50","v":""},{"$f":"'AGENCY WORKFORCE'!O50","v":0},{"$f":"'AGENCY WORKFORCE'!P50","v":0},null,null,null,null,"Skilled Craft Workers",{"$f":"'AGENCY WORKFORCE'!N109","v":""},{"$f":"'AGENCY WORKFORCE'!O109","v":0},{"$f":"'AGENCY WORKFORCE'!P109","v":0},null,null,null,null,"Skilled Craft Workers",{"$f":"'AGENCY WORKFORCE'!N168","v":""},{"$f":"'AGENCY WORKFORCE'!O168","v":0},{"$f":"'AGENCY WORKFORCE'!P168","v":0}]
["Service/Maintenance",{"$f":"'AGENCY WORKFORCE'!N51","v":""},{"$f":"'AGENCY WORKFORCE'!O51","v":0},{"$f":"'AGENCY WORKFORCE'!P51","v":0},null,null,null,null,"Service/Maintenance",{"$f":"'AGENCY WORKFORCE'!N110","v":""},{"$f":"'AGENCY WORKFORCE'!O110","v":0},{"$f":"'AGENCY WORKFORCE'!P110","v":0},null,null,null,null,"Service/Maintenance",{"$f":"'AGENCY WORKFORCE'!N169","v":""},{"$f":"'AGENCY WORKFORCE'!O169","v":0},{"$f":"'AGENCY WORKFORCE'!P169","v":0}]
["Faculty",{"$f":"'AGENCY WORKFORCE'!N52","v":""},{"$f":"'AGENCY WORKFORCE'!O52","v":0},{"$f":"'AGENCY WORKFORCE'!P52","v":0},null,null,null,null,"Faculty",{"$f":"'AGENCY WORKFORCE'!N111","v":""},{"$f":"'AGENCY WORKFORCE'!O111","v":0},{"$f":"'AGENCY WORKFORCE'!P111","v":0},null,null,null,null,"Faculty",{"$f":"'AGENCY WORKFORCE'!N170","v":""},{"$f":"'AGENCY WORKFORCE'!O170","v":0},{"$f":"'AGENCY WORKFORCE'!P170","v":0}]
["Other",{"$f":"'AGENCY WORKFORCE'!N53","v":""},{"$f":"'AGENCY WORKFORCE'!O53","v":0},{"$f":"'AGENCY WORKFORCE'!P53","v":0},null,null,null,null,"Other",{"$f":"'AGENCY WORKFORCE'!N112","v":""},{"$f":"'AGENCY WORKFORCE'!O112","v":0},{"$f":"'AGENCY WORKFORCE'!P112","v":0},null,null,null,null,"Other",{"$f":"'AGENCY WORKFORCE'!N171","v":""},{"$f":"'AGENCY WORKFORCE'!O171","v":0},{"$f":"'AGENCY WORKFORCE'!P171","v":0}]
["EwD and Veterans"]
[null,{"$f":"CONCATENATE(\"FY\",RIGHT('DHRM ADMIN'!$P$15,2)-2)","v":"FY21"},{"$f":"CONCATENATE(\"FY\",RIGHT('DHRM ADMIN'!$P$15,2)-1)","v":"FY22"},{"$f":"CONCATENATE(\"FY\",RIGHT('DHRM ADMIN'!$P$15,2))","v":"FY23"},null,null,null,null,null,{"$f":"CONCATENATE(\"FY\",RIGHT('DHRM ADMIN'!$P$15,2)-2)","v":"FY21"},{"$f":"CONCATENATE(\"FY\",RIGHT('DHRM ADMIN'!$P$15,2)-1)","v":"FY22"},{"$f":"CONCATENATE(\"FY\",RIGHT('DHRM ADMIN'!$P$15,2))","v":"FY23"},null,null,null,null,null,{"$f":"CONCATENATE(\"FY\",RIGHT('DHRM ADMIN'!$P$15,2)-2)","v":"FY21"},{"$f":"CONCATENATE(\"FY\",RIGHT('DHRM ADMIN'!$P$15,2)-1)","v":"FY22"},{"$f":"CONCATENATE(\"FY\",RIGHT('DHRM ADMIN'!$P$15,2))","v":"FY23"}]
["Employees with Disabilities",{"$f":"'AGENCY WORKFORCE'!N75","v":0},{"$f":"'AGENCY WORKFORCE'!O75","v":0},{"$f":"'AGENCY WORKFORCE'!P75","v":0},null,null,null,null,"Employees with Disabilities",{"$f":"'AGENCY WORKFORCE'!N134","v":0},{"$f":"'AGENCY WORKFORCE'!O134","v":0},{"$f":"'AGENCY WORKFORCE'!P134","v":0},null,null,null,null,"Employees with Disabilities",{"$f":"'AGENCY WORKFORCE'!N193","v":0},{"$f":"'AGENCY WORKFORCE'!O193","v":0},{"$f":"'AGENCY WORKFORCE'!P193","v":0}]
["Veterans",{"$f":"'AGENCY WORKFORCE'!N76","v":0},{"$f":"'AGENCY WORKFORCE'!O76","v":0},{"$f":"'AGENCY WORKFORCE'!P76","v":0},null,null,null,null,"Veterans",{"$f":"'AGENCY WORKFORCE'!N135","v":0},{"$f":"'AGENCY WORKFORCE'!O135","v":0},{"$f":"'AGENCY WORKFORCE'!P135","v":0},null,null,null,null,"Veterans",{"$f":"'AGENCY WORKFORCE'!N194","v":0},{"$f":"'AGENCY WORKFORCE'!O194","v":0},{"$f":"'AGENCY WORKFORCE'!P194","v":0}]
[]
["Classifications",null,null,null,null,null,null,null,"Classifications",null,null,null,null,null,null,null,"Classifications"]
[null,{"$f":"CONCATENATE(\"FY\",RIGHT('DHRM ADMIN'!$P$15,2)-2)","v":"FY21"},{"$f":"CONCATENATE(\"FY\",RIGHT('DHRM ADMIN'!$P$15,2)-1)","v":"FY22"},{"$f":"CONCATENATE(\"FY\",RIGHT('DHRM ADMIN'!$P$15,2))","v":"FY23"},null,null,null,null,null,{"$f":"CONCATENATE(\"FY\",RIGHT('DHRM ADMIN'!$P$15,2)-2)","v":"FY21"},{"$f":"CONCATENATE(\"FY\",RIGHT('DHRM ADMIN'!$P$15,2)-1)","v":"FY22"},{"$f":"CONCATENATE(\"FY\",RIGHT('DHRM ADMIN'!$P$15,2))","v":"FY23"},null,null,null,null,null,{"$f":"CONCATENATE(\"FY\",RIGHT('DHRM ADMIN'!$P$15,2)-2)","v":"FY21"},{"$f":"CONCATENATE(\"FY\",RIGHT('DHRM ADMIN'!$P$15,2)-1)","v":"FY22"},{"$f":"CONCATENATE(\"FY\",RIGHT('DHRM ADMIN'!$P$15,2))","v":"FY23"}]
[{"$f":"CUSTOMIZATIONS!C28","v":0},{"$f":"'AGENCY WORKFORCE'!N57","v":""},{"$f":"'AGENCY WORKFORCE'!O57","v":0},{"$f":"'AGENCY WORKFORCE'!P57","v":0},null,null,null,null,{"$f":"CUSTOMIZATIONS!K28","v":0},{"$f":"'AGENCY WORKFORCE'!N116","v":""},{"$f":"'AGENCY WORKFORCE'!O116","v":0},{"$f":"'AGENCY WORKFORCE'!P116","v":0},null,null,null,null,{"$f":"CUSTOMIZATIONS!S28","v":0},{"$f":"'AGENCY WORKFORCE'!N175","v":""},{"$f":"'AGENCY WORKFORCE'!O175","v":0},{"$f":"'AGENCY WORKFORCE'!P175","v":0}]
[{"$f":"CUSTOMIZATIONS!C29","v":0},{"$f":"'AGENCY WORKFORCE'!N58","v":""},{"$f":"'AGENCY WORKFORCE'!O58","v":0},{"$f":"'AGENCY WORKFORCE'!P58","v":0},null,null,null,null,{"$f":"CUSTOMIZATIONS!K29","v":0},{"$f":"'AGENCY WORKFORCE'!N117","v":""},{"$f":"'AGENCY WORKFORCE'!O117","v":0},{"$f":"'AGENCY WORKFORCE'!P117","v":0},null,null,null,null,{"$f":"CUSTOMIZATIONS!S29","v":0},{"$f":"'AGENCY WORKFORCE'!N176","v":""},{"$f":"'AGENCY WORKFORCE'!O176","v":0},{"$f":"'AGENCY WORKFORCE'!P176","v":0}]
[{"$f":"CUSTOMIZATIONS!C30","v":""},{"$f":"'AGENCY WORKFORCE'!N59","v":""},{"$f":"'AGENCY WORKFORCE'!O59","v":0},{"$f":"'AGENCY WORKFORCE'!P59","v":0},null,null,null,null,{"$f":"CUSTOMIZATIONS!K30","v":0},{"$f":"'AGENCY WORKFORCE'!N118","v":""},{"$f":"'AGENCY WORKFORCE'!O118","v":0},{"$f":"'AGENCY WORKFORCE'!P118","v":0},null,null,null,null,{"$f":"CUSTOMIZATIONS!S30","v":0},{"$f":"'AGENCY WORKFORCE'!N177","v":""},{"$f":"'AGENCY WORKFORCE'!O177","v":0},{"$f":"'AGENCY WORKFORCE'!P177","v":0}]
[{"$f":"CUSTOMIZATIONS!C31","v":""},{"$f":"'AGENCY WORKFORCE'!N60","v":""},{"$f":"'AGENCY WORKFORCE'!O60","v":0},{"$f":"'AGENCY WORKFORCE'!P60","v":0},null,null,null,null,{"$f":"CUSTOMIZATIONS!K31","v":0},{"$f":"'AGENCY WORKFORCE'!N119","v":""},{"$f":"'AGENCY WORKFORCE'!O119","v":0},{"$f":"'AGENCY WORKFORCE'!P119","v":0},null,null,null,null,{"$f":"CUSTOMIZATIONS!S31","v":0},{"$f":"'AGENCY WORKFORCE'!N178","v":""},{"$f":"'AGENCY WORKFORCE'!O178","v":0},{"$f":"'AGENCY WORKFORCE'!P178","v":0}]
[{"$f":"CUSTOMIZATIONS!C32","v":""},{"$f":"'AGENCY WORKFORCE'!N61","v":""},{"$f":"'AGENCY WORKFORCE'!O61","v":0},{"$f":"'AGENCY WORKFORCE'!P61","v":0},null,null,null,null,{"$f":"CUSTOMIZATIONS!K32","v":0},{"$f":"'AGENCY WORKFORCE'!N120","v":""},{"$f":"'AGENCY WORKFORCE'!O120","v":0},{"$f":"'AGENCY WORKFORCE'!P120","v":0},null,null,null,null,{"$f":"CUSTOMIZATIONS!S32","v":0},{"$f":"'AGENCY WORKFORCE'!N179","v":""},{"$f":"'AGENCY WORKFORCE'!O179","v":0},{"$f":"'AGENCY WORKFORCE'!P179","v":0}]
[{"$f":"CUSTOMIZATIONS!C33","v":""},{"$f":"'AGENCY WORKFORCE'!N62","v":""},{"$f":"'AGENCY WORKFORCE'!O62","v":0},{"$f":"'AGENCY WORKFORCE'!P62","v":0},null,null,null,null,{"$f":"CUSTOMIZATIONS!K33","v":0},{"$f":"'AGENCY WORKFORCE'!N121","v":""},{"$f":"'AGENCY WORKFORCE'!O121","v":0},{"$f":"'AGENCY WORKFORCE'!P121","v":0},null,null,null,null,{"$f":"CUSTOMIZATIONS!S33","v":0},{"$f":"'AGENCY WORKFORCE'!N180","v":""},{"$f":"'AGENCY WORKFORCE'!O180","v":0},{"$f":"'AGENCY WORKFORCE'!P180","v":0}]
[{"$f":"CUSTOMIZATIONS!C34","v":""},{"$f":"'AGENCY WORKFORCE'!N63","v":""},{"$f":"'AGENCY WORKFORCE'!O63","v":0},{"$f":"'AGENCY WORKFORCE'!P63","v":0},null,null,null,null,{"$f":"CUSTOMIZATIONS!K34","v":0},{"$f":"'AGENCY WORKFORCE'!N122","v":""},{"$f":"'AGENCY WORKFORCE'!O122","v":0},{"$f":"'AGENCY WORKFORCE'!P122","v":0},null,null,null,null,{"$f":"CUSTOMIZATIONS!S34","v":0},{"$f":"'AGENCY WORKFORCE'!N181","v":""},{"$f":"'AGENCY WORKFORCE'!O181","v":0},{"$f":"'AGENCY WORKFORCE'!P181","v":0}]
[{"$f":"CUSTOMIZATIONS!C35","v":""},{"$f":"'AGENCY WORKFORCE'!N64","v":""},{"$f":"'AGENCY WORKFORCE'!O64","v":0},{"$f":"'AGENCY WORKFORCE'!P64","v":0},null,null,null,null,{"$f":"CUSTOMIZATIONS!K35","v":0},{"$f":"'AGENCY WORKFORCE'!N123","v":""},{"$f":"'AGENCY WORKFORCE'!O123","v":0},{"$f":"'AGENCY WORKFORCE'!P123","v":0},null,null,null,null,{"$f":"CUSTOMIZATIONS!S35","v":0},{"$f":"'AGENCY WORKFORCE'!N182","v":""},{"$f":"'AGENCY WORKFORCE'!O182","v":0},{"$f":"'AGENCY WORKFORCE'!P182","v":0}]
[{"$f":"CUSTOMIZATIONS!C36","v":""},{"$f":"'AGENCY WORKFORCE'!N65","v":""},{"$f":"'AGENCY WORKFORCE'!O65","v":0},{"$f":"'AGENCY WORKFORCE'!P65","v":0},null,null,null,null,{"$f":"CUSTOMIZATIONS!K36","v":0},{"$f":"'AGENCY WORKFORCE'!N124","v":""},{"$f":"'AGENCY WORKFORCE'!O124","v":0},{"$f":"'AGENCY WORKFORCE'!P124","v":0},null,null,null,null,{"$f":"CUSTOMIZATIONS!S36","v":0},{"$f":"'AGENCY WORKFORCE'!N183","v":""},{"$f":"'AGENCY WORKFORCE'!O183","v":0},{"$f":"'AGENCY WORKFORCE'!P183","v":0}]
[{"$f":"CUSTOMIZATIONS!C37","v":""},{"$f":"'AGENCY WORKFORCE'!N66","v":""},{"$f":"'AGENCY WORKFORCE'!O66","v":0},{"$f":"'AGENCY WORKFORCE'!P66","v":0},null,null,null,null,{"$f":"CUSTOMIZATIONS!K37","v":0},{"$f":"'AGENCY WORKFORCE'!N125","v":""},{"$f":"'AGENCY WORKFORCE'!O125","v":0},{"$f":"'AGENCY WORKFORCE'!P125","v":0},null,null,null,null,{"$f":"CUSTOMIZATIONS!S37","v":0},{"$f":"'AGENCY WORKFORCE'!N184","v":""},{"$f":"'AGENCY WORKFORCE'!O184","v":0},{"$f":"'AGENCY WORKFORCE'!P184","v":0}]
[{"$f":"CUSTOMIZATIONS!C38","v":""},{"$f":"'AGENCY WORKFORCE'!N67","v":""},{"$f":"'AGENCY WORKFORCE'!O67","v":0},{"$f":"'AGENCY WORKFORCE'!P67","v":0},null,null,null,null,{"$f":"CUSTOMIZATIONS!K38","v":0},{"$f":"'AGENCY WORKFORCE'!N126","v":""},{"$f":"'AGENCY WORKFORCE'!O126","v":0},{"$f":"'AGENCY WORKFORCE'!P126","v":0},null,null,null,null,{"$f":"CUSTOMIZATIONS!S38","v":0},{"$f":"'AGENCY WORKFORCE'!N185","v":""},{"$f":"'AGENCY WORKFORCE'!O185","v":0},{"$f":"'AGENCY WORKFORCE'!P185","v":0}]
[{"$f":"CUSTOMIZATIONS!C39","v":""},{"$f":"'AGENCY WORKFORCE'!N68","v":""},{"$f":"'AGENCY WORKFORCE'!O68","v":0},{"$f":"'AGENCY WORKFORCE'!P68","v":0},null,null,null,null,{"$f":"CUSTOMIZATIONS!K39","v":0},{"$f":"'AGENCY WORKFORCE'!N127","v":""},{"$f":"'AGENCY WORKFORCE'!O127","v":0},{"$f":"'AGENCY WORKFORCE'!P127","v":0},null,null,null,null,{"$f":"CUSTOMIZATIONS!S39","v":0},{"$f":"'AGENCY WORKFORCE'!N186","v":""},{"$f":"'AGENCY WORKFORCE'!O186","v":0},{"$f":"'AGENCY WORKFORCE'!P186","v":0}]
[{"$f":"CUSTOMIZATIONS!C40","v":""},{"$f":"'AGENCY WORKFORCE'!N69","v":""},{"$f":"'AGENCY WORKFORCE'!O69","v":0},{"$f":"'AGENCY WORKFORCE'!P69","v":0},null,null,null,null,{"$f":"CUSTOMIZATIONS!K40","v":0},{"$f":"'AGENCY WORKFORCE'!N128","v":""},{"$f":"'AGENCY WORKFORCE'!O128","v":0},{"$f":"'AGENCY WORKFORCE'!P128","v":0},null,null,null,null,{"$f":"CUSTOMIZATIONS!S40","v":0},{"$f":"'AGENCY WORKFORCE'!N187","v":""},{"$f":"'AGENCY WORKFORCE'!O187","v":0},{"$f":"'AGENCY WORKFORCE'!P187","v":0}]
[{"$f":"CUSTOMIZATIONS!C41","v":""},{"$f":"'AGENCY WORKFORCE'!N70","v":""},{"$f":"'AGENCY WORKFORCE'!O70","v":0},{"$f":"'AGENCY WORKFORCE'!P70","v":0},null,null,null,null,{"$f":"CUSTOMIZATIONS!K41","v":0},{"$f":"'AGENCY WORKFORCE'!N129","v":""},{"$f":"'AGENCY WORKFORCE'!O129","v":0},{"$f":"'AGENCY WORKFORCE'!P129","v":0},null,null,null,null,{"$f":"CUSTOMIZATIONS!S41","v":0},{"$f":"'AGENCY WORKFORCE'!N188","v":""},{"$f":"'AGENCY WORKFORCE'!O188","v":0},{"$f":"'AGENCY WORKFORCE'!P188","v":0}]
[{"$f":"CUSTOMIZATIONS!C42","v":""},{"$f":"'AGENCY WORKFORCE'!N71","v":""},{"$f":"'AGENCY WORKFORCE'!O71","v":0},{"$f":"'AGENCY WORKFORCE'!P71","v":0},null,null,null,null,{"$f":"CUSTOMIZATIONS!K42","v":0},{"$f":"'AGENCY WORKFORCE'!N130","v":""},{"$f":"'AGENCY WORKFORCE'!O130","v":0},{"$f":"'AGENCY WORKFORCE'!P130","v":0},null,null,null,null,{"$f":"CUSTOMIZATIONS!S42","v":0},{"$f":"'AGENCY WORKFORCE'!N189","v":""},{"$f":"'AGENCY WORKFORCE'!O189","v":0},{"$f":"'AGENCY WORKFORCE'!P189","v":0}]
[]
[]
[]
[]
[null,null,null,"All Positions by EEO Code",null,null,null,"Leader",null,null,null,"Executive"]
[null,{"$f":"CONCATENATE(\"FY\",RIGHT('DHRM ADMIN'!$P$15,2)-2)","v":"FY21"},{"$f":"CONCATENATE(\"FY\",RIGHT('DHRM ADMIN'!$P$15,2)-1)","v":"FY22"},{"$f":"CONCATENATE(\"FY\",RIGHT('DHRM ADMIN'!$P$15,2))","v":"FY23"},null,{"$f":"CONCATENATE(\"FY\",RIGHT('DHRM ADMIN'!$P$15,2)-2)","v":"FY21"},{"$f":"CONCATENATE(\"FY\",RIGHT('DHRM ADMIN'!$P$15,2)-1)","v":"FY22"},{"$f":"CONCATENATE(\"FY\",RIGHT('DHRM ADMIN'!$P$15,2))","v":"FY23"},null,{"$f":"CONCATENATE(\"FY\",RIGHT('DHRM ADMIN'!$P$15,2)-2)","v":"FY21"},{"$f":"CONCATENATE(\"FY\",RIGHT('DHRM ADMIN'!$P$15,2)-1)","v":"FY22"},{"$f":"CONCATENATE(\"FY\",RIGHT('DHRM ADMIN'!$P$15,2))","v":"FY23"}]
["Officials and Administrators",null,{"$f":"IF('IMPORTED DATA'!N218<>\"\",'IMPORTED DATA'!N218,IF('IMPORTED DATA'!$B$461=0,\"\",COUNTIF(Table5[EEO CATEGORY],'TRANSFORMED DATA'!A408)))","v":""},null,null,{"$f":"IF('IMPORTED DATA'!M243<>\"\",'IMPORTED DATA'!M243,\"\")","v":""},{"$f":"IF('IMPORTED DATA'!N243<>\"\",'IMPORTED DATA'!N243,IF('IMPORTED DATA'!$B$461=0,\"\",COUNTIFS(Table5[EEO CATEGORY],'TRANSFORMED DATA'!$B408,Table5[ISSUPERVISOR],1)))","v":""},null,null,{"$f":"IF('IMPORTED DATA'!M268<>\"\",'IMPORTED DATA'!M268,\"\")","v":""},{"$f":"IF('IMPORTED DATA'!N268<>\"\",'IMPORTED DATA'!N268,IF('IMPORTED DATA'!$B$461=0,\"\",COUNTIFS(Table5[EEO CATEGORY],'TRANSFORMED DATA'!$B408,Table5[ISExecutive],1)))","v":""}]
["Professionals",null,{"$f":"IF('IMPORTED DATA'!N219<>\"\",'IMPORTED DATA'!N219,IF('IMPORTED DATA'!$B$461=0,\"\",COUNTIF(Table5[EEO CATEGORY],'TRANSFORMED DATA'!A409)))","v":""},null,null,{"$f":"IF('IMPORTED DATA'!M244<>\"\",'IMPORTED DATA'!M244,\"\")","v":""},{"$f":"IF('IMPORTED DATA'!N244<>\"\",'IMPORTED DATA'!N244,IF('IMPORTED DATA'!$B$461=0,\"\",COUNTIFS(Table5[EEO CATEGORY],'TRANSFORMED DATA'!$B409,Table5[ISSUPERVISOR],1)))","v":""},null,null,{"$f":"IF('IMPORTED DATA'!M269<>\"\",'IMPORTED DATA'!M269,\"\")","v":""},{"$f":"IF('IMPORTED DATA'!N269<>\"\",'IMPORTED DATA'!N269,IF('IMPORTED DATA'!$B$461=0,\"\",COUNTIFS(Table5[EEO CATEGORY],'TRANSFORMED DATA'!$B409,Table5[ISExecutive],1)))","v":""}]
["Technicians",null,{"$f":"IF('IMPORTED DATA'!N220<>\"\",'IMPORTED DATA'!N220,IF('IMPORTED DATA'!$B$461=0,\"\",COUNTIF(Table5[EEO CATEGORY],'TRANSFORMED DATA'!A410)))","v":""},null,null,{"$f":"IF('IMPORTED DATA'!M245<>\"\",'IMPORTED DATA'!M245,\"\")","v":""},{"$f":"IF('IMPORTED DATA'!N245<>\"\",'IMPORTED DATA'!N245,IF('IMPORTED DATA'!$B$461=0,\"\",COUNTIFS(Table5[EEO CATEGORY],'TRANSFORMED DATA'!$B410,Table5[ISSUPERVISOR],1)))","v":""},null,null,{"$f":"IF('IMPORTED DATA'!M270<>\"\",'IMPORTED DATA'!M270,\"\")","v":""},{"$f":"IF('IMPORTED DATA'!N270<>\"\",'IMPORTED DATA'!N270,IF('IMPORTED DATA'!$B$461=0,\"\",COUNTIFS(Table5[EEO CATEGORY],'TRANSFORMED DATA'!$B410,Table5[ISExecutive],1)))","v":""}]
["Protective Service Workers",null,{"$f":"IF('IMPORTED DATA'!N221<>\"\",'IMPORTED DATA'!N221,IF('IMPORTED DATA'!$B$461=0,\"\",COUNTIF(Table5[EEO CATEGORY],'TRANSFORMED DATA'!A411)))","v":""},null,null,{"$f":"IF('IMPORTED DATA'!M246<>\"\",'IMPORTED DATA'!M246,\"\")","v":""},{"$f":"IF('IMPORTED DATA'!N246<>\"\",'IMPORTED DATA'!N246,IF('IMPORTED DATA'!$B$461=0,\"\",COUNTIFS(Table5[EEO CATEGORY],'TRANSFORMED DATA'!$B411,Table5[ISSUPERVISOR],1)))","v":""},null,null,{"$f":"IF('IMPORTED DATA'!M271<>\"\",'IMPORTED DATA'!M271,\"\")","v":""},{"$f":"IF('IMPORTED DATA'!N271<>\"\",'IMPORTED DATA'!N271,IF('IMPORTED DATA'!$B$461=0,\"\",COUNTIFS(Table5[EEO CATEGORY],'TRANSFORMED DATA'!$B411,Table5[ISExecutive],1)))","v":""}]
["Paraprofessionals",null,{"$f":"IF('IMPORTED DATA'!N222<>\"\",'IMPORTED DATA'!N222,IF('IMPORTED DATA'!$B$461=0,\"\",COUNTIF(Table5[EEO CATEGORY],'TRANSFORMED DATA'!A412)))","v":""},null,null,{"$f":"IF('IMPORTED DATA'!M247<>\"\",'IMPORTED DATA'!M247,\"\")","v":""},{"$f":"IF('IMPORTED DATA'!N247<>\"\",'IMPORTED DATA'!N247,IF('IMPORTED DATA'!$B$461=0,\"\",COUNTIFS(Table5[EEO CATEGORY],'TRANSFORMED DATA'!$B412,Table5[ISSUPERVISOR],1)))","v":""},null,null,{"$f":"IF('IMPORTED DATA'!M272<>\"\",'IMPORTED DATA'!M272,\"\")","v":""},{"$f":"IF('IMPORTED DATA'!N272<>\"\",'IMPORTED DATA'!N272,IF('IMPORTED DATA'!$B$461=0,\"\",COUNTIFS(Table5[EEO CATEGORY],'TRANSFORMED DATA'!$B412,Table5[ISExecutive],1)))","v":""}]
["Administrative Support(Includi",null,{"$f":"IF('IMPORTED DATA'!N223<>\"\",'IMPORTED DATA'!N223,IF('IMPORTED DATA'!$B$461=0,\"\",COUNTIF(Table5[EEO CATEGORY],'TRANSFORMED DATA'!A413)))","v":""},null,null,{"$f":"IF('IMPORTED DATA'!M248<>\"\",'IMPORTED DATA'!M248,\"\")","v":""},{"$f":"IF('IMPORTED DATA'!N248<>\"\",'IMPORTED DATA'!N248,IF('IMPORTED DATA'!$B$461=0,\"\",COUNTIFS(Table5[EEO CATEGORY],'TRANSFORMED DATA'!$B413,Table5[ISSUPERVISOR],1)))","v":""},null,null,{"$f":"IF('IMPORTED DATA'!M273<>\"\",'IMPORTED DATA'!M273,\"\")","v":""},{"$f":"IF('IMPORTED DATA'!N273<>\"\",'IMPORTED DATA'!N273,IF('IMPORTED DATA'!$B$461=0,\"\",COUNTIFS(Table5[EEO CATEGORY],'TRANSFORMED DATA'!$B413,Table5[ISExecutive],1)))","v":""}]
["Skilled Craft Workers",null,{"$f":"IF('IMPORTED DATA'!N224<>\"\",'IMPORTED DATA'!N224,IF('IMPORTED DATA'!$B$461=0,\"\",COUNTIF(Table5[EEO CATEGORY],'TRANSFORMED DATA'!A414)))","v":""},null,null,{"$f":"IF('IMPORTED DATA'!M249<>\"\",'IMPORTED DATA'!M249,\"\")","v":""},{"$f":"IF('IMPORTED DATA'!N249<>\"\",'IMPORTED DATA'!N249,IF('IMPORTED DATA'!$B$461=0,\"\",COUNTIFS(Table5[EEO CATEGORY],'TRANSFORMED DATA'!$B414,Table5[ISSUPERVISOR],1)))","v":""},null,null,{"$f":"IF('IMPORTED DATA'!M274<>\"\",'IMPORTED DATA'!M274,\"\")","v":""},{"$f":"IF('IMPORTED DATA'!N274<>\"\",'IMPORTED DATA'!N274,IF('IMPORTED DATA'!$B$461=0,\"\",COUNTIFS(Table5[EEO CATEGORY],'TRANSFORMED DATA'!$B414,Table5[ISExecutive],1)))","v":""}]
["Service-Maintenance",null,{"$f":"IF('IMPORTED DATA'!N225<>\"\",'IMPORTED DATA'!N225,IF('IMPORTED DATA'!$B$461=0,\"\",COUNTIF(Table5[EEO CATEGORY],'TRANSFORMED DATA'!A415)))","v":""},null,null,{"$f":"IF('IMPORTED DATA'!M250<>\"\",'IMPORTED DATA'!M250,\"\")","v":""},{"$f":"IF('IMPORTED DATA'!N250<>\"\",'IMPORTED DATA'!N250,IF('IMPORTED DATA'!$B$461=0,\"\",COUNTIFS(Table5[EEO CATEGORY],'TRANSFORMED DATA'!$B415,Table5[ISSUPERVISOR],1)))","v":""},null,null,{"$f":"IF('IMPORTED DATA'!M275<>\"\",'IMPORTED DATA'!M275,\"\")","v":""},{"$f":"IF('IMPORTED DATA'!N275<>\"\",'IMPORTED DATA'!N275,IF('IMPORTED DATA'!$B$461=0,\"\",COUNTIFS(Table5[EEO CATEGORY],'TRANSFORMED DATA'!$B415,Table5[ISExecutive],1)))","v":""}]
["Faculty",null,{"$f":"IF('IMPORTED DATA'!N226<>\"\",'IMPORTED DATA'!N226,IF('IMPORTED DATA'!$B$461=0,\"\",COUNTIF(Table5[EEO CATEGORY],'TRANSFORMED DATA'!A416)))","v":""},null,null,{"$f":"IF('IMPORTED DATA'!M251<>\"\",'IMPORTED DATA'!M251,\"\")","v":""},{"$f":"IF('IMPORTED DATA'!N251<>\"\",'IMPORTED DATA'!N251,IF('IMPORTED DATA'!$B$461=0,\"\",COUNTIFS(Table5[EEO CATEGORY],'TRANSFORMED DATA'!$B416,Table5[ISSUPERVISOR],1)))","v":""},null,null,{"$f":"IF('IMPORTED DATA'!M276<>\"\",'IMPORTED DATA'!M276,\"\")","v":""},{"$f":"IF('IMPORTED DATA'!N276<>\"\",'IMPORTED DATA'!N276,IF('IMPORTED DATA'!$B$461=0,\"\",COUNTIFS(Table5[EEO CATEGORY],'TRANSFORMED DATA'!$B416,Table5[ISExecutive],1)))","v":""}]
["Other",null,{"$f":"IF('IMPORTED DATA'!N227<>\"\",'IMPORTED DATA'!N227,IF('IMPORTED DATA'!$B$461=0,\"\",COUNTIF(Table5[EEO CATEGORY],'TRANSFORMED DATA'!A417)))","v":""},null,null,{"$f":"IF('IMPORTED DATA'!M252<>\"\",'IMPORTED DATA'!M252,\"\")","v":""},{"$f":"IF('IMPORTED DATA'!N252<>\"\",'IMPORTED DATA'!N252,IF('IMPORTED DATA'!$B$461=0,\"\",COUNTIFS(Table5[EEO CATEGORY],'TRANSFORMED DATA'!$B417,Table5[ISSUPERVISOR],1)))","v":""},null,null,{"$f":"IF('IMPORTED DATA'!M277<>\"\",'IMPORTED DATA'!M277,\"\")","v":""},{"$f":"IF('IMPORTED DATA'!N277<>\"\",'IMPORTED DATA'!N277,IF('IMPORTED DATA'!$B$461=0,\"\",COUNTIFS(Table5[EEO CATEGORY],'TRANSFORMED DATA'!$B417,Table5[ISExecutive],1)))","v":""}]
[]
[]
[null,{"$f":"CONCATENATE(\"FY\",RIGHT('DHRM ADMIN'!$P$15,2)-2)","v":"FY21"},{"$f":"CONCATENATE(\"FY\",RIGHT('DHRM ADMIN'!$P$15,2)-1)","v":"FY22"},{"$f":"CONCATENATE(\"FY\",RIGHT('DHRM ADMIN'!$P$15,2))","v":"FY23"},null,{"$f":"CONCATENATE(\"FY\",RIGHT('DHRM ADMIN'!$P$15,2)-2)","v":"FY21"},{"$f":"CONCATENATE(\"FY\",RIGHT('DHRM ADMIN'!$P$15,2)-1)","v":"FY22"},{"$f":"CONCATENATE(\"FY\",RIGHT('DHRM ADMIN'!$P$15,2))","v":"FY23"},null,{"$f":"CONCATENATE(\"FY\",RIGHT('DHRM ADMIN'!$P$15,2)-2)","v":"FY21"},{"$f":"CONCATENATE(\"FY\",RIGHT('DHRM ADMIN'!$P$15,2)-1)","v":"FY22"},{"$f":"CONCATENATE(\"FY\",RIGHT('DHRM ADMIN'!$P$15,2))","v":"FY23"}]
[null,{"$f":"IF('IMPORTED DATA'!M228<>\"\",'IMPORTED DATA'!M228,\"\")","v":""},{"$f":"IF('IMPORTED DATA'!N228<>\"\",'IMPORTED DATA'!N228,IF('IMPORTED DATA'!$B$461=0,\"\",COUNTIF(Table5[EMPLOYEE CATEGORY],'TRANSFORMED DATA'!A421)))","v":""},null,null,{"$f":"IF('IMPORTED DATA'!M253<>\"\",'IMPORTED DATA'!M253,\"\")","v":""},{"$f":"IF('IMPORTED DATA'!N253<>\"\",'IMPORTED DATA'!N253,IF('IMPORTED DATA'!$B$461=0,\"\",COUNTIFS(Table5[EMPLOYEE CATEGORY],'TRANSFORMED DATA'!$B421,Table5[ISSUPERVISOR],1)))","v":""},null,null,{"$f":"IF('IMPORTED DATA'!M278<>\"\",'IMPORTED DATA'!M278,\"\")","v":""},{"$f":"IF('IMPORTED DATA'!N278<>\"\",'IMPORTED DATA'!N278,IF('IMPORTED DATA'!$B$461=0,\"\",COUNTIFS(Table5[EMPLOYEE CATEGORY],'TRANSFORMED DATA'!$B421,Table5[ISExecutive],1)))","v":""}]
[null,{"$f":"IF('IMPORTED DATA'!M229<>\"\",'IMPORTED DATA'!M229,\"\")","v":""},{"$f":"IF('IMPORTED DATA'!N229<>\"\",'IMPORTED DATA'!N229,IF('IMPORTED DATA'!$B$461=0,\"\",COUNTIF(Table5[EMPLOYEE CATEGORY],'TRANSFORMED DATA'!A422)))","v":""},null,null,{"$f":"IF('IMPORTED DATA'!M254<>\"\",'IMPORTED DATA'!M254,\"\")","v":""},{"$f":"IF('IMPORTED DATA'!N254<>\"\",'IMPORTED DATA'!N254,IF('IMPORTED DATA'!$B$461=0,\"\",COUNTIFS(Table5[EMPLOYEE CATEGORY],'TRANSFORMED DATA'!$B422,Table5[ISSUPERVISOR],1)))","v":""},null,null,{"$f":"IF('IMPORTED DATA'!M279<>\"\",'IMPORTED DATA'!M279,\"\")","v":""},{"$f":"IF('IMPORTED DATA'!N279<>\"\",'IMPORTED DATA'!N279,IF('IMPORTED DATA'!$B$461=0,\"\",COUNTIFS(Table5[EMPLOYEE CATEGORY],'TRANSFORMED DATA'!$B422,Table5[ISExecutive],1)))","v":""}]
[null,{"$f":"IF('IMPORTED DATA'!M230<>\"\",'IMPORTED DATA'!M230,\"\")","v":""},{"$f":"IF('IMPORTED DATA'!N230<>\"\",'IMPORTED DATA'!N230,IF('IMPORTED DATA'!$B$461=0,\"\",COUNTIF(Table5[EMPLOYEE CATEGORY],'TRANSFORMED DATA'!A423)))","v":""},null,null,{"$f":"IF('IMPORTED DATA'!M255<>\"\",'IMPORTED DATA'!M255,\"\")","v":""},{"$f":"IF('IMPORTED DATA'!N255<>\"\",'IMPORTED DATA'!N255,IF('IMPORTED DATA'!$B$461=0,\"\",COUNTIFS(Table5[EMPLOYEE CATEGORY],'TRANSFORMED DATA'!$B423,Table5[ISSUPERVISOR],1)))","v":""},null,null,{"$f":"IF('IMPORTED DATA'!M280<>\"\",'IMPORTED DATA'!M280,\"\")","v":""},{"$f":"IF('IMPORTED DATA'!N280<>\"\",'IMPORTED DATA'!N280,IF('IMPORTED DATA'!$B$461=0,\"\",COUNTIFS(Table5[EMPLOYEE CATEGORY],'TRANSFORMED DATA'!$B423,Table5[ISExecutive],1)))","v":""}]
[null,{"$f":"IF('IMPORTED DATA'!M231<>\"\",'IMPORTED DATA'!M231,\"\")","v":""},{"$f":"IF('IMPORTED DATA'!N231<>\"\",'IMPORTED DATA'!N231,IF('IMPORTED DATA'!$B$461=0,\"\",COUNTIF(Table5[EMPLOYEE CATEGORY],'TRANSFORMED DATA'!A424)))","v":""},null,null,{"$f":"IF('IMPORTED DATA'!M256<>\"\",'IMPORTED DATA'!M256,\"\")","v":""},{"$f":"IF('IMPORTED DATA'!N256<>\"\",'IMPORTED DATA'!N256,IF('IMPORTED DATA'!$B$461=0,\"\",COUNTIFS(Table5[EMPLOYEE CATEGORY],'TRANSFORMED DATA'!$B424,Table5[ISSUPERVISOR],1)))","v":""},null,null,{"$f":"IF('IMPORTED DATA'!M281<>\"\",'IMPORTED DATA'!M281,\"\")","v":""},{"$f":"IF('IMPORTED DATA'!N281<>\"\",'IMPORTED DATA'!N281,IF('IMPORTED DATA'!$B$461=0,\"\",COUNTIFS(Table5[EMPLOYEE CATEGORY],'TRANSFORMED DATA'!$B424,Table5[ISExecutive],1)))","v":""}]
[null,{"$f":"IF('IMPORTED DATA'!M232<>\"\",'IMPORTED DATA'!M232,\"\")","v":""},{"$f":"IF('IMPORTED DATA'!N232<>\"\",'IMPORTED DATA'!N232,IF('IMPORTED DATA'!$B$461=0,\"\",COUNTIF(Table5[EMPLOYEE CATEGORY],'TRANSFORMED DATA'!A425)))","v":""},null,null,{"$f":"IF('IMPORTED DATA'!M257<>\"\",'IMPORTED DATA'!M257,\"\")","v":""},{"$f":"IF('IMPORTED DATA'!N257<>\"\",'IMPORTED DATA'!N257,IF('IMPORTED DATA'!$B$461=0,\"\",COUNTIFS(Table5[EMPLOYEE CATEGORY],'TRANSFORMED DATA'!$B425,Table5[ISSUPERVISOR],1)))","v":""},null,null,{"$f":"IF('IMPORTED DATA'!M282<>\"\",'IMPORTED DATA'!M282,\"\")","v":""},{"$f":"IF('IMPORTED DATA'!N282<>\"\",'IMPORTED DATA'!N282,IF('IMPORTED DATA'!$B$461=0,\"\",COUNTIFS(Table5[EMPLOYEE CATEGORY],'TRANSFORMED DATA'!$B425,Table5[ISExecutive],1)))","v":""}]
[null,{"$f":"IF('IMPORTED DATA'!M233<>\"\",'IMPORTED DATA'!M233,\"\")","v":""},{"$f":"IF('IMPORTED DATA'!N233<>\"\",'IMPORTED DATA'!N233,IF('IMPORTED DATA'!$B$461=0,\"\",COUNTIF(Table5[EMPLOYEE CATEGORY],'TRANSFORMED DATA'!A426)))","v":""},null,null,{"$f":"IF('IMPORTED DATA'!M258<>\"\",'IMPORTED DATA'!M258,\"\")","v":""},{"$f":"IF('IMPORTED DATA'!N258<>\"\",'IMPORTED DATA'!N258,IF('IMPORTED DATA'!$B$461=0,\"\",COUNTIFS(Table5[EMPLOYEE CATEGORY],'TRANSFORMED DATA'!$B426,Table5[ISSUPERVISOR],1)))","v":""},null,null,{"$f":"IF('IMPORTED DATA'!M283<>\"\",'IMPORTED DATA'!M283,\"\")","v":""},{"$f":"IF('IMPORTED DATA'!N283<>\"\",'IMPORTED DATA'!N283,IF('IMPORTED DATA'!$B$461=0,\"\",COUNTIFS(Table5[EMPLOYEE CATEGORY],'TRANSFORMED DATA'!$B426,Table5[ISExecutive],1)))","v":""}]
[null,{"$f":"IF('IMPORTED DATA'!M234<>\"\",'IMPORTED DATA'!M234,\"\")","v":""},{"$f":"IF('IMPORTED DATA'!N234<>\"\",'IMPORTED DATA'!N234,IF('IMPORTED DATA'!$B$461=0,\"\",COUNTIF(Table5[EMPLOYEE CATEGORY],'TRANSFORMED DATA'!A427)))","v":""},null,null,{"$f":"IF('IMPORTED DATA'!M259<>\"\",'IMPORTED DATA'!M259,\"\")","v":""},{"$f":"IF('IMPORTED DATA'!N259<>\"\",'IMPORTED DATA'!N259,IF('IMPORTED DATA'!$B$461=0,\"\",COUNTIFS(Table5[EMPLOYEE CATEGORY],'TRANSFORMED DATA'!$B427,Table5[ISSUPERVISOR],1)))","v":""},null,null,{"$f":"IF('IMPORTED DATA'!M284<>\"\",'IMPORTED DATA'!M284,\"\")","v":""},{"$f":"IF('IMPORTED DATA'!N284<>\"\",'IMPORTED DATA'!N284,IF('IMPORTED DATA'!$B$461=0,\"\",COUNTIFS(Table5[EMPLOYEE CATEGORY],'TRANSFORMED DATA'!$B427,Table5[ISExecutive],1)))","v":""}]
[null,{"$f":"IF('IMPORTED DATA'!M235<>\"\",'IMPORTED DATA'!M235,\"\")","v":""},{"$f":"IF('IMPORTED DATA'!N235<>\"\",'IMPORTED DATA'!N235,IF('IMPORTED DATA'!$B$461=0,\"\",COUNTIF(Table5[EMPLOYEE CATEGORY],'TRANSFORMED DATA'!A428)))","v":""},null,null,{"$f":"IF('IMPORTED DATA'!M260<>\"\",'IMPORTED DATA'!M260,\"\")","v":""},{"$f":"IF('IMPORTED DATA'!N260<>\"\",'IMPORTED DATA'!N260,IF('IMPORTED DATA'!$B$461=0,\"\",COUNTIFS(Table5[EMPLOYEE CATEGORY],'TRANSFORMED DATA'!$B428,Table5[ISSUPERVISOR],1)))","v":""},null,null,{"$f":"IF('IMPORTED DATA'!M285<>\"\",'IMPORTED DATA'!M285,\"\")","v":""},{"$f":"IF('IMPORTED DATA'!N285<>\"\",'IMPORTED DATA'!N285,IF('IMPORTED DATA'!$B$461=0,\"\",COUNTIFS(Table5[EMPLOYEE CATEGORY],'TRANSFORMED DATA'!$B428,Table5[ISExecutive],1)))","v":""}]
[null,{"$f":"IF('IMPORTED DATA'!M236<>\"\",'IMPORTED DATA'!M236,\"\")","v":""},{"$f":"IF('IMPORTED DATA'!N236<>\"\",'IMPORTED DATA'!N236,IF('IMPORTED DATA'!$B$461=0,\"\",COUNTIF(Table5[EMPLOYEE CATEGORY],'TRANSFORMED DATA'!A429)))","v":""},null,null,{"$f":"IF('IMPORTED DATA'!M261<>\"\",'IMPORTED DATA'!M261,\"\")","v":""},{"$f":"IF('IMPORTED DATA'!N261<>\"\",'IMPORTED DATA'!N261,IF('IMPORTED DATA'!$B$461=0,\"\",COUNTIFS(Table5[EMPLOYEE CATEGORY],'TRANSFORMED DATA'!$B429,Table5[ISSUPERVISOR],1)))","v":""},null,null,{"$f":"IF('IMPORTED DATA'!M286<>\"\",'IMPORTED DATA'!M286,\"\")","v":""},{"$f":"IF('IMPORTED DATA'!N286<>\"\",'IMPORTED DATA'!N286,IF('IMPORTED DATA'!$B$461=0,\"\",COUNTIFS(Table5[EMPLOYEE CATEGORY],'TRANSFORMED DATA'!$B429,Table5[ISExecutive],1)))","v":""}]
[null,{"$f":"IF('IMPORTED DATA'!M237<>\"\",'IMPORTED DATA'!M237,\"\")","v":""},{"$f":"IF('IMPORTED DATA'!N237<>\"\",'IMPORTED DATA'!N237,IF('IMPORTED DATA'!$B$461=0,\"\",COUNTIF(Table5[EMPLOYEE CATEGORY],'TRANSFORMED DATA'!A430)))","v":""},null,null,{"$f":"IF('IMPORTED DATA'!M262<>\"\",'IMPORTED DATA'!M262,\"\")","v":""},{"$f":"IF('IMPORTED DATA'!N262<>\"\",'IMPORTED DATA'!N262,IF('IMPORTED DATA'!$B$461=0,\"\",COUNTIFS(Table5[EMPLOYEE CATEGORY],'TRANSFORMED DATA'!$B430,Table5[ISSUPERVISOR],1)))","v":""},null,null,{"$f":"IF('IMPORTED DATA'!M287<>\"\",'IMPORTED DATA'!M287,\"\")","v":""},{"$f":"IF('IMPORTED DATA'!N287<>\"\",'IMPORTED DATA'!N287,IF('IMPORTED DATA'!$B$461=0,\"\",COUNTIFS(Table5[EMPLOYEE CATEGORY],'TRANSFORMED DATA'!$B430,Table5[ISExecutive],1)))","v":""}]
[null,{"$f":"IF('IMPORTED DATA'!M238<>\"\",'IMPORTED DATA'!M238,\"\")","v":""},{"$f":"IF('IMPORTED DATA'!N238<>\"\",'IMPORTED DATA'!N238,IF('IMPORTED DATA'!$B$461=0,\"\",COUNTIF(Table5[EMPLOYEE CATEGORY],'TRANSFORMED DATA'!A431)))","v":""},null,null,{"$f":"IF('IMPORTED DATA'!M263<>\"\",'IMPORTED DATA'!M263,\"\")","v":""},{"$f":"IF('IMPORTED DATA'!N263<>\"\",'IMPORTED DATA'!N263,IF('IMPORTED DATA'!$B$461=0,\"\",COUNTIFS(Table5[EMPLOYEE CATEGORY],'TRANSFORMED DATA'!$B431,Table5[ISSUPERVISOR],1)))","v":""},null,null,{"$f":"IF('IMPORTED DATA'!M288<>\"\",'IMPORTED DATA'!M288,\"\")","v":""},{"$f":"IF('IMPORTED DATA'!N288<>\"\",'IMPORTED DATA'!N288,IF('IMPORTED DATA'!$B$461=0,\"\",COUNTIFS(Table5[EMPLOYEE CATEGORY],'TRANSFORMED DATA'!$B431,Table5[ISExecutive],1)))","v":""}]
[null,{"$f":"IF('IMPORTED DATA'!M239<>\"\",'IMPORTED DATA'!M239,\"\")","v":""},{"$f":"IF('IMPORTED DATA'!N239<>\"\",'IMPORTED DATA'!N239,IF('IMPORTED DATA'!$B$461=0,\"\",COUNTIF(Table5[EMPLOYEE CATEGORY],'TRANSFORMED DATA'!A432)))","v":""},null,null,{"$f":"IF('IMPORTED DATA'!M264<>\"\",'IMPORTED DATA'!M264,\"\")","v":""},{"$f":"IF('IMPORTED DATA'!N264<>\"\",'IMPORTED DATA'!N264,IF('IMPORTED DATA'!$B$461=0,\"\",COUNTIFS(Table5[EMPLOYEE CATEGORY],'TRANSFORMED DATA'!$B432,Table5[ISSUPERVISOR],1)))","v":""},null,null,{"$f":"IF('IMPORTED DATA'!M289<>\"\",'IMPORTED DATA'!M289,\"\")","v":""},{"$f":"IF('IMPORTED DATA'!N289<>\"\",'IMPORTED DATA'!N289,IF('IMPORTED DATA'!$B$461=0,\"\",COUNTIFS(Table5[EMPLOYEE CATEGORY],'TRANSFORMED DATA'!$B432,Table5[ISExecutive],1)))","v":""}]
[null,{"$f":"IF('IMPORTED DATA'!M240<>\"\",'IMPORTED DATA'!M240,\"\")","v":""},{"$f":"IF('IMPORTED DATA'!N240<>\"\",'IMPORTED DATA'!N240,IF('IMPORTED DATA'!$B$461=0,\"\",COUNTIF(Table5[EMPLOYEE CATEGORY],'TRANSFORMED DATA'!A433)))","v":""},null,null,{"$f":"IF('IMPORTED DATA'!M265<>\"\",'IMPORTED DATA'!M265,\"\")","v":""},{"$f":"IF('IMPORTED DATA'!N265<>\"\",'IMPORTED DATA'!N265,IF('IMPORTED DATA'!$B$461=0,\"\",COUNTIFS(Table5[EMPLOYEE CATEGORY],'TRANSFORMED DATA'!$B433,Table5[ISSUPERVISOR],1)))","v":""},null,null,{"$f":"IF('IMPORTED DATA'!M290<>\"\",'IMPORTED DATA'!M290,\"\")","v":""},{"$f":"IF('IMPORTED DATA'!N290<>\"\",'IMPORTED DATA'!N290,IF('IMPORTED DATA'!$B$461=0,\"\",COUNTIFS(Table5[EMPLOYEE CATEGORY],'TRANSFORMED DATA'!$B433,Table5[ISExecutive],1)))","v":""}]
[null,{"$f":"IF('IMPORTED DATA'!M241<>\"\",'IMPORTED DATA'!M241,\"\")","v":""},{"$f":"IF('IMPORTED DATA'!N241<>\"\",'IMPORTED DATA'!N241,IF('IMPORTED DATA'!$B$461=0,\"\",COUNTIF(Table5[EMPLOYEE CATEGORY],'TRANSFORMED DATA'!A434)))","v":""},null,null,{"$f":"IF('IMPORTED DATA'!M266<>\"\",'IMPORTED DATA'!M266,\"\")","v":""},{"$f":"IF('IMPORTED DATA'!N266<>\"\",'IMPORTED DATA'!N266,IF('IMPORTED DATA'!$B$461=0,\"\",COUNTIFS(Table5[EMPLOYEE CATEGORY],'TRANSFORMED DATA'!$B434,Table5[ISSUPERVISOR],1)))","v":""},null,null,{"$f":"IF('IMPORTED DATA'!M291<>\"\",'IMPORTED DATA'!M291,\"\")","v":""},{"$f":"IF('IMPORTED DATA'!N291<>\"\",'IMPORTED DATA'!N291,IF('IMPORTED DATA'!$B$461=0,\"\",COUNTIFS(Table5[EMPLOYEE CATEGORY],'TRANSFORMED DATA'!$B434,Table5[ISExecutive],1)))","v":""}]
[null,{"$f":"IF('IMPORTED DATA'!M242<>\"\",'IMPORTED DATA'!M242,\"\")","v":""},{"$f":"IF('IMPORTED DATA'!N242<>\"\",'IMPORTED DATA'!N242,IF('IMPORTED DATA'!$B$461=0,\"\",COUNTIF(Table5[EMPLOYEE CATEGORY],'TRANSFORMED DATA'!A435)))","v":""},null,null,{"$f":"IF('IMPORTED DATA'!M267<>\"\",'IMPORTED DATA'!M267,\"\")","v":""},{"$f":"IF('IMPORTED DATA'!N267<>\"\",'IMPORTED DATA'!N267,IF('IMPORTED DATA'!$B$461=0,\"\",COUNTIFS(Table5[EMPLOYEE CATEGORY],'TRANSFORMED DATA'!$B435,Table5[ISSUPERVISOR],1)))","v":""},null,null,{"$f":"IF('IMPORTED DATA'!M292<>\"\",'IMPORTED DATA'!M292,\"\")","v":""},{"$f":"IF('IMPORTED DATA'!N292<>\"\",'IMPORTED DATA'!N292,IF('IMPORTED DATA'!$B$461=0,\"\",COUNTIFS(Table5[EMPLOYEE CATEGORY],'TRANSFORMED DATA'!$B435,Table5[ISExecutive],1)))","v":""}]

{"sheet":"REPORTDATA","index":10,"n_rows":0,"n_cols":0,"rows_kept":0,"cut":false,"hidden":true,"merged":[]}

{"sheet":"DHRM ADMIN","index":11,"n_rows":38,"n_cols":16,"rows_kept":38,"cut":false,"hidden":true,"merged":[[5,2,7,14],[8,2,9,14],[11,1,12,15],[20,1,21,15],[23,3,23,15]]}
[]
[]
[]
[]
[]
[null,null,"DHRM ADMIN"]
[]
[]
[null,null,"The DHRM Admin tab is for annual updates, such as changes to Fiscal Years, and tracks the maintenance of the tool versions."]
[]
[]
[null,"File Maintenance"]
[]
[]
[null,null,null,null,null,null,null,null,null,null,null,null,null,null,"To update the Fiscal Year references throughout the workbook, enter the fiscal year of the reporting period:",2023]
[null,null,null,null,null,null,null,null,null,null,null,null,null,null,"To change the number of years in the workforce insights, how many prior years should this tool include (MAX OF 5):",2]
[]
[]
[]
[]
[null,"Version Notes"]
[]
[]
[null,null,"Version Number","Version Notes"]
[]
[null,null,"Version 2023.1","Initial FY 2022 Released to Agencies"]
[]
[null,null,"Version 2023.1.1","Added a filter to the importing Internal Reivew mact after importing the Internal Tool"]
[]
[null,null,"Version 2023.1.2","Fixed an issue with the EOP import that reference the incorrect columns to paste in"]
[null,null,null,"Updated formatting for Objectives on Tranformed Data Tab to wrap text correctly"]
[]
[null,null,"Version 2023.1.3","Fixed a typo in the complete indicator in column R for workforce details classification formula"]
[null,null,null,"Added the textbox picture logo for the formatted workforce summary that was missing"]
[]
[null,null,"Version 2023.1.4","Fixed an issue where the complete indicators on the agency workforce tab were referencing the incorrect cells"]
[]
[null,null,"Version 2023.2","Fixed an issue where the complete indicators on the agency details tab were referencing the incorrect cells"]

{"sheet":"IMPORTED DATA","index":12,"n_rows":465,"n_cols":83,"rows_kept":465,"cut":false,"hidden":true,"merged":[[462,21,462,25],[5,2,7,14],[9,1,9,15],[349,1,349,15],[462,0,462,4],[5,19,7,31]]}
[]
[]
[null,null,null,null,null,null,null,null,null,null,null,null,null,null,null,null,null,null,null,null,null,null,null,24,25,26,27,28,29,30,31,32,33,34,35,36,37,38,39,40,41,42,43,44,45,46,47,48,49,50,51,52,53,54,55,56,57,58,59,60,61,62,63,64,65,66,67,68,69,70,71,72,73,74,75,76,77,78,79,80,81,82,83]
[]
[]
[null,null,"IMPORTED DATA",null,null,null,null,null,null,null,null,null,null,null,null,null,null,null,null,"INTERNAL PLAN IMPORTS"]
[]
[]
[]
[null,"Agency Profile (for Prior yEAR)",null,null,null,null,null,null,null,null,null,null,null,null,null,null,null,null,null,null,null,null,null,{"$f":"COUNTA(X13:CE13)+24","v":24}]
[]
[null,null,null,null,null,null,null,null,null,null,null,null,null,"FY21","FY22",null,null,null,null,null,"Totals",null,"Include Data?",{"$f":"IFERROR(VLOOKUP(X13,'INTERNAL TOOL SETTINGS'!$A:$B,2,FALSE),\"\")","v":""},{"$f":"IFERROR(VLOOKUP(Y13,'INTERNAL TOOL SETTINGS'!$A:$B,2,FALSE),\"\")","v":""},{"$f":"IFERROR(VLOOKUP(Z13,'INTERNAL TOOL SETTINGS'!$A:$B,2,FALSE),\"\")","v":""},{"$f":"IFERROR(VLOOKUP(AA13,'INTERNAL TOOL SETTINGS'!$A:$B,2,FALSE),\"\")","v":""},{"$f":"IFERROR(VLOOKUP(AB13,'INTERNAL TOOL SETTINGS'!$A:$B,2,FALSE),\"\")","v":""},{"$f":"IFERROR(VLOOKUP(AC13,'INTERNAL TOOL SETTINGS'!$A:$B,2,FALSE),\"\")","v":""},{"$f":"IFERROR(VLOOKUP(AD13,'INTERNAL TOOL SETTINGS'!$A:$B,2,FALSE),\"\")","v":""},{"$f":"IFERROR(VLOOKUP(AE13,'INTERNAL TOOL SETTINGS'!$A:$B,2,FALSE),\"\")","v":""},{"$f":"IFERROR(VLOOKUP(AF13,'INTERNAL TOOL SETTINGS'!$A:$B,2,FALSE),\"\")","v":""},{"$f":"IFERROR(VLOOKUP(AG13,'INTERNAL TOOL SETTINGS'!$A:$B,2,FALSE),\"\")","v":""},{"$f":"IFERROR(VLOOKUP(AH13,'INTERNAL TOOL SETTINGS'!$A:$B,2,FALSE),\"\")","v":""},{"$f":"IFERROR(VLOOKUP(AI13,'INTERNAL TOOL SETTINGS'!$A:$B,2,FALSE),\"\")","v":""},{"$f":"IFERROR(VLOOKUP(AJ13,'INTERNAL TOOL SETTINGS'!$A:$B,2,FALSE),\"\")","v":""},{"$f":"IFERROR(VLOOKUP(AK13,'INTERNAL TOOL SETTINGS'!$A:$B,2,FALSE),\"\")","v":""},{"$f":"IFERROR(VLOOKUP(AL13,'INTERNAL TOOL SETTINGS'!$A:$B,2,FALSE),\"\")","v":""},{"$f":"IFERROR(VLOOKUP(AM13,'INTERNAL TOOL SETTINGS'!$A:$B,2,FALSE),\"\")","v":""},{"$f":"IFERROR(VLOOKUP(AN13,'INTERNAL TOOL SETTINGS'!$A:$B,2,FALSE),\"\")","v":""},{"$f":"IFERROR(VLOOKUP(AO13,'INTERNAL TOOL SETTINGS'!$A:$B,2,FALSE),\"\")","v":""},{"$f":"IFERROR(VLOOKUP(AP13,'INTERNAL TOOL SETTINGS'!$A:$B,2,FALSE),\"\")","v":""},{"$f":"IFERROR(VLOOKUP(AQ13,'INTERNAL TOOL SETTINGS'!$A:$B,2,FALSE),\"\")","v":""},{"$f":"IFERROR(VLOOKUP(AR13,'INTERNAL TOOL SETTINGS'!$A:$B,2,FALSE),\"\")","v":""},{"$f":"IFERROR(VLOOKUP(AS13,'INTERNAL TOOL SETTINGS'!$A:$B,2,FALSE),\"\")","v":""},{"$f":"IFERROR(VLOOKUP(AT13,'INTERNAL TOOL SETTINGS'!$A:$B,2,FALSE),\"\")","v":""},{"$f":"IFERROR(VLOOKUP(AU13,'INTERNAL TOOL SETTINGS'!$A:$B,2,FALSE),\"\")","v":""},{"$f":"IFERROR(VLOOKUP(AV13,'INTERNAL TOOL SETTINGS'!$A:$B,2,FALSE),\"\")","v":""},{"$f":"IFERROR(VLOOKUP(AW13,'INTERNAL TOOL SETTINGS'!$A:$B,2,FALSE),\"\")","v":""},{"$f":"IFERROR(VLOOKUP(AX13,'INTERNAL TOOL SETTINGS'!$A:$B,2,FALSE),\"\")","v":""},{"$f":"IFERROR(VLOOKUP(AY13,'INTERNAL TOOL SETTINGS'!$A:$B,2,FALSE),\"\")","v":""},{"$f":"IFERROR(VLOOKUP(AZ13,'INTERNAL TOOL SETTINGS'!$A:$B,2,FALSE),\"\")","v":""},{"$f":"IFERROR(VLOOKUP(BA13,'INTERNAL TOOL SETTINGS'!$A:$B,2,FALSE),\"\")","v":""},{"$f":"IFERROR(VLOOKUP(BB13,'INTERNAL TOOL SETTINGS'!$A:$B,2,FALSE),\"\")","v":""},{"$f":"IFERROR(VLOOKUP(BC13,'INTERNAL TOOL SETTINGS'!$A:$B,2,FALSE),\"\")","v":""},{"$f":"IFERROR(VLOOKUP(BD13,'INTERNAL TOOL SETTINGS'!$A:$B,2,FALSE),\"\")","v":""},{"$f":"IFERROR(VLOOKUP(BE13,'INTERNAL TOOL SETTINGS'!$A:$B,2,FALSE),\"\")","v":""},{"$f":"IFERROR(VLOOKUP(BF13,'INTERNAL TOOL SETTINGS'!$A:$B,2,FALSE),\"\")","v":""},{"$f":"IFERROR(VLOOKUP(BG13,'INTERNAL TOOL SETTINGS'!$A:$B,2,FALSE),\"\")","v":""},{"$f":"IFERROR(VLOOKUP(BH13,'INTERNAL TOOL SETTINGS'!$A:$B,2,FALSE),\"\")","v":""},{"$f":"IFERROR(VLOOKUP(BI13,'INTERNAL TOOL SETTINGS'!$A:$B,2,FALSE),\"\")","v":""},{"$f":"IFERROR(VLOOKUP(BJ13,'INTERNAL TOOL SETTINGS'!$A:$B,2,FALSE),\"\")","v":""},{"$f":"IFERROR(VLOOKUP(BK13,'INTERNAL TOOL SETTINGS'!$A:$B,2,FALSE),\"\")","v":""},{"$f":"IFERROR(VLOOKUP(BL13,'INTERNAL TOOL SETTINGS'!$A:$B,2,FALSE),\"\")","v":""},{"$f":"IFERROR(VLOOKUP(BM13,'INTERNAL TOOL SETTINGS'!$A:$B,2,FALSE),\"\")","v":""},{"$f":"IFERROR(VLOOKUP(BN13,'INTERNAL TOOL SETTINGS'!$A:$B,2,FALSE),\"\")","v":""},{"$f":"IFERROR(VLOOKUP(BO13,'INTERNAL TOOL SETTINGS'!$A:$B,2,FALSE),\"\")","v":""},{"$f":"IFERROR(VLOOKUP(BP13,'INTERNAL TOOL SETTINGS'!$A:$B,2,FALSE),\"\")","v":""},{"$f":"IFERROR(VLOOKUP(BQ13,'INTERNAL TOOL SETTINGS'!$A:$B,2,FALSE),\"\")","v":""},{"$f":"IFERROR(VLOOKUP(BR13,'INTERNAL TOOL SETTINGS'!$A:$B,2,FALSE),\"\")","v":""},{"$f":"IFERROR(VLOOKUP(BS13,'INTERNAL TOOL SETTINGS'!$A:$B,2,FALSE),\"\")","v":""},{"$f":"IFERROR(VLOOKUP(BT13,'INTERNAL TOOL SETTINGS'!$A:$B,2,FALSE),\"\")","v":""},{"$f":"IFERROR(VLOOKUP(BU13,'INTERNAL TOOL SETTINGS'!$A:$B,2,FALSE),\"\")","v":""},{"$f":"IFERROR(VLOOKUP(BV13,'INTERNAL TOOL SETTINGS'!$A:$B,2,FALSE),\"\")","v":""},{"$f":"IFERROR(VLOOKUP(BW13,'INTERNAL TOOL SETTINGS'!$A:$B,2,FALSE),\"\")","v":""},{"$f":"IFERROR(VLOOKUP(BX13,'INTERNAL TOOL SETTINGS'!$A:$B,2,FALSE),\"\")","v":""},{"$f":"IFERROR(VLOOKUP(BY13,'INTERNAL TOOL SETTINGS'!$A:$B,2,FALSE),\"\")","v":""},{"$f":"IFERROR(VLOOKUP(BZ13,'INTERNAL TOOL SETTINGS'!$A:$B,2,FALSE),\"\")","v":""},{"$f":"IFERROR(VLOOKUP(CA13,'INTERNAL TOOL SETTINGS'!$A:$B,2,FALSE),\"\")","v":""},{"$f":"IFERROR(VLOOKUP(CB13,'INTERNAL TOOL SETTINGS'!$A:$B,2,FALSE),\"\")","v":""},{"$f":"IFERROR(VLOOKUP(CC13,'INTERNAL TOOL SETTINGS'!$A:$B,2,FALSE),\"\")","v":""},{"$f":"IFERROR(VLOOKUP(CD13,'INTERNAL TOOL SETTINGS'!$A:$B,2,FALSE),\"\")","v":""},{"$f":"IFERROR(VLOOKUP(CE13,'INTERNAL TOOL SETTINGS'!$A:$B,2,FALSE),\"\")","v":""}]
[null,"Classifications","Descirption","Executive Team Position #","Workign Title","Degree of Sep","Appointed","Age","YOS","And/OR","Age+YOS",null,null,null,null,null,null,null,null,1,null,null," Agency Name"]
[null,null,null,null,null,null,null,null,null,null,null,null,null,null,null,null,null,null,null,2,null,null," Secretariat"]
[null,null,null,null,null,null,null,null,null,null,null,null,null,null,null,null,null,null,null,3,null,null," Agency Number"]
[null,null,null,null,null,null,null,null,null,null,null,null,null,null,null,null,null,null,null,4,null,null,"Agency Mission"]
[null,null,null,null,null,null,null,null,null,null,null,null,null,null,null,null,null,null,null,5,null,null,"Classification 1"]
[null,null,null,null,null,null,null,null,null,null,null,null,null,null,null,null,null,null,null,6,null,null,"Classification 2"]
[null,null,null,null,null,null,null,null,null,null,null,null,null,null,null,null,null,null,null,7,null,null,"Classification 3"]
[null,null,null,null,null,null,null,null,null,null,null,null,null,null,null,null,null,null,null,8,null,null,"Classification 4"]
[null,null,null,null,null,null,null,null,null,null,null,null,null,null,null,null,null,null,null,9,null,null,"Classification 5"]
[null,null,null,null,null,null,null,null,null,null,null,null,null,null,null,null,null,null,null,10,null,null,"Classification 6"]
[null,null,null,null,null,null,null,null,null,null,null,null,null,null,null,null,null,null,null,11,null,null,"Classification 7"]
[null,null,null,null,null,null,null,null,null,null,null,null,null,null,null,null,null,null,null,12,null,null,"Classification 8"]
[null,null,null,null,null,null,null,null,null,null,null,null,null,null,null,null,null,null,null,13,null,null,"Classification 9"]
[null,null,null,null,null,null,null,null,null,null,null,null,null,null,null,null,null,null,null,14,null,null,"Classification 10"]
[null,null,null,null,null,null,null,null,null,null,null,null,null,null,null,null,null,null,null,15,null,null,"Classification 11"]
[null,null,null,null,null,null,null,null,null,null,null,null,null,null,null,null,null,null,null,16,null,null,"Classification 12"]
[null,null,null,null,null,null,null,null,null,null,null,null,null,null,null,null,null,null,null,17,null,null,"Classification 13"]
[null,null,null,null,null,null,null,null,null,null,null,null,null,null,null,null,null,null,null,18,null,null,"Classification 14"]
[null,null,null,null,null,null,null,null,null,null,null,null,null,null,null,null,null,null,null,19,null,null,"Classification 15"]
[null,null,null,null,null,null,null,null,null,null,null,null,null,null,null,null,null,null,null,20,{"$f":"SUMIF($X$12:$CE$12,TRUE,X32:CE32)","v":0},null,"Total Positions with EEO Code \"Officials and Administrators\""]
[null,null,null,null,null,null,null,null,null,null,null,null,null,null,null,null,null,null,null,21,{"$f":"SUMIF($X$12:$CE$12,TRUE,X33:CE33)","v":0},null,"Total Positions with EEO Code \"Professionals\""]
[null,null,null,null,null,null,null,null,null,null,null,null,null,null,null,null,null,null,null,22,0,null,"Total Positions with EEO Code \"Technicians\""]
[null,null,null,null,null,null,null,null,null,null,null,null,null,null,null,null,null,null,null,23,0,null,"Total Positions with EEO Code \"Protective Service Workers\""]
[null,null,null,null,null,null,null,null,null,null,null,null,null,null,null,null,null,null,null,24,0,null,"Total Positions with EEO Code \"Paraprofessionals\""]
[null,null,null,null,null,null,null,null,null,null,null,null,null,null,null,null,null,null,null,25,0,null,"Total Positions with EEO Code \"Administrative Support\""]
[null,null,null,null,null,null,null,null,null,null,null,null,null,null,null,null,null,null,null,26,0,null,"Total Positions with EEO Code \"Skilled Craft Workers\""]
[null,null,null,null,null,null,null,null,null,null,null,null,null,null,null,null,null,null,null,27,0,null,"Total Positions with EEO Code \"Service/Maintenance\""]
[null,null,null,null,null,null,null,null,null,null,null,null,null,null,null,null,null,null,null,28,0,null,"Total Positions with EEO Code \"Faculty\""]
[null,null,null,null,null,null,null,null,null,null,null,null,null,null,null,null,null,null,null,29,0,null,"Total Positions with EEO Code \"Other\""]
[null,null,null,null,null,null,null,null,null,null,null,null,null,null,null,null,null,null,null,30,0,null,1]
[null,null,null,null,null,null,null,null,null,null,null,null,null,null,null,null,null,null,null,31,0,null,1]
[null,null,null,null,null,null,null,null,null,null,null,null,null,null,null,null,null,null,null,32,0,null,0]
[null,null,null,null,null,null,null,null,null,null,null,null,null,null,null,null,null,null,null,33,0,null,0]
[null,null,null,null,null,null,null,null,null,null,null,null,null,null,null,null,null,null,null,34,0,null,0]
[null,null,null,null,null,null,null,null,null,null,null,null,null,null,null,null,null,null,null,35,0,null,0]
[null,null,null,null,null,null,null,null,null,null,null,null,null,null,null,null,null,null,null,36,0,null,0]
[null,null,null,null,null,null,null,null,null,null,null,null,null,null,null,null,null,null,null,37,0,null,0]
[null,null,null,null,null,null,null,null,null,null,null,null,null,null,null,null,null,null,null,38,0,null,0]
[null,null,null,null,null,null,null,null,null,null,null,null,null,null,null,null,null,null,null,39,0,null,0]
[null,null,null,null,null,null,null,null,null,null,null,null,null,null,null,null,null,null,null,40,0,null,0]
[null,null,null,null,null,null,null,null,null,null,null,null,null,null,null,null,null,null,null,41,0,null,0]
[null,null,null,null,null,null,null,null,null,null,null,null,null,null,null,null,null,null,null,42,0,null,0]
[null,null,null,null,null,null,null,null,null,null,null,null,null,null,null,null,null,null,null,43,0,null,0]
[null,null,null,null,null,null,null,null,null,null,null,null,null,null,null,null,null,null,null,44,0,null,0]
[null,null,null,null,null,null,null,null,null,null,null,null,null,null,null,null,null,null,null,45,0,null,"Total Leader Positions with EEO Code \"Officials and Administrators\""]
[null,null,null,null,null,null,null,null,null,null,null,null,null,null,null,null,null,null,null,46,0,null,"Total Leader Positions with EEO Code \"Professionals\""]
[null,null,null,null,null,null,null,null,null,null,null,null,null,null,null,null,null,null,null,47,0,null,"Total Leader Positions with EEO Code \"Technicians\""]
[null,null,null,null,null,null,null,null,null,null,null,null,null,null,null,null,null,null,null,48,0,null,"Total Leader Positions with EEO Code \"Protective Service Workers\""]
[null,null,null,null,null,null,null,null,null,null,null,null,null,null,null,null,null,null,null,49,0,null,"Total Leader Positions with EEO Code \"Paraprofessionals\""]
[null,null,null,null,null,null,null,null,null,null,null,null,null,null,null,null,null,null,null,50,0,null,"Total Leader Positions with EEO Code \"Administrative Support\""]
[null,null,null,null,null,null,null,null,null,null,null,null,null,null,null,null,null,null,null,51,0,null,"Total Leader Positions with EEO Code \"Skilled Craft Workers\""]
[null,null,null,null,null,null,null,null,null,null,null,null,null,null,null,null,null,null,null,52,0,null,"Total Leader Positions with EEO Code \"Service/Maintenance\""]
[null,null,null,null,null,null,null,null,null,null,null,null,null,null,null,null,null,null,null,53,0,null,"Total Leader Positions with EEO Code \"Faculty\""]
[null,null,null,null,null,null,null,null,null,null,null,null,null,null,null,null,null,null,null,54,0,null,"Total Leader Positions with EEO Code \"Other\""]
[null,null,null,null,null,null,null,null,null,null,null,null,null,null,null,null,null,null,null,55,0,null,1]
[null,null,null,null,null,null,null,null,null,null,null,null,null,null,null,null,null,null,null,56,0,null,1]
[null,null,null,null,null,null,null,null,null,null,null,null,null,null,null,null,null,null,null,57,0,null,0]
[null,null,null,null,null,null,null,null,null,null,null,null,null,null,null,null,null,null,null,58,0,null,0]
[null,null,null,null,null,null,null,null,null,null,null,null,null,null,null,null,null,null,null,59,0,null,0]
[null,null,null,null,null,null,null,null,null,null,null,null,null,null,null,null,null,null,null,60,0,null,0]
[null,null,null,null,null,null,null,null,null,null,null,null,null,null,null,null,null,null,null,61,0,null,0]
[null,null,null,null,null,null,null,null,null,null,null,null,null,null,null,null,null,null,null,62,0,null,0]
[null,null,null,null,null,null,null,null,null,null,null,null,null,null,null,null,null,null,null,63,0,null,0]
[null,null,null,null,null,null,null,null,null,null,null,null,null,null,null,null,null,null,null,64,0,null,0]
[null,null,null,null,null,null,null,null,null,null,null,null,null,null,null,null,null,null,null,65,0,null,0]
[null,null,null,null,null,null,null,null,null,null,null,null,null,null,null,null,null,null,null,66,0,null,0]
[null,null,null,null,null,null,null,null,null,null,null,null,null,null,null,null,null,null,null,67,0,null,0]
[null,null,null,null,null,null,null,null,null,null,null,null,null,null,null,null,null,null,null,68,0,null,0]
[null,null,null,null,null,null,null,null,null,null,null,null,null,null,null,null,null,null,null,69,0,null,0]
[null,null,null,null,null,null,null,null,null,null,null,null,null,null,null,null,null,null,null,70,0,null,"Total Executive Positions with EEO Code \"Officials and Administrators\""]
[null,null,null,null,null,null,null,null,null,null,null,null,null,null,null,null,null,null,null,71,0,null,"Total Executive Positions with EEO Code \"Professionals\""]
[null,null,null,null,null,null,null,null,null,null,null,null,null,null,null,null,null,null,null,72,0,null,"Total Executive Positions with EEO Code \"Technicians\""]
[null,null,null,null,null,null,null,null,null,null,null,null,null,null,null,null,null,null,null,73,0,null,"Total Executive Positions with EEO Code \"Protective Service Workers\""]
[null,null,null,null,null,null,null,null,null,null,null,null,null,null,null,null,null,null,null,74,0,null,"Total Executive Positions with EEO Code \"Paraprofessionals\""]
[null,null,null,null,null,null,null,null,null,null,null,null,null,null,null,null,null,null,null,75,0,null,"Total Executive Positions with EEO Code \"Administrative Support\""]
[null,null,null,null,null,null,null,null,null,null,null,null,null,null,null,null,null,null,null,76,0,null,"Total Executive Positions with EEO Code \"Skilled Craft Workers\""]
[null,null,null,null,null,null,null,null,null,null,null,null,null,null,null,null,null,null,null,77,0,null,"Total Executive Positions with EEO Code \"Service/Maintenance\""]
[null,null,null,null,null,null,null,null,null,null,null,null,null,null,null,null,null,null,null,78,0,null,"Total Executive Positions with EEO Code \"Faculty\""]
[null,null,null,null,null,null,null,null,null,null,null,null,null,null,null,null,null,null,null,79,0,null,"Total Executive Positions with EEO Code \"Other\""]
[null,null,null,null,null,null,null,null,null,null,null,null,null,null,null,null,null,null,null,80,0,null,1]
[null,null,null,null,null,null,null,null,null,null,null,null,null,null,null,null,null,null,null,81,0,null,1]
[null,null,null,null,null,null,null,null,null,null,null,null,null,null,null,null,null,null,null,82,0,null,1]
[null,null,null,null,null,null,null,null,null,null,null,null,null,null,null,null,null,null,null,83,0,null,0]
[null,null,null,null,null,null,null,null,null,null,null,null,null,null,null,null,null,null,null,84,0,null,0]
[null,null,null,null,null,null,null,null,null,null,null,null,null,null,null,null,null,null,null,85,{"$f":"SUMIF($X$12:$CE$12,TRUE,X97:CE97)","v":0},null,0]
[null,null,null,null,null,null,null,null,null,null,null,null,null,null,null,null,null,null,null,86,0,null,0]
[null,null,null,null,null,null,null,null,null,null,null,null,null,null,null,null,null,null,null,87,0,null,0]
[null,null,null,null,null,null,null,null,null,null,null,null,null,null,null,null,null,null,null,88,0,null,0]
[null,null,null,null,null,null,null,null,null,null,null,null,null,null,null,null,null,null,null,89,0,null,0]
[null,null,null,null,null,null,null,null,null,null,null,null,null,null,null,null,null,null,null,90,0,null,0]
[null,null,null,null,null,null,null,null,null,null,null,null,null,null,null,null,null,null,null,91,0,null,0]
[null,null,null,null,null,null,null,null,null,null,null,null,null,null,null,null,null,null,null,92,0,null,0]
[null,null,null,null,null,null,null,null,null,null,null,null,null,null,null,null,null,null,null,93,0,null,0]
[null,null,null,null,null,null,null,null,null,null,null,null,null,null,null,null,null,null,null,94,0,null,0]
[null,null,null,null,null,null,null,null,null,null,null,null,null,null,null,null,null,null,null,95,0,null,"Total Male Employees"]
[null,null,null,null,null,null,null,null,null,null,null,null,null,null,null,null,null,null,null,96,0,null,"Total Female Employees"]
[null,null,null,null,null,null,null,null,null,null,null,null,null,null,null,null,null,null,null,97,0,null,"Total American Indian or Alaskan Native Employees"]
[null,null,null,null,null,null,null,null,null,null,null,null,null,null,null,null,null,null,null,98,0,null,"Total Asian Employees"]
[null,null,null,null,null,null,null,null,null,null,null,null,null,null,null,null,null,null,null,99,0,null,"Total Black or African American Employees"]
[null,null,null,null,null,null,null,null,null,null,null,null,null,null,null,null,null,null,null,100,0,null,"Total Hispanic or Latino Employees"]
[null,null,null,null,null,null,null,null,null,null,null,null,null,null,null,null,null,null,null,101,0,null,"Total Native Hawaiian or Other Pac. Islander Employees"]
[null,null,null,null,null,null,null,null,null,null,null,null,null,null,null,null,null,null,null,102,0,null,"Total White Employees"]
[null,null,null,null,null,null,null,null,null,null,null,null,null,null,null,null,null,null,null,103,0,null,"Two or More Races"]
[null,null,null,null,null,null,null,null,null,null,null,null,null,null,null,null,null,null,null,104,0,null,"Total Race Unknown or not Entered Employees"]
[null,null,null,null,null,null,null,null,null,null,null,null,null,null,null,null,null,null,null,105,0,null,"Total EEO Code Officials and Administrators"]
[null,null,null,null,null,null,null,null,null,null,null,null,null,null,null,null,null,null,null,106,0,null,"Total EEO Code Professionals"]
[null,null,null,null,null,null,null,null,null,null,null,null,null,null,null,null,null,null,null,107,0,null,"Total EEO Code Technicians"]
[null,null,null,null,null,null,null,null,null,null,null,null,null,null,null,null,null,null,null,108,0,null,"Total EEO Code Protective Service Workers"]
[null,null,null,null,null,null,null,null,null,null,null,null,null,null,null,null,null,null,null,109,0,null,"Total EEO Code Paraprofessionals"]
[null,null,null,null,null,null,null,null,null,null,null,null,null,null,null,null,null,null,null,110,0,null,"Total EEO Code Administrative Support"]
[null,null,null,null,null,null,null,null,null,null,null,null,null,null,null,null,null,null,null,111,0,null,"Total EEO Code Skilled Craft Workers"]
[null,null,null,null,null,null,null,null,null,null,null,null,null,null,null,null,null,null,null,112,0,null,"Total EEO Code Service/Maintenance"]
[null,null,null,null,null,null,null,null,null,null,null,null,null,null,null,null,null,null,null,113,0,null,"Total EEO Code Faculty"]
[null,null,null,null,null,null,null,null,null,null,null,null,null,null,null,null,null,null,null,114,0,null,"Total EEO Code Other"]
[null,null,null,null,null,null,null,null,null,null,null,null,null,null,null,null,null,null,null,115,0,null,1]
[null,null,null,null,null,null,null,null,null,null,null,null,null,null,null,null,null,null,null,116,0,null,1]
[null,null,null,null,null,null,null,null,null,null,null,null,null,null,null,null,null,null,null,117,0,null,0]
[null,null,null,null,null,null,null,null,null,null,null,null,null,null,null,null,null,null,null,118,0,null,0]
[null,null,null,null,null,null,null,null,null,null,null,null,null,null,null,null,null,null,null,119,0,null,0]
[null,null,null,null,null,null,null,null,null,null,null,null,null,null,null,null,null,null,null,120,0,null,0]
[null,null,null,null,null,null,null,null,null,null,null,null,null,null,null,null,null,null,null,121,0,null,0]
[null,null,null,null,null,null,null,null,null,null,null,null,null,null,null,null,null,null,null,122,0,null,0]
[null,null,null,null,null,null,null,null,null,null,null,null,null,null,null,null,null,null,null,123,0,null,0]
[null,null,null,null,null,null,null,null,null,null,null,null,null,null,null,null,null,null,null,124,0,null,0]
[null,null,null,null,null,null,null,null,null,null,null,null,null,null,null,null,null,null,null,125,0,null,0]
[null,null,null,null,null,null,null,null,null,null,null,null,null,null,null,null,null,null,null,126,0,null,0]
[null,null,null,null,null,null,null,null,null,null,null,null,null,null,null,null,null,null,null,127,0,null,0]
[null,null,null,null,null,null,null,null,null,null,null,null,null,null,null,null,null,null,null,128,0,null,0]
[null,null,null,null,null,null,null,null,null,null,null,null,null,null,null,null,null,null,null,129,0,null,0]
[null,null,null,null,null,null,null,null,null,null,null,null,null,null,null,null,null,null,null,130,0,null,"Total Employees with Disabilities"]
[null,null,null,null,null,null,null,null,null,null,null,null,null,null,null,null,null,null,null,131,0,null,"Total Veterans"]
[null,null,null,null,null,null,null,null,null,null,null,null,null,null,null,null,null,null,null,132,0,null,1]
[null,null,null,null,null,null,null,null,null,null,null,null,null,null,null,null,null,null,null,133,0,null,1]
[null,null,null,null,null,null,null,null,null,null,null,null,null,null,null,null,null,null,null,134,0,null,"Total American Indian or Alaskan Native Leaders"]
[null,null,null,null,null,null,null,null,null,null,null,null,null,null,null,null,null,null,null,135,0,null,"Total Asian Leaders"]
[null,null,null,null,null,null,null,null,null,null,null,null,null,null,null,null,null,null,null,136,0,null,"Total Black or African American Leaders"]
[null,null,null,null,null,null,null,null,null,null,null,null,null,null,null,null,null,null,null,137,0,null,"Total Hispanic or Latino Leaders"]
[null,null,null,null,null,null,null,null,null,null,null,null,null,null,null,null,null,null,null,138,0,null,"Total Native Hawaiian or Other Pac. Islander Leaders"]
[null,null,null,null,null,null,null,null,null,null,null,null,null,null,null,null,null,null,null,139,0,null,"Total White Leaders"]
[null,null,null,null,null,null,null,null,null,null,null,null,null,null,null,null,null,null,null,140,0,null,"Two or More Races"]
[null,null,null,null,null,null,null,null,null,null,null,null,null,null,null,null,null,null,null,141,0,null,"Total Race Unknown or not Entered Leaders"]
[null,null,null,null,null,null,null,null,null,null,null,null,null,null,null,null,null,null,null,142,0,null,"Total Leader EEO Code Officials and Administrators"]
[null,null,null,null,null,null,null,null,null,null,null,null,null,null,null,null,null,null,null,143,0,null,"Total Leader EEO Code Professionals"]
[null,null,null,null,null,null,null,null,null,null,null,null,null,null,null,null,null,null,null,144,0,null,"Total Leader EEO Code Technicians"]
[null,null,null,null,null,null,null,null,null,null,null,null,null,null,null,null,null,null,null,145,0,null,"Total Leader EEO Code Protective Service Workers"]
[null,null,null,null,null,null,null,null,null,null,null,null,null,null,null,null,null,null,null,146,0,null,"Total Leader EEO Code Paraprofessionals"]
[null,null,null,null,null,null,null,null,null,null,null,null,null,null,null,null,null,null,null,147,0,null,"Total Leader EEO Code Administrative Support"]
[null,null,null,null,null,null,null,null,null,null,null,null,null,null,null,null,null,null,null,148,0,null,"Total Leader EEO Code Skilled Craft Workers"]
[null,null,null,null,null,null,null,null,null,null,null,null,null,null,null,null,null,null,null,149,{"$f":"SUMIF($X$12:$CE$12,TRUE,X161:CE161)","v":0},null,"Total Leader EEO Code Service/Maintenance"]
[null,null,null,null,null,null,null,null,null,null,null,null,null,null,null,null,null,null,null,150,0,null,"Total Leader EEO Code Faculty"]
[null,null,null,null,null,null,null,null,null,null,null,null,null,null,null,null,null,null,null,151,0,null,"Total Leader EEO Code Other"]
[null,null,null,null,null,null,null,null,null,null,null,null,null,null,null,null,null,null,null,152,0,null,1]
[null,null,null,null,null,null,null,null,null,null,null,null,null,null,null,null,null,null,null,153,0,null,1]
[null,null,null,null,null,null,null,null,null,null,null,null,null,null,null,null,null,null,null,154,0,null,0]
[null,null,null,null,null,null,null,null,null,null,null,null,null,null,null,null,null,null,null,155,0,null,0]
[null,null,null,null,null,null,null,null,null,null,null,null,null,null,null,null,null,null,null,156,0,null,0]
[null,null,null,null,null,null,null,null,null,null,null,null,null,null,null,null,null,null,null,157,0,null,0]
[null,null,null,null,null,null,null,null,null,null,null,null,null,null,null,null,null,null,null,158,0,null,0]
[null,null,null,null,null,null,null,null,null,null,null,null,null,null,null,null,null,null,null,159,0,null,0]
[null,null,null,null,null,null,null,null,null,null,null,null,null,null,null,null,null,null,null,160,0,null,0]
[null,null,null,null,null,null,null,null,null,null,null,null,null,null,null,null,null,null,null,161,0,null,0]
[null,null,null,null,null,null,null,null,null,null,null,null,null,null,null,null,null,null,null,162,0,null,0]
[null,null,null,null,null,null,null,null,null,null,null,null,null,null,null,null,null,null,null,163,0,null,0]
[null,null,null,null,null,null,null,null,null,null,null,null,null,null,null,null,null,null,null,164,0,null,0]
[null,null,null,null,null,null,null,null,null,null,null,null,null,null,null,null,null,null,null,165,0,null,0]
[null,null,null,null,null,null,null,null,null,null,null,null,null,null,null,null,null,null,null,166,0,null,0]
[null,null,null,null,null,null,null,null,null,null,null,null,null,null,null,null,null,null,null,167,0,null,"Total Leaders with Disabilities"]
[null,null,null,null,null,null,null,null,null,null,null,null,null,null,null,null,null,null,null,168,0,null,"Total Veterans Leaders"]
[null,null,null,null,null,null,null,null,null,null,null,null,null,null,null,null,null,null,null,169,0,null,"Total Male Executives"]
[null,null,null,null,null,null,null,null,null,null,null,null,null,null,null,null,null,null,null,170,0,null,"Total Female Executives"]
[null,null,null,null,null,null,null,null,null,null,null,null,null,null,null,null,null,null,null,171,0,null,"Total American Indian or Alaskan Native Executives"]
[null,null,null,null,null,null,null,null,null,null,null,null,null,null,null,null,null,null,null,172,0,null,"Total Asian Executives"]
[null,null,null,null,null,null,null,null,null,null,null,null,null,null,null,null,null,null,null,173,0,null,"Total Black or African American Executives"]
[null,null,null,null,null,null,null,null,null,null,null,null,null,null,null,null,null,null,null,174,0,null,"Total Hispanic or Latino Executives"]
[null,null,null,null,null,null,null,null,null,null,null,null,null,null,null,null,null,null,null,175,0,null,"Total Native Hawaiian or Other Pac. Islander Executives"]
[null,null,null,null,null,null,null,null,null,null,null,null,null,null,null,null,null,null,null,176,0,null,"Total White Executives"]
[null,null,null,null,null,null,null,null,null,null,null,null,null,null,null,null,null,null,null,177,0,null,"Two or More Races"]
[null,null,null,null,null,null,null,null,null,null,null,null,null,null,null,null,null,null,null,178,0,null,"Total Race Unknown or not Entered Executives"]
[null,null,null,null,null,null,null,null,null,null,null,null,null,null,null,null,null,null,null,179,0,null,"Total Executive EEO Code Officials and Administrators"]
[null,null,null,null,null,null,null,null,null,null,null,null,null,null,null,null,null,null,null,180,0,null,"Total Executive EEO Code Professionals"]
[null,null,null,null,null,null,null,null,null,null,null,null,null,null,null,null,null,null,null,181,0,null,"Total Executive EEO Code Technicians"]
[null,null,null,null,null,null,null,null,null,null,null,null,null,null,null,null,null,null,null,182,0,null,"Total Executive EEO Code Protective Service Workers"]
[null,null,null,null,null,null,null,null,null,null,null,null,null,null,null,null,null,null,null,183,0,null,"Total Executive EEO Code Paraprofessionals"]
[null,null,null,null,null,null,null,null,null,null,null,null,null,null,null,null,null,null,null,184,0,null,"Total Executive EEO Code Administrative Support"]
[null,null,null,null,null,null,null,null,null,null,null,null,null,null,null,null,null,null,null,185,0,null,"Total Executive EEO Code Skilled Craft Workers"]
[null,null,null,null,null,null,null,null,null,null,null,null,null,null,null,null,null,null,null,186,0,null,"Total Executive EEO Code Service/Maintenance"]
[null,null,null,null,null,null,null,null,null,null,null,null,null,null,null,null,null,null,null,187,0,null,"Total Executive EEO Code Faculty"]
[null,null,null,null,null,null,null,null,null,null,null,null,null,null,null,null,null,null,null,188,0,null,"Total Executive EEO Code Other"]
[null,null,null,null,null,null,null,null,null,null,null,null,null,null,null,null,null,null,null,189,0,null,1]
[null,null,null,null,null,null,null,null,null,null,null,null,null,null,null,null,null,null,null,190,0,null,1]
[null,null,null,null,null,null,null,null,null,null,null,null,null,null,null,null,null,null,null,191,0,null,0]
[null,null,null,null,null,null,null,null,null,null,null,null,null,null,null,null,null,null,null,192,0,null,0]
[null,null,null,null,null,null,null,null,null,null,null,null,null,null,null,null,null,null,null,193,0,null,0]
[null,null,null,null,null,null,null,null,null,null,null,null,null,null,null,null,null,null,null,194,0,null,0]
[null,null,null,null,null,null,null,null,null,null,null,null,null,null,null,null,null,null,null,195,0,null,0]
[null,null,null,null,null,null,null,null,null,null,null,null,null,null,null,null,null,null,null,196,0,null,0]
[null,null,null,null,null,null,null,null,null,null,null,null,null,null,null,null,null,null,null,197,0,null,0]
[null,null,null,null,null,null,null,null,null,null,null,null,null,null,null,null,null,null,null,198,0,null,0]
[null,null,null,null,null,null,null,null,null,null,null,null,null,null,null,null,null,null,null,199,0,null,0]
[null,null,null,null,null,null,null,null,null,null,null,null,null,null,null,null,null,null,null,200,0,null,0]
[null,null,null,null,null,null,null,null,null,null,null,null,null,null,null,null,null,null,null,201,0,null,0]
[null,null,null,null,null,null,null,null,null,null,null,null,null,null,null,null,null,null,null,202,0,null,0]
[null,null,null,null,null,null,null,null,null,null,null,null,null,null,null,null,null,null,null,203,0,null,0]
[null,null,null,null,null,null,null,null,null,null,null,null,null,null,null,null,null,null,null,204,0,null,"Total Executives with Disabilities"]
[null,null,null,null,null,null,null,null,null,null,null,null,null,null,null,null,null,null,null,205,0,null,"Total Veterans"]
[null,null,null,null,null,null,null,null,null,null,null,null,null,null,null,null,null,null,null,206,0,null,"Total Employees with Disabilities EEO Code Officials and Administrators"]
[null,null,null,null,null,null,null,null,null,null,null,null,null,null,null,null,null,null,null,207,0,null,"Total Employees with Disabilities EEO Code Professionals"]
[null,null,null,null,null,null,null,null,null,null,null,null,null,null,null,null,null,null,null,208,0,null,"Total Employees with Disabilities EEO Code Technicians"]
[null,null,null,null,null,null,null,null,null,null,null,null,null,null,null,null,null,null,null,209,0,null,"Total Employees with Disabilities EEO Code Protective Service Workers"]
[null,null,null,null,null,null,null,null,null,null,null,null,null,null,null,null,null,null,null,210,0,null,"Total Employees with Disabilities EEO Code Paraprofessionals"]
[null,null,null,null,null,null,null,null,null,null,null,null,null,null,null,null,null,null,null,211,0,null,"Total Employees with Disabilities EEO Code Administrative Support"]
[null,null,null,null,null,null,null,null,null,null,null,null,null,null,null,null,null,null,null,212,0,null,"Total Employees with Disabilities EEO Code Skilled Craft Workers"]
[null,null,null,null,null,null,null,null,null,null,null,null,null,null,null,null,null,null,null,213,{"$f":"SUMIF($X$12:$CE$12,TRUE,X225:CE225)","v":0},null,"Total Employees with Disabilities EEO Code Service/Maintenance"]
[null,null,null,null,null,null,null,null,null,null,null,null,null,null,null,null,null,null,null,214,0,null,"Total Employees with Disabilities EEO Code Faculty"]
[null,null,null,null,null,null,null,null,null,null,null,null,null,null,null,null,null,null,null,215,0,null,"Total Employees with Disabilities EEO Code Other"]
[null,null,null,null,null,null,null,null,null,null,null,null,null,null,null,null,null,null,null,216,0,null,1]
[null,null,null,null,null,null,null,null,null,null,null,null,null,null,null,null,null,null,null,217,0,null,1]
[null,null,null,null,null,null,null,null,null,null,null,null,null,null,null,null,null,null,null,218,0,null,0]
[null,null,null,null,null,null,null,null,null,null,null,null,null,null,null,null,null,null,null,219,0,null,0]
[null,null,null,null,null,null,null,null,null,null,null,null,null,null,null,null,null,null,null,220,0,null,0]
[null,null,null,null,null,null,null,null,null,null,null,null,null,null,null,null,null,null,null,221,0,null,0]
[null,null,null,null,null,null,null,null,null,null,null,null,null,null,null,null,null,null,null,222,0,null,0]
[null,null,null,null,null,null,null,null,null,null,null,null,null,null,null,null,null,null,null,223,0,null,0]
[null,null,null,null,null,null,null,null,null,null,null,null,null,null,null,null,null,null,null,224,0,null,0]
[null,null,null,null,null,null,null,null,null,null,null,null,null,null,null,null,null,null,null,225,0,null,0]
[null,null,null,null,null,null,null,null,null,null,null,null,null,null,null,null,null,null,null,226,0,null,0]
[null,null,null,null,null,null,null,null,null,null,null,null,null,null,null,null,null,null,null,227,0,null,0]
[null,null,null,null,null,null,null,null,null,null,null,null,null,null,null,null,null,null,null,228,0,null,0]
[null,null,null,null,null,null,null,null,null,null,null,null,null,null,null,null,null,null,null,229,0,null,0]
[null,null,null,null,null,null,null,null,null,null,null,null,null,null,null,null,null,null,null,230,0,null,0]
[null,null,null,null,null,null,null,null,null,null,null,null,null,null,null,null,null,null,null,231,0,null,"Total Veteran EEO Code Officials and Administrators"]
[null,null,null,null,null,null,null,null,null,null,null,null,null,null,null,null,null,null,null,232,0,null,"Total Veteran EEO Code Professionals"]
[null,null,null,null,null,null,null,null,null,null,null,null,null,null,null,null,null,null,null,233,0,null,"Total Veteran EEO Code Technicians"]
[null,null,null,null,null,null,null,null,null,null,null,null,null,null,null,null,null,null,null,234,0,null,"Total Veteran EEO Code Protective Service Workers"]
[null,null,null,null,null,null,null,null,null,null,null,null,null,null,null,null,null,null,null,235,0,null,"Total Veteran EEO Code Paraprofessionals"]
[null,null,null,null,null,null,null,null,null,null,null,null,null,null,null,null,null,null,null,236,0,null,"Total Veteran EEO Code Administrative Support"]
[null,null,null,null,null,null,null,null,null,null,null,null,null,null,null,null,null,null,null,237,0,null,"Total Veteran EEO Code Skilled Craft Workers"]
[null,null,null,null,null,null,null,null,null,null,null,null,null,null,null,null,null,null,null,238,0,null,"Total Veteran EEO Code Service/Maintenance"]
[null,null,null,null,null,null,null,null,null,null,null,null,null,null,null,null,null,null,null,239,0,null,"Total Veteran EEO Code Faculty"]
[null,null,null,null,null,null,null,null,null,null,null,null,null,null,null,null,null,null,null,240,0,null,"Total Veteran EEO Code Other"]
[null,null,null,null,null,null,null,null,null,null,null,null,null,null,null,null,null,null,null,241,0,null,1]
[null,null,null,null,null,null,null,null,null,null,null,null,null,null,null,null,null,null,null,242,0,null,1]
[null,null,null,null,null,null,null,null,null,null,null,null,null,null,null,null,null,null,null,243,0,null,0]
[null,null,null,null,null,null,null,null,null,null,null,null,null,null,null,null,null,null,null,244,0,null,0]
[null,null,null,null,null,null,null,null,null,null,null,null,null,null,null,null,null,null,null,245,0,null,0]
[null,null,null,null,null,null,null,null,null,null,null,null,null,null,null,null,null,null,null,246,0,null,0]
[null,null,null,null,null,null,null,null,null,null,null,null,null,null,null,null,null,null,null,247,0,null,0]
[null,null,null,null,null,null,null,null,null,null,null,null,null,null,null,null,null,null,null,248,0,null,0]
[null,null,null,null,null,null,null,null,null,null,null,null,null,null,null,null,null,null,null,249,0,null,0]
[null,null,null,null,null,null,null,null,null,null,null,null,null,null,null,null,null,null,null,250,0,null,0]
[null,null,null,null,null,null,null,null,null,null,null,null,null,null,null,null,null,null,null,251,0,null,0]
[null,null,null,null,null,null,null,null,null,null,null,null,null,null,null,null,null,null,null,252,0,null,0]
[null,null,null,null,null,null,null,null,null,null,null,null,null,null,null,null,null,null,null,253,0,null,0]
[null,null,null,null,null,null,null,null,null,null,null,null,null,null,null,null,null,null,null,254,0,null,0]
[null,null,null,null,null,null,null,null,null,null,null,null,null,null,null,null,null,null,null,255,0,null,0]
[null,null,null,null,null,null,null,null,null,null,null,null,null,null,null,null,null,null,null,256,null,null,"Strategy Objective 1"]
[null,null,null,null,null,null,null,null,null,null,null,null,null,null,null,null,null,null,null,257,null,null,"Stratety Action Item 2:1 Category"]
[null,null,null,null,null,null,null,null,null,null,null,null,null,null,null,null,null,null,null,258,null,null,"Stratety Action Item 2:1"]
[null,null,null,null,null,null,null,null,null,null,null,null,null,null,null,null,null,null,null,259,null,null,"Stratety Action Item 2:2 Category"]
[null,null,null,null,null,null,null,null,null,null,null,null,null,null,null,null,null,null,null,260,null,null,"Stratety Action Item 2:2"]
[null,null,null,null,null,null,null,null,null,null,null,null,null,null,null,null,null,null,null,261,null,null,"Stratety Action Item 2:3 Category"]
[null,null,null,null,null,null,null,null,null,null,null,null,null,null,null,null,null,null,null,262,null,null,"Stratety Action Item 2:3"]
[null,null,null,null,null,null,null,null,null,null,null,null,null,null,null,null,null,null,null,263,null,null,"Stratety Action Item 2:4 Category"]
[null,null,null,null,null,null,null,null,null,null,null,null,null,null,null,null,null,null,null,264,null,null,"Stratety Action Item 2:4"]
[null,null,null,null,null,null,null,null,null,null,null,null,null,null,null,null,null,null,null,265,null,null,"Stratety Action Item 2:5 Category"]
[null,null,null,null,null,null,null,null,null,null,null,null,null,null,null,null,null,null,null,266,null,null,"Stratety Action Item 2:5"]
[null,null,null,null,null,null,null,null,null,null,null,null,null,null,null,null,null,null,null,267,null,null,"Strategy Objective 2"]
[null,null,null,null,null,null,null,null,null,null,null,null,null,null,null,null,null,null,null,268,null,null,"Stratety Action Item 2:1 Category"]
[null,null,null,null,null,null,null,null,null,null,null,null,null,null,null,null,null,null,null,269,null,null,"Stratety Action Item 2:1"]
[null,null,null,null,null,null,null,null,null,null,null,null,null,null,null,null,null,null,null,270,null,null,"Stratety Action Item 2:2 Category"]
[null,null,null,null,null,null,null,null,null,null,null,null,null,null,null,null,null,null,null,271,null,null,"Stratety Action Item 2:2"]
[null,null,null,null,null,null,null,null,null,null,null,null,null,null,null,null,null,null,null,272,null,null,"Stratety Action Item 2:3 Category"]
[null,null,null,null,null,null,null,null,null,null,null,null,null,null,null,null,null,null,null,273,null,null,"Stratety Action Item 2:3"]
[null,null,null,null,null,null,null,null,null,null,null,null,null,null,null,null,null,null,null,274,null,null,"Stratety Action Item 2:4 Category"]
[null,null,null,null,null,null,null,null,null,null,null,null,null,null,null,null,null,null,null,275,null,null,"Stratety Action Item 2:4"]
[null,null,null,null,null,null,null,null,null,null,null,null,null,null,null,null,null,null,null,276,null,null,"Stratety Action Item 2:5 Category"]
[null,null,null,null,null,null,null,null,null,null,null,null,null,null,null,null,null,null,null,277,null,null,"Stratety Action Item 2:5"]
[null,null,null,null,null,null,null,null,null,null,null,null,null,null,null,null,null,null,null,278,null,null,"Strategy Objective 3"]
[null,null,null,null,null,null,null,null,null,null,null,null,null,null,null,null,null,null,null,279,null,null,"Stratety Action Item 3:1 Category"]
[null,null,null,null,null,null,null,null,null,null,null,null,null,null,null,null,null,null,null,280,null,null,"Stratety Action Item 3:1"]
[null,null,null,null,null,null,null,null,null,null,null,null,null,null,null,null,null,null,null,281,null,null,"Stratety Action Item 3:2 Category"]
[null,null,null,null,null,null,null,null,null,null,null,null,null,null,null,null,null,null,null,282,null,null,"Stratety Action Item 3:2"]
[null,null,null,null,null,null,null,null,null,null,null,null,null,null,null,null,null,null,null,283,null,null,"Stratety Action Item 3:3 Category"]
[null,null,null,null,null,null,null,null,null,null,null,null,null,null,null,null,null,null,null,284,null,null,"Stratety Action Item 3:3"]
[null,null,null,null,null,null,null,null,null,null,null,null,null,null,null,null,null,null,null,285,null,null,"Stratety Action Item 3:4 Category"]
[null,null,null,null,null,null,null,null,null,null,null,null,null,null,null,null,null,null,null,286,null,null,"Stratety Action Item 3:4"]
[null,null,null,null,null,null,null,null,null,null,null,null,null,null,null,null,null,null,null,287,null,null,"Stratety Action Item 3:5 Category"]
[null,null,null,null,null,null,null,null,null,null,null,null,null,null,null,null,null,null,null,288,null,null,"Stratety Action Item 3:5"]
[null,null,null,null,null,null,null,null,null,null,null,null,null,null,null,null,null,null,null,289,null,null,"Strategy Objective 4"]
[null,null,null,null,null,null,null,null,null,null,null,null,null,null,null,null,null,null,null,290,null,null,"Stratety Action Item 4:1 Category"]
[null,null,null,null,null,null,null,null,null,null,null,null,null,null,null,null,null,null,null,291,null,null,"Stratety Action Item 4:1"]
[null,null,null,null,null,null,null,null,null,null,null,null,null,null,null,null,null,null,null,292,null,null,"Stratety Action Item 4:2 Category"]
[null,null,null,null,null,null,null,null,null,null,null,null,null,null,null,null,null,null,null,293,null,null,"Stratety Action Item 4:2"]
[null,null,null,null,null,null,null,null,null,null,null,null,null,null,null,null,null,null,null,294,null,null,"Stratety Action Item 4:3 Category"]
[null,null,null,null,null,null,null,null,null,null,null,null,null,null,null,null,null,null,null,295,null,null,"Stratety Action Item 4:3"]
[null,null,null,null,null,null,null,null,null,null,null,null,null,null,null,null,null,null,null,296,null,null,"Stratety Action Item 4:4 Category"]
[null,null,null,null,null,null,null,null,null,null,null,null,null,null,null,null,null,null,null,297,null,null,"Stratety Action Item 4:4"]
[null,null,null,null,null,null,null,null,null,null,null,null,null,null,null,null,null,null,null,298,null,null,"Stratety Action Item 4:5 Category"]
[null,null,null,null,null,null,null,null,null,null,null,null,null,null,null,null,null,null,null,299,null,null,"Stratety Action Item 4:5"]
[null,null,null,null,null,null,null,null,null,null,null,null,null,null,null,null,null,null,null,300,null,null,"Strategy Objective 5"]
[null,null,null,null,null,null,null,null,null,null,null,null,null,null,null,null,null,null,null,301,null,null,"Stratety Action Item 5:1 Category"]
[null,null,null,null,null,null,null,null,null,null,null,null,null,null,null,null,null,null,null,302,null,null,"Stratety Action Item 5:1"]
[null,null,null,null,null,null,null,null,null,null,null,null,null,null,null,null,null,null,null,303,null,null,"Stratety Action Item 5:2 Category"]
[null,null,null,null,null,null,null,null,null,null,null,null,null,null,null,null,null,null,null,304,null,null,"Stratety Action Item 5:2"]
[null,null,null,null,null,null,null,null,null,null,null,null,null,null,null,null,null,null,null,305,null,null,"Stratety Action Item 5:3 Category"]
[null,null,null,null,null,null,null,null,null,null,null,null,null,null,null,null,null,null,null,306,null,null,"Stratety Action Item 5:3"]
[null,null,null,null,null,null,null,null,null,null,null,null,null,null,null,null,null,null,null,307,null,null,"Stratety Action Item 5:4 Category"]
[null,null,null,null,null,null,null,null,null,null,null,null,null,null,null,null,null,null,null,308,null,null,"Stratety Action Item 5:4"]
[null,null,null,null,null,null,null,null,null,null,null,null,null,null,null,null,null,null,null,309,null,null,"Stratety Action Item 5:5 Category"]
[null,null,null,null,null,null,null,null,null,null,null,null,null,null,null,null,null,null,null,310,null,null,"Stratety Action Item 5:5"]
[null,null,null,null,null,null,null,null,null,null,null,null,null,null,null,null,null,null,null,null,null,null,"Import Status"]
[null,null,null,null,null,null,null,null,null,null,null,null,null,null,null,null,null,null,null,null,null,null,"Import Date"]
[]
[]
[]
[]
[]
[]
[]
[]
[]
[]
[]
[]
[]
[]
[]
[]
[]
[]
[]
[]
[]
[]
[]
[]
[]
[null,"Employment Opportunities Plan Data Import"]
[]
[]
[null,null,null,null,null,null,null,null,null,null,null,null,"Fiscal Year"]
[null,null,null,null,null,null,null,null,null,null,null,null," Agency Name"]
[null,null,null,null,null,null,null,null,null,null,null,null," Secretariat"]
[null,null,null,null,null,null,null,null,null,null,null,null,"Agency Number"]
[null,null,null,null,null,null,null,null,null,null,null,null,"Total Classified Employees at the Agency"]
[null,null,null,null,null,null,null,null,null,null,null,null,"Total Classified Employees with Disabilities at the Agency"]
[null,null,null,null,null,null,null,null,null,null,null,null,"Total Classified Employees with Disabilities who are Leaders/Supervisors (2 or more direct reports)"]
[null,null,null,null,null,null,null,null,null,null,null,null,"Total Classified Employees with Disabilities at the Agency who are Executives"]
[null,null,null,null,null,null,null,null,null,null,null,null,"Total Classified Veterans with Disabilities at the Agency"]
[null,null,null,null,null,null,null,null,null,null,null,null,"Total Classified Veterans with Disabilities who are Leaders/Supervisors (2 or more direct reports)"]
[null,null,null,null,null,null,null,null,null,null,null,null,"Total Classified Veterans with Disabilities at the Agency who are Executives"]
[null,null,null,null,null,null,null,null,null,null,null,null,"Total Classified Hires at the Agency"]
[null,null,null,null,null,null,null,null,null,null,null,null,"Total Classified Hires who were Employees with Disabilities"]
[null,null,null,null,null,null,null,null,null,null,null,null,"Total Classified Employees with Disabilities hired to Leader/Supervisor Role (2 or more direct reports)"]
[null,null,null,null,null,null,null,null,null,null,null,null,"Total Classified Employees with Disabilities hired to Executive Role"]
[null,null,null,null,null,null,null,null,null,null,null,null,"Total Classified Applicants to Positions at the Agency"]
[null,null,null,null,null,null,null,null,null,null,null,null,"Total Classified Applicants who were Employees with Disabilities"]
[null,null,null,null,null,null,null,null,null,null,null,null,"Total Classified Employees with Disabilities that applied for a Leader/Supervisor Role (2 or more direct reports)"]
[null,null,null,null,null,null,null,null,null,null,null,null,"Total Classified Employees with Disabilities that applied for an Executive Role"]
[null,null,null,null,null,null,null,null,null,null,null,null,"Total Applicants that used the Alternative Hiring Process"]
[null,null,null,null,null,null,null,null,null,null,null,null,"Total Individuals Hired from Alternative Hiring Process"]
[null,null,null,null,null,null,null,null,null,null,null,null,"Total Employees Hired through Alternative Hiring Process that transitioned to a Classified Employee"]
[null,null,null,null,null,null,null,null,null,null,null,null,"Average Years of Service at the Agency for Classified Employees"]
[null,null,null,null,null,null,null,null,null,null,null,null,"Average Years of Service for Classified Employees with Disabilities"]
[null,null,null,null,null,null,null,null,null,null,null,null,"Average Years of Service for Classified Employees with Disabilities in a Leader/Supervisor Role (2 or more direct reports)"]
[null,null,null,null,null,null,null,null,null,null,null,null,"Average Years of Service for Classified Employees with Disabilities in an Executive Role"]
[null,null,null,null,null,null,null,null,null,null,null,null,"Total Number of Internal Promotions of Classified Employees at the Agency"]
[null,null,null,null,null,null,null,null,null,null,null,null,"Total Classified Internal Promotions who were Employees with Disabilities"]
[null,null,null,null,null,null,null,null,null,null,null,null,"Total Classified Internal Promotions who were Employees with Disabilities to a Leader/Supervisor Role (2 or more direct reports)"]
[null,null,null,null,null,null,null,null,null,null,null,null,"Total Classified Internal Promotions who were Employees with Disabilities to an Executive Role"]
[null,null,null,null,null,null,null,null,null,null,null,null,"Total Number of Internal Transfers of Classified Employees at the Agency"]
[null,null,null,null,null,null,null,null,null,null,null,null,"Total Classified Internal Transfers who were Employees with Disabilities"]
[null,null,null,null,null,null,null,null,null,null,null,null,"Total Classified Internal Transfers who were Employees with Disabilities to a Leader/Supervisor Role (2 or more direct reports)"]
[null,null,null,null,null,null,null,null,null,null,null,null,"Total Classified Internal Transfers who were Employees with Disabilities to an Executive Role"]
[null,null,null,null,null,null,null,null,null,null,null,null,"Total Number of Voluntary Separations of Classified Employees at the Agency"]
[null,null,null,null,null,null,null,null,null,null,null,null,"Total Classified Voluntary Separations who were Employees with Disabilities"]
[null,null,null,null,null,null,null,null,null,null,null,null,"Total Classified Voluntary Separations who were Employees with Disabilities to a Leader/Supervisor Role (2 or more direct reports)"]
[null,null,null,null,null,null,null,null,null,null,null,null,"Total Classified Voluntary Separations who were Employees with Disabilities to an Executive Role"]
[null,null,null,null,null,null,null,null,null,null,null,null,"Total Number of External Transfers of Classified Employees at the Agency"]
[null,null,null,null,null,null,null,null,null,null,null,null,"Total Classified External Transfers who were Employees with Disabilities"]
[null,null,null,null,null,null,null,null,null,null,null,null,"Total Classified External Transfers who were Employees with Disabilities to a Leader/Supervisor Role (2 or more direct reports)"]
[null,null,null,null,null,null,null,null,null,null,null,null,"Total Classified External Transfers who were Employees with Disabilities to an Executive Role"]
[null,null,null,null,null,null,null,null,null,null,null,null,"Recruitment Stregnths"]
[null,null,null,null,null,null,null,null,null,null,null,null,"Retention Strengths"]
[null,null,null,null,null,null,null,null,null,null,null,null,"Engagement Strengths"]
[null,null,null,null,null,null,null,null,null,null,null,null,"Learning/Development Strengths"]
[null,null,null,null,null,null,null,null,null,null,null,null,"Recruitment Weaknesses"]
[null,null,null,null,null,null,null,null,null,null,null,null,"Retention Weaknesses"]
[null,null,null,null,null,null,null,null,null,null,null,null,"Engagement Weaknesses"]
[null,null,null,null,null,null,null,null,null,null,null,null,"Learning/Development Weaknesses"]
[null,null,null,null,null,null,null,null,null,null,null,null,"Recruitment Opportunities"]
[null,null,null,null,null,null,null,null,null,null,null,null,"Retention Opportunities"]
[null,null,null,null,null,null,null,null,null,null,null,null,"Engagement Opportunities"]
[null,null,null,null,null,null,null,null,null,null,null,null,"Learning/Development Opportunities"]
[null,null,null,null,null,null,null,null,null,null,null,null,"Recruitment Threats"]
[null,null,null,null,null,null,null,null,null,null,null,null,"Retention Threats"]
[null,null,null,null,null,null,null,null,null,null,null,null,"Engagement Threats"]
[null,null,null,null,null,null,null,null,null,null,null,null,"Learning/Development Threats"]
[null,null,null,null,null,null,null,null,null,null,null,null,"Objective 1"]
[null,null,null,null,null,null,null,null,null,null,null,null,"Objective 1 Action 1"]
[null,null,null,null,null,null,null,null,null,null,null,null,"Objective 1 Action 2"]
[null,null,null,null,null,null,null,null,null,null,null,null,"Objective 1 Action 3"]
[null,null,null,null,null,null,null,null,null,null,null,null,"Objective 1 Action 4"]
[null,null,null,null,null,null,null,null,null,null,null,null,"Objective 1 Action 5"]
[null,null,null,null,null,null,null,null,null,null,null,null,"Objective 2"]
[null,null,null,null,null,null,null,null,null,null,null,null,"Objective 2 Action 1"]
[null,null,null,null,null,null,null,null,null,null,null,null,"Objective 2 Action 2"]
[null,null,null,null,null,null,null,null,null,null,null,null,"Objective 2 Action 3"]
[null,null,null,null,null,null,null,null,null,null,null,null,"Objective 2 Action 4"]
[null,null,null,null,null,null,null,null,null,null,null,null,"Objective 2 Action 5"]
[null,null,null,null,null,null,null,null,null,null,null,null,"Objective 3"]
[null,null,null,null,null,null,null,null,null,null,null,null,"Objective 3 Action 1"]
[null,null,null,null,null,null,null,null,null,null,null,null,"Objective 3 Action 2"]
[null,null,null,null,null,null,null,null,null,null,null,null,"Objective 3 Action 3"]
[null,null,null,null,null,null,null,null,null,null,null,null,"Objective 3 Action 4"]
[null,null,null,null,null,null,null,null,null,null,null,null,"Objective 3 Action 5"]
[null,null,null,null,null,null,null,null,null,null,null,null,"Objective 4"]
[null,null,null,null,null,null,null,null,null,null,null,null,"Objective 4 Action 1"]
[null,null,null,null,null,null,null,null,null,null,null,null,"Objective 4 Action 2"]
[null,null,null,null,null,null,null,null,null,null,null,null,"Objective 4 Action 3"]
[null,null,null,null,null,null,null,null,null,null,null,null,"Objective 4 Action 4"]
[null,null,null,null,null,null,null,null,null,null,null,null,"Objective 4 Action 5"]
[null,null,null,null,null,null,null,null,null,null,null,null,"Objective 5"]
[null,null,null,null,null,null,null,null,null,null,null,null,"Objective  5 Action 1"]
[null,null,null,null,null,null,null,null,null,null,null,null,"Objective 5 Action 2"]
[null,null,null,null,null,null,null,null,null,null,null,null,"Objective 5 Action 3"]
[null,null,null,null,null,null,null,null,null,null,null,null,"Objective 5 Action 4"]
[null,null,null,null,null,null,null,null,null,null,null,null,"Objective 5 Action 5"]
[null,null,null,null,null,null,null,null,null,null,null,null,"Executive Summary"]
[null,null,null,null,null,null,null,null,null,null,null,null,"Red Scale"]
[null,null,null,null,null,null,null,null,null,null,null,null,"Yellow Scale"]
[null,null,null,null,null,null,null,null,null,null,null,null,"Green Scale"]
[null,null,null,null,null,null,null,null,null,null,null,null,"SWOT Included in Report"]
[null,null,null,null,null,null,null,null,null,null,null,null,"SWOT Summary"]
[null,null,null,null,null,null,null,null,null,null,null,null,"Strength Summary"]
[null,null,null,null,null,null,null,null,null,null,null,null,"Weaknesses Summary"]
[null,null,null,null,null,null,null,null,null,null,null,null,"Opportunities Summary"]
[null,null,null,null,null,null,null,null,null,null,null,null,"Threats Summary"]
[null,null,null,null,null,null,null,null,null,null,null,null,"Objective 1 Progress Summary"]
[null,null,null,null,null,null,null,null,null,null,null,null,"Objective 2 Progress Summary"]
[null,null,null,null,null,null,null,null,null,null,null,null,"Objective 3 Progress Summary"]
[null,null,null,null,null,null,null,null,null,null,null,null,"Objective 4 Progress Summary"]
[null,null,null,null,null,null,null,null,null,null,null,null,"Objective 5 Progress Summary"]
[]
[]
[]
["PMIS/Template","AGENCY NAME","AGENCY NUMBER","POSITION NUMBER","SUPERVISORS POSITION NUMBER","EMPLOYEE CATEGORY","EEO CATEGORY","RACE DESCRIPTION","GENDER","VETERAN'S STATUS","DISABILITY CODE DESCRIPTION","BIRTHDATE","Total YOS","AGENCY BEGIN DATE","POSITION BEGIN DATE"]
["Cardinal","AGENCY NAME","AGENCY NUMBER","POSITION NUMBER","SUPERVISOR'S POSITION NUMBER",null,"POSITION EEO CATEGORY DESCRIPTION","RACE CODE","SEX/GENDER","VETERAN'S STATUS","HANDICAP CODE","BIRTH DATE","STATE BEGIN DATE","AGENCY BEGIN DATE","CURRENT POSITION BEGIN DATE"]
["Imported Data"]
[]
["Secure Pass, Cardinal, or Blank Template Import",null,null,null,null,null,null,null,null,null,null,null,null,null,null,null,null,null,null,null,null,"RMS Report Template"]
["Row","AGENCY NAME","AGENCY NUMBER","POSITION NUMBER","SUPERVISORS POSITION NUMBER","EMPLOYEE CATEGORY","EEO CATEGORY","RACE DESCRIPTION","GENDER","VETERAN'S STATUS","DISABILITY CODE DESCRIPTION","BIRTHDATE","Total YOS","AGENCY BEGIN DATE","POSITION BEGIN DATE","ISSUPERVISOR","ISExecutive"]
[{"$f":"ROW()","v":465},null,null,null,null,null,null,null,null,null,null,null,null,null,null,{"$f":"IF(COUNTIF(Table5[SUPERVISORS POSITION NUMBER],Table5[POSITION NUMBER])>0,1,0)","v":0},{"$f":"IF(COUNTIF(CUSTOMIZATIONS!$C$70:$D$109,Table5[POSITION NUMBER])>0,1,0)","v":0}]

{"sheet":"TRANSFORMED DATA","index":13,"n_rows":406,"n_cols":53,"rows_kept":406,"cut":false,"hidden":true,"merged":[[13,1,13,4],[13,5,13,14],[14,1,14,4],[14,5,14,14],[15,1,15,4],[15,5,15,14],[5,2,7,14],[11,1,11,4],[11,5,11,14],[12,1,12,4],[12,5,12,14],[19,1,19,4],[19,5,19,14],[20,1,20,4],[20,5,20,14],[21,1,21,4],[21,5,21,14],[16,1,16,4],[16,5,16,14],[17,1,17,4],[17,5,17,14],[18,1,18,4],[18,5,18,14],[33,1,33,2],[33,3,33,9],[33,10,33,12],[33,13,33,14],[25,1,25,4],[25,5,25,14],[27,0,30,2],[27,3,30,14],[22,1,22,4],[22,5,22,14],[23,1,23,4],[23,5,23,14],[24,1,24,4],[24,5,24,14],[36,1,36,2],[36,3,36,9],[36,10,36,12],[36,13,36,14],[37,1,37,2],[37,3,37,9],[37,10,37,12],[37,13,37,14],[34,1,34,2],[34,3,34,9],[34,10,34,12],[34,13,34,14],[35,1,35,2],[35,3,35,9],[35,10,35,12],[35,13,35,14],[40,1,40,2],[40,3,40,9],[40,10,40,12],[40,13,40,14],[41,1,41,2],[41,3,41,9],[41,10,41,12],[41,13,41,14],[38,1,38,2],[38,3,38,9],[38,10,38,12],[38,13,38,14],[39,1,39,2],[39,3,39,9],[39,10,39,12],[39,13,39,14],[44,1,44,2],[44,3,44,9],[44,10,44,12],[44,13,44,14],[45,1,45,2],[45,3,45,9],[45,10,45,12],[45,13,45,14],[42,1,42,2],[42,3,42,9],[42,10,42,12],[42,13,42,14],[43,1,43,2],[43,3,43,9],[43,10,43,12],[43,13,43,14],[48,1,48,2],[48,3,48,9],[48,10,48,12],[48,13,48,14],[49,1,49,2],[49,3,49,9],[49,10,49,12],[49,13,49,14],[46,1,46,2],[46,3,46,9],[46,10,46,12],[46,13,46,14],[47,1,47,2],[47,3,47,9],[47,10,47,12],[47,13,47,14],[52,1,52,2],[52,3,52,9],[52,10,52,12],[52,13,52,14],[53,1,53,2],[53,3,53,9],[53,10,53,12],[53,13,53,14],[50,1,50,2],[50,3,50,9],[50,10,50,12],[50,13,50,14],[51,1,51,2],[51,3,51,9],[51,10,51,12],[51,13,51,14],[56,1,56,2],[56,3,56,9],[56,10,56,12],[56,13,56,14],[57,1,57,2],[57,3,57,9],[57,10,57,12],[57,13,57,14],[54,1,54,2],[54,3,54,9],[54,10,54,12],[54,13,54,14],[55,1,55,2],[55,3,55,9],[55,10,55,12],[55,13,55,14],[60,1,60,2],[60,3,60,9],[60,10,60,12],[60,13,60,14],[61,1,61,2],[61,3,61,9],[61,10,61,12],[61,13,61,14],[58,1,58,2],[58,3,58,9],[58,10,58,12],[58,13,58,14],[59,1,59,2],[59,3,59,9],[59,10,59,12],[59,13,59,14],[64,1,64,2],[64,3,64,9],[64,10,64,12],[64,13,64,14],[65,1,65,2],[65,3,65,9],[65,10,65,12],[65,13,65,14],[62,1,62,2],[62,3,62,9],[62,10,62,12],[62,13,62,14],[63,1,63,2],[63,3,63,9],[63,10,63,12],[63,13,63,14],[68,1,68,2],[68,3,68,9],[68,10,68,12],[68,13,68,14],[69,1,69,2],[69,3,69,9],[69,10,69,12],[69,13,69,14],[66,1,66,2],[66,3,66,9],[66,10,66,12],[66,13,66,14],[67,1,67,2],[67,3,67,9],[67,10,67,12],[67,13,67,14],[72,1,72,2],[72,3,72,9],[72,10,72,12],[72,13,72,14],[74,4,74,6],[74,7,74,9],[74,10,74,12],[74,13,74,15],[70,1,70,2],[70,3,70,9],[70,10,70,12],[70,13,70,14],[71,1,71,2],[71,3,71,9],[71,10,71,12],[71,13,71,14],[77,4,77,6],[77,7,77,9],[77,10,77,12],[77,13,77,15],[76,4,76,6],[76,7,76,9],[76,10,76,12],[76,13,76,15],[75,4,75,6],[75,7,75,9],[75,10,75,12],[75,13,75,15],[80,4,80,6],[80,7,80,9],[80,10,80,12],[80,13,80,15],[79,4,79,6],[79,7,79,9],[79,10,79,12],[79,13,79,15],[78,4,78,6],[78,7,78,9],[78,10,78,12],[78,13,78,15],[83,4,83,6],[83,7,83,9],[83,10,83,12],[83,13,83,15],[82,4,82,6],[82,7,82,9],[82,10,82,12],[82,13,82,15],[81,4,81,6],[81,7,81,9],[81,10,81,12],[81,13,81,15],[86,4,86,6],[86,7,86,9],[86,10,86,12],[86,13,86,15],[85,4,85,6],[85,7,85,9],[85,10,85,12],[85,13,85,15],[84,4,84,6],[84,7,84,9],[84,10,84,12],[84,13,84,15],[89,4,89,6],[89,7,89,9],[89,10,89,12],[89,13,89,15],[88,4,88,6],[88,7,88,9],[88,10,88,12],[88,13,88,15],[87,4,87,6],[87,7,87,9],[87,10,87,12],[87,13,87,15],[92,4,92,6],[92,7,92,9],[92,10,92,12],[92,13,92,15],[91,4,91,6],[91,7,91,9],[91,10,91,12],[91,13,91,15],[90,4,90,6],[90,7,90,9],[90,10,90,12],[90,13,90,15],[95,4,95,6],[95,7,95,9],[95,10,95,12],[95,13,95,15],[94,4,94,6],[94,7,94,9],[94,10,94,12],[94,13,94,15],[93,4,93,6],[93,7,93,9],[93,10,93,12],[93,13,93,15],[98,4,98,6],[98,7,98,9],[98,10,98,12],[98,13,98,15],[97,4,97,6],[97,7,97,9],[97,10,97,12],[97,13,97,15],[96,4,96,6],[96,7,96,9],[96,10,96,12],[96,13,96,15],[103,1,103,7],[105,1,109,12],[100,4,100,6],[100,7,100,9],[100,10,100,12],[100,13,100,15],[99,4,99,6],[99,7,99,9],[99,10,99,12],[99,13,99,15],[119,1,119,4],[119,5,119,14],[120,1,120,4],[120,5,120,14],[121,1,121,4],[121,5,121,14],[112,1,112,4],[112,5,112,14],[113,1,113,4],[113,5,113,14],[114,1,114,4],[114,5,114,14],[115,1,115,4],[115,5,115,14],[116,1,116,4],[116,5,116,14],[117,1,117,4],[117,5,117,14],[118,1,118,4],[118,5,118,14],[125,1,125,4],[125,5,125,14],[128,1,128,2],[128,3,128,4],[128,5,128,8],[128,9,128,10],[128,11,128,12],[128,13,128,14],[122,1,122,4],[122,5,122,14],[123,1,123,4],[123,5,123,14],[124,1,124,4],[124,5,124,14],[129,13,129,14],[130,1,130,2],[130,3,130,4],[130,5,130,8],[130,9,130,10],[130,11,130,12],[130,13,130,14],[129,1,129,2],[129,3,129,4],[129,5,129,8],[129,9,129,10],[129,11,129,12],[131,13,131,14],[132,1,132,2],[132,3,132,4],[132,5,132,8],[132,9,132,10],[132,11,132,12],[132,13,132,14],[131,1,131,2],[131,3,131,4],[131,5,131,8],[131,9,131,10],[131,11,131,12],[133,13,133,14],[134,1,134,2],[134,3,134,4],[134,5,134,8],[134,9,134,10],[134,11,134,12],[134,13,134,14],[133,1,133,2],[133,3,133,4],[133,5,133,8],[133,9,133,10],[133,11,133,12],[135,13,135,14],[136,1,136,2],[136,3,136,4],[136,5,136,8],[136,9,136,10],[136,11,136,12],[136,13,136,14],[135,1,135,2],[135,3,135,4],[135,5,135,8],[135,9,135,10],[135,11,135,12],[137,13,137,14],[138,1,138,2],[138,3,138,4],[138,5,138,8],[138,9,138,10],[138,11,138,12],[138,13,138,14],[137,1,137,2],[137,3,137,4],[137,5,137,8],[137,9,137,10],[137,11,137,12],[139,13,139,14],[140,1,140,2],[140,3,140,4],[140,5,140,8],[140,9,140,10],[140,11,140,12],[140,13,140,14],[139,1,139,2],[139,3,139,4],[139,5,139,8],[139,9,139,10],[139,11,139,12],[141,13,141,14],[142,1,142,2],[142,3,142,4],[142,5,142,8],[142,9,142,10],[142,11,142,12],[142,13,142,14],[141,1,141,2],[141,3,141,4],[141,5,141,8],[141,9,141,10],[141,11,141,12],[143,13,143,14],[144,1,144,2],[144,3,144,4],[144,5,144,8],[144,9,144,10],[144,11,144,12],[144,13,144,14],[143,1,143,2],[143,3,143,4],[143,5,143,8],[143,9,143,10],[143,11,143,12],[145,13,145,14],[146,1,146,2],[146,3,146,4],[146,5,146,8],[146,9,146,10],[146,11,146,12],[146,13,146,14],[145,1,145,2],[145,3,145,4],[145,5,145,8],[145,9,145,10],[145,11,145,12],[147,13,147,14],[148,1,148,2],[148,3,148,4],[148,5,148,8],[148,9,148,10],[148,11,148,12],[148,13,148,14],[147,1,147,2],[147,3,147,4],[147,5,147,8],[147,9,147,10],[147,11,147,12],[149,13,149,14],[150,1,150,2],[150,3,150,4],[150,5,150,8],[150,9,150,10],[150,11,150,12],[150,13,150,14],[149,1,149,2],[149,3,149,4],[149,5,149,8],[149,9,149,10],[149,11,149,12],[151,13,151,14],[152,1,152,2],[152,3,152,4],[152,5,152,8],[152,9,152,10],[152,11,152,12],[152,13,152,14],[151,1,151,2],[151,3,151,4],[151,5,151,8],[151,9,151,10],[151,11,151,12],[160,1,160,5],[161,1,161,5],[162,1,162,5],[163,1,163,5],[164,1,164,5],[155,1,155,5],[156,1,156,5],[157,1,157,5],[158,1,158,5],[159,1,159,5],[170,1,170,5],[171,1,171,5],[172,1,172,5],[173,1,173,5],[174,1,174,5],[165,1,165,5],[166,1,166,5],[167,1,167,5],[168,1,168,5],[169,1,169,5],[180,1,180,5],[181,1,181,5],[182,1,182,5],[183,1,183,5],[184,1,184,5],[175,1,175,5],[176,1,176,5],[177,1,177,5],[178,1,178,5],[179,1,179,5],[190,1,190,5],[191,1,191,5],[192,1,192,5],[193,1,193,5],[194,1,194,5],[185,1,185,5],[186,1,186,5],[187,1,187,5],[188,1,188,5],[189,1,189,5],[200,1,200,5],[201,1,201,5],[202,1,202,5],[203,1,203,5],[204,1,204,5],[195,1,195,5],[196,1,196,5],[197,1,197,5],[198,1,198,5],[199,1,199,5],[160,8,160,12],[161,8,161,12],[162,8,162,12],[163,8,163,12],[164,8,164,12],[155,8,155,12],[156,8,156,12],[157,8,157,12],[158,8,158,12],[159,8,159,12],[170,8,170,12],[171,8,171,12],[172,8,172,12],[173,8,173,12],[174,8,174,12],[165,8,165,12],[166,8,166,12],[167,8,167,12],[168,8,168,12],[169,8,169,12],[180,8,180,12],[181,8,181,12],[182,8,182,12],[183,8,183,12],[184,8,184,12],[175,8,175,12],[176,8,176,12],[177,8,177,12],[178,8,178,12],[179,8,179,12],[27,21,29,29],[36,19,38,29],[42,21,44,29],[45,21,47,29],[48,21,50,29],[9,19,11,29],[15,21,17,29],[18,21,20,29],[21,21,23,29],[24,21,26,29],[75,21,77,29],[78,21,80,29],[81,21,83,29],[90,19,92,29],[96,21,98,29],[51,21,53,29],[54,21,56,29],[63,19,65,29],[69,21,71,29],[72,21,74,29],[123,21,125,29],[126,21,128,29],[129,21,131,29],[132,21,134,29],[135,21,137,29],[99,21,101,29],[102,21,104,29],[105,21,107,29],[108,21,110,29],[117,19,119,29],[162,21,164,29],[171,19,173,29],[177,21,179,29],[180,21,182,29],[183,21,185,29],[144,19,146,29],[150,21,152,29],[153,21,155,29],[156,21,158,29],[159,21,161,29],[210,21,212,29],[213,21,215,29],[216,21,218,29],[225,19,227,29],[231,21,233,29],[186,21,188,29],[189,21,191,29],[198,19,200,29],[204,21,206,29],[207,21,209,29],[402,21,404,29],[405,21,407,29],[369,21,371,29],[372,21,374,29],[375,21,377,29],[378,21,380,29],[387,19,389,29],[345,21,347,29],[348,21,350,29],[351,21,353,29],[360,19,362,29],[366,21,368,29],[396,21,398,29],[399,21,401,29],[321,21,323,29],[324,21,326,29],[333,19,335,29],[339,21,341,29],[342,21,344,29],[297,21,299,29],[306,19,308,29],[312,21,314,29],[315,21,317,29],[318,21,320,29],[96,33,98,41],[99,33,101,41],[102,33,104,41],[105,33,107,41],[108,33,110,41],[117,31,119,41],[123,33,125,41],[126,33,128,41],[393,21,395,29],[279,19,281,29],[285,21,287,29],[288,21,290,29],[291,21,293,29],[294,21,296,29],[258,21,260,29],[261,21,263,29],[264,21,266,29],[267,21,269,29],[270,21,272,29],[234,21,236,29],[237,21,239,29],[240,21,242,29],[243,21,245,29],[252,19,254,29],[335,2,335,10],[335,11,335,15],[129,33,131,41],[132,33,134,41],[135,33,137,41],[9,31,11,41],[15,33,17,41],[18,33,20,41],[21,33,23,41],[24,33,26,41],[27,33,29,41],[36,31,38,41],[42,33,44,41],[45,33,47,41],[48,33,50,41],[51,33,53,41],[54,33,56,41],[63,31,65,41],[69,33,71,41],[72,33,74,41],[75,33,77,41],[78,33,80,41],[81,33,83,41],[90,31,92,41],[330,2,330,10],[330,11,330,15],[331,2,331,10],[331,11,331,15],[332,2,332,10],[332,11,332,15],[333,2,333,10],[333,11,333,15],[334,2,334,10],[334,11,334,15]]}
[null,null,null,null,null,null,null,null,null,null,null,null,null,null,null,null,null,null,null,null,null,null,null,null,null,null,null,null,null,null,null,null,null,null,null,null,null,"Eop Strategic Plan Items",null,null,null,null,null,null,null,null,null,null,"Strategy","Start Row","Analysis Cell","Total Objectives","Start Row for Profile"]
[null,null,null,null,null,null,null,null,null,null,null,null,null,null,null,null,null,null,null,null,null,null,null,null,null,null,null,null,null,null,null,null,null,null,null,null,null,"Total Objectives",{"$f":"5-(COUNTBLANK(AF10)+COUNTBLANK(AF37)+COUNTBLANK(AF64)+COUNTBLANK(AF91)+COUNTBLANK(AF118))","v":0},null,null,null,null,null,null,null,null,null,1,278,105,{"$f":"'CENTRAL ANALYSIS'!B98+1","v":1},{"$f":"IF(AZ2=0,278,VLOOKUP(AZ2,AW2:AX16,2))","v":278}]
[null,null,null,null,null,null,null,null,null,null,null,null,null,null,null,null,null,null,null,null,null,null,null,null,null,null,null,null,null,null,null,null,null,null,null,null,null,"OBJ 1 Actions",{"$f":"5-(COUNTBLANK(AH16)+COUNTBLANK(AH19)+COUNTBLANK(AH22)+COUNTBLANK(AH25)+COUNTBLANK(AH28))","v":0},null,null,null,null,null,null,null,null,null,2,{"$f":"AX2+27","v":305},113]
[null,null,null,null,null,null,null,null,null,null,null,null,null,null,null,null,null,null,null,null,null,null,null,null,null,null,null,null,null,null,null,null,null,null,null,null,null,"OBJ 2 Actions",{"$f":"5-(COUNTBLANK(AH43)+COUNTBLANK(AH46)+COUNTBLANK(AH49)+COUNTBLANK(AH52)+COUNTBLANK(AH55))","v":0},null,null,null,null,null,null,null,null,null,3,{"$f":"AX3+27","v":332},{"$f":"AY3+8","v":121}]
[null,null,null,null,null,null,null,null,null,null,null,null,null,null,null,null,null,null,null,null,null,null,null,null,null,null,null,null,null,null,{"$f":"COUNTBLANK(T10)","v":1},null,null,null,null,null,null,"OBJ 3 Actions",{"$f":"5-(COUNTBLANK(AH70)+COUNTBLANK(AH73)+COUNTBLANK(AH76)+COUNTBLANK(AH79)+COUNTBLANK(AH82))","v":0},null,null,null,null,null,null,null,null,null,4,359,{"$f":"AY4+8","v":129}]
[null,null,"TRANSFORMED DATA",null,null,null,null,null,null,null,null,null,null,null,null,null,null,null,null,null,null,null,null,null,null,null,null,null,null,null,{"$f":"15-(COUNTA(T10,T37,T64,T91,T118,T145,T172,T199,T226,T253,T280,T307,T334,T361,T388))","v":0},"Plan slots remaining",null,null,null,null,null,"OBJ 4 Actions",{"$f":"5-(COUNTBLANK(AH97)+COUNTBLANK(AH100)+COUNTBLANK(AH103)+COUNTBLANK(AH106)+COUNTBLANK(AH109))","v":0},null,null,null,null,null,null,null,null,null,5,386,137]
[null,null,null,null,null,null,null,null,null,null,null,null,null,null,null,null,null,null,null,null,null,null,null,null,null,null,null,null,null,null,null,null,null,null,null,null,null,"OBJ 5 Actions",{"$f":"5-(COUNTBLANK(AH124)+COUNTBLANK(AH127)+COUNTBLANK(AH130)+COUNTBLANK(AH133)+COUNTBLANK(AH136))","v":0},null,null,null,null,null,null,null,null,null,6,413,145]
[null,null,null,null,null,null,null,null,null,null,null,null,null,null,null,null,null,null,null,null,null,null,null,null,null,null,null,null,null,null,null,null,null,null,null,null,null,null,null,null,null,null,null,null,null,null,null,null,7,440,153]
[null,null,null,null,null,null,null,null,null,null,null,null,null,null,null,null,null,null,null,"Profile Action Plan",null,null,null,null,null,null,null,null,null,null,null,"EOP Action Plan",null,null,null,null,null,null,null,null,null,null,"What Row to add","Action Item Row","Added or Replaced",null,null,null,8,467,161]
[null,null,null,null,null,null,null,null,null,null,null,null,null,null,null,null,null,null,null,{"$f":"IF('IMPORTED DATA'!$O$96=\"\",\"\",'IMPORTED DATA'!$O$96)","v":""},null,null,null,null,null,null,null,null,null,null,{"$f":"IF(COUNTIF(T:AD,AF10)>0,\"\",1)","v":""},{"$f":"IF('IMPORTED DATA'!$P$411=0,\"\",'IMPORTED DATA'!$P$411)","v":""},null,null,null,null,null,null,null,null,null,null,{"$f":"IF(AND('GETTING STARTED'!$J$159=\"yes\",'GETTING STARTED'!$K$159=\"add\"),'TRANSFORMED DATA'!$BA$2,IF(AND('GETTING STARTED'!$J$159=\"yes\",'GETTING STARTED'!$K$159=\"replace\"),VLOOKUP('GETTING STARTED'!$P$159,'TRANSFORMED DATA'!$AW$2:$AX$16,2,FALSE),\"\"))","v":""},{"$f":"IFERROR(VLOOKUP(AQ10,$AX$2:$AY$16,2,FALSE),\"\")","v":""},{"$f":"'GETTING STARTED'!$K$159","v":0},null,null,null,9,494,169]
[null,"Classification",null,null,null,"Description",null,null,null,null,null,null,null,null,null,null,null,null,null,null,null,null,null,null,null,null,null,null,null,null,null,null,null,null,null,null,null,null,null,null,null,null,null,null,null,null,null,null,10,521,177]
[null,{"$f":"IF('IMPORTED DATA'!B14=\"\",\"\",'IMPORTED DATA'!B14)","v":""},null,null,null,{"$f":"IF('IMPORTED DATA'!C14=\"\",\"\",'IMPORTED DATA'!C14)","v":""},null,null,null,null,null,null,null,null,null,null,null,null,null,null,null,null,null,null,null,null,null,null,null,null,null,null,null,null,null,null,null,null,null,null,null,null,null,null,null,null,null,null,11,548,185]
[null,{"$f":"IF('IMPORTED DATA'!B15=\"\",\"\",'IMPORTED DATA'!B15)","v":""},null,null,null,{"$f":"IF('IMPORTED DATA'!C15=\"\",\"\",'IMPORTED DATA'!C15)","v":""},null,null,null,null,null,null,null,null,null,null,null,null,null,null,null,null,null,null,null,null,null,null,null,null,null,null,null,null,null,null,null,null,null,null,null,null,null,null,null,null,null,null,12,575,193]
[null,{"$f":"IF('IMPORTED DATA'!B16=\"\",\"\",'IMPORTED DATA'!B16)","v":""},null,null,null,{"$f":"IF('IMPORTED DATA'!C16=\"\",\"\",'IMPORTED DATA'!C16)","v":""},null,null,null,null,null,null,null,null,null,null,null,null,null,null,null,null,null,null,null,null,null,null,null,null,null,null,null,null,null,null,null,null,null,null,null,null,null,null,null,null,null,null,13,602,201]
[null,{"$f":"IF('IMPORTED DATA'!B17=\"\",\"\",'IMPORTED DATA'!B17)","v":""},null,null,null,{"$f":"IF('IMPORTED DATA'!C17=\"\",\"\",'IMPORTED DATA'!C17)","v":""},null,null,null,null,null,null,null,null,null,null,null,null,null,null,null,null,null,null,null,null,null,null,null,null,null,null,null,null,null,null,null,null,null,null,null,null,null,null,null,null,null,null,14,629,209]
[null,{"$f":"IF('IMPORTED DATA'!B18=\"\",\"\",'IMPORTED DATA'!B18)","v":""},null,null,null,{"$f":"IF('IMPORTED DATA'!C18=\"\",\"\",'IMPORTED DATA'!C18)","v":""},null,null,null,null,null,null,null,null,null,null,null,null,null,null,null,{"$f":"IF('IMPORTED DATA'!$O$97=\"\",\"\",'IMPORTED DATA'!$O$97)","v":""},null,null,null,null,null,null,null,null,null,null,null,{"$f":"IF('IMPORTED DATA'!$P$412=0,\"\",'IMPORTED DATA'!$P$412)","v":""},null,null,null,null,null,null,null,null,null,null,null,null,null,null,15,656,217]
[null,{"$f":"IF('IMPORTED DATA'!B19=\"\",\"\",'IMPORTED DATA'!B19)","v":""},null,null,null,{"$f":"IF('IMPORTED DATA'!C19=\"\",\"\",'IMPORTED DATA'!C19)","v":""}]
[null,{"$f":"IF('IMPORTED DATA'!B20=\"\",\"\",'IMPORTED DATA'!B20)","v":""},null,null,null,{"$f":"IF('IMPORTED DATA'!C20=\"\",\"\",'IMPORTED DATA'!C20)","v":""}]
[null,{"$f":"IF('IMPORTED DATA'!B21=\"\",\"\",'IMPORTED DATA'!B21)","v":""},null,null,null,{"$f":"IF('IMPORTED DATA'!C21=\"\",\"\",'IMPORTED DATA'!C21)","v":""},null,null,null,null,null,null,null,null,null,null,null,null,null,null,null,{"$f":"IF('IMPORTED DATA'!$O$98=\"\",\"\",'IMPORTED DATA'!$O$98)","v":""},null,null,null,null,null,null,null,null,null,null,null,{"$f":"IF('IMPORTED DATA'!$P$413=0,\"\",'IMPORTED DATA'!$P$413)","v":""}]
[null,{"$f":"IF('IMPORTED DATA'!B22=\"\",\"\",'IMPORTED DATA'!B22)","v":""},null,null,null,{"$f":"IF('IMPORTED DATA'!C22=\"\",\"\",'IMPORTED DATA'!C22)","v":""}]
[null,{"$f":"IF('IMPORTED DATA'!B23=\"\",\"\",'IMPORTED DATA'!B23)","v":""},null,null,null,{"$f":"IF('IMPORTED DATA'!C23=\"\",\"\",'IMPORTED DATA'!C23)","v":""}]
[null,{"$f":"IF('IMPORTED DATA'!B24=\"\",\"\",'IMPORTED DATA'!B24)","v":""},null,null,null,{"$f":"IF('IMPORTED DATA'!C24=\"\",\"\",'IMPORTED DATA'!C24)","v":""},null,null,null,null,null,null,null,null,null,null,null,null,null,null,null,{"$f":"IF('IMPORTED DATA'!$O$99=\"\",\"\",'IMPORTED DATA'!$O$99)","v":""},null,null,null,null,null,null,null,null,null,null,null,{"$f":"IF('IMPORTED DATA'!$P$414=0,\"\",'IMPORTED DATA'!$P$414)","v":""}]
[null,{"$f":"IF('IMPORTED DATA'!B25=\"\",\"\",'IMPORTED DATA'!B25)","v":""},null,null,null,{"$f":"IF('IMPORTED DATA'!C25=\"\",\"\",'IMPORTED DATA'!C25)","v":""}]
[null,{"$f":"IF('IMPORTED DATA'!B26=\"\",\"\",'IMPORTED DATA'!B26)","v":""},null,null,null,{"$f":"IF('IMPORTED DATA'!C26=\"\",\"\",'IMPORTED DATA'!C26)","v":""}]
[null,{"$f":"IF('IMPORTED DATA'!B27=\"\",\"\",'IMPORTED DATA'!B27)","v":""},null,null,null,{"$f":"IF('IMPORTED DATA'!C27=\"\",\"\",'IMPORTED DATA'!C27)","v":""},null,null,null,null,null,null,null,null,null,null,null,null,null,null,null,{"$f":"IF('IMPORTED DATA'!$O$100=\"\",\"\",'IMPORTED DATA'!$O$100)","v":""},null,null,null,null,null,null,null,null,null,null,null,{"$f":"IF('IMPORTED DATA'!$P$415=0,\"\",'IMPORTED DATA'!$P$415)","v":""}]
[null,{"$f":"IF('IMPORTED DATA'!B28=\"\",\"\",'IMPORTED DATA'!B28)","v":""},null,null,null,{"$f":"IF('IMPORTED DATA'!C28=\"\",\"\",'IMPORTED DATA'!C28)","v":""}]
[]
["Executive team description",null,null,{"$f":"IF('IMPORTED DATA'!O15=\"\",\"\",'IMPORTED DATA'!O15)","v":""},null,null,null,null,null,null,null,null,null,null,null,null,null,null,null,null,null,{"$f":"IF('IMPORTED DATA'!$O$101=\"\",\"\",'IMPORTED DATA'!$O$101)","v":""},null,null,null,null,null,null,null,null,null,null,null,{"$f":"IF('IMPORTED DATA'!$P$416=0,\"\",'IMPORTED DATA'!$P$416)","v":""}]
[]
[]
[]
[]
[null,"Position",null,"Title",null,null,null,null,null,null,"Degree of separation",null,null,"Appointed"]
[null,{"$f":"IF('IMPORTED DATA'!D14=\"\",\"\",'IMPORTED DATA'!D14)","v":""},null,{"$f":"IF('IMPORTED DATA'!E14=\"\",\"\",'IMPORTED DATA'!E14)","v":""},null,null,null,null,null,null,{"$f":"IF('IMPORTED DATA'!F14=\"\",\"\",'IMPORTED DATA'!F14)","v":""},null,null,{"$f":"IF('IMPORTED DATA'!G14=\"\",\"\",'IMPORTED DATA'!G14)","v":""}]
[null,{"$f":"IF('IMPORTED DATA'!D15=\"\",\"\",'IMPORTED DATA'!D15)","v":""},null,{"$f":"IF('IMPORTED DATA'!E15=\"\",\"\",'IMPORTED DATA'!E15)","v":""},null,null,null,null,null,null,{"$f":"IF('IMPORTED DATA'!F15=\"\",\"\",'IMPORTED DATA'!F15)","v":""},null,null,{"$f":"IF('IMPORTED DATA'!G15=\"\",\"\",'IMPORTED DATA'!G15)","v":""}]
[null,{"$f":"IF('IMPORTED DATA'!D16=\"\",\"\",'IMPORTED DATA'!D16)","v":""},null,{"$f":"IF('IMPORTED DATA'!E16=\"\",\"\",'IMPORTED DATA'!E16)","v":""},null,null,null,null,null,null,{"$f":"IF('IMPORTED DATA'!F16=\"\",\"\",'IMPORTED DATA'!F16)","v":""},null,null,{"$f":"IF('IMPORTED DATA'!G16=\"\",\"\",'IMPORTED DATA'!G16)","v":""}]
[null,{"$f":"IF('IMPORTED DATA'!D17=\"\",\"\",'IMPORTED DATA'!D17)","v":""},null,{"$f":"IF('IMPORTED DATA'!E17=\"\",\"\",'IMPORTED DATA'!E17)","v":""},null,null,null,null,null,null,{"$f":"IF('IMPORTED DATA'!F17=\"\",\"\",'IMPORTED DATA'!F17)","v":""},null,null,{"$f":"IF('IMPORTED DATA'!G17=\"\",\"\",'IMPORTED DATA'!G17)","v":""},null,null,null,null,null,{"$f":"IF('IMPORTED DATA'!$O$102=\"\",\"\",'IMPORTED DATA'!$O$102)","v":""},null,null,null,null,null,null,null,null,null,null,{"$f":"IF(COUNTIF(T:AD,AF10)>0,\"\",2)","v":""},{"$f":"IF('IMPORTED DATA'!$P$417=0,\"\",'IMPORTED DATA'!$P$417)","v":""},null,null,null,null,null,null,null,null,null,null,{"$f":"IF(AND('GETTING STARTED'!$J$160=\"yes\",'GETTING STARTED'!$K$160=\"add\"),'TRANSFORMED DATA'!$BA$2,IF(AND('GETTING STARTED'!$J$160=\"yes\",'GETTING STARTED'!$K$160=\"replace\"),VLOOKUP('GETTING STARTED'!$P$160,'TRANSFORMED DATA'!$AW$2:$AX$16,2,FALSE),\"\"))","v":""},{"$f":"IFERROR(VLOOKUP(AQ37,$AX$2:$AY$16,2,FALSE),\"\")","v":""},{"$f":"'GETTING STARTED'!$K$160","v":0}]
[null,{"$f":"IF('IMPORTED DATA'!D18=\"\",\"\",'IMPORTED DATA'!D18)","v":""},null,{"$f":"IF('IMPORTED DATA'!E18=\"\",\"\",'IMPORTED DATA'!E18)","v":""},null,null,null,null,null,null,{"$f":"IF('IMPORTED DATA'!F18=\"\",\"\",'IMPORTED DATA'!F18)","v":""},null,null,{"$f":"IF('IMPORTED DATA'!G18=\"\",\"\",'IMPORTED DATA'!G18)","v":""}]
[null,{"$f":"IF('IMPORTED DATA'!D19=\"\",\"\",'IMPORTED DATA'!D19)","v":""},null,{"$f":"IF('IMPORTED DATA'!E19=\"\",\"\",'IMPORTED DATA'!E19)","v":""},null,null,null,null,null,null,{"$f":"IF('IMPORTED DATA'!F19=\"\",\"\",'IMPORTED DATA'!F19)","v":""},null,null,{"$f":"IF('IMPORTED DATA'!G19=\"\",\"\",'IMPORTED DATA'!G19)","v":""}]
[null,{"$f":"IF('IMPORTED DATA'!D20=\"\",\"\",'IMPORTED DATA'!D20)","v":""},null,{"$f":"IF('IMPORTED DATA'!E20=\"\",\"\",'IMPORTED DATA'!E20)","v":""},null,null,null,null,null,null,{"$f":"IF('IMPORTED DATA'!F20=\"\",\"\",'IMPORTED DATA'!F20)","v":""},null,null,{"$f":"IF('IMPORTED DATA'!G20=\"\",\"\",'IMPORTED DATA'!G20)","v":""}]
[null,{"$f":"IF('IMPORTED DATA'!D21=\"\",\"\",'IMPORTED DATA'!D21)","v":""},null,{"$f":"IF('IMPORTED DATA'!E21=\"\",\"\",'IMPORTED DATA'!E21)","v":""},null,null,null,null,null,null,{"$f":"IF('IMPORTED DATA'!F21=\"\",\"\",'IMPORTED DATA'!F21)","v":""},null,null,{"$f":"IF('IMPORTED DATA'!G21=\"\",\"\",'IMPORTED DATA'!G21)","v":""}]
[null,{"$f":"IF('IMPORTED DATA'!D22=\"\",\"\",'IMPORTED DATA'!D22)","v":""},null,{"$f":"IF('IMPORTED DATA'!E22=\"\",\"\",'IMPORTED DATA'!E22)","v":""},null,null,null,null,null,null,{"$f":"IF('IMPORTED DATA'!F22=\"\",\"\",'IMPORTED DATA'!F22)","v":""},null,null,{"$f":"IF('IMPORTED DATA'!G22=\"\",\"\",'IMPORTED DATA'!G22)","v":""}]
[null,{"$f":"IF('IMPORTED DATA'!D23=\"\",\"\",'IMPORTED DATA'!D23)","v":""},null,{"$f":"IF('IMPORTED DATA'!E23=\"\",\"\",'IMPORTED DATA'!E23)","v":""},null,null,null,null,null,null,{"$f":"IF('IMPORTED DATA'!F23=\"\",\"\",'IMPORTED DATA'!F23)","v":""},null,null,{"$f":"IF('IMPORTED DATA'!G23=\"\",\"\",'IMPORTED DATA'!G23)","v":""},null,null,null,null,null,null,null,{"$f":"IF('IMPORTED DATA'!$O$103=\"\",\"\",'IMPORTED DATA'!$O$103)","v":""},null,null,null,null,null,null,null,null,null,null,null,{"$f":"IF('IMPORTED DATA'!$P$418=0,\"\",'IMPORTED DATA'!$P$418)","v":""}]
[null,{"$f":"IF('IMPORTED DATA'!D24=\"\",\"\",'IMPORTED DATA'!D24)","v":""},null,{"$f":"IF('IMPORTED DATA'!E24=\"\",\"\",'IMPORTED DATA'!E24)","v":""},null,null,null,null,null,null,{"$f":"IF('IMPORTED DATA'!F24=\"\",\"\",'IMPORTED DATA'!F24)","v":""},null,null,{"$f":"IF('IMPORTED DATA'!G24=\"\",\"\",'IMPORTED DATA'!G24)","v":""}]
[null,{"$f":"IF('IMPORTED DATA'!D25=\"\",\"\",'IMPORTED DATA'!D25)","v":""},null,{"$f":"IF('IMPORTED DATA'!E25=\"\",\"\",'IMPORTED DATA'!E25)","v":""},null,null,null,null,null,null,{"$f":"IF('IMPORTED DATA'!F25=\"\",\"\",'IMPORTED DATA'!F25)","v":""},null,null,{"$f":"IF('IMPORTED DATA'!G25=\"\",\"\",'IMPORTED DATA'!G25)","v":""}]
[null,{"$f":"IF('IMPORTED DATA'!D26=\"\",\"\",'IMPORTED DATA'!D26)","v":""},null,{"$f":"IF('IMPORTED DATA'!E26=\"\",\"\",'IMPORTED DATA'!E26)","v":""},null,null,null,null,null,null,{"$f":"IF('IMPORTED DATA'!F26=\"\",\"\",'IMPORTED DATA'!F26)","v":""},null,null,{"$f":"IF('IMPORTED DATA'!G26=\"\",\"\",'IMPORTED DATA'!G26)","v":""},null,null,null,null,null,null,null,{"$f":"IF('IMPORTED DATA'!$O$104=\"\",\"\",'IMPORTED DATA'!$O$104)","v":""},null,null,null,null,null,null,null,null,null,null,null,{"$f":"IF('IMPORTED DATA'!$P$419=0,\"\",'IMPORTED DATA'!$P$419)","v":""}]
[null,{"$f":"IF('IMPORTED DATA'!D27=\"\",\"\",'IMPORTED DATA'!D27)","v":""},null,{"$f":"IF('IMPORTED DATA'!E27=\"\",\"\",'IMPORTED DATA'!E27)","v":""},null,null,null,null,null,null,{"$f":"IF('IMPORTED DATA'!F27=\"\",\"\",'IMPORTED DATA'!F27)","v":""},null,null,{"$f":"IF('IMPORTED DATA'!G27=\"\",\"\",'IMPORTED DATA'!G27)","v":""}]
[null,{"$f":"IF('IMPORTED DATA'!D28=\"\",\"\",'IMPORTED DATA'!D28)","v":""},null,{"$f":"IF('IMPORTED DATA'!E28=\"\",\"\",'IMPORTED DATA'!E28)","v":""},null,null,null,null,null,null,{"$f":"IF('IMPORTED DATA'!F28=\"\",\"\",'IMPORTED DATA'!F28)","v":""},null,null,{"$f":"IF('IMPORTED DATA'!G28=\"\",\"\",'IMPORTED DATA'!G28)","v":""}]
[null,{"$f":"IF('IMPORTED DATA'!D29=\"\",\"\",'IMPORTED DATA'!D29)","v":""},null,{"$f":"IF('IMPORTED DATA'!E29=\"\",\"\",'IMPORTED DATA'!E29)","v":""},null,null,null,null,null,null,{"$f":"IF('IMPORTED DATA'!F29=\"\",\"\",'IMPORTED DATA'!F29)","v":""},null,null,{"$f":"IF('IMPORTED DATA'!G29=\"\",\"\",'IMPORTED DATA'!G29)","v":""},null,null,null,null,null,null,null,{"$f":"IF('IMPORTED DATA'!$O$105=\"\",\"\",'IMPORTED DATA'!$O$105)","v":""},null,null,null,null,null,null,null,null,null,null,null,{"$f":"IF('IMPORTED DATA'!$P$420=0,\"\",'IMPORTED DATA'!$P$420)","v":""}]
[null,{"$f":"IF('IMPORTED DATA'!D30=\"\",\"\",'IMPORTED DATA'!D30)","v":""},null,{"$f":"IF('IMPORTED DATA'!E30=\"\",\"\",'IMPORTED DATA'!E30)","v":""},null,null,null,null,null,null,{"$f":"IF('IMPORTED DATA'!F30=\"\",\"\",'IMPORTED DATA'!F30)","v":""},null,null,{"$f":"IF('IMPORTED DATA'!G30=\"\",\"\",'IMPORTED DATA'!G30)","v":""}]
[null,{"$f":"IF('IMPORTED DATA'!D31=\"\",\"\",'IMPORTED DATA'!D31)","v":""},null,{"$f":"IF('IMPORTED DATA'!E31=\"\",\"\",'IMPORTED DATA'!E31)","v":""},null,null,null,null,null,null,{"$f":"IF('IMPORTED DATA'!F31=\"\",\"\",'IMPORTED DATA'!F31)","v":""},null,null,{"$f":"IF('IMPORTED DATA'!G31=\"\",\"\",'IMPORTED DATA'!G31)","v":""}]
[null,{"$f":"IF('IMPORTED DATA'!D32=\"\",\"\",'IMPORTED DATA'!D32)","v":""},null,{"$f":"IF('IMPORTED DATA'!E32=\"\",\"\",'IMPORTED DATA'!E32)","v":""},null,null,null,null,null,null,{"$f":"IF('IMPORTED DATA'!F32=\"\",\"\",'IMPORTED DATA'!F32)","v":""},null,null,{"$f":"IF('IMPORTED DATA'!G32=\"\",\"\",'IMPORTED DATA'!G32)","v":""},null,null,null,null,null,null,null,{"$f":"IF('IMPORTED DATA'!$O$106=\"\",\"\",'IMPORTED DATA'!$O$106)","v":""},null,null,null,null,null,null,null,null,null,null,null,{"$f":"IF('IMPORTED DATA'!$P$421=0,\"\",'IMPORTED DATA'!$P$421)","v":""}]
[null,{"$f":"IF('IMPORTED DATA'!D33=\"\",\"\",'IMPORTED DATA'!D33)","v":""},null,{"$f":"IF('IMPORTED DATA'!E33=\"\",\"\",'IMPORTED DATA'!E33)","v":""},null,null,null,null,null,null,{"$f":"IF('IMPORTED DATA'!F33=\"\",\"\",'IMPORTED DATA'!F33)","v":""},null,null,{"$f":"IF('IMPORTED DATA'!G33=\"\",\"\",'IMPORTED DATA'!G33)","v":""}]
[null,{"$f":"IF('IMPORTED DATA'!D34=\"\",\"\",'IMPORTED DATA'!D34)","v":""},null,{"$f":"IF('IMPORTED DATA'!E34=\"\",\"\",'IMPORTED DATA'!E34)","v":""},null,null,null,null,null,null,{"$f":"IF('IMPORTED DATA'!F34=\"\",\"\",'IMPORTED DATA'!F34)","v":""},null,null,{"$f":"IF('IMPORTED DATA'!G34=\"\",\"\",'IMPORTED DATA'!G34)","v":""}]
[null,{"$f":"IF('IMPORTED DATA'!D35=\"\",\"\",'IMPORTED DATA'!D35)","v":""},null,{"$f":"IF('IMPORTED DATA'!E35=\"\",\"\",'IMPORTED DATA'!E35)","v":""},null,null,null,null,null,null,{"$f":"IF('IMPORTED DATA'!F35=\"\",\"\",'IMPORTED DATA'!F35)","v":""},null,null,{"$f":"IF('IMPORTED DATA'!G35=\"\",\"\",'IMPORTED DATA'!G35)","v":""},null,null,null,null,null,null,null,{"$f":"IF('IMPORTED DATA'!$O$107=\"\",\"\",'IMPORTED DATA'!$O$107)","v":""},null,null,null,null,null,null,null,null,null,null,null,{"$f":"IF('IMPORTED DATA'!$P$422=0,\"\",'IMPORTED DATA'!$P$422)","v":""}]
[null,{"$f":"IF('IMPORTED DATA'!D36=\"\",\"\",'IMPORTED DATA'!D36)","v":""},null,{"$f":"IF('IMPORTED DATA'!E36=\"\",\"\",'IMPORTED DATA'!E36)","v":""},null,null,null,null,null,null,{"$f":"IF('IMPORTED DATA'!F36=\"\",\"\",'IMPORTED DATA'!F36)","v":""},null,null,{"$f":"IF('IMPORTED DATA'!G36=\"\",\"\",'IMPORTED DATA'!G36)","v":""}]
[null,{"$f":"IF('IMPORTED DATA'!D37=\"\",\"\",'IMPORTED DATA'!D37)","v":""},null,{"$f":"IF('IMPORTED DATA'!E37=\"\",\"\",'IMPORTED DATA'!E37)","v":""},null,null,null,null,null,null,{"$f":"IF('IMPORTED DATA'!F37=\"\",\"\",'IMPORTED DATA'!F37)","v":""},null,null,{"$f":"IF('IMPORTED DATA'!G37=\"\",\"\",'IMPORTED DATA'!G37)","v":""}]
[null,{"$f":"IF('IMPORTED DATA'!D38=\"\",\"\",'IMPORTED DATA'!D38)","v":""},null,{"$f":"IF('IMPORTED DATA'!E38=\"\",\"\",'IMPORTED DATA'!E38)","v":""},null,null,null,null,null,null,{"$f":"IF('IMPORTED DATA'!F38=\"\",\"\",'IMPORTED DATA'!F38)","v":""},null,null,{"$f":"IF('IMPORTED DATA'!G38=\"\",\"\",'IMPORTED DATA'!G38)","v":""}]
[null,{"$f":"IF('IMPORTED DATA'!D39=\"\",\"\",'IMPORTED DATA'!D39)","v":""},null,{"$f":"IF('IMPORTED DATA'!E39=\"\",\"\",'IMPORTED DATA'!E39)","v":""},null,null,null,null,null,null,{"$f":"IF('IMPORTED DATA'!F39=\"\",\"\",'IMPORTED DATA'!F39)","v":""},null,null,{"$f":"IF('IMPORTED DATA'!G39=\"\",\"\",'IMPORTED DATA'!G39)","v":""}]
[null,{"$f":"IF('IMPORTED DATA'!D40=\"\",\"\",'IMPORTED DATA'!D40)","v":""},null,{"$f":"IF('IMPORTED DATA'!E40=\"\",\"\",'IMPORTED DATA'!E40)","v":""},null,null,null,null,null,null,{"$f":"IF('IMPORTED DATA'!F40=\"\",\"\",'IMPORTED DATA'!F40)","v":""},null,null,{"$f":"IF('IMPORTED DATA'!G40=\"\",\"\",'IMPORTED DATA'!G40)","v":""}]
[null,{"$f":"IF('IMPORTED DATA'!D41=\"\",\"\",'IMPORTED DATA'!D41)","v":""},null,{"$f":"IF('IMPORTED DATA'!E41=\"\",\"\",'IMPORTED DATA'!E41)","v":""},null,null,null,null,null,null,{"$f":"IF('IMPORTED DATA'!F41=\"\",\"\",'IMPORTED DATA'!F41)","v":""},null,null,{"$f":"IF('IMPORTED DATA'!G41=\"\",\"\",'IMPORTED DATA'!G41)","v":""}]
[null,{"$f":"IF('IMPORTED DATA'!D42=\"\",\"\",'IMPORTED DATA'!D42)","v":""},null,{"$f":"IF('IMPORTED DATA'!E42=\"\",\"\",'IMPORTED DATA'!E42)","v":""},null,null,null,null,null,null,{"$f":"IF('IMPORTED DATA'!F42=\"\",\"\",'IMPORTED DATA'!F42)","v":""},null,null,{"$f":"IF('IMPORTED DATA'!G42=\"\",\"\",'IMPORTED DATA'!G42)","v":""}]
[null,{"$f":"IF('IMPORTED DATA'!D43=\"\",\"\",'IMPORTED DATA'!D43)","v":""},null,{"$f":"IF('IMPORTED DATA'!E43=\"\",\"\",'IMPORTED DATA'!E43)","v":""},null,null,null,null,null,null,{"$f":"IF('IMPORTED DATA'!F43=\"\",\"\",'IMPORTED DATA'!F43)","v":""},null,null,{"$f":"IF('IMPORTED DATA'!G43=\"\",\"\",'IMPORTED DATA'!G43)","v":""}]
[null,{"$f":"IF('IMPORTED DATA'!D44=\"\",\"\",'IMPORTED DATA'!D44)","v":""},null,{"$f":"IF('IMPORTED DATA'!E44=\"\",\"\",'IMPORTED DATA'!E44)","v":""},null,null,null,null,null,null,{"$f":"IF('IMPORTED DATA'!F44=\"\",\"\",'IMPORTED DATA'!F44)","v":""},null,null,{"$f":"IF('IMPORTED DATA'!G44=\"\",\"\",'IMPORTED DATA'!G44)","v":""},null,null,null,null,null,{"$f":"IF('IMPORTED DATA'!$O$108=\"\",\"\",'IMPORTED DATA'!$O$108)","v":""},null,null,null,null,null,null,null,null,null,null,{"$f":"IF(COUNTIF(T:AD,AF10)>0,\"\",3)","v":""},{"$f":"IF('IMPORTED DATA'!$P$423=0,\"\",'IMPORTED DATA'!$P$423)","v":""},null,null,null,null,null,null,null,null,null,null,{"$f":"IF(AND('GETTING STARTED'!$J$161=\"yes\",'GETTING STARTED'!$K$161=\"add\"),'TRANSFORMED DATA'!$BA$2,IF(AND('GETTING STARTED'!$J$161=\"yes\",'GETTING STARTED'!$K$161=\"replace\"),VLOOKUP('GETTING STARTED'!$P$161,'TRANSFORMED DATA'!$AW$2:$AX$16,2,FALSE),\"\"))","v":""},{"$f":"IFERROR(VLOOKUP(AQ64,$AX$2:$AY$16,2,FALSE),\"\")","v":""},{"$f":"'GETTING STARTED'!$K$161","v":0}]
[null,{"$f":"IF('IMPORTED DATA'!D45=\"\",\"\",'IMPORTED DATA'!D45)","v":""},null,{"$f":"IF('IMPORTED DATA'!E45=\"\",\"\",'IMPORTED DATA'!E45)","v":""},null,null,null,null,null,null,{"$f":"IF('IMPORTED DATA'!F45=\"\",\"\",'IMPORTED DATA'!F45)","v":""},null,null,{"$f":"IF('IMPORTED DATA'!G45=\"\",\"\",'IMPORTED DATA'!G45)","v":""}]
[null,{"$f":"IF('IMPORTED DATA'!D46=\"\",\"\",'IMPORTED DATA'!D46)","v":""},null,{"$f":"IF('IMPORTED DATA'!E46=\"\",\"\",'IMPORTED DATA'!E46)","v":""},null,null,null,null,null,null,{"$f":"IF('IMPORTED DATA'!F46=\"\",\"\",'IMPORTED DATA'!F46)","v":""},null,null,{"$f":"IF('IMPORTED DATA'!G46=\"\",\"\",'IMPORTED DATA'!G46)","v":""}]
[null,{"$f":"IF('IMPORTED DATA'!D47=\"\",\"\",'IMPORTED DATA'!D47)","v":""},null,{"$f":"IF('IMPORTED DATA'!E47=\"\",\"\",'IMPORTED DATA'!E47)","v":""},null,null,null,null,null,null,{"$f":"IF('IMPORTED DATA'!F47=\"\",\"\",'IMPORTED DATA'!F47)","v":""},null,null,{"$f":"IF('IMPORTED DATA'!G47=\"\",\"\",'IMPORTED DATA'!G47)","v":""}]
[null,{"$f":"IF('IMPORTED DATA'!D48=\"\",\"\",'IMPORTED DATA'!D48)","v":""},null,{"$f":"IF('IMPORTED DATA'!E48=\"\",\"\",'IMPORTED DATA'!E48)","v":""},null,null,null,null,null,null,{"$f":"IF('IMPORTED DATA'!F48=\"\",\"\",'IMPORTED DATA'!F48)","v":""},null,null,{"$f":"IF('IMPORTED DATA'!G48=\"\",\"\",'IMPORTED DATA'!G48)","v":""}]
[null,{"$f":"IF('IMPORTED DATA'!D49=\"\",\"\",'IMPORTED DATA'!D49)","v":""},null,{"$f":"IF('IMPORTED DATA'!E49=\"\",\"\",'IMPORTED DATA'!E49)","v":""},null,null,null,null,null,null,{"$f":"IF('IMPORTED DATA'!F49=\"\",\"\",'IMPORTED DATA'!F49)","v":""},null,null,{"$f":"IF('IMPORTED DATA'!G49=\"\",\"\",'IMPORTED DATA'!G49)","v":""}]
[null,{"$f":"IF('IMPORTED DATA'!D50=\"\",\"\",'IMPORTED DATA'!D50)","v":""},null,{"$f":"IF('IMPORTED DATA'!E50=\"\",\"\",'IMPORTED DATA'!E50)","v":""},null,null,null,null,null,null,{"$f":"IF('IMPORTED DATA'!F50=\"\",\"\",'IMPORTED DATA'!F50)","v":""},null,null,{"$f":"IF('IMPORTED DATA'!G50=\"\",\"\",'IMPORTED DATA'!G50)","v":""},null,null,null,null,null,null,null,{"$f":"IF('IMPORTED DATA'!$O$109=\"\",\"\",'IMPORTED DATA'!$O$109)","v":""},null,null,null,null,null,null,null,null,null,null,null,{"$f":"IF('IMPORTED DATA'!$P$424=0,\"\",'IMPORTED DATA'!$P$424)","v":""}]
[null,{"$f":"IF('IMPORTED DATA'!D51=\"\",\"\",'IMPORTED DATA'!D51)","v":""},null,{"$f":"IF('IMPORTED DATA'!E51=\"\",\"\",'IMPORTED DATA'!E51)","v":""},null,null,null,null,null,null,{"$f":"IF('IMPORTED DATA'!F51=\"\",\"\",'IMPORTED DATA'!F51)","v":""},null,null,{"$f":"IF('IMPORTED DATA'!G51=\"\",\"\",'IMPORTED DATA'!G51)","v":""}]
[null,{"$f":"IF('IMPORTED DATA'!D52=\"\",\"\",'IMPORTED DATA'!D52)","v":""},null,{"$f":"IF('IMPORTED DATA'!E52=\"\",\"\",'IMPORTED DATA'!E52)","v":""},null,null,null,null,null,null,{"$f":"IF('IMPORTED DATA'!F52=\"\",\"\",'IMPORTED DATA'!F52)","v":""},null,null,{"$f":"IF('IMPORTED DATA'!G52=\"\",\"\",'IMPORTED DATA'!G52)","v":""}]
[null,{"$f":"IF('IMPORTED DATA'!D53=\"\",\"\",'IMPORTED DATA'!D53)","v":""},null,{"$f":"IF('IMPORTED DATA'!E53=\"\",\"\",'IMPORTED DATA'!E53)","v":""},null,null,null,null,null,null,{"$f":"IF('IMPORTED DATA'!F53=\"\",\"\",'IMPORTED DATA'!F53)","v":""},null,null,{"$f":"IF('IMPORTED DATA'!G53=\"\",\"\",'IMPORTED DATA'!G53)","v":""},null,null,null,null,null,null,null,{"$f":"IF('IMPORTED DATA'!$O$110=\"\",\"\",'IMPORTED DATA'!$O$110)","v":""},null,null,null,null,null,null,null,null,null,null,null,{"$f":"IF('IMPORTED DATA'!$P$425=0,\"\",'IMPORTED DATA'!$P$425)","v":""}]
[]
[null,null,null,null,"Internal Transfers",null,null,"Internal Promotions",null,null,"External Transfers",null,null,"Voluntary Separations"]
[null,null,null,null,{"$f":"IF('IMPORTED DATA'!B83=\"\",\"\",'IMPORTED DATA'!B83)","v":""},null,null,{"$f":"IF('IMPORTED DATA'!C83=\"\",\"\",'IMPORTED DATA'!C83)","v":""},null,null,{"$f":"IF('IMPORTED DATA'!D83=\"\",\"\",'IMPORTED DATA'!D83)","v":""},null,null,{"$f":"IF('IMPORTED DATA'!E83=\"\",\"\",'IMPORTED DATA'!E83)","v":""},null,null,null,null,null,null,null,{"$f":"IF('IMPORTED DATA'!$O$111=\"\",\"\",'IMPORTED DATA'!$O$111)","v":""},null,null,null,null,null,null,null,null,null,null,null,{"$f":"IF('IMPORTED DATA'!$P$426=0,\"\",'IMPORTED DATA'!$P$426)","v":""}]
[null,null,null,null,{"$f":"IF('IMPORTED DATA'!B84=\"\",\"\",'IMPORTED DATA'!B84)","v":""},null,null,{"$f":"IF('IMPORTED DATA'!C84=\"\",\"\",'IMPORTED DATA'!C84)","v":""},null,null,{"$f":"IF('IMPORTED DATA'!D84=\"\",\"\",'IMPORTED DATA'!D84)","v":""},null,null,{"$f":"IF('IMPORTED DATA'!E84=\"\",\"\",'IMPORTED DATA'!E84)","v":""}]
[null,null,null,null,{"$f":"IF('IMPORTED DATA'!B85=\"\",\"\",'IMPORTED DATA'!B85)","v":""},null,null,{"$f":"IF('IMPORTED DATA'!C85=\"\",\"\",'IMPORTED DATA'!C85)","v":""},null,null,{"$f":"IF('IMPORTED DATA'!D85=\"\",\"\",'IMPORTED DATA'!D85)","v":""},null,null,{"$f":"IF('IMPORTED DATA'!E85=\"\",\"\",'IMPORTED DATA'!E85)","v":""}]
[null,null,null,null,{"$f":"IF('IMPORTED DATA'!B86=\"\",\"\",'IMPORTED DATA'!B86)","v":""},null,null,{"$f":"IF('IMPORTED DATA'!C86=\"\",\"\",'IMPORTED DATA'!C86)","v":""},null,null,{"$f":"IF('IMPORTED DATA'!D86=\"\",\"\",'IMPORTED DATA'!D86)","v":""},null,null,{"$f":"IF('IMPORTED DATA'!E86=\"\",\"\",'IMPORTED DATA'!E86)","v":""},null,null,null,null,null,null,null,{"$f":"IF('IMPORTED DATA'!$O$112=\"\",\"\",'IMPORTED DATA'!$O$112)","v":""},null,null,null,null,null,null,null,null,null,null,null,{"$f":"IF('IMPORTED DATA'!$P$427=0,\"\",'IMPORTED DATA'!$P$427)","v":""}]
[null,null,null,null,{"$f":"IF('IMPORTED DATA'!B87=\"\",\"\",'IMPORTED DATA'!B87)","v":""},null,null,{"$f":"IF('IMPORTED DATA'!C87=\"\",\"\",'IMPORTED DATA'!C87)","v":""},null,null,{"$f":"IF('IMPORTED DATA'!D87=\"\",\"\",'IMPORTED DATA'!D87)","v":""},null,null,{"$f":"IF('IMPORTED DATA'!E87=\"\",\"\",'IMPORTED DATA'!E87)","v":""}]
[null,null,null,null,{"$f":"IF('IMPORTED DATA'!B88=\"\",\"\",'IMPORTED DATA'!B88)","v":""},null,null,{"$f":"IF('IMPORTED DATA'!C88=\"\",\"\",'IMPORTED DATA'!C88)","v":""},null,null,{"$f":"IF('IMPORTED DATA'!D88=\"\",\"\",'IMPORTED DATA'!D88)","v":""},null,null,{"$f":"IF('IMPORTED DATA'!E88=\"\",\"\",'IMPORTED DATA'!E88)","v":""}]
[null,null,null,null,{"$f":"IF('IMPORTED DATA'!B89=\"\",\"\",'IMPORTED DATA'!B89)","v":""},null,null,{"$f":"IF('IMPORTED DATA'!C89=\"\",\"\",'IMPORTED DATA'!C89)","v":""},null,null,{"$f":"IF('IMPORTED DATA'!D89=\"\",\"\",'IMPORTED DATA'!D89)","v":""},null,null,{"$f":"IF('IMPORTED DATA'!E89=\"\",\"\",'IMPORTED DATA'!E89)","v":""},null,null,null,null,null,null,null,{"$f":"IF('IMPORTED DATA'!$O$113=\"\",\"\",'IMPORTED DATA'!$O$113)","v":""},null,null,null,null,null,null,null,null,null,null,null,{"$f":"IF('IMPORTED DATA'!$P$428=0,\"\",'IMPORTED DATA'!$P$428)","v":""}]
[null,null,null,null,{"$f":"IF('IMPORTED DATA'!B90=\"\",\"\",'IMPORTED DATA'!B90)","v":""},null,null,{"$f":"IF('IMPORTED DATA'!C90=\"\",\"\",'IMPORTED DATA'!C90)","v":""},null,null,{"$f":"IF('IMPORTED DATA'!D90=\"\",\"\",'IMPORTED DATA'!D90)","v":""},null,null,{"$f":"IF('IMPORTED DATA'!E90=\"\",\"\",'IMPORTED DATA'!E90)","v":""}]
[null,null,null,null,{"$f":"IF('IMPORTED DATA'!B91=\"\",\"\",'IMPORTED DATA'!B91)","v":""},null,null,{"$f":"IF('IMPORTED DATA'!C91=\"\",\"\",'IMPORTED DATA'!C91)","v":""},null,null,{"$f":"IF('IMPORTED DATA'!D91=\"\",\"\",'IMPORTED DATA'!D91)","v":""},null,null,{"$f":"IF('IMPORTED DATA'!E91=\"\",\"\",'IMPORTED DATA'!E91)","v":""}]
[null,null,null,null,{"$f":"IF('IMPORTED DATA'!B92=\"\",\"\",'IMPORTED DATA'!B92)","v":""},null,null,{"$f":"IF('IMPORTED DATA'!C92=\"\",\"\",'IMPORTED DATA'!C92)","v":""},null,null,{"$f":"IF('IMPORTED DATA'!D92=\"\",\"\",'IMPORTED DATA'!D92)","v":""},null,null,{"$f":"IF('IMPORTED DATA'!E92=\"\",\"\",'IMPORTED DATA'!E92)","v":""}]
[null,null,null,null,{"$f":"IF('IMPORTED DATA'!B93=\"\",\"\",'IMPORTED DATA'!B93)","v":""},null,null,{"$f":"IF('IMPORTED DATA'!C93=\"\",\"\",'IMPORTED DATA'!C93)","v":""},null,null,{"$f":"IF('IMPORTED DATA'!D93=\"\",\"\",'IMPORTED DATA'!D93)","v":""},null,null,{"$f":"IF('IMPORTED DATA'!E93=\"\",\"\",'IMPORTED DATA'!E93)","v":""}]
[null,null,null,null,{"$f":"IF('IMPORTED DATA'!B94=\"\",\"\",'IMPORTED DATA'!B94)","v":""},null,null,{"$f":"IF('IMPORTED DATA'!C94=\"\",\"\",'IMPORTED DATA'!C94)","v":""},null,null,{"$f":"IF('IMPORTED DATA'!D94=\"\",\"\",'IMPORTED DATA'!D94)","v":""},null,null,{"$f":"IF('IMPORTED DATA'!E94=\"\",\"\",'IMPORTED DATA'!E94)","v":""}]
[null,null,null,null,{"$f":"IF('IMPORTED DATA'!B95=\"\",\"\",'IMPORTED DATA'!B95)","v":""},null,null,{"$f":"IF('IMPORTED DATA'!C95=\"\",\"\",'IMPORTED DATA'!C95)","v":""},null,null,{"$f":"IF('IMPORTED DATA'!D95=\"\",\"\",'IMPORTED DATA'!D95)","v":""},null,null,{"$f":"IF('IMPORTED DATA'!E95=\"\",\"\",'IMPORTED DATA'!E95)","v":""}]
[null,null,null,null,{"$f":"IF('IMPORTED DATA'!B96=\"\",\"\",'IMPORTED DATA'!B96)","v":""},null,null,{"$f":"IF('IMPORTED DATA'!C96=\"\",\"\",'IMPORTED DATA'!C96)","v":""},null,null,{"$f":"IF('IMPORTED DATA'!D96=\"\",\"\",'IMPORTED DATA'!D96)","v":""},null,null,{"$f":"IF('IMPORTED DATA'!E96=\"\",\"\",'IMPORTED DATA'!E96)","v":""}]
[null,null,null,null,{"$f":"IF('IMPORTED DATA'!B97=\"\",\"\",'IMPORTED DATA'!B97)","v":""},null,null,{"$f":"IF('IMPORTED DATA'!C97=\"\",\"\",'IMPORTED DATA'!C97)","v":""},null,null,{"$f":"IF('IMPORTED DATA'!D97=\"\",\"\",'IMPORTED DATA'!D97)","v":""},null,null,{"$f":"IF('IMPORTED DATA'!E97=\"\",\"\",'IMPORTED DATA'!E97)","v":""}]
[null,null,null,null,{"$f":"IF('IMPORTED DATA'!B98=\"\",\"\",'IMPORTED DATA'!B98)","v":""},null,null,{"$f":"IF('IMPORTED DATA'!C98=\"\",\"\",'IMPORTED DATA'!C98)","v":""},null,null,{"$f":"IF('IMPORTED DATA'!D98=\"\",\"\",'IMPORTED DATA'!D98)","v":""},null,null,{"$f":"IF('IMPORTED DATA'!E98=\"\",\"\",'IMPORTED DATA'!E98)","v":""},null,null,null,null,null,{"$f":"IF('IMPORTED DATA'!$O$114=\"\",\"\",'IMPORTED DATA'!$O$114)","v":""},null,null,null,null,null,null,null,null,null,null,{"$f":"IF(COUNTIF(T:AD,AF10)>0,\"\",4)","v":""},{"$f":"IF('IMPORTED DATA'!$P$429=0,\"\",'IMPORTED DATA'!$P$429)","v":""},null,null,null,null,null,null,null,null,null,null,{"$f":"IF(AND('GETTING STARTED'!$J$162=\"yes\",'GETTING STARTED'!$K$162=\"add\"),'TRANSFORMED DATA'!$BA$2,IF(AND('GETTING STARTED'!$J$162=\"yes\",'GETTING STARTED'!$K$162=\"replace\"),VLOOKUP('GETTING STARTED'!$P$162,'TRANSFORMED DATA'!$AW$2:$AX$16,2,FALSE),\"\"))","v":""},{"$f":"IFERROR(VLOOKUP(AQ91,$AX$2:$AY$16,2,FALSE),\"\")","v":""},{"$f":"'GETTING STARTED'!$K$162","v":0}]
[null,null,null,null,{"$f":"IF('IMPORTED DATA'!B99=\"\",\"\",'IMPORTED DATA'!B99)","v":""},null,null,{"$f":"IF('IMPORTED DATA'!C99=\"\",\"\",'IMPORTED DATA'!C99)","v":""},null,null,{"$f":"IF('IMPORTED DATA'!D99=\"\",\"\",'IMPORTED DATA'!D99)","v":""},null,null,{"$f":"IF('IMPORTED DATA'!E99=\"\",\"\",'IMPORTED DATA'!E99)","v":""}]
[null,null,null,null,{"$f":"IF('IMPORTED DATA'!B100=\"\",\"\",'IMPORTED DATA'!B100)","v":""},null,null,{"$f":"IF('IMPORTED DATA'!C100=\"\",\"\",'IMPORTED DATA'!C100)","v":""},null,null,{"$f":"IF('IMPORTED DATA'!D100=\"\",\"\",'IMPORTED DATA'!D100)","v":""},null,null,{"$f":"IF('IMPORTED DATA'!E100=\"\",\"\",'IMPORTED DATA'!E100)","v":""}]
[null,null,null,null,{"$f":"IF('IMPORTED DATA'!B101=\"\",\"\",'IMPORTED DATA'!B101)","v":""},null,null,{"$f":"IF('IMPORTED DATA'!C101=\"\",\"\",'IMPORTED DATA'!C101)","v":""},null,null,{"$f":"IF('IMPORTED DATA'!D101=\"\",\"\",'IMPORTED DATA'!D101)","v":""},null,null,{"$f":"IF('IMPORTED DATA'!E101=\"\",\"\",'IMPORTED DATA'!E101)","v":""}]
[null,null,null,null,{"$f":"IF('IMPORTED DATA'!B102=\"\",\"\",'IMPORTED DATA'!B102)","v":""},null,null,{"$f":"IF('IMPORTED DATA'!C102=\"\",\"\",'IMPORTED DATA'!C102)","v":""},null,null,{"$f":"IF('IMPORTED DATA'!D102=\"\",\"\",'IMPORTED DATA'!D102)","v":""},null,null,{"$f":"IF('IMPORTED DATA'!E102=\"\",\"\",'IMPORTED DATA'!E102)","v":""}]
[null,null,null,null,{"$f":"IF('IMPORTED DATA'!B103=\"\",\"\",'IMPORTED DATA'!B103)","v":""},null,null,{"$f":"IF('IMPORTED DATA'!C103=\"\",\"\",'IMPORTED DATA'!C103)","v":""},null,null,{"$f":"IF('IMPORTED DATA'!D103=\"\",\"\",'IMPORTED DATA'!D103)","v":""},null,null,{"$f":"IF('IMPORTED DATA'!E103=\"\",\"\",'IMPORTED DATA'!E103)","v":""}]
[null,null,null,null,{"$f":"IF('IMPORTED DATA'!B104=\"\",\"\",'IMPORTED DATA'!B104)","v":""},null,null,{"$f":"IF('IMPORTED DATA'!C104=\"\",\"\",'IMPORTED DATA'!C104)","v":""},null,null,{"$f":"IF('IMPORTED DATA'!D104=\"\",\"\",'IMPORTED DATA'!D104)","v":""},null,null,{"$f":"IF('IMPORTED DATA'!E104=\"\",\"\",'IMPORTED DATA'!E104)","v":""},null,null,null,null,null,null,null,{"$f":"IF('IMPORTED DATA'!$O$115=\"\",\"\",'IMPORTED DATA'!$O$115)","v":""},null,null,null,null,null,null,null,null,null,null,null,{"$f":"IF('IMPORTED DATA'!$P$430=0,\"\",'IMPORTED DATA'!$P$430)","v":""}]
[null,null,null,null,{"$f":"IF('IMPORTED DATA'!B105=\"\",\"\",'IMPORTED DATA'!B105)","v":""},null,null,{"$f":"IF('IMPORTED DATA'!C105=\"\",\"\",'IMPORTED DATA'!C105)","v":""},null,null,{"$f":"IF('IMPORTED DATA'!D105=\"\",\"\",'IMPORTED DATA'!D105)","v":""},null,null,{"$f":"IF('IMPORTED DATA'!E105=\"\",\"\",'IMPORTED DATA'!E105)","v":""}]
[null,null,null,null,{"$f":"IF('IMPORTED DATA'!B106=\"\",\"\",'IMPORTED DATA'!B106)","v":""},null,null,{"$f":"IF('IMPORTED DATA'!C106=\"\",\"\",'IMPORTED DATA'!C106)","v":""},null,null,{"$f":"IF('IMPORTED DATA'!D106=\"\",\"\",'IMPORTED DATA'!D106)","v":""},null,null,{"$f":"IF('IMPORTED DATA'!E106=\"\",\"\",'IMPORTED DATA'!E106)","v":""}]
[null,null,null,null,{"$f":"IF('IMPORTED DATA'!B107=\"\",\"\",'IMPORTED DATA'!B107)","v":""},null,null,{"$f":"IF('IMPORTED DATA'!C107=\"\",\"\",'IMPORTED DATA'!C107)","v":""},null,null,{"$f":"IF('IMPORTED DATA'!D107=\"\",\"\",'IMPORTED DATA'!D107)","v":""},null,null,{"$f":"IF('IMPORTED DATA'!E107=\"\",\"\",'IMPORTED DATA'!E107)","v":""},null,null,null,null,null,null,null,{"$f":"IF('IMPORTED DATA'!$O$116=\"\",\"\",'IMPORTED DATA'!$O$116)","v":""},null,null,null,null,null,null,null,null,null,null,null,{"$f":"IF('IMPORTED DATA'!$P$431=0,\"\",'IMPORTED DATA'!$P$431)","v":""}]
[null,null,null,null,{"$f":"IF('IMPORTED DATA'!B108=\"\",\"\",'IMPORTED DATA'!B108)","v":""},null,null,{"$f":"IF('IMPORTED DATA'!C108=\"\",\"\",'IMPORTED DATA'!C108)","v":""},null,null,{"$f":"IF('IMPORTED DATA'!D108=\"\",\"\",'IMPORTED DATA'!D108)","v":""},null,null,{"$f":"IF('IMPORTED DATA'!E108=\"\",\"\",'IMPORTED DATA'!E108)","v":""}]
[]
[null,null,null,null,null,null,null,null,null,null,null,null,null,null,null,null,null,null,null,null,null,{"$f":"IF('IMPORTED DATA'!$O$117=\"\",\"\",'IMPORTED DATA'!$O$117)","v":""},null,null,null,null,null,null,null,null,null,null,null,{"$f":"IF('IMPORTED DATA'!$P$432=0,\"\",'IMPORTED DATA'!$P$432)","v":""}]
["Name",{"$f":"IF('IMPORTED DATA'!O16<>\"\",'IMPORTED DATA'!O16,IF('IMPORTED DATA'!P354<>\"\",'IMPORTED DATA'!P354,\"\"))","v":""}]
[]
["Mission",{"$f":"IF('IMPORTED DATA'!O19=\"\",\"\",'IMPORTED DATA'!O19)","v":""},null,null,null,null,null,null,null,null,null,null,null,null,null,null,null,null,null,null,null,{"$f":"IF('IMPORTED DATA'!$O$118=\"\",\"\",'IMPORTED DATA'!$O$118)","v":""},null,null,null,null,null,null,null,null,null,null,null,{"$f":"IF('IMPORTED DATA'!$P$433=0,\"\",'IMPORTED DATA'!$P$433)","v":""}]
[]
[]
[null,null,null,null,null,null,null,null,null,null,null,null,null,null,null,null,null,null,null,null,null,{"$f":"IF('IMPORTED DATA'!$O$119=\"\",\"\",'IMPORTED DATA'!$O$119)","v":""},null,null,null,null,null,null,null,null,null,null,null,{"$f":"IF('IMPORTED DATA'!$P$434=0,\"\",'IMPORTED DATA'!$P$434)","v":""}]
[]
[]
[null,"Line of Service",null,null,null,"Description"]
[null,{"$f":"IF('IMPORTED DATA'!B112=\"\",\"\",'IMPORTED DATA'!B112)","v":""},null,null,null,{"$f":"IF('IMPORTED DATA'!C112=\"\",\"\",'IMPORTED DATA'!C112)","v":""}]
[null,{"$f":"IF('IMPORTED DATA'!B113=\"\",\"\",'IMPORTED DATA'!B113)","v":""},null,null,null,{"$f":"IF('IMPORTED DATA'!C113=\"\",\"\",'IMPORTED DATA'!C113)","v":""}]
[null,{"$f":"IF('IMPORTED DATA'!B114=\"\",\"\",'IMPORTED DATA'!B114)","v":""},null,null,null,{"$f":"IF('IMPORTED DATA'!C114=\"\",\"\",'IMPORTED DATA'!C114)","v":""}]
[null,{"$f":"IF('IMPORTED DATA'!B115=\"\",\"\",'IMPORTED DATA'!B115)","v":""},null,null,null,{"$f":"IF('IMPORTED DATA'!C115=\"\",\"\",'IMPORTED DATA'!C115)","v":""}]
[null,{"$f":"IF('IMPORTED DATA'!B116=\"\",\"\",'IMPORTED DATA'!B116)","v":""},null,null,null,{"$f":"IF('IMPORTED DATA'!C116=\"\",\"\",'IMPORTED DATA'!C116)","v":""}]
[null,{"$f":"IF('IMPORTED DATA'!B117=\"\",\"\",'IMPORTED DATA'!B117)","v":""},null,null,null,{"$f":"IF('IMPORTED DATA'!C117=\"\",\"\",'IMPORTED DATA'!C117)","v":""},null,null,null,null,null,null,null,null,null,null,null,null,null,{"$f":"IF('IMPORTED DATA'!$O$120=\"\",\"\",'IMPORTED DATA'!$O$120)","v":""},null,null,null,null,null,null,null,null,null,null,{"$f":"IF(COUNTIF(T:AD,AF10)>0,\"\",5)","v":""},{"$f":"IF('IMPORTED DATA'!$P$435=0,\"\",'IMPORTED DATA'!$P$435)","v":""},null,null,null,null,null,null,null,null,null,null,{"$f":"IF(AND('GETTING STARTED'!$J$163=\"yes\",'GETTING STARTED'!$K$163=\"add\"),'TRANSFORMED DATA'!$BA$2,IF(AND('GETTING STARTED'!$J$163=\"yes\",'GETTING STARTED'!$K$163=\"replace\"),VLOOKUP('GETTING STARTED'!$P$163,'TRANSFORMED DATA'!$AW$2:$AX$16,2,FALSE),\"\"))","v":""},{"$f":"IFERROR(VLOOKUP(AQ118,$AX$2:$AY$16,2,FALSE),\"\")","v":""},{"$f":"'GETTING STARTED'!$K$163","v":0}]
[null,{"$f":"IF('IMPORTED DATA'!B118=\"\",\"\",'IMPORTED DATA'!B118)","v":""},null,null,null,{"$f":"IF('IMPORTED DATA'!C118=\"\",\"\",'IMPORTED DATA'!C118)","v":""}]
[null,{"$f":"IF('IMPORTED DATA'!B119=\"\",\"\",'IMPORTED DATA'!B119)","v":""},null,null,null,{"$f":"IF('IMPORTED DATA'!C119=\"\",\"\",'IMPORTED DATA'!C119)","v":""}]
[null,{"$f":"IF('IMPORTED DATA'!B120=\"\",\"\",'IMPORTED DATA'!B120)","v":""},null,null,null,{"$f":"IF('IMPORTED DATA'!C120=\"\",\"\",'IMPORTED DATA'!C120)","v":""}]
[null,{"$f":"IF('IMPORTED DATA'!B121=\"\",\"\",'IMPORTED DATA'!B121)","v":""},null,null,null,{"$f":"IF('IMPORTED DATA'!C121=\"\",\"\",'IMPORTED DATA'!C121)","v":""}]
[null,{"$f":"IF('IMPORTED DATA'!B122=\"\",\"\",'IMPORTED DATA'!B122)","v":""},null,null,null,{"$f":"IF('IMPORTED DATA'!C122=\"\",\"\",'IMPORTED DATA'!C122)","v":""}]
[null,{"$f":"IF('IMPORTED DATA'!B123=\"\",\"\",'IMPORTED DATA'!B123)","v":""},null,null,null,{"$f":"IF('IMPORTED DATA'!C123=\"\",\"\",'IMPORTED DATA'!C123)","v":""},null,null,null,null,null,null,null,null,null,null,null,null,null,null,null,{"$f":"IF('IMPORTED DATA'!$O$121=\"\",\"\",'IMPORTED DATA'!$O$121)","v":""},null,null,null,null,null,null,null,null,null,null,null,{"$f":"IF('IMPORTED DATA'!$P$436=0,\"\",'IMPORTED DATA'!$P$436)","v":""}]
[null,{"$f":"IF('IMPORTED DATA'!B124=\"\",\"\",'IMPORTED DATA'!B124)","v":""},null,null,null,{"$f":"IF('IMPORTED DATA'!C124=\"\",\"\",'IMPORTED DATA'!C124)","v":""}]
[null,{"$f":"IF('IMPORTED DATA'!B125=\"\",\"\",'IMPORTED DATA'!B125)","v":""},null,null,null,{"$f":"IF('IMPORTED DATA'!C125=\"\",\"\",'IMPORTED DATA'!C125)","v":""}]
[null,null,null,null,null,null,null,null,null,null,null,null,null,null,null,null,null,null,null,null,null,{"$f":"IF('IMPORTED DATA'!$O$122=\"\",\"\",'IMPORTED DATA'!$O$122)","v":""},null,null,null,null,null,null,null,null,null,null,null,{"$f":"IF('IMPORTED DATA'!$P$437=0,\"\",'IMPORTED DATA'!$P$437)","v":""}]
[null,"Location",null,"County",null,"Line of Service",null,null,null,"Positions",null,"Leader",null,"Executive"]
[null,{"$f":"IF('IMPORTED DATA'!E112=\"\",\"\",'IMPORTED DATA'!E112)","v":""},null,{"$f":"IF('IMPORTED DATA'!F112=\"\",\"\",'IMPORTED DATA'!F112)","v":""},null,{"$f":"IF('IMPORTED DATA'!G112=\"\",\"\",'IMPORTED DATA'!G112)","v":""},null,null,null,{"$f":"IF('IMPORTED DATA'!H112=\"\",\"\",'IMPORTED DATA'!H112)","v":""},null,{"$f":"IF('IMPORTED DATA'!I112=\"\",\"\",'IMPORTED DATA'!I112)","v":""},null,{"$f":"IF('IMPORTED DATA'!J112=\"\",\"\",'IMPORTED DATA'!J112)","v":""}]
[null,{"$f":"IF('IMPORTED DATA'!E113=\"\",\"\",'IMPORTED DATA'!E113)","v":""},null,{"$f":"IF('IMPORTED DATA'!F113=\"\",\"\",'IMPORTED DATA'!F113)","v":""},null,{"$f":"IF('IMPORTED DATA'!G113=\"\",\"\",'IMPORTED DATA'!G113)","v":""},null,null,null,{"$f":"IF('IMPORTED DATA'!H113=\"\",\"\",'IMPORTED DATA'!H113)","v":""},null,{"$f":"IF('IMPORTED DATA'!I113=\"\",\"\",'IMPORTED DATA'!I113)","v":""},null,{"$f":"IF('IMPORTED DATA'!J113=\"\",\"\",'IMPORTED DATA'!J113)","v":""},null,null,null,null,null,null,null,{"$f":"IF('IMPORTED DATA'!$O$123=\"\",\"\",'IMPORTED DATA'!$O$123)","v":""},null,null,null,null,null,null,null,null,null,null,null,{"$f":"IF('IMPORTED DATA'!$P$438=0,\"\",'IMPORTED DATA'!$P$438)","v":""}]
[null,{"$f":"IF('IMPORTED DATA'!E114=\"\",\"\",'IMPORTED DATA'!E114)","v":""},null,{"$f":"IF('IMPORTED DATA'!F114=\"\",\"\",'IMPORTED DATA'!F114)","v":""},null,{"$f":"IF('IMPORTED DATA'!G114=\"\",\"\",'IMPORTED DATA'!G114)","v":""},null,null,null,{"$f":"IF('IMPORTED DATA'!H114=\"\",\"\",'IMPORTED DATA'!H114)","v":""},null,{"$f":"IF('IMPORTED DATA'!I114=\"\",\"\",'IMPORTED DATA'!I114)","v":""},null,{"$f":"IF('IMPORTED DATA'!J114=\"\",\"\",'IMPORTED DATA'!J114)","v":""}]
[null,{"$f":"IF('IMPORTED DATA'!E115=\"\",\"\",'IMPORTED DATA'!E115)","v":""},null,{"$f":"IF('IMPORTED DATA'!F115=\"\",\"\",'IMPORTED DATA'!F115)","v":""},null,{"$f":"IF('IMPORTED DATA'!G115=\"\",\"\",'IMPORTED DATA'!G115)","v":""},null,null,null,{"$f":"IF('IMPORTED DATA'!H115=\"\",\"\",'IMPORTED DATA'!H115)","v":""},null,{"$f":"IF('IMPORTED DATA'!I115=\"\",\"\",'IMPORTED DATA'!I115)","v":""},null,{"$f":"IF('IMPORTED DATA'!J115=\"\",\"\",'IMPORTED DATA'!J115)","v":""}]
[null,{"$f":"IF('IMPORTED DATA'!E116=\"\",\"\",'IMPORTED DATA'!E116)","v":""},null,{"$f":"IF('IMPORTED DATA'!F116=\"\",\"\",'IMPORTED DATA'!F116)","v":""},null,{"$f":"IF('IMPORTED DATA'!G116=\"\",\"\",'IMPORTED DATA'!G116)","v":""},null,null,null,{"$f":"IF('IMPORTED DATA'!H116=\"\",\"\",'IMPORTED DATA'!H116)","v":""},null,{"$f":"IF('IMPORTED DATA'!I116=\"\",\"\",'IMPORTED DATA'!I116)","v":""},null,{"$f":"IF('IMPORTED DATA'!J116=\"\",\"\",'IMPORTED DATA'!J116)","v":""},null,null,null,null,null,null,null,{"$f":"IF('IMPORTED DATA'!$O$124=\"\",\"\",'IMPORTED DATA'!$O$124)","v":""},null,null,null,null,null,null,null,null,null,null,null,{"$f":"IF('IMPORTED DATA'!$P$439=0,\"\",'IMPORTED DATA'!$P$439)","v":""}]
[null,{"$f":"IF('IMPORTED DATA'!E117=\"\",\"\",'IMPORTED DATA'!E117)","v":""},null,{"$f":"IF('IMPORTED DATA'!F117=\"\",\"\",'IMPORTED DATA'!F117)","v":""},null,{"$f":"IF('IMPORTED DATA'!G117=\"\",\"\",'IMPORTED DATA'!G117)","v":""},null,null,null,{"$f":"IF('IMPORTED DATA'!H117=\"\",\"\",'IMPORTED DATA'!H117)","v":""},null,{"$f":"IF('IMPORTED DATA'!I117=\"\",\"\",'IMPORTED DATA'!I117)","v":""},null,{"$f":"IF('IMPORTED DATA'!J117=\"\",\"\",'IMPORTED DATA'!J117)","v":""}]
[null,{"$f":"IF('IMPORTED DATA'!E118=\"\",\"\",'IMPORTED DATA'!E118)","v":""},null,{"$f":"IF('IMPORTED DATA'!F118=\"\",\"\",'IMPORTED DATA'!F118)","v":""},null,{"$f":"IF('IMPORTED DATA'!G118=\"\",\"\",'IMPORTED DATA'!G118)","v":""},null,null,null,{"$f":"IF('IMPORTED DATA'!H118=\"\",\"\",'IMPORTED DATA'!H118)","v":""},null,{"$f":"IF('IMPORTED DATA'!I118=\"\",\"\",'IMPORTED DATA'!I118)","v":""},null,{"$f":"IF('IMPORTED DATA'!J118=\"\",\"\",'IMPORTED DATA'!J118)","v":""}]
[null,{"$f":"IF('IMPORTED DATA'!E119=\"\",\"\",'IMPORTED DATA'!E119)","v":""},null,{"$f":"IF('IMPORTED DATA'!F119=\"\",\"\",'IMPORTED DATA'!F119)","v":""},null,{"$f":"IF('IMPORTED DATA'!G119=\"\",\"\",'IMPORTED DATA'!G119)","v":""},null,null,null,{"$f":"IF('IMPORTED DATA'!H119=\"\",\"\",'IMPORTED DATA'!H119)","v":""},null,{"$f":"IF('IMPORTED DATA'!I119=\"\",\"\",'IMPORTED DATA'!I119)","v":""},null,{"$f":"IF('IMPORTED DATA'!J119=\"\",\"\",'IMPORTED DATA'!J119)","v":""},null,null,null,null,null,null,null,{"$f":"IF('IMPORTED DATA'!$O$125=\"\",\"\",'IMPORTED DATA'!$O$125)","v":""},null,null,null,null,null,null,null,null,null,null,null,{"$f":"IF('IMPORTED DATA'!$P$440=0,\"\",'IMPORTED DATA'!$P$440)","v":""}]
[null,{"$f":"IF('IMPORTED DATA'!E120=\"\",\"\",'IMPORTED DATA'!E120)","v":""},null,{"$f":"IF('IMPORTED DATA'!F120=\"\",\"\",'IMPORTED DATA'!F120)","v":""},null,{"$f":"IF('IMPORTED DATA'!G120=\"\",\"\",'IMPORTED DATA'!G120)","v":""},null,null,null,{"$f":"IF('IMPORTED DATA'!H120=\"\",\"\",'IMPORTED DATA'!H120)","v":""},null,{"$f":"IF('IMPORTED DATA'!I120=\"\",\"\",'IMPORTED DATA'!I120)","v":""},null,{"$f":"IF('IMPORTED DATA'!J120=\"\",\"\",'IMPORTED DATA'!J120)","v":""}]
[null,{"$f":"IF('IMPORTED DATA'!E121=\"\",\"\",'IMPORTED DATA'!E121)","v":""},null,{"$f":"IF('IMPORTED DATA'!F121=\"\",\"\",'IMPORTED DATA'!F121)","v":""},null,{"$f":"IF('IMPORTED DATA'!G121=\"\",\"\",'IMPORTED DATA'!G121)","v":""},null,null,null,{"$f":"IF('IMPORTED DATA'!H121=\"\",\"\",'IMPORTED DATA'!H121)","v":""},null,{"$f":"IF('IMPORTED DATA'!I121=\"\",\"\",'IMPORTED DATA'!I121)","v":""},null,{"$f":"IF('IMPORTED DATA'!J121=\"\",\"\",'IMPORTED DATA'!J121)","v":""}]
[null,{"$f":"IF('IMPORTED DATA'!E122=\"\",\"\",'IMPORTED DATA'!E122)","v":""},null,{"$f":"IF('IMPORTED DATA'!F122=\"\",\"\",'IMPORTED DATA'!F122)","v":""},null,{"$f":"IF('IMPORTED DATA'!G122=\"\",\"\",'IMPORTED DATA'!G122)","v":""},null,null,null,{"$f":"IF('IMPORTED DATA'!H122=\"\",\"\",'IMPORTED DATA'!H122)","v":""},null,{"$f":"IF('IMPORTED DATA'!I122=\"\",\"\",'IMPORTED DATA'!I122)","v":""},null,{"$f":"IF('IMPORTED DATA'!J122=\"\",\"\",'IMPORTED DATA'!J122)","v":""}]
[null,{"$f":"IF('IMPORTED DATA'!E123=\"\",\"\",'IMPORTED DATA'!E123)","v":""},null,{"$f":"IF('IMPORTED DATA'!F123=\"\",\"\",'IMPORTED DATA'!F123)","v":""},null,{"$f":"IF('IMPORTED DATA'!G123=\"\",\"\",'IMPORTED DATA'!G123)","v":""},null,null,null,{"$f":"IF('IMPORTED DATA'!H123=\"\",\"\",'IMPORTED DATA'!H123)","v":""},null,{"$f":"IF('IMPORTED DATA'!I123=\"\",\"\",'IMPORTED DATA'!I123)","v":""},null,{"$f":"IF('IMPORTED DATA'!J123=\"\",\"\",'IMPORTED DATA'!J123)","v":""}]
[null,{"$f":"IF('IMPORTED DATA'!E124=\"\",\"\",'IMPORTED DATA'!E124)","v":""},null,{"$f":"IF('IMPORTED DATA'!F124=\"\",\"\",'IMPORTED DATA'!F124)","v":""},null,{"$f":"IF('IMPORTED DATA'!G124=\"\",\"\",'IMPORTED DATA'!G124)","v":""},null,null,null,{"$f":"IF('IMPORTED DATA'!H124=\"\",\"\",'IMPORTED DATA'!H124)","v":""},null,{"$f":"IF('IMPORTED DATA'!I124=\"\",\"\",'IMPORTED DATA'!I124)","v":""},null,{"$f":"IF('IMPORTED DATA'!J124=\"\",\"\",'IMPORTED DATA'!J124)","v":""}]
[null,{"$f":"IF('IMPORTED DATA'!E125=\"\",\"\",'IMPORTED DATA'!E125)","v":""},null,{"$f":"IF('IMPORTED DATA'!F125=\"\",\"\",'IMPORTED DATA'!F125)","v":""},null,{"$f":"IF('IMPORTED DATA'!G125=\"\",\"\",'IMPORTED DATA'!G125)","v":""},null,null,null,{"$f":"IF('IMPORTED DATA'!H125=\"\",\"\",'IMPORTED DATA'!H125)","v":""},null,{"$f":"IF('IMPORTED DATA'!I125=\"\",\"\",'IMPORTED DATA'!I125)","v":""},null,{"$f":"IF('IMPORTED DATA'!J125=\"\",\"\",'IMPORTED DATA'!J125)","v":""}]
[null,{"$f":"IF('IMPORTED DATA'!E126=\"\",\"\",'IMPORTED DATA'!E126)","v":""},null,{"$f":"IF('IMPORTED DATA'!F126=\"\",\"\",'IMPORTED DATA'!F126)","v":""},null,{"$f":"IF('IMPORTED DATA'!G126=\"\",\"\",'IMPORTED DATA'!G126)","v":""},null,null,null,{"$f":"IF('IMPORTED DATA'!H126=\"\",\"\",'IMPORTED DATA'!H126)","v":""},null,{"$f":"IF('IMPORTED DATA'!I126=\"\",\"\",'IMPORTED DATA'!I126)","v":""},null,{"$f":"IF('IMPORTED DATA'!J126=\"\",\"\",'IMPORTED DATA'!J126)","v":""}]
[null,{"$f":"IF('IMPORTED DATA'!E127=\"\",\"\",'IMPORTED DATA'!E127)","v":""},null,{"$f":"IF('IMPORTED DATA'!F127=\"\",\"\",'IMPORTED DATA'!F127)","v":""},null,{"$f":"IF('IMPORTED DATA'!G127=\"\",\"\",'IMPORTED DATA'!G127)","v":""},null,null,null,{"$f":"IF('IMPORTED DATA'!H127=\"\",\"\",'IMPORTED DATA'!H127)","v":""},null,{"$f":"IF('IMPORTED DATA'!I127=\"\",\"\",'IMPORTED DATA'!I127)","v":""},null,{"$f":"IF('IMPORTED DATA'!J127=\"\",\"\",'IMPORTED DATA'!J127)","v":""}]
[null,{"$f":"IF('IMPORTED DATA'!E128=\"\",\"\",'IMPORTED DATA'!E128)","v":""},null,{"$f":"IF('IMPORTED DATA'!F128=\"\",\"\",'IMPORTED DATA'!F128)","v":""},null,{"$f":"IF('IMPORTED DATA'!G128=\"\",\"\",'IMPORTED DATA'!G128)","v":""},null,null,null,{"$f":"IF('IMPORTED DATA'!H128=\"\",\"\",'IMPORTED DATA'!H128)","v":""},null,{"$f":"IF('IMPORTED DATA'!I128=\"\",\"\",'IMPORTED DATA'!I128)","v":""},null,{"$f":"IF('IMPORTED DATA'!J128=\"\",\"\",'IMPORTED DATA'!J128)","v":""},null,null,null,null,null,{"$f":"IF('IMPORTED DATA'!$O$126=\"\",\"\",'IMPORTED DATA'!$O$126)","v":""}]
[null,{"$f":"IF('IMPORTED DATA'!E129=\"\",\"\",'IMPORTED DATA'!E129)","v":""},null,{"$f":"IF('IMPORTED DATA'!F129=\"\",\"\",'IMPORTED DATA'!F129)","v":""},null,{"$f":"IF('IMPORTED DATA'!G129=\"\",\"\",'IMPORTED DATA'!G129)","v":""},null,null,null,{"$f":"IF('IMPORTED DATA'!H129=\"\",\"\",'IMPORTED DATA'!H129)","v":""},null,{"$f":"IF('IMPORTED DATA'!I129=\"\",\"\",'IMPORTED DATA'!I129)","v":""},null,{"$f":"IF('IMPORTED DATA'!J129=\"\",\"\",'IMPORTED DATA'!J129)","v":""}]
[null,{"$f":"IF('IMPORTED DATA'!E130=\"\",\"\",'IMPORTED DATA'!E130)","v":""},null,{"$f":"IF('IMPORTED DATA'!F130=\"\",\"\",'IMPORTED DATA'!F130)","v":""},null,{"$f":"IF('IMPORTED DATA'!G130=\"\",\"\",'IMPORTED DATA'!G130)","v":""},null,null,null,{"$f":"IF('IMPORTED DATA'!H130=\"\",\"\",'IMPORTED DATA'!H130)","v":""},null,{"$f":"IF('IMPORTED DATA'!I130=\"\",\"\",'IMPORTED DATA'!I130)","v":""},null,{"$f":"IF('IMPORTED DATA'!J130=\"\",\"\",'IMPORTED DATA'!J130)","v":""}]
[null,{"$f":"IF('IMPORTED DATA'!E131=\"\",\"\",'IMPORTED DATA'!E131)","v":""},null,{"$f":"IF('IMPORTED DATA'!F131=\"\",\"\",'IMPORTED DATA'!F131)","v":""},null,{"$f":"IF('IMPORTED DATA'!G131=\"\",\"\",'IMPORTED DATA'!G131)","v":""},null,null,null,{"$f":"IF('IMPORTED DATA'!H131=\"\",\"\",'IMPORTED DATA'!H131)","v":""},null,{"$f":"IF('IMPORTED DATA'!I131=\"\",\"\",'IMPORTED DATA'!I131)","v":""},null,{"$f":"IF('IMPORTED DATA'!J131=\"\",\"\",'IMPORTED DATA'!J131)","v":""}]
[null,{"$f":"IF('IMPORTED DATA'!E132=\"\",\"\",'IMPORTED DATA'!E132)","v":""},null,{"$f":"IF('IMPORTED DATA'!F132=\"\",\"\",'IMPORTED DATA'!F132)","v":""},null,{"$f":"IF('IMPORTED DATA'!G132=\"\",\"\",'IMPORTED DATA'!G132)","v":""},null,null,null,{"$f":"IF('IMPORTED DATA'!H132=\"\",\"\",'IMPORTED DATA'!H132)","v":""},null,{"$f":"IF('IMPORTED DATA'!I132=\"\",\"\",'IMPORTED DATA'!I132)","v":""},null,{"$f":"IF('IMPORTED DATA'!J132=\"\",\"\",'IMPORTED DATA'!J132)","v":""}]
[null,{"$f":"IF('IMPORTED DATA'!E133=\"\",\"\",'IMPORTED DATA'!E133)","v":""},null,{"$f":"IF('IMPORTED DATA'!F133=\"\",\"\",'IMPORTED DATA'!F133)","v":""},null,{"$f":"IF('IMPORTED DATA'!G133=\"\",\"\",'IMPORTED DATA'!G133)","v":""},null,null,null,{"$f":"IF('IMPORTED DATA'!H133=\"\",\"\",'IMPORTED DATA'!H133)","v":""},null,{"$f":"IF('IMPORTED DATA'!I133=\"\",\"\",'IMPORTED DATA'!I133)","v":""},null,{"$f":"IF('IMPORTED DATA'!J133=\"\",\"\",'IMPORTED DATA'!J133)","v":""}]
[null,{"$f":"IF('IMPORTED DATA'!E134=\"\",\"\",'IMPORTED DATA'!E134)","v":""},null,{"$f":"IF('IMPORTED DATA'!F134=\"\",\"\",'IMPORTED DATA'!F134)","v":""},null,{"$f":"IF('IMPORTED DATA'!G134=\"\",\"\",'IMPORTED DATA'!G134)","v":""},null,null,null,{"$f":"IF('IMPORTED DATA'!H134=\"\",\"\",'IMPORTED DATA'!H134)","v":""},null,{"$f":"IF('IMPORTED DATA'!I134=\"\",\"\",'IMPORTED DATA'!I134)","v":""},null,{"$f":"IF('IMPORTED DATA'!J134=\"\",\"\",'IMPORTED DATA'!J134)","v":""},null,null,null,null,null,null,null,{"$f":"IF('IMPORTED DATA'!$O$127=\"\",\"\",'IMPORTED DATA'!$O$127)","v":""}]
[null,{"$f":"IF('IMPORTED DATA'!E135=\"\",\"\",'IMPORTED DATA'!E135)","v":""},null,{"$f":"IF('IMPORTED DATA'!F135=\"\",\"\",'IMPORTED DATA'!F135)","v":""},null,{"$f":"IF('IMPORTED DATA'!G135=\"\",\"\",'IMPORTED DATA'!G135)","v":""},null,null,null,{"$f":"IF('IMPORTED DATA'!H135=\"\",\"\",'IMPORTED DATA'!H135)","v":""},null,{"$f":"IF('IMPORTED DATA'!I135=\"\",\"\",'IMPORTED DATA'!I135)","v":""},null,{"$f":"IF('IMPORTED DATA'!J135=\"\",\"\",'IMPORTED DATA'!J135)","v":""}]
[null,{"$f":"IF('IMPORTED DATA'!E136=\"\",\"\",'IMPORTED DATA'!E136)","v":""},null,{"$f":"IF('IMPORTED DATA'!F136=\"\",\"\",'IMPORTED DATA'!F136)","v":""},null,{"$f":"IF('IMPORTED DATA'!G136=\"\",\"\",'IMPORTED DATA'!G136)","v":""},null,null,null,{"$f":"IF('IMPORTED DATA'!H136=\"\",\"\",'IMPORTED DATA'!H136)","v":""},null,{"$f":"IF('IMPORTED DATA'!I136=\"\",\"\",'IMPORTED DATA'!I136)","v":""},null,{"$f":"IF('IMPORTED DATA'!J136=\"\",\"\",'IMPORTED DATA'!J136)","v":""}]
[null,null,null,null,null,null,null,null,null,null,null,null,null,null,null,null,null,null,null,null,null,{"$f":"IF('IMPORTED DATA'!$O$128=\"\",\"\",'IMPORTED DATA'!$O$128)","v":""}]
[null,"Internal Departments",null,null,null,null,null,null,"Sub Agency or Division"]
[null,{"$f":"IF('IMPORTED DATA'!G56=\"\",\"\",'IMPORTED DATA'!G56)","v":""},null,null,null,null,null,null,{"$f":"IF('IMPORTED DATA'!H56=\"\",\"\",'IMPORTED DATA'!H56)","v":""}]
[null,{"$f":"IF('IMPORTED DATA'!G57=\"\",\"\",'IMPORTED DATA'!G57)","v":""},null,null,null,null,null,null,{"$f":"IF('IMPORTED DATA'!H57=\"\",\"\",'IMPORTED DATA'!H57)","v":""},null,null,null,null,null,null,null,null,null,null,null,null,{"$f":"IF('IMPORTED DATA'!$O$129=\"\",\"\",'IMPORTED DATA'!$O$129)","v":""}]
[null,{"$f":"IF('IMPORTED DATA'!G58=\"\",\"\",'IMPORTED DATA'!G58)","v":""},null,null,null,null,null,null,{"$f":"IF('IMPORTED DATA'!H58=\"\",\"\",'IMPORTED DATA'!H58)","v":""}]
[null,{"$f":"IF('IMPORTED DATA'!G59=\"\",\"\",'IMPORTED DATA'!G59)","v":""},null,null,null,null,null,null,{"$f":"IF('IMPORTED DATA'!H59=\"\",\"\",'IMPORTED DATA'!H59)","v":""}]
[null,{"$f":"IF('IMPORTED DATA'!G60=\"\",\"\",'IMPORTED DATA'!G60)","v":""},null,null,null,null,null,null,{"$f":"IF('IMPORTED DATA'!H60=\"\",\"\",'IMPORTED DATA'!H60)","v":""},null,null,null,null,null,null,null,null,null,null,null,null,{"$f":"IF('IMPORTED DATA'!$O$130=\"\",\"\",'IMPORTED DATA'!$O$130)","v":""}]
[null,{"$f":"IF('IMPORTED DATA'!G61=\"\",\"\",'IMPORTED DATA'!G61)","v":""},null,null,null,null,null,null,{"$f":"IF('IMPORTED DATA'!H61=\"\",\"\",'IMPORTED DATA'!H61)","v":""}]
[null,{"$f":"IF('IMPORTED DATA'!G62=\"\",\"\",'IMPORTED DATA'!G62)","v":""},null,null,null,null,null,null,{"$f":"IF('IMPORTED DATA'!H62=\"\",\"\",'IMPORTED DATA'!H62)","v":""}]
[null,{"$f":"IF('IMPORTED DATA'!G63=\"\",\"\",'IMPORTED DATA'!G63)","v":""},null,null,null,null,null,null,{"$f":"IF('IMPORTED DATA'!H63=\"\",\"\",'IMPORTED DATA'!H63)","v":""},null,null,null,null,null,null,null,null,null,null,null,null,{"$f":"IF('IMPORTED DATA'!$O$131=\"\",\"\",'IMPORTED DATA'!$O$131)","v":""}]
[null,{"$f":"IF('IMPORTED DATA'!G64=\"\",\"\",'IMPORTED DATA'!G64)","v":""},null,null,null,null,null,null,{"$f":"IF('IMPORTED DATA'!H64=\"\",\"\",'IMPORTED DATA'!H64)","v":""}]
[null,{"$f":"IF('IMPORTED DATA'!G65=\"\",\"\",'IMPORTED DATA'!G65)","v":""},null,null,null,null,null,null,{"$f":"IF('IMPORTED DATA'!H65=\"\",\"\",'IMPORTED DATA'!H65)","v":""}]
[null,{"$f":"IF('IMPORTED DATA'!G66=\"\",\"\",'IMPORTED DATA'!G66)","v":""},null,null,null,null,null,null,{"$f":"IF('IMPORTED DATA'!H66=\"\",\"\",'IMPORTED DATA'!H66)","v":""}]
[null,{"$f":"IF('IMPORTED DATA'!G67=\"\",\"\",'IMPORTED DATA'!G67)","v":""},null,null,null,null,null,null,{"$f":"IF('IMPORTED DATA'!H67=\"\",\"\",'IMPORTED DATA'!H67)","v":""}]
[null,{"$f":"IF('IMPORTED DATA'!G68=\"\",\"\",'IMPORTED DATA'!G68)","v":""},null,null,null,null,null,null,{"$f":"IF('IMPORTED DATA'!H68=\"\",\"\",'IMPORTED DATA'!H68)","v":""}]
[null,{"$f":"IF('IMPORTED DATA'!G69=\"\",\"\",'IMPORTED DATA'!G69)","v":""},null,null,null,null,null,null,{"$f":"IF('IMPORTED DATA'!H69=\"\",\"\",'IMPORTED DATA'!H69)","v":""}]
[null,{"$f":"IF('IMPORTED DATA'!G70=\"\",\"\",'IMPORTED DATA'!G70)","v":""},null,null,null,null,null,null,{"$f":"IF('IMPORTED DATA'!H70=\"\",\"\",'IMPORTED DATA'!H70)","v":""}]
[null,{"$f":"IF('IMPORTED DATA'!G71=\"\",\"\",'IMPORTED DATA'!G71)","v":""},null,null,null,null,null,null,{"$f":"IF('IMPORTED DATA'!H71=\"\",\"\",'IMPORTED DATA'!H71)","v":""}]
[null,{"$f":"IF('IMPORTED DATA'!G72=\"\",\"\",'IMPORTED DATA'!G72)","v":""},null,null,null,null,null,null,{"$f":"IF('IMPORTED DATA'!H72=\"\",\"\",'IMPORTED DATA'!H72)","v":""},null,null,null,null,null,null,null,null,null,null,{"$f":"IF('IMPORTED DATA'!$O$132=\"\",\"\",'IMPORTED DATA'!$O$132)","v":""}]
[null,{"$f":"IF('IMPORTED DATA'!G73=\"\",\"\",'IMPORTED DATA'!G73)","v":""},null,null,null,null,null,null,{"$f":"IF('IMPORTED DATA'!H73=\"\",\"\",'IMPORTED DATA'!H73)","v":""}]
[null,{"$f":"IF('IMPORTED DATA'!G74=\"\",\"\",'IMPORTED DATA'!G74)","v":""},null,null,null,null,null,null,{"$f":"IF('IMPORTED DATA'!H74=\"\",\"\",'IMPORTED DATA'!H74)","v":""}]
[null,{"$f":"IF('IMPORTED DATA'!G75=\"\",\"\",'IMPORTED DATA'!G75)","v":""},null,null,null,null,null,null,{"$f":"IF('IMPORTED DATA'!H75=\"\",\"\",'IMPORTED DATA'!H75)","v":""}]
[null,{"$f":"IF('IMPORTED DATA'!G76=\"\",\"\",'IMPORTED DATA'!G76)","v":""},null,null,null,null,null,null,{"$f":"IF('IMPORTED DATA'!H76=\"\",\"\",'IMPORTED DATA'!H76)","v":""}]
[null,{"$f":"IF('IMPORTED DATA'!G77=\"\",\"\",'IMPORTED DATA'!G77)","v":""},null,null,null,null,null,null,{"$f":"IF('IMPORTED DATA'!H77=\"\",\"\",'IMPORTED DATA'!H77)","v":""}]
[null,{"$f":"IF('IMPORTED DATA'!G78=\"\",\"\",'IMPORTED DATA'!G78)","v":""},null,null,null,null,null,null,{"$f":"IF('IMPORTED DATA'!H78=\"\",\"\",'IMPORTED DATA'!H78)","v":""},null,null,null,null,null,null,null,null,null,null,null,null,{"$f":"IF('IMPORTED DATA'!$O$133=\"\",\"\",'IMPORTED DATA'!$O$133)","v":""}]
[null,{"$f":"IF('IMPORTED DATA'!G79=\"\",\"\",'IMPORTED DATA'!G79)","v":""},null,null,null,null,null,null,{"$f":"IF('IMPORTED DATA'!H79=\"\",\"\",'IMPORTED DATA'!H79)","v":""}]
[null,{"$f":"IF('IMPORTED DATA'!G80=\"\",\"\",'IMPORTED DATA'!G80)","v":""},null,null,null,null,null,null,{"$f":"IF('IMPORTED DATA'!H80=\"\",\"\",'IMPORTED DATA'!H80)","v":""}]
[null,{"$f":"IF('IMPORTED DATA'!G81=\"\",\"\",'IMPORTED DATA'!G81)","v":""},null,null,null,null,null,null,{"$f":"IF('IMPORTED DATA'!H81=\"\",\"\",'IMPORTED DATA'!H81)","v":""},null,null,null,null,null,null,null,null,null,null,null,null,{"$f":"IF('IMPORTED DATA'!$O$134=\"\",\"\",'IMPORTED DATA'!$O$134)","v":""}]
[null,{"$f":"IF('IMPORTED DATA'!G82=\"\",\"\",'IMPORTED DATA'!G82)","v":""},null,null,null,null,null,null,{"$f":"IF('IMPORTED DATA'!H82=\"\",\"\",'IMPORTED DATA'!H82)","v":""}]
[null,{"$f":"IF('IMPORTED DATA'!G83=\"\",\"\",'IMPORTED DATA'!G83)","v":""},null,null,null,null,null,null,{"$f":"IF('IMPORTED DATA'!H83=\"\",\"\",'IMPORTED DATA'!H83)","v":""}]
[null,{"$f":"IF('IMPORTED DATA'!G84=\"\",\"\",'IMPORTED DATA'!G84)","v":""},null,null,null,null,null,null,{"$f":"IF('IMPORTED DATA'!H84=\"\",\"\",'IMPORTED DATA'!H84)","v":""},null,null,null,null,null,null,null,null,null,null,null,null,{"$f":"IF('IMPORTED DATA'!$O$135=\"\",\"\",'IMPORTED DATA'!$O$135)","v":""}]
[null,{"$f":"IF('IMPORTED DATA'!G85=\"\",\"\",'IMPORTED DATA'!G85)","v":""},null,null,null,null,null,null,{"$f":"IF('IMPORTED DATA'!H85=\"\",\"\",'IMPORTED DATA'!H85)","v":""}]
[null,{"$f":"IF('IMPORTED DATA'!G86=\"\",\"\",'IMPORTED DATA'!G86)","v":""}]
[null,{"$f":"IF('IMPORTED DATA'!G87=\"\",\"\",'IMPORTED DATA'!G87)","v":""},null,null,null,null,null,null,null,null,null,null,null,null,null,null,null,null,null,null,null,{"$f":"IF('IMPORTED DATA'!$O$136=\"\",\"\",'IMPORTED DATA'!$O$136)","v":""}]
[null,{"$f":"IF('IMPORTED DATA'!G88=\"\",\"\",'IMPORTED DATA'!G88)","v":""}]
[null,{"$f":"IF('IMPORTED DATA'!G89=\"\",\"\",'IMPORTED DATA'!G89)","v":""}]
[null,{"$f":"IF('IMPORTED DATA'!G90=\"\",\"\",'IMPORTED DATA'!G90)","v":""},null,null,null,null,null,null,null,null,null,null,null,null,null,null,null,null,null,null,null,{"$f":"IF('IMPORTED DATA'!$O$137=\"\",\"\",'IMPORTED DATA'!$O$137)","v":""}]
[null,{"$f":"IF('IMPORTED DATA'!G91=\"\",\"\",'IMPORTED DATA'!G91)","v":""}]
[null,{"$f":"IF('IMPORTED DATA'!G92=\"\",\"\",'IMPORTED DATA'!G92)","v":""}]
[null,{"$f":"IF('IMPORTED DATA'!G93=\"\",\"\",'IMPORTED DATA'!G93)","v":""}]
[null,{"$f":"IF('IMPORTED DATA'!G94=\"\",\"\",'IMPORTED DATA'!G94)","v":""}]
[null,{"$f":"IF('IMPORTED DATA'!G95=\"\",\"\",'IMPORTED DATA'!G95)","v":""}]
[null,{"$f":"IF('IMPORTED DATA'!G96=\"\",\"\",'IMPORTED DATA'!G96)","v":""}]
[null,{"$f":"IF('IMPORTED DATA'!G97=\"\",\"\",'IMPORTED DATA'!G97)","v":""}]
[null,{"$f":"IF('IMPORTED DATA'!G98=\"\",\"\",'IMPORTED DATA'!G98)","v":""}]
[null,{"$f":"IF('IMPORTED DATA'!G99=\"\",\"\",'IMPORTED DATA'!G99)","v":""},null,null,null,null,null,null,null,null,null,null,null,null,null,null,null,null,null,{"$f":"IF('IMPORTED DATA'!$O$138=\"\",\"\",'IMPORTED DATA'!$O$138)","v":""}]
[null,{"$f":"IF('IMPORTED DATA'!G100=\"\",\"\",'IMPORTED DATA'!G100)","v":""}]
[null,{"$f":"IF('IMPORTED DATA'!G101=\"\",\"\",'IMPORTED DATA'!G101)","v":""}]
[null,{"$f":"IF('IMPORTED DATA'!G102=\"\",\"\",'IMPORTED DATA'!G102)","v":""}]
[null,{"$f":"IF('IMPORTED DATA'!G103=\"\",\"\",'IMPORTED DATA'!G103)","v":""}]
[null,{"$f":"IF('IMPORTED DATA'!G104=\"\",\"\",'IMPORTED DATA'!G104)","v":""}]
[null,{"$f":"IF('IMPORTED DATA'!G105=\"\",\"\",'IMPORTED DATA'!G105)","v":""},null,null,null,null,null,null,null,null,null,null,null,null,null,null,null,null,null,null,null,{"$f":"IF('IMPORTED DATA'!$O$139=\"\",\"\",'IMPORTED DATA'!$O$139)","v":""}]
[]
[]
[null,null,null,null,null,null,null,null,null,null,null,null,null,null,null,null,null,null,null,null,null,{"$f":"IF('IMPORTED DATA'!$O$140=\"\",\"\",'IMPORTED DATA'!$O$140)","v":""}]
[null,null,null,null,"All Positions by EEO Code",null,null,null,"Leader",null,null,null,"Executive"]
[null,null,{"$f":"CONCATENATE(\"FY\",RIGHT('DHRM ADMIN'!$P$15,2)-2)","v":"FY21"},{"$f":"CONCATENATE(\"FY\",RIGHT('DHRM ADMIN'!$P$15,2)-1)","v":"FY22"},{"$f":"CONCATENATE(\"FY\",RIGHT('DHRM ADMIN'!$P$15,2))","v":"FY23"},"Vacant",{"$f":"CONCATENATE(\"FY\",RIGHT('DHRM ADMIN'!$P$15,2)-2)","v":"FY21"},{"$f":"CONCATENATE(\"FY\",RIGHT('DHRM ADMIN'!$P$15,2)-1)","v":"FY22"},{"$f":"CONCATENATE(\"FY\",RIGHT('DHRM ADMIN'!$P$15,2))","v":"FY23"},"Vacant",{"$f":"CONCATENATE(\"FY\",RIGHT('DHRM ADMIN'!$P$15,2)-2)","v":"FY21"},{"$f":"CONCATENATE(\"FY\",RIGHT('DHRM ADMIN'!$P$15,2)-1)","v":"FY22"},{"$f":"CONCATENATE(\"FY\",RIGHT('DHRM ADMIN'!$P$15,2))","v":"FY23"},"Vacant"]
[null,"Official or Administrator",{"$f":"IF('IMPORTED DATA'!N21<>\"\",'IMPORTED DATA'!N21,\"\")","v":""},{"$f":"IF('IMPORTED DATA'!O21<>\"\",'IMPORTED DATA'!O21,IF('IMPORTED DATA'!$B$461=0,\"\",COUNTIF(Table5[EEO CATEGORY],'TRANSFORMED DATA'!B211)+F211))","v":""},null,{"$f":"'CENTRAL ANALYSIS'!E275","v":0},{"$f":"IF('IMPORTED DATA'!N46<>\"\",'IMPORTED DATA'!N46,\"\")","v":""},{"$f":"IF('IMPORTED DATA'!O46<>\"\",'IMPORTED DATA'!O46,IF('IMPORTED DATA'!$B$461=0,\"\",COUNTIFS(Table5[EEO CATEGORY],'TRANSFORMED DATA'!$B211,Table5[ISSUPERVISOR],1)+J212))","v":""},null,{"$f":"'CENTRAL ANALYSIS'!I275","v":0},{"$f":"IF('IMPORTED DATA'!N71<>\"\",'IMPORTED DATA'!N71,\"\")","v":""},{"$f":"IF('IMPORTED DATA'!O71<>\"\",'IMPORTED DATA'!O71,IF('IMPORTED DATA'!$B$461=0,\"\",COUNTIFS(Table5[EEO CATEGORY],'TRANSFORMED DATA'!$B211,Table5[ISExecutive],1)+N211))","v":""},null,{"$f":"'CENTRAL ANALYSIS'!M275","v":0},null,null,null,null,null,null,null,{"$f":"IF('IMPORTED DATA'!$O$141=\"\",\"\",'IMPORTED DATA'!$O$141)","v":""}]
[null,"Professional",{"$f":"IF('IMPORTED DATA'!N22<>\"\",'IMPORTED DATA'!N22,\"\")","v":""},{"$f":"IF('IMPORTED DATA'!O22<>\"\",'IMPORTED DATA'!O22,IF('IMPORTED DATA'!$B$461=0,\"\",COUNTIF(Table5[EEO CATEGORY],'TRANSFORMED DATA'!B212)+F212))","v":""},null,{"$f":"'CENTRAL ANALYSIS'!E276","v":0},{"$f":"IF('IMPORTED DATA'!N47<>\"\",'IMPORTED DATA'!N47,\"\")","v":""},{"$f":"IF('IMPORTED DATA'!O47<>\"\",'IMPORTED DATA'!O47,IF('IMPORTED DATA'!$B$461=0,\"\",COUNTIFS(Table5[EEO CATEGORY],'TRANSFORMED DATA'!$B212,Table5[ISSUPERVISOR],1)+J213))","v":""},null,{"$f":"'CENTRAL ANALYSIS'!I276","v":0},{"$f":"IF('IMPORTED DATA'!N72<>\"\",'IMPORTED DATA'!N72,\"\")","v":""},{"$f":"IF('IMPORTED DATA'!O72<>\"\",'IMPORTED DATA'!O72,IF('IMPORTED DATA'!$B$461=0,\"\",COUNTIFS(Table5[EEO CATEGORY],'TRANSFORMED DATA'!$B212,Table5[ISExecutive],1)+N212))","v":""},null,{"$f":"'CENTRAL ANALYSIS'!M276","v":0}]
[null,"Technician",{"$f":"IF('IMPORTED DATA'!N23<>\"\",'IMPORTED DATA'!N23,\"\")","v":""},{"$f":"IF('IMPORTED DATA'!O23<>\"\",'IMPORTED DATA'!O23,IF('IMPORTED DATA'!$B$461=0,\"\",COUNTIF(Table5[EEO CATEGORY],'TRANSFORMED DATA'!B213)+F213))","v":""},null,{"$f":"'CENTRAL ANALYSIS'!E277","v":0},{"$f":"IF('IMPORTED DATA'!N48<>\"\",'IMPORTED DATA'!N48,\"\")","v":""},{"$f":"IF('IMPORTED DATA'!O48<>\"\",'IMPORTED DATA'!O48,IF('IMPORTED DATA'!$B$461=0,\"\",COUNTIFS(Table5[EEO CATEGORY],'TRANSFORMED DATA'!$B213,Table5[ISSUPERVISOR],1)+J214))","v":""},null,{"$f":"'CENTRAL ANALYSIS'!I277","v":0},{"$f":"IF('IMPORTED DATA'!N73<>\"\",'IMPORTED DATA'!N73,\"\")","v":""},{"$f":"IF('IMPORTED DATA'!O73<>\"\",'IMPORTED DATA'!O73,IF('IMPORTED DATA'!$B$461=0,\"\",COUNTIFS(Table5[EEO CATEGORY],'TRANSFORMED DATA'!$B213,Table5[ISExecutive],1)+N213))","v":""},null,{"$f":"'CENTRAL ANALYSIS'!M277","v":0}]
[null,"Protective Service Worker",{"$f":"IF('IMPORTED DATA'!N24<>\"\",'IMPORTED DATA'!N24,\"\")","v":""},{"$f":"IF('IMPORTED DATA'!O24<>\"\",'IMPORTED DATA'!O24,IF('IMPORTED DATA'!$B$461=0,\"\",COUNTIF(Table5[EEO CATEGORY],'TRANSFORMED DATA'!B214)+F214))","v":""},null,{"$f":"'CENTRAL ANALYSIS'!E278","v":0},{"$f":"IF('IMPORTED DATA'!N49<>\"\",'IMPORTED DATA'!N49,\"\")","v":""},{"$f":"IF('IMPORTED DATA'!O49<>\"\",'IMPORTED DATA'!O49,IF('IMPORTED DATA'!$B$461=0,\"\",COUNTIFS(Table5[EEO CATEGORY],'TRANSFORMED DATA'!$B214,Table5[ISSUPERVISOR],1)+J215))","v":""},null,{"$f":"'CENTRAL ANALYSIS'!I278","v":0},{"$f":"IF('IMPORTED DATA'!N74<>\"\",'IMPORTED DATA'!N74,\"\")","v":""},{"$f":"IF('IMPORTED DATA'!O74<>\"\",'IMPORTED DATA'!O74,IF('IMPORTED DATA'!$B$461=0,\"\",COUNTIFS(Table5[EEO CATEGORY],'TRANSFORMED DATA'!$B214,Table5[ISExecutive],1)+N214))","v":""},null,{"$f":"'CENTRAL ANALYSIS'!M278","v":0},null,null,null,null,null,null,null,{"$f":"IF('IMPORTED DATA'!$O$142=\"\",\"\",'IMPORTED DATA'!$O$142)","v":""}]
[null,"Paraprofessional",{"$f":"IF('IMPORTED DATA'!N25<>\"\",'IMPORTED DATA'!N25,\"\")","v":""},{"$f":"IF('IMPORTED DATA'!O25<>\"\",'IMPORTED DATA'!O25,IF('IMPORTED DATA'!$B$461=0,\"\",COUNTIF(Table5[EEO CATEGORY],'TRANSFORMED DATA'!B215)+F215))","v":""},null,{"$f":"'CENTRAL ANALYSIS'!E279","v":0},{"$f":"IF('IMPORTED DATA'!N50<>\"\",'IMPORTED DATA'!N50,\"\")","v":""},{"$f":"IF('IMPORTED DATA'!O50<>\"\",'IMPORTED DATA'!O50,IF('IMPORTED DATA'!$B$461=0,\"\",COUNTIFS(Table5[EEO CATEGORY],'TRANSFORMED DATA'!$B215,Table5[ISSUPERVISOR],1)+J216))","v":""},null,{"$f":"'CENTRAL ANALYSIS'!I279","v":0},{"$f":"IF('IMPORTED DATA'!N75<>\"\",'IMPORTED DATA'!N75,\"\")","v":""},{"$f":"IF('IMPORTED DATA'!O75<>\"\",'IMPORTED DATA'!O75,IF('IMPORTED DATA'!$B$461=0,\"\",COUNTIFS(Table5[EEO CATEGORY],'TRANSFORMED DATA'!$B215,Table5[ISExecutive],1)+N215))","v":""},null,{"$f":"'CENTRAL ANALYSIS'!M279","v":0}]
[null,"Office or Clerical",{"$f":"IF('IMPORTED DATA'!N26<>\"\",'IMPORTED DATA'!N26,\"\")","v":""},{"$f":"IF('IMPORTED DATA'!O26<>\"\",'IMPORTED DATA'!O26,IF('IMPORTED DATA'!$B$461=0,\"\",COUNTIF(Table5[EEO CATEGORY],'TRANSFORMED DATA'!B216)+F216))","v":""},null,{"$f":"'CENTRAL ANALYSIS'!E280","v":0},{"$f":"IF('IMPORTED DATA'!N51<>\"\",'IMPORTED DATA'!N51,\"\")","v":""},{"$f":"IF('IMPORTED DATA'!O51<>\"\",'IMPORTED DATA'!O51,IF('IMPORTED DATA'!$B$461=0,\"\",COUNTIFS(Table5[EEO CATEGORY],'TRANSFORMED DATA'!$B216,Table5[ISSUPERVISOR],1)+J217))","v":""},null,{"$f":"'CENTRAL ANALYSIS'!I280","v":0},{"$f":"IF('IMPORTED DATA'!N76<>\"\",'IMPORTED DATA'!N76,\"\")","v":""},{"$f":"IF('IMPORTED DATA'!O76<>\"\",'IMPORTED DATA'!O76,IF('IMPORTED DATA'!$B$461=0,\"\",COUNTIFS(Table5[EEO CATEGORY],'TRANSFORMED DATA'!$B216,Table5[ISExecutive],1)+N216))","v":""},null,{"$f":"'CENTRAL ANALYSIS'!M280","v":0}]
[null,"Skilled Craft Worker",{"$f":"IF('IMPORTED DATA'!N27<>\"\",'IMPORTED DATA'!N27,\"\")","v":""},{"$f":"IF('IMPORTED DATA'!O27<>\"\",'IMPORTED DATA'!O27,IF('IMPORTED DATA'!$B$461=0,\"\",COUNTIF(Table5[EEO CATEGORY],'TRANSFORMED DATA'!B217)+F217))","v":""},null,{"$f":"'CENTRAL ANALYSIS'!E281","v":0},{"$f":"IF('IMPORTED DATA'!N52<>\"\",'IMPORTED DATA'!N52,\"\")","v":""},{"$f":"IF('IMPORTED DATA'!O52<>\"\",'IMPORTED DATA'!O52,IF('IMPORTED DATA'!$B$461=0,\"\",COUNTIFS(Table5[EEO CATEGORY],'TRANSFORMED DATA'!$B217,Table5[ISSUPERVISOR],1)+J218))","v":""},null,{"$f":"'CENTRAL ANALYSIS'!I281","v":0},{"$f":"IF('IMPORTED DATA'!N77<>\"\",'IMPORTED DATA'!N77,\"\")","v":""},{"$f":"IF('IMPORTED DATA'!O77<>\"\",'IMPORTED DATA'!O77,IF('IMPORTED DATA'!$B$461=0,\"\",COUNTIFS(Table5[EEO CATEGORY],'TRANSFORMED DATA'!$B217,Table5[ISExecutive],1)+N217))","v":""},null,{"$f":"'CENTRAL ANALYSIS'!M281","v":0},null,null,null,null,null,null,null,{"$f":"IF('IMPORTED DATA'!$O$143=\"\",\"\",'IMPORTED DATA'!$O$143)","v":""}]
[null,"Service/Maintenance",{"$f":"IF('IMPORTED DATA'!N28<>\"\",'IMPORTED DATA'!N28,\"\")","v":""},{"$f":"IF('IMPORTED DATA'!O28<>\"\",'IMPORTED DATA'!O28,IF('IMPORTED DATA'!$B$461=0,\"\",COUNTIF(Table5[EEO CATEGORY],'TRANSFORMED DATA'!B218)+F218))","v":""},null,{"$f":"'CENTRAL ANALYSIS'!E282","v":0},{"$f":"IF('IMPORTED DATA'!N53<>\"\",'IMPORTED DATA'!N53,\"\")","v":""},{"$f":"IF('IMPORTED DATA'!O53<>\"\",'IMPORTED DATA'!O53,IF('IMPORTED DATA'!$B$461=0,\"\",COUNTIFS(Table5[EEO CATEGORY],'TRANSFORMED DATA'!$B218,Table5[ISSUPERVISOR],1)+J219))","v":""},null,{"$f":"'CENTRAL ANALYSIS'!I282","v":0},{"$f":"IF('IMPORTED DATA'!N78<>\"\",'IMPORTED DATA'!N78,\"\")","v":""},{"$f":"IF('IMPORTED DATA'!O78<>\"\",'IMPORTED DATA'!O78,IF('IMPORTED DATA'!$B$461=0,\"\",COUNTIFS(Table5[EEO CATEGORY],'TRANSFORMED DATA'!$B218,Table5[ISExecutive],1)+N218))","v":""},null,{"$f":"'CENTRAL ANALYSIS'!M282","v":0}]
[null,"Faculty",{"$f":"IF('IMPORTED DATA'!N29<>\"\",'IMPORTED DATA'!N29,\"\")","v":""},{"$f":"IF('IMPORTED DATA'!O29<>\"\",'IMPORTED DATA'!O29,IF('IMPORTED DATA'!$B$461=0,\"\",COUNTIF(Table5[EEO CATEGORY],'TRANSFORMED DATA'!B219)+F219))","v":""},null,{"$f":"'CENTRAL ANALYSIS'!E283","v":0},{"$f":"IF('IMPORTED DATA'!N54<>\"\",'IMPORTED DATA'!N54,\"\")","v":""},{"$f":"IF('IMPORTED DATA'!O54<>\"\",'IMPORTED DATA'!O54,IF('IMPORTED DATA'!$B$461=0,\"\",COUNTIFS(Table5[EEO CATEGORY],'TRANSFORMED DATA'!$B219,Table5[ISSUPERVISOR],1)+J220))","v":""},null,{"$f":"'CENTRAL ANALYSIS'!I283","v":0},{"$f":"IF('IMPORTED DATA'!N79<>\"\",'IMPORTED DATA'!N79,\"\")","v":""},{"$f":"IF('IMPORTED DATA'!O79<>\"\",'IMPORTED DATA'!O79,IF('IMPORTED DATA'!$B$461=0,\"\",COUNTIFS(Table5[EEO CATEGORY],'TRANSFORMED DATA'!$B219,Table5[ISExecutive],1)+N219))","v":""},null,{"$f":"'CENTRAL ANALYSIS'!M283","v":0}]
[null,"Other",{"$f":"IF('IMPORTED DATA'!N30<>\"\",'IMPORTED DATA'!N30,\"\")","v":""},{"$f":"IF('IMPORTED DATA'!O30<>\"\",'IMPORTED DATA'!O30,IF('IMPORTED DATA'!$B$461=0,\"\",COUNTIF(Table5[EEO CATEGORY],'TRANSFORMED DATA'!B220)+F220))","v":""},null,{"$f":"'CENTRAL ANALYSIS'!E284","v":0},{"$f":"IF('IMPORTED DATA'!N55<>\"\",'IMPORTED DATA'!N55,\"\")","v":""},{"$f":"IF('IMPORTED DATA'!O55<>\"\",'IMPORTED DATA'!O55,IF('IMPORTED DATA'!$B$461=0,\"\",COUNTIFS(Table5[EEO CATEGORY],'TRANSFORMED DATA'!$B220,Table5[ISSUPERVISOR],1)+J221))","v":""},null,{"$f":"'CENTRAL ANALYSIS'!I284","v":0},{"$f":"IF('IMPORTED DATA'!N80<>\"\",'IMPORTED DATA'!N80,\"\")","v":""},{"$f":"IF('IMPORTED DATA'!O80<>\"\",'IMPORTED DATA'!O80,IF('IMPORTED DATA'!$B$461=0,\"\",COUNTIFS(Table5[EEO CATEGORY],'TRANSFORMED DATA'!$B220,Table5[ISExecutive],1)+N220))","v":""},null,{"$f":"'CENTRAL ANALYSIS'!M284","v":0}]
[]
[]
[null,null,{"$f":"CONCATENATE(\"FY\",RIGHT('DHRM ADMIN'!$P$15,2)-2)","v":"FY21"},{"$f":"CONCATENATE(\"FY\",RIGHT('DHRM ADMIN'!$P$15,2)-1)","v":"FY22"},{"$f":"CONCATENATE(\"FY\",RIGHT('DHRM ADMIN'!$P$15,2))","v":"FY23"},null,{"$f":"CONCATENATE(\"FY\",RIGHT('DHRM ADMIN'!$P$15,2)-2)","v":"FY21"},{"$f":"CONCATENATE(\"FY\",RIGHT('DHRM ADMIN'!$P$15,2)-1)","v":"FY22"},{"$f":"CONCATENATE(\"FY\",RIGHT('DHRM ADMIN'!$P$15,2))","v":"FY23"},null,{"$f":"CONCATENATE(\"FY\",RIGHT('DHRM ADMIN'!$P$15,2)-2)","v":"FY21"},{"$f":"CONCATENATE(\"FY\",RIGHT('DHRM ADMIN'!$P$15,2)-1)","v":"FY22"},{"$f":"CONCATENATE(\"FY\",RIGHT('DHRM ADMIN'!$P$15,2))","v":"FY23"}]
[null,{"$f":"CUSTOMIZATIONS!C28","v":0},{"$f":"IF('IMPORTED DATA'!N31<>\"\",'IMPORTED DATA'!N31,\"\")","v":""},{"$f":"IF('IMPORTED DATA'!O31<>\"\",'IMPORTED DATA'!O31,IF('IMPORTED DATA'!$B$461=0,\"\",COUNTIF(Table5[EMPLOYEE CATEGORY],'TRANSFORMED DATA'!B224)+F224))","v":""},null,{"$f":"'CENTRAL ANALYSIS'!E288","v":0},{"$f":"IF('IMPORTED DATA'!N56<>\"\",'IMPORTED DATA'!N56,\"\")","v":""},{"$f":"IF('IMPORTED DATA'!O56<>\"\",'IMPORTED DATA'!O56,IF('IMPORTED DATA'!$B$461=0,\"\",COUNTIFS(Table5[EMPLOYEE CATEGORY],'TRANSFORMED DATA'!$B224,Table5[ISSUPERVISOR],1)+J224))","v":""},null,{"$f":"'CENTRAL ANALYSIS'!I288","v":0},{"$f":"IF('IMPORTED DATA'!N81<>\"\",'IMPORTED DATA'!N81,\"\")","v":""},{"$f":"IF('IMPORTED DATA'!O81<>\"\",'IMPORTED DATA'!O81,IF('IMPORTED DATA'!$B$461=0,\"\",COUNTIFS(Table5[EMPLOYEE CATEGORY],'TRANSFORMED DATA'!$B224,Table5[ISExecutive],1)+N224))","v":""},null,{"$f":"'CENTRAL ANALYSIS'!M288","v":0}]
[null,{"$f":"CUSTOMIZATIONS!C29","v":0},{"$f":"IF('IMPORTED DATA'!N32<>\"\",'IMPORTED DATA'!N32,\"\")","v":""},{"$f":"IF('IMPORTED DATA'!O32<>\"\",'IMPORTED DATA'!O32,IF('IMPORTED DATA'!$B$461=0,\"\",COUNTIF(Table5[EMPLOYEE CATEGORY],'TRANSFORMED DATA'!B225)+F225))","v":""},null,{"$f":"'CENTRAL ANALYSIS'!E289","v":0},{"$f":"IF('IMPORTED DATA'!N57<>\"\",'IMPORTED DATA'!N57,\"\")","v":""},{"$f":"IF('IMPORTED DATA'!O57<>\"\",'IMPORTED DATA'!O57,IF('IMPORTED DATA'!$B$461=0,\"\",COUNTIFS(Table5[EMPLOYEE CATEGORY],'TRANSFORMED DATA'!$B225,Table5[ISSUPERVISOR],1)+J225))","v":""},null,{"$f":"'CENTRAL ANALYSIS'!I289","v":0},{"$f":"IF('IMPORTED DATA'!N82<>\"\",'IMPORTED DATA'!N82,\"\")","v":""},{"$f":"IF('IMPORTED DATA'!O82<>\"\",'IMPORTED DATA'!O82,IF('IMPORTED DATA'!$B$461=0,\"\",COUNTIFS(Table5[EMPLOYEE CATEGORY],'TRANSFORMED DATA'!$B225,Table5[ISExecutive],1)+N225))","v":""},null,{"$f":"'CENTRAL ANALYSIS'!M289","v":0}]
[null,{"$f":"CUSTOMIZATIONS!C30","v":""},{"$f":"IF('IMPORTED DATA'!N33<>\"\",'IMPORTED DATA'!N33,\"\")","v":""},{"$f":"IF('IMPORTED DATA'!O33<>\"\",'IMPORTED DATA'!O33,IF('IMPORTED DATA'!$B$461=0,\"\",COUNTIF(Table5[EMPLOYEE CATEGORY],'TRANSFORMED DATA'!B226)+F226))","v":""},null,{"$f":"'CENTRAL ANALYSIS'!E290","v":0},{"$f":"IF('IMPORTED DATA'!N58<>\"\",'IMPORTED DATA'!N58,\"\")","v":""},{"$f":"IF('IMPORTED DATA'!O58<>\"\",'IMPORTED DATA'!O58,IF('IMPORTED DATA'!$B$461=0,\"\",COUNTIFS(Table5[EMPLOYEE CATEGORY],'TRANSFORMED DATA'!$B226,Table5[ISSUPERVISOR],1)+J226))","v":""},null,{"$f":"'CENTRAL ANALYSIS'!I290","v":0},{"$f":"IF('IMPORTED DATA'!N83<>\"\",'IMPORTED DATA'!N83,\"\")","v":""},{"$f":"IF('IMPORTED DATA'!O83<>\"\",'IMPORTED DATA'!O83,IF('IMPORTED DATA'!$B$461=0,\"\",COUNTIFS(Table5[EMPLOYEE CATEGORY],'TRANSFORMED DATA'!$B226,Table5[ISExecutive],1)+N226))","v":""},null,{"$f":"'CENTRAL ANALYSIS'!M290","v":0},null,null,null,null,null,{"$f":"IF('IMPORTED DATA'!$O$144=\"\",\"\",'IMPORTED DATA'!$O$144)","v":""}]
[null,{"$f":"CUSTOMIZATIONS!C31","v":""},{"$f":"IF('IMPORTED DATA'!N34<>\"\",'IMPORTED DATA'!N34,\"\")","v":""},{"$f":"IF('IMPORTED DATA'!O34<>\"\",'IMPORTED DATA'!O34,IF('IMPORTED DATA'!$B$461=0,\"\",COUNTIF(Table5[EMPLOYEE CATEGORY],'TRANSFORMED DATA'!B227)+F227))","v":""},null,{"$f":"'CENTRAL ANALYSIS'!E291","v":0},{"$f":"IF('IMPORTED DATA'!N59<>\"\",'IMPORTED DATA'!N59,\"\")","v":""},{"$f":"IF('IMPORTED DATA'!O59<>\"\",'IMPORTED DATA'!O59,IF('IMPORTED DATA'!$B$461=0,\"\",COUNTIFS(Table5[EMPLOYEE CATEGORY],'TRANSFORMED DATA'!$B227,Table5[ISSUPERVISOR],1)+J227))","v":""},null,{"$f":"'CENTRAL ANALYSIS'!I291","v":0},{"$f":"IF('IMPORTED DATA'!N84<>\"\",'IMPORTED DATA'!N84,\"\")","v":""},{"$f":"IF('IMPORTED DATA'!O84<>\"\",'IMPORTED DATA'!O84,IF('IMPORTED DATA'!$B$461=0,\"\",COUNTIFS(Table5[EMPLOYEE CATEGORY],'TRANSFORMED DATA'!$B227,Table5[ISExecutive],1)+N227))","v":""},null,{"$f":"'CENTRAL ANALYSIS'!M291","v":0}]
[null,{"$f":"CUSTOMIZATIONS!C32","v":""},{"$f":"IF('IMPORTED DATA'!N35<>\"\",'IMPORTED DATA'!N35,\"\")","v":""},{"$f":"IF('IMPORTED DATA'!O35<>\"\",'IMPORTED DATA'!O35,IF('IMPORTED DATA'!$B$461=0,\"\",COUNTIF(Table5[EMPLOYEE CATEGORY],'TRANSFORMED DATA'!B228)+F228))","v":""},null,{"$f":"'CENTRAL ANALYSIS'!E292","v":0},{"$f":"IF('IMPORTED DATA'!N60<>\"\",'IMPORTED DATA'!N60,\"\")","v":""},{"$f":"IF('IMPORTED DATA'!O60<>\"\",'IMPORTED DATA'!O60,IF('IMPORTED DATA'!$B$461=0,\"\",COUNTIFS(Table5[EMPLOYEE CATEGORY],'TRANSFORMED DATA'!$B228,Table5[ISSUPERVISOR],1)+J228))","v":""},null,{"$f":"'CENTRAL ANALYSIS'!I292","v":0},{"$f":"IF('IMPORTED DATA'!N85<>\"\",'IMPORTED DATA'!N85,\"\")","v":""},{"$f":"IF('IMPORTED DATA'!O85<>\"\",'IMPORTED DATA'!O85,IF('IMPORTED DATA'!$B$461=0,\"\",COUNTIFS(Table5[EMPLOYEE CATEGORY],'TRANSFORMED DATA'!$B228,Table5[ISExecutive],1)+N228))","v":""},null,{"$f":"'CENTRAL ANALYSIS'!M292","v":0}]
[null,{"$f":"CUSTOMIZATIONS!C33","v":""},{"$f":"IF('IMPORTED DATA'!N36<>\"\",'IMPORTED DATA'!N36,\"\")","v":""},{"$f":"IF('IMPORTED DATA'!O36<>\"\",'IMPORTED DATA'!O36,IF('IMPORTED DATA'!$B$461=0,\"\",COUNTIF(Table5[EMPLOYEE CATEGORY],'TRANSFORMED DATA'!B229)+F229))","v":""},null,{"$f":"'CENTRAL ANALYSIS'!E293","v":0},{"$f":"IF('IMPORTED DATA'!N61<>\"\",'IMPORTED DATA'!N61,\"\")","v":""},{"$f":"IF('IMPORTED DATA'!O61<>\"\",'IMPORTED DATA'!O61,IF('IMPORTED DATA'!$B$461=0,\"\",COUNTIFS(Table5[EMPLOYEE CATEGORY],'TRANSFORMED DATA'!$B229,Table5[ISSUPERVISOR],1)+J229))","v":""},null,{"$f":"'CENTRAL ANALYSIS'!I293","v":0},{"$f":"IF('IMPORTED DATA'!N86<>\"\",'IMPORTED DATA'!N86,\"\")","v":""},{"$f":"IF('IMPORTED DATA'!O86<>\"\",'IMPORTED DATA'!O86,IF('IMPORTED DATA'!$B$461=0,\"\",COUNTIFS(Table5[EMPLOYEE CATEGORY],'TRANSFORMED DATA'!$B229,Table5[ISExecutive],1)+N229))","v":""},null,{"$f":"'CENTRAL ANALYSIS'!M293","v":0}]
[null,{"$f":"CUSTOMIZATIONS!C34","v":""},{"$f":"IF('IMPORTED DATA'!N37<>\"\",'IMPORTED DATA'!N37,\"\")","v":""},{"$f":"IF('IMPORTED DATA'!O37<>\"\",'IMPORTED DATA'!O37,IF('IMPORTED DATA'!$B$461=0,\"\",COUNTIF(Table5[EMPLOYEE CATEGORY],'TRANSFORMED DATA'!B230)+F230))","v":""},null,{"$f":"'CENTRAL ANALYSIS'!E294","v":0},{"$f":"IF('IMPORTED DATA'!N62<>\"\",'IMPORTED DATA'!N62,\"\")","v":""},{"$f":"IF('IMPORTED DATA'!O62<>\"\",'IMPORTED DATA'!O62,IF('IMPORTED DATA'!$B$461=0,\"\",COUNTIFS(Table5[EMPLOYEE CATEGORY],'TRANSFORMED DATA'!$B230,Table5[ISSUPERVISOR],1)+J230))","v":""},null,{"$f":"'CENTRAL ANALYSIS'!I294","v":0},{"$f":"IF('IMPORTED DATA'!N87<>\"\",'IMPORTED DATA'!N87,\"\")","v":""},{"$f":"IF('IMPORTED DATA'!O87<>\"\",'IMPORTED DATA'!O87,IF('IMPORTED DATA'!$B$461=0,\"\",COUNTIFS(Table5[EMPLOYEE CATEGORY],'TRANSFORMED DATA'!$B230,Table5[ISExecutive],1)+N230))","v":""},null,{"$f":"'CENTRAL ANALYSIS'!M294","v":0}]
[null,{"$f":"CUSTOMIZATIONS!C35","v":""},{"$f":"IF('IMPORTED DATA'!N38<>\"\",'IMPORTED DATA'!N38,\"\")","v":""},{"$f":"IF('IMPORTED DATA'!O38<>\"\",'IMPORTED DATA'!O38,IF('IMPORTED DATA'!$B$461=0,\"\",COUNTIF(Table5[EMPLOYEE CATEGORY],'TRANSFORMED DATA'!B231)+F231))","v":""},null,{"$f":"'CENTRAL ANALYSIS'!E295","v":0},{"$f":"IF('IMPORTED DATA'!N63<>\"\",'IMPORTED DATA'!N63,\"\")","v":""},{"$f":"IF('IMPORTED DATA'!O63<>\"\",'IMPORTED DATA'!O63,IF('IMPORTED DATA'!$B$461=0,\"\",COUNTIFS(Table5[EMPLOYEE CATEGORY],'TRANSFORMED DATA'!$B231,Table5[ISSUPERVISOR],1)+J231))","v":""},null,{"$f":"'CENTRAL ANALYSIS'!I295","v":0},{"$f":"IF('IMPORTED DATA'!N88<>\"\",'IMPORTED DATA'!N88,\"\")","v":""},{"$f":"IF('IMPORTED DATA'!O88<>\"\",'IMPORTED DATA'!O88,IF('IMPORTED DATA'!$B$461=0,\"\",COUNTIFS(Table5[EMPLOYEE CATEGORY],'TRANSFORMED DATA'!$B231,Table5[ISExecutive],1)+N231))","v":""},null,{"$f":"'CENTRAL ANALYSIS'!M295","v":0}]
[null,{"$f":"CUSTOMIZATIONS!C36","v":""},{"$f":"IF('IMPORTED DATA'!N39<>\"\",'IMPORTED DATA'!N39,\"\")","v":""},{"$f":"IF('IMPORTED DATA'!O39<>\"\",'IMPORTED DATA'!O39,IF('IMPORTED DATA'!$B$461=0,\"\",COUNTIF(Table5[EMPLOYEE CATEGORY],'TRANSFORMED DATA'!B232)+F232))","v":""},null,{"$f":"'CENTRAL ANALYSIS'!E296","v":0},{"$f":"IF('IMPORTED DATA'!N64<>\"\",'IMPORTED DATA'!N64,\"\")","v":""},{"$f":"IF('IMPORTED DATA'!O64<>\"\",'IMPORTED DATA'!O64,IF('IMPORTED DATA'!$B$461=0,\"\",COUNTIFS(Table5[EMPLOYEE CATEGORY],'TRANSFORMED DATA'!$B232,Table5[ISSUPERVISOR],1)+J232))","v":""},null,{"$f":"'CENTRAL ANALYSIS'!I296","v":0},{"$f":"IF('IMPORTED DATA'!N89<>\"\",'IMPORTED DATA'!N89,\"\")","v":""},{"$f":"IF('IMPORTED DATA'!O89<>\"\",'IMPORTED DATA'!O89,IF('IMPORTED DATA'!$B$461=0,\"\",COUNTIFS(Table5[EMPLOYEE CATEGORY],'TRANSFORMED DATA'!$B232,Table5[ISExecutive],1)+N232))","v":""},null,{"$f":"'CENTRAL ANALYSIS'!M296","v":0},null,null,null,null,null,null,null,{"$f":"IF('IMPORTED DATA'!$O$145=\"\",\"\",'IMPORTED DATA'!$O$145)","v":""}]
[null,{"$f":"CUSTOMIZATIONS!C37","v":""},{"$f":"IF('IMPORTED DATA'!N40<>\"\",'IMPORTED DATA'!N40,\"\")","v":""},{"$f":"IF('IMPORTED DATA'!O40<>\"\",'IMPORTED DATA'!O40,IF('IMPORTED DATA'!$B$461=0,\"\",COUNTIF(Table5[EMPLOYEE CATEGORY],'TRANSFORMED DATA'!B233)+F233))","v":""},null,{"$f":"'CENTRAL ANALYSIS'!E297","v":0},{"$f":"IF('IMPORTED DATA'!N65<>\"\",'IMPORTED DATA'!N65,\"\")","v":""},{"$f":"IF('IMPORTED DATA'!O65<>\"\",'IMPORTED DATA'!O65,IF('IMPORTED DATA'!$B$461=0,\"\",COUNTIFS(Table5[EMPLOYEE CATEGORY],'TRANSFORMED DATA'!$B233,Table5[ISSUPERVISOR],1)+J233))","v":""},null,{"$f":"'CENTRAL ANALYSIS'!I297","v":0},{"$f":"IF('IMPORTED DATA'!N90<>\"\",'IMPORTED DATA'!N90,\"\")","v":""},{"$f":"IF('IMPORTED DATA'!O90<>\"\",'IMPORTED DATA'!O90,IF('IMPORTED DATA'!$B$461=0,\"\",COUNTIFS(Table5[EMPLOYEE CATEGORY],'TRANSFORMED DATA'!$B233,Table5[ISExecutive],1)+N233))","v":""},null,{"$f":"'CENTRAL ANALYSIS'!M297","v":0}]
[null,{"$f":"CUSTOMIZATIONS!C38","v":""},{"$f":"IF('IMPORTED DATA'!N41<>\"\",'IMPORTED DATA'!N41,\"\")","v":""},{"$f":"IF('IMPORTED DATA'!O41<>\"\",'IMPORTED DATA'!O41,IF('IMPORTED DATA'!$B$461=0,\"\",COUNTIF(Table5[EMPLOYEE CATEGORY],'TRANSFORMED DATA'!B234)+F234))","v":""},null,{"$f":"'CENTRAL ANALYSIS'!E298","v":0},{"$f":"IF('IMPORTED DATA'!N66<>\"\",'IMPORTED DATA'!N66,\"\")","v":""},{"$f":"IF('IMPORTED DATA'!O66<>\"\",'IMPORTED DATA'!O66,IF('IMPORTED DATA'!$B$461=0,\"\",COUNTIFS(Table5[EMPLOYEE CATEGORY],'TRANSFORMED DATA'!$B234,Table5[ISSUPERVISOR],1)+J234))","v":""},null,{"$f":"'CENTRAL ANALYSIS'!I298","v":0},{"$f":"IF('IMPORTED DATA'!N91<>\"\",'IMPORTED DATA'!N91,\"\")","v":""},{"$f":"IF('IMPORTED DATA'!O91<>\"\",'IMPORTED DATA'!O91,IF('IMPORTED DATA'!$B$461=0,\"\",COUNTIFS(Table5[EMPLOYEE CATEGORY],'TRANSFORMED DATA'!$B234,Table5[ISExecutive],1)+N234))","v":""},null,{"$f":"'CENTRAL ANALYSIS'!M298","v":0}]
[null,{"$f":"CUSTOMIZATIONS!C39","v":""},{"$f":"IF('IMPORTED DATA'!N42<>\"\",'IMPORTED DATA'!N42,\"\")","v":""},{"$f":"IF('IMPORTED DATA'!O42<>\"\",'IMPORTED DATA'!O42,IF('IMPORTED DATA'!$B$461=0,\"\",COUNTIF(Table5[EMPLOYEE CATEGORY],'TRANSFORMED DATA'!B235)+F235))","v":""},null,{"$f":"'CENTRAL ANALYSIS'!E299","v":0},{"$f":"IF('IMPORTED DATA'!N67<>\"\",'IMPORTED DATA'!N67,\"\")","v":""},{"$f":"IF('IMPORTED DATA'!O67<>\"\",'IMPORTED DATA'!O67,IF('IMPORTED DATA'!$B$461=0,\"\",COUNTIFS(Table5[EMPLOYEE CATEGORY],'TRANSFORMED DATA'!$B235,Table5[ISSUPERVISOR],1)+J235))","v":""},null,{"$f":"'CENTRAL ANALYSIS'!I299","v":0},{"$f":"IF('IMPORTED DATA'!N92<>\"\",'IMPORTED DATA'!N92,\"\")","v":""},{"$f":"IF('IMPORTED DATA'!O92<>\"\",'IMPORTED DATA'!O92,IF('IMPORTED DATA'!$B$461=0,\"\",COUNTIFS(Table5[EMPLOYEE CATEGORY],'TRANSFORMED DATA'!$B235,Table5[ISExecutive],1)+N235))","v":""},null,{"$f":"'CENTRAL ANALYSIS'!M299","v":0},null,null,null,null,null,null,null,{"$f":"IF('IMPORTED DATA'!$O$146=\"\",\"\",'IMPORTED DATA'!$O$146)","v":""}]
[null,{"$f":"CUSTOMIZATIONS!C40","v":""},{"$f":"IF('IMPORTED DATA'!N43<>\"\",'IMPORTED DATA'!N43,\"\")","v":""},{"$f":"IF('IMPORTED DATA'!O43<>\"\",'IMPORTED DATA'!O43,IF('IMPORTED DATA'!$B$461=0,\"\",COUNTIF(Table5[EMPLOYEE CATEGORY],'TRANSFORMED DATA'!B236)+F236))","v":""},null,{"$f":"'CENTRAL ANALYSIS'!E300","v":0},{"$f":"IF('IMPORTED DATA'!N68<>\"\",'IMPORTED DATA'!N68,\"\")","v":""},{"$f":"IF('IMPORTED DATA'!O68<>\"\",'IMPORTED DATA'!O68,IF('IMPORTED DATA'!$B$461=0,\"\",COUNTIFS(Table5[EMPLOYEE CATEGORY],'TRANSFORMED DATA'!$B236,Table5[ISSUPERVISOR],1)+J236))","v":""},null,{"$f":"'CENTRAL ANALYSIS'!I300","v":0},{"$f":"IF('IMPORTED DATA'!N93<>\"\",'IMPORTED DATA'!N93,\"\")","v":""},{"$f":"IF('IMPORTED DATA'!O93<>\"\",'IMPORTED DATA'!O93,IF('IMPORTED DATA'!$B$461=0,\"\",COUNTIFS(Table5[EMPLOYEE CATEGORY],'TRANSFORMED DATA'!$B236,Table5[ISExecutive],1)+N236))","v":""},null,{"$f":"'CENTRAL ANALYSIS'!M300","v":0}]
[null,{"$f":"CUSTOMIZATIONS!C41","v":""},{"$f":"IF('IMPORTED DATA'!N44<>\"\",'IMPORTED DATA'!N44,\"\")","v":""},{"$f":"IF('IMPORTED DATA'!O44<>\"\",'IMPORTED DATA'!O44,IF('IMPORTED DATA'!$B$461=0,\"\",COUNTIF(Table5[EMPLOYEE CATEGORY],'TRANSFORMED DATA'!B237)+F237))","v":""},null,{"$f":"'CENTRAL ANALYSIS'!E301","v":0},{"$f":"IF('IMPORTED DATA'!N69<>\"\",'IMPORTED DATA'!N69,\"\")","v":""},{"$f":"IF('IMPORTED DATA'!O69<>\"\",'IMPORTED DATA'!O69,IF('IMPORTED DATA'!$B$461=0,\"\",COUNTIFS(Table5[EMPLOYEE CATEGORY],'TRANSFORMED DATA'!$B237,Table5[ISSUPERVISOR],1)+J237))","v":""},null,{"$f":"'CENTRAL ANALYSIS'!I301","v":0},{"$f":"IF('IMPORTED DATA'!N94<>\"\",'IMPORTED DATA'!N94,\"\")","v":""},{"$f":"IF('IMPORTED DATA'!O94<>\"\",'IMPORTED DATA'!O94,IF('IMPORTED DATA'!$B$461=0,\"\",COUNTIFS(Table5[EMPLOYEE CATEGORY],'TRANSFORMED DATA'!$B237,Table5[ISExecutive],1)+N237))","v":""},null,{"$f":"'CENTRAL ANALYSIS'!M301","v":0}]
[null,{"$f":"CUSTOMIZATIONS!C42","v":""},{"$f":"IF('IMPORTED DATA'!N45<>\"\",'IMPORTED DATA'!N45,\"\")","v":""},{"$f":"IF('IMPORTED DATA'!O45<>\"\",'IMPORTED DATA'!O45,IF('IMPORTED DATA'!$B$461=0,\"\",COUNTIF(Table5[EMPLOYEE CATEGORY],'TRANSFORMED DATA'!B238)+F238))","v":""},null,{"$f":"'CENTRAL ANALYSIS'!E302","v":0},{"$f":"IF('IMPORTED DATA'!N70<>\"\",'IMPORTED DATA'!N70,\"\")","v":""},{"$f":"IF('IMPORTED DATA'!O70<>\"\",'IMPORTED DATA'!O70,IF('IMPORTED DATA'!$B$461=0,\"\",COUNTIFS(Table5[EMPLOYEE CATEGORY],'TRANSFORMED DATA'!$B238,Table5[ISSUPERVISOR],1)+J238))","v":""},null,{"$f":"'CENTRAL ANALYSIS'!I302","v":0},{"$f":"IF('IMPORTED DATA'!N95<>\"\",'IMPORTED DATA'!N95,\"\")","v":""},{"$f":"IF('IMPORTED DATA'!O95<>\"\",'IMPORTED DATA'!O95,IF('IMPORTED DATA'!$B$461=0,\"\",COUNTIFS(Table5[EMPLOYEE CATEGORY],'TRANSFORMED DATA'!$B238,Table5[ISExecutive],1)+N238))","v":""},null,{"$f":"'CENTRAL ANALYSIS'!M302","v":0},null,null,null,null,null,null,null,{"$f":"IF('IMPORTED DATA'!$O$147=\"\",\"\",'IMPORTED DATA'!$O$147)","v":""}]
[]
[]
[null,null,null,null,null,null,null,null,null,null,null,null,null,null,null,null,null,null,null,null,null,{"$f":"IF('IMPORTED DATA'!$O$148=\"\",\"\",'IMPORTED DATA'!$O$148)","v":""}]
[]
[null,null,null,null,"Total Employees by Gender",null,null,null,"Total Leaders",null,null,null,"Total Executives"]
[null,null,{"$f":"CONCATENATE(\"FY\",RIGHT('DHRM ADMIN'!$P$15,2)-2)","v":"FY21"},{"$f":"CONCATENATE(\"FY\",RIGHT('DHRM ADMIN'!$P$15,2)-1)","v":"FY22"},{"$f":"CONCATENATE(\"FY\",RIGHT('DHRM ADMIN'!$P$15,2))","v":"FY23"},null,{"$f":"CONCATENATE(\"FY\",RIGHT('DHRM ADMIN'!$P$15,2)-2)","v":"FY21"},{"$f":"CONCATENATE(\"FY\",RIGHT('DHRM ADMIN'!$P$15,2)-1)","v":"FY22"},{"$f":"CONCATENATE(\"FY\",RIGHT('DHRM ADMIN'!$P$15,2))","v":"FY23"},null,{"$f":"CONCATENATE(\"FY\",RIGHT('DHRM ADMIN'!$P$15,2)-2)","v":"FY21"},{"$f":"CONCATENATE(\"FY\",RIGHT('DHRM ADMIN'!$P$15,2)-1)","v":"FY22"},{"$f":"CONCATENATE(\"FY\",RIGHT('DHRM ADMIN'!$P$15,2))","v":"FY23"},null,null,null,null,null,null,null,null,{"$f":"IF('IMPORTED DATA'!$O$149=\"\",\"\",'IMPORTED DATA'!$O$149)","v":""}]
[null,{"$f":"IF(CUSTOMIZATIONS!#REF!=\"no\",\"Male\",IF(CUSTOMIZATIONS!#REF!=\"yes\",\"Male\",\"M\"))","v":{"$error":"#REF!"}},{"$f":"IF('IMPORTED DATA'!N186<>\"\",'IMPORTED DATA'!N186,\"\")","v":""},{"$f":"IF('IMPORTED DATA'!O186<>\"\",'IMPORTED DATA'!O186,IF('IMPORTED DATA'!$B$461=0,\"\",COUNTIF(Table5[GENDER],'TRANSFORMED DATA'!B245)))","v":""},null,null,{"$f":"IF('IMPORTED DATA'!N223<>\"\",'IMPORTED DATA'!N223,\"\")","v":""},{"$f":"IF('IMPORTED DATA'!O223<>\"\",'IMPORTED DATA'!O223,IF('IMPORTED DATA'!$B$461=0,\"\",COUNTIFS(Table5[GENDER],'TRANSFORMED DATA'!B245,Table5[ISSUPERVISOR],1)))","v":""},null,null,{"$f":"IF('IMPORTED DATA'!N260<>\"\",'IMPORTED DATA'!N260,\"\")","v":""},{"$f":"IF('IMPORTED DATA'!O260<>\"\",'IMPORTED DATA'!O260,IF('IMPORTED DATA'!$B$461=0,\"\",COUNTIFS(Table5[GENDER],'TRANSFORMED DATA'!B245,Table5[ISExecutive],1)))","v":""}]
[null,{"$f":"IF(CUSTOMIZATIONS!#REF!=\"no\",\"Female\",IF(CUSTOMIZATIONS!#REF!=\"yes\",\"Female\",\"F\"))","v":{"$error":"#REF!"}},{"$f":"IF('IMPORTED DATA'!N187<>\"\",'IMPORTED DATA'!N187,\"\")","v":""},{"$f":"IF('IMPORTED DATA'!O187<>\"\",'IMPORTED DATA'!O187,IF('IMPORTED DATA'!$B$461=0,\"\",COUNTIF(Table5[GENDER],'TRANSFORMED DATA'!B246)))","v":""},null,null,{"$f":"IF('IMPORTED DATA'!N224<>\"\",'IMPORTED DATA'!N224,\"\")","v":""},{"$f":"IF('IMPORTED DATA'!O224<>\"\",'IMPORTED DATA'!O224,IF('IMPORTED DATA'!$B$461=0,\"\",COUNTIFS(Table5[GENDER],'TRANSFORMED DATA'!B246,Table5[ISSUPERVISOR],1)))","v":""},null,null,{"$f":"IF('IMPORTED DATA'!N261<>\"\",'IMPORTED DATA'!N261,\"\")","v":""},{"$f":"IF('IMPORTED DATA'!O261<>\"\",'IMPORTED DATA'!O261,IF('IMPORTED DATA'!$B$461=0,\"\",COUNTIFS(Table5[GENDER],'TRANSFORMED DATA'!B246,Table5[ISExecutive],1)))","v":""}]
[]
[null,null,null,null,"Total Employees by Race",null,null,null,"Total Employees by Race",null,null,null,"Total Employees by Race"]
[null,null,{"$f":"CONCATENATE(\"FY\",RIGHT('DHRM ADMIN'!$P$15,2)-2)","v":"FY21"},{"$f":"CONCATENATE(\"FY\",RIGHT('DHRM ADMIN'!$P$15,2)-1)","v":"FY22"},{"$f":"CONCATENATE(\"FY\",RIGHT('DHRM ADMIN'!$P$15,2))","v":"FY23"},null,{"$f":"CONCATENATE(\"FY\",RIGHT('DHRM ADMIN'!$P$15,2)-2)","v":"FY21"},{"$f":"CONCATENATE(\"FY\",RIGHT('DHRM ADMIN'!$P$15,2)-1)","v":"FY22"},{"$f":"CONCATENATE(\"FY\",RIGHT('DHRM ADMIN'!$P$15,2))","v":"FY23"},null,{"$f":"CONCATENATE(\"FY\",RIGHT('DHRM ADMIN'!$P$15,2)-2)","v":"FY21"},{"$f":"CONCATENATE(\"FY\",RIGHT('DHRM ADMIN'!$P$15,2)-1)","v":"FY22"},{"$f":"CONCATENATE(\"FY\",RIGHT('DHRM ADMIN'!$P$15,2))","v":"FY23"}]
[null,"American Indian or Alaska Native (Non-Hispanic or Latino)",{"$f":"IF('IMPORTED DATA'!N188<>\"\",'IMPORTED DATA'!N188,\"\")","v":""},{"$f":"IF('IMPORTED DATA'!O188<>\"\",'IMPORTED DATA'!O188,IF('IMPORTED DATA'!$B$461=0,\"\",COUNTIF(Table5[RACE DESCRIPTION],'TRANSFORMED DATA'!B250)))","v":""},null,null,{"$f":"IF('IMPORTED DATA'!N225<>\"\",'IMPORTED DATA'!N225,\"\")","v":""},{"$f":"IF('IMPORTED DATA'!O225<>\"\",'IMPORTED DATA'!O225,IF('IMPORTED DATA'!$B$461=0,\"\",COUNTIFS(Table5[RACE DESCRIPTION],'TRANSFORMED DATA'!B250,Table5[ISSUPERVISOR],1)))","v":""},null,null,{"$f":"IF('IMPORTED DATA'!N262<>\"\",'IMPORTED DATA'!N262,\"\")","v":""},{"$f":"IF('IMPORTED DATA'!O262<>\"\",'IMPORTED DATA'!O262,IF('IMPORTED DATA'!$B$461=0,\"\",COUNTIFS(Table5[RACE DESCRIPTION],'TRANSFORMED DATA'!B250,Table5[ISExecutive],1)))","v":""}]
[null,"Asian (Non-Hispanic or Latino)",{"$f":"IF('IMPORTED DATA'!N189<>\"\",'IMPORTED DATA'!N189,\"\")","v":""},{"$f":"IF('IMPORTED DATA'!O189<>\"\",'IMPORTED DATA'!O189,IF('IMPORTED DATA'!$B$461=0,\"\",COUNTIF(Table5[RACE DESCRIPTION],'TRANSFORMED DATA'!B251)))","v":""},null,null,{"$f":"IF('IMPORTED DATA'!N226<>\"\",'IMPORTED DATA'!N226,\"\")","v":""},{"$f":"IF('IMPORTED DATA'!O226<>\"\",'IMPORTED DATA'!O226,IF('IMPORTED DATA'!$B$461=0,\"\",COUNTIFS(Table5[RACE DESCRIPTION],'TRANSFORMED DATA'!B251,Table5[ISSUPERVISOR],1)))","v":""},null,null,{"$f":"IF('IMPORTED DATA'!N263<>\"\",'IMPORTED DATA'!N263,\"\")","v":""},{"$f":"IF('IMPORTED DATA'!O263<>\"\",'IMPORTED DATA'!O263,IF('IMPORTED DATA'!$B$461=0,\"\",COUNTIFS(Table5[RACE DESCRIPTION],'TRANSFORMED DATA'!B251,Table5[ISExecutive],1)))","v":""}]
[null,"Black or African American (Non-Hispanic or Latino)",{"$f":"IF('IMPORTED DATA'!N190<>\"\",'IMPORTED DATA'!N190,\"\")","v":""},{"$f":"IF('IMPORTED DATA'!O190<>\"\",'IMPORTED DATA'!O190,IF('IMPORTED DATA'!$B$461=0,\"\",COUNTIF(Table5[RACE DESCRIPTION],'TRANSFORMED DATA'!B252)))","v":""},null,null,{"$f":"IF('IMPORTED DATA'!N227<>\"\",'IMPORTED DATA'!N227,\"\")","v":""},{"$f":"IF('IMPORTED DATA'!O227<>\"\",'IMPORTED DATA'!O227,IF('IMPORTED DATA'!$B$461=0,\"\",COUNTIFS(Table5[RACE DESCRIPTION],'TRANSFORMED DATA'!B252,Table5[ISSUPERVISOR],1)))","v":""},null,null,{"$f":"IF('IMPORTED DATA'!N264<>\"\",'IMPORTED DATA'!N264,\"\")","v":""},{"$f":"IF('IMPORTED DATA'!O264<>\"\",'IMPORTED DATA'!O264,IF('IMPORTED DATA'!$B$461=0,\"\",COUNTIFS(Table5[RACE DESCRIPTION],'TRANSFORMED DATA'!B252,Table5[ISExecutive],1)))","v":""}]
[null,"Hispanic or Latino",{"$f":"IF('IMPORTED DATA'!N191<>\"\",'IMPORTED DATA'!N191,\"\")","v":""},{"$f":"IF('IMPORTED DATA'!O191<>\"\",'IMPORTED DATA'!O191,IF('IMPORTED DATA'!$B$461=0,\"\",COUNTIF(Table5[RACE DESCRIPTION],'TRANSFORMED DATA'!B253)))","v":""},null,null,{"$f":"IF('IMPORTED DATA'!N228<>\"\",'IMPORTED DATA'!N228,\"\")","v":""},{"$f":"IF('IMPORTED DATA'!O228<>\"\",'IMPORTED DATA'!O228,IF('IMPORTED DATA'!$B$461=0,\"\",COUNTIFS(Table5[RACE DESCRIPTION],'TRANSFORMED DATA'!B253,Table5[ISSUPERVISOR],1)))","v":""},null,null,{"$f":"IF('IMPORTED DATA'!N265<>\"\",'IMPORTED DATA'!N265,\"\")","v":""},{"$f":"IF('IMPORTED DATA'!O265<>\"\",'IMPORTED DATA'!O265,IF('IMPORTED DATA'!$B$461=0,\"\",COUNTIFS(Table5[RACE DESCRIPTION],'TRANSFORMED DATA'!B253,Table5[ISExecutive],1)))","v":""},null,null,null,null,null,null,null,{"$f":"IF('IMPORTED DATA'!$O$150=\"\",\"\",'IMPORTED DATA'!$O$150)","v":""}]
[null,"Native Hawaiian or Other Pacific Islander (Non-Hispanic or Latino)",{"$f":"IF('IMPORTED DATA'!N192<>\"\",'IMPORTED DATA'!N192,\"\")","v":""},{"$f":"IF('IMPORTED DATA'!O192<>\"\",'IMPORTED DATA'!O192,IF('IMPORTED DATA'!$B$461=0,\"\",COUNTIF(Table5[RACE DESCRIPTION],'TRANSFORMED DATA'!B254)))","v":""},null,null,{"$f":"IF('IMPORTED DATA'!N229<>\"\",'IMPORTED DATA'!N229,\"\")","v":""},{"$f":"IF('IMPORTED DATA'!O229<>\"\",'IMPORTED DATA'!O229,IF('IMPORTED DATA'!$B$461=0,\"\",COUNTIFS(Table5[RACE DESCRIPTION],'TRANSFORMED DATA'!B254,Table5[ISSUPERVISOR],1)))","v":""},null,null,{"$f":"IF('IMPORTED DATA'!N266<>\"\",'IMPORTED DATA'!N266,\"\")","v":""},{"$f":"IF('IMPORTED DATA'!O266<>\"\",'IMPORTED DATA'!O266,IF('IMPORTED DATA'!$B$461=0,\"\",COUNTIFS(Table5[RACE DESCRIPTION],'TRANSFORMED DATA'!B254,Table5[ISExecutive],1)))","v":""}]
[null,"White (Non-Hispanic or Latino)",{"$f":"IF('IMPORTED DATA'!N193<>\"\",'IMPORTED DATA'!N193,\"\")","v":""},{"$f":"IF('IMPORTED DATA'!O193<>\"\",'IMPORTED DATA'!O193,IF('IMPORTED DATA'!$B$461=0,\"\",COUNTIF(Table5[RACE DESCRIPTION],'TRANSFORMED DATA'!B255)))","v":""},null,null,{"$f":"IF('IMPORTED DATA'!N230<>\"\",'IMPORTED DATA'!N230,\"\")","v":""},{"$f":"IF('IMPORTED DATA'!O230<>\"\",'IMPORTED DATA'!O230,IF('IMPORTED DATA'!$B$461=0,\"\",COUNTIFS(Table5[RACE DESCRIPTION],'TRANSFORMED DATA'!B255,Table5[ISSUPERVISOR],1)))","v":""},null,null,{"$f":"IF('IMPORTED DATA'!N267<>\"\",'IMPORTED DATA'!N267,\"\")","v":""},{"$f":"IF('IMPORTED DATA'!O267<>\"\",'IMPORTED DATA'!O267,IF('IMPORTED DATA'!$B$461=0,\"\",COUNTIFS(Table5[RACE DESCRIPTION],'TRANSFORMED DATA'!B255,Table5[ISExecutive],1)))","v":""}]
[null,"Two or More Races (Non-Hispanic or Latino)",{"$f":"IF('IMPORTED DATA'!N194<>\"\",'IMPORTED DATA'!N194,\"\")","v":""},{"$f":"IF('IMPORTED DATA'!O194<>\"\",'IMPORTED DATA'!O194,IF('IMPORTED DATA'!$B$461=0,\"\",COUNTIF(Table5[RACE DESCRIPTION],'TRANSFORMED DATA'!B256)))","v":""},null,null,{"$f":"IF('IMPORTED DATA'!N231<>\"\",'IMPORTED DATA'!N231,\"\")","v":""},{"$f":"IF('IMPORTED DATA'!O231<>\"\",'IMPORTED DATA'!O231,IF('IMPORTED DATA'!$B$461=0,\"\",COUNTIFS(Table5[RACE DESCRIPTION],'TRANSFORMED DATA'!B256,Table5[ISSUPERVISOR],1)))","v":""},null,null,{"$f":"IF('IMPORTED DATA'!N268<>\"\",'IMPORTED DATA'!N268,\"\")","v":""},{"$f":"IF('IMPORTED DATA'!O268<>\"\",'IMPORTED DATA'!O268,IF('IMPORTED DATA'!$B$461=0,\"\",COUNTIFS(Table5[RACE DESCRIPTION],'TRANSFORMED DATA'!B256,Table5[ISExecutive],1)))","v":""}]
[null,"Unknown or not entered",{"$f":"IF('IMPORTED DATA'!N195<>\"\",'IMPORTED DATA'!N195,\"\")","v":""},{"$f":"IF('IMPORTED DATA'!O195<>\"\",'IMPORTED DATA'!O195,IF('IMPORTED DATA'!$B$461=0,\"\",COUNTIF(Table5[RACE DESCRIPTION],'TRANSFORMED DATA'!B257)))","v":""},null,null,{"$f":"IF('IMPORTED DATA'!N232<>\"\",'IMPORTED DATA'!N232,\"\")","v":""},{"$f":"IF('IMPORTED DATA'!O232<>\"\",'IMPORTED DATA'!O232,IF('IMPORTED DATA'!$B$461=0,\"\",COUNTIFS(Table5[RACE DESCRIPTION],'TRANSFORMED DATA'!B257,Table5[ISSUPERVISOR],1)))","v":""},null,null,{"$f":"IF('IMPORTED DATA'!N269<>\"\",'IMPORTED DATA'!N269,\"\")","v":""},{"$f":"IF('IMPORTED DATA'!O269<>\"\",'IMPORTED DATA'!O269,IF('IMPORTED DATA'!$B$461=0,\"\",COUNTIFS(Table5[RACE DESCRIPTION],'TRANSFORMED DATA'!B257,Table5[ISExecutive],1)))","v":""}]
[]
[null,null,null,null,"Total Employees by EEO Code",null,null,null,"Total Employees by EEO Code",null,null,null,"Total Employees by EEO Code",null,null,null,null,null,null,null,null,{"$f":"IF('IMPORTED DATA'!$O$151=\"\",\"\",'IMPORTED DATA'!$O$151)","v":""}]
[null,null,{"$f":"CONCATENATE(\"FY\",RIGHT('DHRM ADMIN'!$P$15,2)-2)","v":"FY21"},{"$f":"CONCATENATE(\"FY\",RIGHT('DHRM ADMIN'!$P$15,2)-1)","v":"FY22"},{"$f":"CONCATENATE(\"FY\",RIGHT('DHRM ADMIN'!$P$15,2))","v":"FY23"},null,{"$f":"CONCATENATE(\"FY\",RIGHT('DHRM ADMIN'!$P$15,2)-2)","v":"FY21"},{"$f":"CONCATENATE(\"FY\",RIGHT('DHRM ADMIN'!$P$15,2)-1)","v":"FY22"},{"$f":"CONCATENATE(\"FY\",RIGHT('DHRM ADMIN'!$P$15,2))","v":"FY23"},null,{"$f":"CONCATENATE(\"FY\",RIGHT('DHRM ADMIN'!$P$15,2)-2)","v":"FY21"},{"$f":"CONCATENATE(\"FY\",RIGHT('DHRM ADMIN'!$P$15,2)-1)","v":"FY22"},{"$f":"CONCATENATE(\"FY\",RIGHT('DHRM ADMIN'!$P$15,2))","v":"FY23"}]
[null,"Official or Administrator",{"$f":"IF('IMPORTED DATA'!N196<>\"\",'IMPORTED DATA'!N196,\"\")","v":""},{"$f":"IF('IMPORTED DATA'!O196<>\"\",'IMPORTED DATA'!O196,IF('IMPORTED DATA'!$B$461=0,\"\",COUNTIF(Table5[EEO CATEGORY],'TRANSFORMED DATA'!B261)))","v":""},null,null,{"$f":"IF('IMPORTED DATA'!N233<>\"\",'IMPORTED DATA'!N233,\"\")","v":""},{"$f":"IF('IMPORTED DATA'!O233<>\"\",'IMPORTED DATA'!O233,IF('IMPORTED DATA'!$B$461=0,\"\",COUNTIFS(Table5[EEO CATEGORY],'TRANSFORMED DATA'!B261,Table5[ISSUPERVISOR],1)))","v":""},null,null,{"$f":"IF('IMPORTED DATA'!N270<>\"\",'IMPORTED DATA'!N270,\"\")","v":""},{"$f":"IF('IMPORTED DATA'!O270<>\"\",'IMPORTED DATA'!O270,IF('IMPORTED DATA'!$B$461=0,\"\",COUNTIFS(Table5[EEO CATEGORY],'TRANSFORMED DATA'!B261,Table5[ISExecutive],1)))","v":""}]
[null,"Professional",{"$f":"IF('IMPORTED DATA'!N197<>\"\",'IMPORTED DATA'!N197,\"\")","v":""},{"$f":"IF('IMPORTED DATA'!O197<>\"\",'IMPORTED DATA'!O197,IF('IMPORTED DATA'!$B$461=0,\"\",COUNTIF(Table5[EEO CATEGORY],'TRANSFORMED DATA'!B262)))","v":""},null,null,{"$f":"IF('IMPORTED DATA'!N234<>\"\",'IMPORTED DATA'!N234,\"\")","v":""},{"$f":"IF('IMPORTED DATA'!O234<>\"\",'IMPORTED DATA'!O234,IF('IMPORTED DATA'!$B$461=0,\"\",COUNTIFS(Table5[EEO CATEGORY],'TRANSFORMED DATA'!B262,Table5[ISSUPERVISOR],1)))","v":""},null,null,{"$f":"IF('IMPORTED DATA'!N271<>\"\",'IMPORTED DATA'!N271,\"\")","v":""},{"$f":"IF('IMPORTED DATA'!O271<>\"\",'IMPORTED DATA'!O271,IF('IMPORTED DATA'!$B$461=0,\"\",COUNTIFS(Table5[EEO CATEGORY],'TRANSFORMED DATA'!B262,Table5[ISExecutive],1)))","v":""},null,null,null,null,null,null,null,null,null,{"$f":"IF('IMPORTED DATA'!$O$152=\"\",\"\",'IMPORTED DATA'!$O$152)","v":""}]
[null,"Technician",{"$f":"IF('IMPORTED DATA'!N198<>\"\",'IMPORTED DATA'!N198,\"\")","v":""},{"$f":"IF('IMPORTED DATA'!O198<>\"\",'IMPORTED DATA'!O198,IF('IMPORTED DATA'!$B$461=0,\"\",COUNTIF(Table5[EEO CATEGORY],'TRANSFORMED DATA'!B263)))","v":""},null,null,{"$f":"IF('IMPORTED DATA'!N235<>\"\",'IMPORTED DATA'!N235,\"\")","v":""},{"$f":"IF('IMPORTED DATA'!O235<>\"\",'IMPORTED DATA'!O235,IF('IMPORTED DATA'!$B$461=0,\"\",COUNTIFS(Table5[EEO CATEGORY],'TRANSFORMED DATA'!B263,Table5[ISSUPERVISOR],1)))","v":""},null,null,{"$f":"IF('IMPORTED DATA'!N272<>\"\",'IMPORTED DATA'!N272,\"\")","v":""},{"$f":"IF('IMPORTED DATA'!O272<>\"\",'IMPORTED DATA'!O272,IF('IMPORTED DATA'!$B$461=0,\"\",COUNTIFS(Table5[EEO CATEGORY],'TRANSFORMED DATA'!B263,Table5[ISExecutive],1)))","v":""}]
[null,"Protective Service Worker",{"$f":"IF('IMPORTED DATA'!N199<>\"\",'IMPORTED DATA'!N199,\"\")","v":""},{"$f":"IF('IMPORTED DATA'!O199<>\"\",'IMPORTED DATA'!O199,IF('IMPORTED DATA'!$B$461=0,\"\",COUNTIF(Table5[EEO CATEGORY],'TRANSFORMED DATA'!B264)))","v":""},null,null,{"$f":"IF('IMPORTED DATA'!N236<>\"\",'IMPORTED DATA'!N236,\"\")","v":""},{"$f":"IF('IMPORTED DATA'!O236<>\"\",'IMPORTED DATA'!O236,IF('IMPORTED DATA'!$B$461=0,\"\",COUNTIFS(Table5[EEO CATEGORY],'TRANSFORMED DATA'!B264,Table5[ISSUPERVISOR],1)))","v":""},null,null,{"$f":"IF('IMPORTED DATA'!N273<>\"\",'IMPORTED DATA'!N273,\"\")","v":""},{"$f":"IF('IMPORTED DATA'!O273<>\"\",'IMPORTED DATA'!O273,IF('IMPORTED DATA'!$B$461=0,\"\",COUNTIFS(Table5[EEO CATEGORY],'TRANSFORMED DATA'!B264,Table5[ISExecutive],1)))","v":""}]
[null,"Paraprofessional",{"$f":"IF('IMPORTED DATA'!N200<>\"\",'IMPORTED DATA'!N200,\"\")","v":""},{"$f":"IF('IMPORTED DATA'!O200<>\"\",'IMPORTED DATA'!O200,IF('IMPORTED DATA'!$B$461=0,\"\",COUNTIF(Table5[EEO CATEGORY],'TRANSFORMED DATA'!B265)))","v":""},null,null,{"$f":"IF('IMPORTED DATA'!N237<>\"\",'IMPORTED DATA'!N237,\"\")","v":""},{"$f":"IF('IMPORTED DATA'!O237<>\"\",'IMPORTED DATA'!O237,IF('IMPORTED DATA'!$B$461=0,\"\",COUNTIFS(Table5[EEO CATEGORY],'TRANSFORMED DATA'!B265,Table5[ISSUPERVISOR],1)))","v":""},null,null,{"$f":"IF('IMPORTED DATA'!N274<>\"\",'IMPORTED DATA'!N274,\"\")","v":""},{"$f":"IF('IMPORTED DATA'!O274<>\"\",'IMPORTED DATA'!O274,IF('IMPORTED DATA'!$B$461=0,\"\",COUNTIFS(Table5[EEO CATEGORY],'TRANSFORMED DATA'!B265,Table5[ISExecutive],1)))","v":""},null,null,null,null,null,null,null,null,null,{"$f":"IF('IMPORTED DATA'!$O$153=\"\",\"\",'IMPORTED DATA'!$O$153)","v":""}]
[null,"Office or Clerical",{"$f":"IF('IMPORTED DATA'!N201<>\"\",'IMPORTED DATA'!N201,\"\")","v":""},{"$f":"IF('IMPORTED DATA'!O201<>\"\",'IMPORTED DATA'!O201,IF('IMPORTED DATA'!$B$461=0,\"\",COUNTIF(Table5[EEO CATEGORY],'TRANSFORMED DATA'!B266)))","v":""},null,null,{"$f":"IF('IMPORTED DATA'!N238<>\"\",'IMPORTED DATA'!N238,\"\")","v":""},{"$f":"IF('IMPORTED DATA'!O238<>\"\",'IMPORTED DATA'!O238,IF('IMPORTED DATA'!$B$461=0,\"\",COUNTIFS(Table5[EEO CATEGORY],'TRANSFORMED DATA'!B266,Table5[ISSUPERVISOR],1)))","v":""},null,null,{"$f":"IF('IMPORTED DATA'!N275<>\"\",'IMPORTED DATA'!N275,\"\")","v":""},{"$f":"IF('IMPORTED DATA'!O275<>\"\",'IMPORTED DATA'!O275,IF('IMPORTED DATA'!$B$461=0,\"\",COUNTIFS(Table5[EEO CATEGORY],'TRANSFORMED DATA'!B266,Table5[ISExecutive],1)))","v":""}]
[null,"Skilled Craft Worker",{"$f":"IF('IMPORTED DATA'!N202<>\"\",'IMPORTED DATA'!N202,\"\")","v":""},{"$f":"IF('IMPORTED DATA'!O202<>\"\",'IMPORTED DATA'!O202,IF('IMPORTED DATA'!$B$461=0,\"\",COUNTIF(Table5[EEO CATEGORY],'TRANSFORMED DATA'!B267)))","v":""},null,null,{"$f":"IF('IMPORTED DATA'!N239<>\"\",'IMPORTED DATA'!N239,\"\")","v":""},{"$f":"IF('IMPORTED DATA'!O239<>\"\",'IMPORTED DATA'!O239,IF('IMPORTED DATA'!$B$461=0,\"\",COUNTIFS(Table5[EEO CATEGORY],'TRANSFORMED DATA'!B267,Table5[ISSUPERVISOR],1)))","v":""},null,null,{"$f":"IF('IMPORTED DATA'!N276<>\"\",'IMPORTED DATA'!N276,\"\")","v":""},{"$f":"IF('IMPORTED DATA'!O276<>\"\",'IMPORTED DATA'!O276,IF('IMPORTED DATA'!$B$461=0,\"\",COUNTIFS(Table5[EEO CATEGORY],'TRANSFORMED DATA'!B267,Table5[ISExecutive],1)))","v":""}]
[null,"Service/Maintenance",{"$f":"IF('IMPORTED DATA'!N203<>\"\",'IMPORTED DATA'!N203,\"\")","v":""},{"$f":"IF('IMPORTED DATA'!O203<>\"\",'IMPORTED DATA'!O203,IF('IMPORTED DATA'!$B$461=0,\"\",COUNTIF(Table5[EEO CATEGORY],'TRANSFORMED DATA'!B268)))","v":""},null,null,{"$f":"IF('IMPORTED DATA'!N240<>\"\",'IMPORTED DATA'!N240,\"\")","v":""},{"$f":"IF('IMPORTED DATA'!O240<>\"\",'IMPORTED DATA'!O240,IF('IMPORTED DATA'!$B$461=0,\"\",COUNTIFS(Table5[EEO CATEGORY],'TRANSFORMED DATA'!B268,Table5[ISSUPERVISOR],1)))","v":""},null,null,{"$f":"IF('IMPORTED DATA'!N277<>\"\",'IMPORTED DATA'!N277,\"\")","v":""},{"$f":"IF('IMPORTED DATA'!O277<>\"\",'IMPORTED DATA'!O277,IF('IMPORTED DATA'!$B$461=0,\"\",COUNTIFS(Table5[EEO CATEGORY],'TRANSFORMED DATA'!B268,Table5[ISExecutive],1)))","v":""},null,null,null,null,null,null,null,null,null,{"$f":"IF('IMPORTED DATA'!$O$154=\"\",\"\",'IMPORTED DATA'!$O$154)","v":""}]
[null,"Faculty",{"$f":"IF('IMPORTED DATA'!N204<>\"\",'IMPORTED DATA'!N204,\"\")","v":""},{"$f":"IF('IMPORTED DATA'!O204<>\"\",'IMPORTED DATA'!O204,IF('IMPORTED DATA'!$B$461=0,\"\",COUNTIF(Table5[EEO CATEGORY],'TRANSFORMED DATA'!B269)))","v":""},null,null,{"$f":"IF('IMPORTED DATA'!N241<>\"\",'IMPORTED DATA'!N241,\"\")","v":""},{"$f":"IF('IMPORTED DATA'!O241<>\"\",'IMPORTED DATA'!O241,IF('IMPORTED DATA'!$B$461=0,\"\",COUNTIFS(Table5[EEO CATEGORY],'TRANSFORMED DATA'!B269,Table5[ISSUPERVISOR],1)))","v":""},null,null,{"$f":"IF('IMPORTED DATA'!N278<>\"\",'IMPORTED DATA'!N278,\"\")","v":""},{"$f":"IF('IMPORTED DATA'!O278<>\"\",'IMPORTED DATA'!O278,IF('IMPORTED DATA'!$B$461=0,\"\",COUNTIFS(Table5[EEO CATEGORY],'TRANSFORMED DATA'!B269,Table5[ISExecutive],1)))","v":""}]
[null,"Other",{"$f":"IF('IMPORTED DATA'!N205<>\"\",'IMPORTED DATA'!N205,\"\")","v":""},{"$f":"IF('IMPORTED DATA'!O205<>\"\",'IMPORTED DATA'!O205,IF('IMPORTED DATA'!$B$461=0,\"\",COUNTIF(Table5[EEO CATEGORY],'TRANSFORMED DATA'!B270)))","v":""},null,null,{"$f":"IF('IMPORTED DATA'!N242<>\"\",'IMPORTED DATA'!N242,\"\")","v":""},{"$f":"IF('IMPORTED DATA'!O242<>\"\",'IMPORTED DATA'!O242,IF('IMPORTED DATA'!$B$461=0,\"\",COUNTIFS(Table5[EEO CATEGORY],'TRANSFORMED DATA'!B270,Table5[ISSUPERVISOR],1)))","v":""},null,null,{"$f":"IF('IMPORTED DATA'!N279<>\"\",'IMPORTED DATA'!N279,\"\")","v":""},{"$f":"IF('IMPORTED DATA'!O279<>\"\",'IMPORTED DATA'!O279,IF('IMPORTED DATA'!$B$461=0,\"\",COUNTIFS(Table5[EEO CATEGORY],'TRANSFORMED DATA'!B270,Table5[ISExecutive],1)))","v":""}]
[null,null,null,null,null,null,null,null,null,null,null,null,null,null,null,null,null,null,null,null,null,{"$f":"IF('IMPORTED DATA'!$O$155=\"\",\"\",'IMPORTED DATA'!$O$155)","v":""}]
[null,null,null,null,"Total Employees by Classification",null,null,null,"Total Employees by Classification",null,null,null,"Total Employees by Classification"]
[null,null,{"$f":"CONCATENATE(\"FY\",RIGHT('DHRM ADMIN'!$P$15,2)-2)","v":"FY21"},{"$f":"CONCATENATE(\"FY\",RIGHT('DHRM ADMIN'!$P$15,2)-1)","v":"FY22"},{"$f":"CONCATENATE(\"FY\",RIGHT('DHRM ADMIN'!$P$15,2))","v":"FY23"},null,{"$f":"CONCATENATE(\"FY\",RIGHT('DHRM ADMIN'!$P$15,2)-2)","v":"FY21"},{"$f":"CONCATENATE(\"FY\",RIGHT('DHRM ADMIN'!$P$15,2)-1)","v":"FY22"},{"$f":"CONCATENATE(\"FY\",RIGHT('DHRM ADMIN'!$P$15,2))","v":"FY23"},null,{"$f":"CONCATENATE(\"FY\",RIGHT('DHRM ADMIN'!$P$15,2)-2)","v":"FY21"},{"$f":"CONCATENATE(\"FY\",RIGHT('DHRM ADMIN'!$P$15,2)-1)","v":"FY22"},{"$f":"CONCATENATE(\"FY\",RIGHT('DHRM ADMIN'!$P$15,2))","v":"FY23"}]
[null,{"$f":"CUSTOMIZATIONS!C28","v":0},{"$f":"IF('IMPORTED DATA'!N206<>\"\",'IMPORTED DATA'!N206,\"\")","v":""},{"$f":"IF('IMPORTED DATA'!O206<>\"\",'IMPORTED DATA'!O206,IF('IMPORTED DATA'!$B$461=0,\"\",COUNTIF(Table5[EMPLOYEE CATEGORY],'TRANSFORMED DATA'!B274)))","v":""},null,null,{"$f":"IF('IMPORTED DATA'!N243<>\"\",'IMPORTED DATA'!N243,\"\")","v":""},{"$f":"IF('IMPORTED DATA'!O243<>\"\",'IMPORTED DATA'!O243,IF('IMPORTED DATA'!$B$461=0,\"\",COUNTIFS(Table5[EMPLOYEE CATEGORY],'TRANSFORMED DATA'!B274,Table5[ISSUPERVISOR],1)))","v":""},null,null,{"$f":"IF('IMPORTED DATA'!N280<>\"\",'IMPORTED DATA'!N280,\"\")","v":""},{"$f":"IF('IMPORTED DATA'!O280<>\"\",'IMPORTED DATA'!O280,IF('IMPORTED DATA'!$B$461=0,\"\",COUNTIFS(Table5[EMPLOYEE CATEGORY],'TRANSFORMED DATA'!B274,Table5[ISExecutive],1)))","v":""}]
[null,{"$f":"CUSTOMIZATIONS!C29","v":0},{"$f":"IF('IMPORTED DATA'!N207<>\"\",'IMPORTED DATA'!N207,\"\")","v":""},{"$f":"IF('IMPORTED DATA'!O207<>\"\",'IMPORTED DATA'!O207,IF('IMPORTED DATA'!$B$461=0,\"\",COUNTIF(Table5[EMPLOYEE CATEGORY],'TRANSFORMED DATA'!B275)))","v":""},null,null,{"$f":"IF('IMPORTED DATA'!N244<>\"\",'IMPORTED DATA'!N244,\"\")","v":""},{"$f":"IF('IMPORTED DATA'!O244<>\"\",'IMPORTED DATA'!O244,IF('IMPORTED DATA'!$B$461=0,\"\",COUNTIFS(Table5[EMPLOYEE CATEGORY],'TRANSFORMED DATA'!B275,Table5[ISSUPERVISOR],1)))","v":""},null,null,{"$f":"IF('IMPORTED DATA'!N281<>\"\",'IMPORTED DATA'!N281,\"\")","v":""},{"$f":"IF('IMPORTED DATA'!O281<>\"\",'IMPORTED DATA'!O281,IF('IMPORTED DATA'!$B$461=0,\"\",COUNTIFS(Table5[EMPLOYEE CATEGORY],'TRANSFORMED DATA'!B275,Table5[ISExecutive],1)))","v":""}]
[null,{"$f":"CUSTOMIZATIONS!C30","v":""},{"$f":"IF('IMPORTED DATA'!N208<>\"\",'IMPORTED DATA'!N208,\"\")","v":""},{"$f":"IF('IMPORTED DATA'!O208<>\"\",'IMPORTED DATA'!O208,IF('IMPORTED DATA'!$B$461=0,\"\",COUNTIF(Table5[EMPLOYEE CATEGORY],'TRANSFORMED DATA'!B276)))","v":""},null,null,{"$f":"IF('IMPORTED DATA'!N245<>\"\",'IMPORTED DATA'!N245,\"\")","v":""},{"$f":"IF('IMPORTED DATA'!O245<>\"\",'IMPORTED DATA'!O245,IF('IMPORTED DATA'!$B$461=0,\"\",COUNTIFS(Table5[EMPLOYEE CATEGORY],'TRANSFORMED DATA'!B276,Table5[ISSUPERVISOR],1)))","v":""},null,null,{"$f":"IF('IMPORTED DATA'!N282<>\"\",'IMPORTED DATA'!N282,\"\")","v":""},{"$f":"IF('IMPORTED DATA'!O282<>\"\",'IMPORTED DATA'!O282,IF('IMPORTED DATA'!$B$461=0,\"\",COUNTIFS(Table5[EMPLOYEE CATEGORY],'TRANSFORMED DATA'!B276,Table5[ISExecutive],1)))","v":""}]
[null,{"$f":"CUSTOMIZATIONS!C31","v":""},{"$f":"IF('IMPORTED DATA'!N209<>\"\",'IMPORTED DATA'!N209,\"\")","v":""},{"$f":"IF('IMPORTED DATA'!O209<>\"\",'IMPORTED DATA'!O209,IF('IMPORTED DATA'!$B$461=0,\"\",COUNTIF(Table5[EMPLOYEE CATEGORY],'TRANSFORMED DATA'!B277)))","v":""},null,null,{"$f":"IF('IMPORTED DATA'!N246<>\"\",'IMPORTED DATA'!N246,\"\")","v":""},{"$f":"IF('IMPORTED DATA'!O246<>\"\",'IMPORTED DATA'!O246,IF('IMPORTED DATA'!$B$461=0,\"\",COUNTIFS(Table5[EMPLOYEE CATEGORY],'TRANSFORMED DATA'!B277,Table5[ISSUPERVISOR],1)))","v":""},null,null,{"$f":"IF('IMPORTED DATA'!N283<>\"\",'IMPORTED DATA'!N283,\"\")","v":""},{"$f":"IF('IMPORTED DATA'!O283<>\"\",'IMPORTED DATA'!O283,IF('IMPORTED DATA'!$B$461=0,\"\",COUNTIFS(Table5[EMPLOYEE CATEGORY],'TRANSFORMED DATA'!B277,Table5[ISExecutive],1)))","v":""}]
[null,{"$f":"CUSTOMIZATIONS!C32","v":""},{"$f":"IF('IMPORTED DATA'!N210<>\"\",'IMPORTED DATA'!N210,\"\")","v":""},{"$f":"IF('IMPORTED DATA'!O210<>\"\",'IMPORTED DATA'!O210,IF('IMPORTED DATA'!$B$461=0,\"\",COUNTIF(Table5[EMPLOYEE CATEGORY],'TRANSFORMED DATA'!B278)))","v":""},null,null,{"$f":"IF('IMPORTED DATA'!N247<>\"\",'IMPORTED DATA'!N247,\"\")","v":""},{"$f":"IF('IMPORTED DATA'!O247<>\"\",'IMPORTED DATA'!O247,IF('IMPORTED DATA'!$B$461=0,\"\",COUNTIFS(Table5[EMPLOYEE CATEGORY],'TRANSFORMED DATA'!B278,Table5[ISSUPERVISOR],1)))","v":""},null,null,{"$f":"IF('IMPORTED DATA'!N284<>\"\",'IMPORTED DATA'!N284,\"\")","v":""},{"$f":"IF('IMPORTED DATA'!O284<>\"\",'IMPORTED DATA'!O284,IF('IMPORTED DATA'!$B$461=0,\"\",COUNTIFS(Table5[EMPLOYEE CATEGORY],'TRANSFORMED DATA'!B278,Table5[ISExecutive],1)))","v":""}]
[null,{"$f":"CUSTOMIZATIONS!C33","v":""},{"$f":"IF('IMPORTED DATA'!N211<>\"\",'IMPORTED DATA'!N211,\"\")","v":""},{"$f":"IF('IMPORTED DATA'!O211<>\"\",'IMPORTED DATA'!O211,IF('IMPORTED DATA'!$B$461=0,\"\",COUNTIF(Table5[EMPLOYEE CATEGORY],'TRANSFORMED DATA'!B279)))","v":""},null,null,{"$f":"IF('IMPORTED DATA'!N248<>\"\",'IMPORTED DATA'!N248,\"\")","v":""},{"$f":"IF('IMPORTED DATA'!O248<>\"\",'IMPORTED DATA'!O248,IF('IMPORTED DATA'!$B$461=0,\"\",COUNTIFS(Table5[EMPLOYEE CATEGORY],'TRANSFORMED DATA'!B279,Table5[ISSUPERVISOR],1)))","v":""},null,null,{"$f":"IF('IMPORTED DATA'!N285<>\"\",'IMPORTED DATA'!N285,\"\")","v":""},{"$f":"IF('IMPORTED DATA'!O285<>\"\",'IMPORTED DATA'!O285,IF('IMPORTED DATA'!$B$461=0,\"\",COUNTIFS(Table5[EMPLOYEE CATEGORY],'TRANSFORMED DATA'!B279,Table5[ISExecutive],1)))","v":""}]
[null,{"$f":"CUSTOMIZATIONS!C34","v":""},{"$f":"IF('IMPORTED DATA'!N212<>\"\",'IMPORTED DATA'!N212,\"\")","v":""},{"$f":"IF('IMPORTED DATA'!O212<>\"\",'IMPORTED DATA'!O212,IF('IMPORTED DATA'!$B$461=0,\"\",COUNTIF(Table5[EMPLOYEE CATEGORY],'TRANSFORMED DATA'!B280)))","v":""},null,null,{"$f":"IF('IMPORTED DATA'!N249<>\"\",'IMPORTED DATA'!N249,\"\")","v":""},{"$f":"IF('IMPORTED DATA'!O249<>\"\",'IMPORTED DATA'!O249,IF('IMPORTED DATA'!$B$461=0,\"\",COUNTIFS(Table5[EMPLOYEE CATEGORY],'TRANSFORMED DATA'!B280,Table5[ISSUPERVISOR],1)))","v":""},null,null,{"$f":"IF('IMPORTED DATA'!N286<>\"\",'IMPORTED DATA'!N286,\"\")","v":""},{"$f":"IF('IMPORTED DATA'!O286<>\"\",'IMPORTED DATA'!O286,IF('IMPORTED DATA'!$B$461=0,\"\",COUNTIFS(Table5[EMPLOYEE CATEGORY],'TRANSFORMED DATA'!B280,Table5[ISExecutive],1)))","v":""},null,null,null,null,null,null,null,{"$f":"IF('IMPORTED DATA'!$O$156=\"\",\"\",'IMPORTED DATA'!$O$156)","v":""}]
[null,{"$f":"CUSTOMIZATIONS!C35","v":""},{"$f":"IF('IMPORTED DATA'!N213<>\"\",'IMPORTED DATA'!N213,\"\")","v":""},{"$f":"IF('IMPORTED DATA'!O213<>\"\",'IMPORTED DATA'!O213,IF('IMPORTED DATA'!$B$461=0,\"\",COUNTIF(Table5[EMPLOYEE CATEGORY],'TRANSFORMED DATA'!B281)))","v":""},null,null,{"$f":"IF('IMPORTED DATA'!N250<>\"\",'IMPORTED DATA'!N250,\"\")","v":""},{"$f":"IF('IMPORTED DATA'!O250<>\"\",'IMPORTED DATA'!O250,IF('IMPORTED DATA'!$B$461=0,\"\",COUNTIFS(Table5[EMPLOYEE CATEGORY],'TRANSFORMED DATA'!B281,Table5[ISSUPERVISOR],1)))","v":""},null,null,{"$f":"IF('IMPORTED DATA'!N287<>\"\",'IMPORTED DATA'!N287,\"\")","v":""},{"$f":"IF('IMPORTED DATA'!O287<>\"\",'IMPORTED DATA'!O287,IF('IMPORTED DATA'!$B$461=0,\"\",COUNTIFS(Table5[EMPLOYEE CATEGORY],'TRANSFORMED DATA'!B281,Table5[ISExecutive],1)))","v":""}]
[null,{"$f":"CUSTOMIZATIONS!C36","v":""},{"$f":"IF('IMPORTED DATA'!N214<>\"\",'IMPORTED DATA'!N214,\"\")","v":""},{"$f":"IF('IMPORTED DATA'!O214<>\"\",'IMPORTED DATA'!O214,IF('IMPORTED DATA'!$B$461=0,\"\",COUNTIF(Table5[EMPLOYEE CATEGORY],'TRANSFORMED DATA'!B282)))","v":""},null,null,{"$f":"IF('IMPORTED DATA'!N251<>\"\",'IMPORTED DATA'!N251,\"\")","v":""},{"$f":"IF('IMPORTED DATA'!O251<>\"\",'IMPORTED DATA'!O251,IF('IMPORTED DATA'!$B$461=0,\"\",COUNTIFS(Table5[EMPLOYEE CATEGORY],'TRANSFORMED DATA'!B282,Table5[ISSUPERVISOR],1)))","v":""},null,null,{"$f":"IF('IMPORTED DATA'!N288<>\"\",'IMPORTED DATA'!N288,\"\")","v":""},{"$f":"IF('IMPORTED DATA'!O288<>\"\",'IMPORTED DATA'!O288,IF('IMPORTED DATA'!$B$461=0,\"\",COUNTIFS(Table5[EMPLOYEE CATEGORY],'TRANSFORMED DATA'!B282,Table5[ISExecutive],1)))","v":""}]
[null,{"$f":"CUSTOMIZATIONS!C37","v":""},{"$f":"IF('IMPORTED DATA'!N215<>\"\",'IMPORTED DATA'!N215,\"\")","v":""},{"$f":"IF('IMPORTED DATA'!O215<>\"\",'IMPORTED DATA'!O215,IF('IMPORTED DATA'!$B$461=0,\"\",COUNTIF(Table5[EMPLOYEE CATEGORY],'TRANSFORMED DATA'!B283)))","v":""},null,null,{"$f":"IF('IMPORTED DATA'!N252<>\"\",'IMPORTED DATA'!N252,\"\")","v":""},{"$f":"IF('IMPORTED DATA'!O252<>\"\",'IMPORTED DATA'!O252,IF('IMPORTED DATA'!$B$461=0,\"\",COUNTIFS(Table5[EMPLOYEE CATEGORY],'TRANSFORMED DATA'!B283,Table5[ISSUPERVISOR],1)))","v":""},null,null,{"$f":"IF('IMPORTED DATA'!N289<>\"\",'IMPORTED DATA'!N289,\"\")","v":""},{"$f":"IF('IMPORTED DATA'!O289<>\"\",'IMPORTED DATA'!O289,IF('IMPORTED DATA'!$B$461=0,\"\",COUNTIFS(Table5[EMPLOYEE CATEGORY],'TRANSFORMED DATA'!B283,Table5[ISExecutive],1)))","v":""}]
[null,{"$f":"CUSTOMIZATIONS!C38","v":""},{"$f":"IF('IMPORTED DATA'!N216<>\"\",'IMPORTED DATA'!N216,\"\")","v":""},{"$f":"IF('IMPORTED DATA'!O216<>\"\",'IMPORTED DATA'!O216,IF('IMPORTED DATA'!$B$461=0,\"\",COUNTIF(Table5[EMPLOYEE CATEGORY],'TRANSFORMED DATA'!B284)))","v":""},null,null,{"$f":"IF('IMPORTED DATA'!N253<>\"\",'IMPORTED DATA'!N253,\"\")","v":""},{"$f":"IF('IMPORTED DATA'!O253<>\"\",'IMPORTED DATA'!O253,IF('IMPORTED DATA'!$B$461=0,\"\",COUNTIFS(Table5[EMPLOYEE CATEGORY],'TRANSFORMED DATA'!B284,Table5[ISSUPERVISOR],1)))","v":""},null,null,{"$f":"IF('IMPORTED DATA'!N290<>\"\",'IMPORTED DATA'!N290,\"\")","v":""},{"$f":"IF('IMPORTED DATA'!O290<>\"\",'IMPORTED DATA'!O290,IF('IMPORTED DATA'!$B$461=0,\"\",COUNTIFS(Table5[EMPLOYEE CATEGORY],'TRANSFORMED DATA'!B284,Table5[ISExecutive],1)))","v":""}]
[null,{"$f":"CUSTOMIZATIONS!C39","v":""},{"$f":"IF('IMPORTED DATA'!N217<>\"\",'IMPORTED DATA'!N217,\"\")","v":""},{"$f":"IF('IMPORTED DATA'!O217<>\"\",'IMPORTED DATA'!O217,IF('IMPORTED DATA'!$B$461=0,\"\",COUNTIF(Table5[EMPLOYEE CATEGORY],'TRANSFORMED DATA'!B285)))","v":""},null,null,{"$f":"IF('IMPORTED DATA'!N254<>\"\",'IMPORTED DATA'!N254,\"\")","v":""},{"$f":"IF('IMPORTED DATA'!O254<>\"\",'IMPORTED DATA'!O254,IF('IMPORTED DATA'!$B$461=0,\"\",COUNTIFS(Table5[EMPLOYEE CATEGORY],'TRANSFORMED DATA'!B285,Table5[ISSUPERVISOR],1)))","v":""},null,null,{"$f":"IF('IMPORTED DATA'!N291<>\"\",'IMPORTED DATA'!N291,\"\")","v":""},{"$f":"IF('IMPORTED DATA'!O291<>\"\",'IMPORTED DATA'!O291,IF('IMPORTED DATA'!$B$461=0,\"\",COUNTIFS(Table5[EMPLOYEE CATEGORY],'TRANSFORMED DATA'!B285,Table5[ISExecutive],1)))","v":""}]
[null,{"$f":"CUSTOMIZATIONS!C40","v":""},{"$f":"IF('IMPORTED DATA'!N218<>\"\",'IMPORTED DATA'!N218,\"\")","v":""},{"$f":"IF('IMPORTED DATA'!O218<>\"\",'IMPORTED DATA'!O218,IF('IMPORTED DATA'!$B$461=0,\"\",COUNTIF(Table5[EMPLOYEE CATEGORY],'TRANSFORMED DATA'!B286)))","v":""},null,null,{"$f":"IF('IMPORTED DATA'!N255<>\"\",'IMPORTED DATA'!N255,\"\")","v":""},{"$f":"IF('IMPORTED DATA'!O255<>\"\",'IMPORTED DATA'!O255,IF('IMPORTED DATA'!$B$461=0,\"\",COUNTIFS(Table5[EMPLOYEE CATEGORY],'TRANSFORMED DATA'!B286,Table5[ISSUPERVISOR],1)))","v":""},null,null,{"$f":"IF('IMPORTED DATA'!N292<>\"\",'IMPORTED DATA'!N292,\"\")","v":""},{"$f":"IF('IMPORTED DATA'!O292<>\"\",'IMPORTED DATA'!O292,IF('IMPORTED DATA'!$B$461=0,\"\",COUNTIFS(Table5[EMPLOYEE CATEGORY],'TRANSFORMED DATA'!B286,Table5[ISExecutive],1)))","v":""},null,null,null,null,null,null,null,null,null,{"$f":"IF('IMPORTED DATA'!$O$157=\"\",\"\",'IMPORTED DATA'!$O$157)","v":""}]
[null,{"$f":"CUSTOMIZATIONS!C41","v":""},{"$f":"IF('IMPORTED DATA'!N219<>\"\",'IMPORTED DATA'!N219,\"\")","v":""},{"$f":"IF('IMPORTED DATA'!O219<>\"\",'IMPORTED DATA'!O219,IF('IMPORTED DATA'!$B$461=0,\"\",COUNTIF(Table5[EMPLOYEE CATEGORY],'TRANSFORMED DATA'!B287)))","v":""},null,null,{"$f":"IF('IMPORTED DATA'!N256<>\"\",'IMPORTED DATA'!N256,\"\")","v":""},{"$f":"IF('IMPORTED DATA'!O256<>\"\",'IMPORTED DATA'!O256,IF('IMPORTED DATA'!$B$461=0,\"\",COUNTIFS(Table5[EMPLOYEE CATEGORY],'TRANSFORMED DATA'!B287,Table5[ISSUPERVISOR],1)))","v":""},null,null,{"$f":"IF('IMPORTED DATA'!N293<>\"\",'IMPORTED DATA'!N293,\"\")","v":""},{"$f":"IF('IMPORTED DATA'!O293<>\"\",'IMPORTED DATA'!O293,IF('IMPORTED DATA'!$B$461=0,\"\",COUNTIFS(Table5[EMPLOYEE CATEGORY],'TRANSFORMED DATA'!B287,Table5[ISExecutive],1)))","v":""}]
[null,{"$f":"CUSTOMIZATIONS!C42","v":""},{"$f":"IF('IMPORTED DATA'!N220<>\"\",'IMPORTED DATA'!N220,\"\")","v":""},{"$f":"IF('IMPORTED DATA'!O220<>\"\",'IMPORTED DATA'!O220,IF('IMPORTED DATA'!$B$461=0,\"\",COUNTIF(Table5[EMPLOYEE CATEGORY],'TRANSFORMED DATA'!B288)))","v":""},null,null,{"$f":"IF('IMPORTED DATA'!N257<>\"\",'IMPORTED DATA'!N257,\"\")","v":""},{"$f":"IF('IMPORTED DATA'!O257<>\"\",'IMPORTED DATA'!O257,IF('IMPORTED DATA'!$B$461=0,\"\",COUNTIFS(Table5[EMPLOYEE CATEGORY],'TRANSFORMED DATA'!B288,Table5[ISSUPERVISOR],1)))","v":""},null,null,{"$f":"IF('IMPORTED DATA'!N294<>\"\",'IMPORTED DATA'!N294,\"\")","v":""},{"$f":"IF('IMPORTED DATA'!O294<>\"\",'IMPORTED DATA'!O294,IF('IMPORTED DATA'!$B$461=0,\"\",COUNTIFS(Table5[EMPLOYEE CATEGORY],'TRANSFORMED DATA'!B288,Table5[ISExecutive],1)))","v":""}]
[null,null,null,null,null,null,null,null,null,null,null,null,null,null,null,null,null,null,null,null,null,{"$f":"IF('IMPORTED DATA'!$O$158=\"\",\"\",'IMPORTED DATA'!$O$158)","v":""}]
[null,null,null,null,"Additional Employee Demographics",null,null,null,"Additional Employee Demographics",null,null,null,"Additional Employee Demographics"]
[null,null,{"$f":"CONCATENATE(\"FY\",RIGHT('DHRM ADMIN'!$P$15,2)-2)","v":"FY21"},{"$f":"CONCATENATE(\"FY\",RIGHT('DHRM ADMIN'!$P$15,2)-1)","v":"FY22"},{"$f":"CONCATENATE(\"FY\",RIGHT('DHRM ADMIN'!$P$15,2))","v":"FY23"},null,{"$f":"CONCATENATE(\"FY\",RIGHT('DHRM ADMIN'!$P$15,2)-2)","v":"FY21"},{"$f":"CONCATENATE(\"FY\",RIGHT('DHRM ADMIN'!$P$15,2)-1)","v":"FY22"},{"$f":"CONCATENATE(\"FY\",RIGHT('DHRM ADMIN'!$P$15,2))","v":"FY23"},null,{"$f":"CONCATENATE(\"FY\",RIGHT('DHRM ADMIN'!$P$15,2)-2)","v":"FY21"},{"$f":"CONCATENATE(\"FY\",RIGHT('DHRM ADMIN'!$P$15,2)-1)","v":"FY22"},{"$f":"CONCATENATE(\"FY\",RIGHT('DHRM ADMIN'!$P$15,2))","v":"FY23"}]
[null,"EWD",{"$f":"IF('IMPORTED DATA'!N221<>\"\",'IMPORTED DATA'!N221,IF('IMPORTED DATA'!#REF!<>\"\",'IMPORTED DATA'!#REF!,\"\"))","v":{"$error":"#REF!"}},{"$f":"IF('IMPORTED DATA'!O221<>\"\",'IMPORTED DATA'!O221,IF('IMPORTED DATA'!$B$461=0,\"\",IF(CUSTOMIZATIONS!#REF!=\"yes\",COUNTIF(Table5[DISABILITY CODE DESCRIPTION],12),COUNTIFS(Table5[DISABILITY CODE DESCRIPTION],\"Yes\"))))","v":""},null,null,{"$f":"IF('IMPORTED DATA'!N258<>\"\",'IMPORTED DATA'!N258,IF('IMPORTED DATA'!#REF!<>\"\",'IMPORTED DATA'!#REF!+K292,\"\"))","v":{"$error":"#REF!"}},{"$f":"IF('IMPORTED DATA'!O258<>\"\",'IMPORTED DATA'!O258,IF('IMPORTED DATA'!$B$461=0,\"\",IF(CUSTOMIZATIONS!#REF!=\"yes\",COUNTIFS(Table5[DISABILITY CODE DESCRIPTION],12,Table5[ISSUPERVISOR],1),COUNTIFS(Table5[DISABILITY CODE DESCRIPTION],\"Yes\",Table5[ISSUPERVISOR],1))))","v":""},null,null,{"$f":"IF('IMPORTED DATA'!N295<>\"\",'IMPORTED DATA'!N295,IF('IMPORTED DATA'!#REF!<>\"\",'IMPORTED DATA'!#REF!,\"\"))","v":{"$error":"#REF!"}},{"$f":"IF('IMPORTED DATA'!O295<>\"\",'IMPORTED DATA'!O295,IF('IMPORTED DATA'!$B$461=0,\"\",IF(CUSTOMIZATIONS!#REF!=\"yes\",COUNTIFS(Table5[DISABILITY CODE DESCRIPTION],12,Table5[ISExecutive],1),COUNTIFS(Table5[DISABILITY CODE DESCRIPTION],\"yes\",Table5[ISExecutive],1))))","v":""},null,null,null,null,null,null,null,null,null,{"$f":"IF('IMPORTED DATA'!$O$159=\"\",\"\",'IMPORTED DATA'!$O$159)","v":""}]
[null,"Veterans",{"$f":"IF('IMPORTED DATA'!N222<>\"\",'IMPORTED DATA'!N222,IF('IMPORTED DATA'!#REF!<>\"\",'IMPORTED DATA'!#REF!,\"\"))","v":{"$error":"#REF!"}},{"$f":"IF('IMPORTED DATA'!O222<>\"\",'IMPORTED DATA'!O222,IF('IMPORTED DATA'!$B$461=0,\"\",IF(CUSTOMIZATIONS!#REF!=\"yes\",COUNTIF(Table5[VETERAN''S STATUS],\"Y\"),COUNTIF(Table5[VETERAN''S STATUS],\"Veteran\"))))","v":""},null,null,{"$f":"IF('IMPORTED DATA'!N259<>\"\",'IMPORTED DATA'!N259,IF('IMPORTED DATA'!#REF!<>\"\",'IMPORTED DATA'!#REF!+K293,\"\"))","v":{"$error":"#REF!"}},{"$f":"IF('IMPORTED DATA'!O259<>\"\",'IMPORTED DATA'!O259,IF('IMPORTED DATA'!$B$461=0,\"\",IF(CUSTOMIZATIONS!#REF!=\"yes\",COUNTIFS(Table5[VETERAN''S STATUS],\"Y\",Table5[ISSUPERVISOR],1),COUNTIFS(Table5[VETERAN''S STATUS],\"Veteran\",Table5[ISSUPERVISOR],1))))","v":""},null,null,{"$f":"IF('IMPORTED DATA'!N296<>\"\",'IMPORTED DATA'!N296,IF('IMPORTED DATA'!#REF!<>\"\",'IMPORTED DATA'!#REF!,\"\"))","v":{"$error":"#REF!"}},{"$f":"IF('IMPORTED DATA'!O296<>\"\",'IMPORTED DATA'!O296,IF('IMPORTED DATA'!$B$461=0,\"\",IF(CUSTOMIZATIONS!#REF!=\"yes\",COUNTIFS(Table5[VETERAN''S STATUS],\"Y\",Table5[ISExecutive],1),COUNTIFS(Table5[VETERAN''S STATUS],\"Veteran\",Table5[ISExecutive],1))))","v":""}]
[]
[null,null,null,null,null,null,null,null,null,null,null,null,null,null,null,null,null,null,null,null,null,{"$f":"IF('IMPORTED DATA'!$O$160=\"\",\"\",'IMPORTED DATA'!$O$160)","v":""}]
[]
[]
[null,null,null,null,"Total Employees with Disabilities by EEO Code",null,null,null,"Veterans",null,null,null,null,null,null,null,null,null,null,null,null,{"$f":"IF('IMPORTED DATA'!$O$161=\"\",\"\",'IMPORTED DATA'!$O$161)","v":""}]
[null,null,{"$f":"CONCATENATE(\"FY\",RIGHT('DHRM ADMIN'!$P$15,2)-2)","v":"FY21"},{"$f":"CONCATENATE(\"FY\",RIGHT('DHRM ADMIN'!$P$15,2)-1)","v":"FY22"},{"$f":"CONCATENATE(\"FY\",RIGHT('DHRM ADMIN'!$P$15,2))","v":"FY23"},null,{"$f":"CONCATENATE(\"FY\",RIGHT('DHRM ADMIN'!$P$15,2)-2)","v":"FY21"},{"$f":"CONCATENATE(\"FY\",RIGHT('DHRM ADMIN'!$P$15,2)-1)","v":"FY22"},{"$f":"CONCATENATE(\"FY\",RIGHT('DHRM ADMIN'!$P$15,2))","v":"FY23"}]
[null,"Official or Administrator",{"$f":"IF('IMPORTED DATA'!N297<>\"\",'IMPORTED DATA'!N297,\"\")","v":""},{"$f":"IF('IMPORTED DATA'!O297<>\"\",'IMPORTED DATA'!O297,IF('IMPORTED DATA'!$B$461=0,\"\",IF(CUSTOMIZATIONS!#REF!=\"yes\",COUNTIFS(Table5[DISABILITY CODE DESCRIPTION],12,Table5[EEO CATEGORY],B300),COUNTIFS(Table5[DISABILITY CODE DESCRIPTION],\"yes\",Table5[EEO CATEGORY],B300))))","v":""},null,null,{"$f":"IF('IMPORTED DATA'!N322<>\"\",'IMPORTED DATA'!N322,\"\")","v":""},{"$f":"IF('IMPORTED DATA'!O322<>\"\",'IMPORTED DATA'!O322,IF('IMPORTED DATA'!$B$461=0,\"\",IF(CUSTOMIZATIONS!#REF!=\"yes\",COUNTIFS(Table5[VETERAN''S STATUS],\"Y\",Table5[EEO CATEGORY],B300),COUNTIFS(Table5[VETERAN''S STATUS],\"Veteran\",Table5[EEO CATEGORY],B300))))","v":""}]
[null,"Professional",{"$f":"IF('IMPORTED DATA'!N298<>\"\",'IMPORTED DATA'!N298,\"\")","v":""},{"$f":"IF('IMPORTED DATA'!O298<>\"\",'IMPORTED DATA'!O298,IF('IMPORTED DATA'!$B$461=0,\"\",IF(CUSTOMIZATIONS!#REF!=\"yes\",COUNTIFS(Table5[DISABILITY CODE DESCRIPTION],12,Table5[EEO CATEGORY],B301),COUNTIFS(Table5[DISABILITY CODE DESCRIPTION],\"yes\",Table5[EEO CATEGORY],B301))))","v":""},null,null,{"$f":"IF('IMPORTED DATA'!N323<>\"\",'IMPORTED DATA'!N323,\"\")","v":""},{"$f":"IF('IMPORTED DATA'!O323<>\"\",'IMPORTED DATA'!O323,IF('IMPORTED DATA'!$B$461=0,\"\",IF(CUSTOMIZATIONS!#REF!=\"yes\",COUNTIFS(Table5[VETERAN''S STATUS],\"Y\",Table5[EEO CATEGORY],B301),COUNTIFS(Table5[VETERAN''S STATUS],\"Veteran\",Table5[EEO CATEGORY],B301))))","v":""}]
[null,"Technician",{"$f":"IF('IMPORTED DATA'!N299<>\"\",'IMPORTED DATA'!N299,\"\")","v":""},{"$f":"IF('IMPORTED DATA'!O299<>\"\",'IMPORTED DATA'!O299,IF('IMPORTED DATA'!$B$461=0,\"\",IF(CUSTOMIZATIONS!#REF!=\"yes\",COUNTIFS(Table5[DISABILITY CODE DESCRIPTION],12,Table5[EEO CATEGORY],B302),COUNTIFS(Table5[DISABILITY CODE DESCRIPTION],\"yes\",Table5[EEO CATEGORY],B302))))","v":""},null,null,{"$f":"IF('IMPORTED DATA'!N324<>\"\",'IMPORTED DATA'!N324,\"\")","v":""},{"$f":"IF('IMPORTED DATA'!O324<>\"\",'IMPORTED DATA'!O324,IF('IMPORTED DATA'!$B$461=0,\"\",IF(CUSTOMIZATIONS!#REF!=\"yes\",COUNTIFS(Table5[VETERAN''S STATUS],\"Y\",Table5[EEO CATEGORY],B302),COUNTIFS(Table5[VETERAN''S STATUS],\"Veteran\",Table5[EEO CATEGORY],B302))))","v":""}]
[null,"Protective Service Worker",{"$f":"IF('IMPORTED DATA'!N300<>\"\",'IMPORTED DATA'!N300,\"\")","v":""},{"$f":"IF('IMPORTED DATA'!O300<>\"\",'IMPORTED DATA'!O300,IF('IMPORTED DATA'!$B$461=0,\"\",IF(CUSTOMIZATIONS!P15=\"yes\",COUNTIFS(Table5[DISABILITY CODE DESCRIPTION],12,Table5[EEO CATEGORY],B303),COUNTIFS(Table5[DISABILITY CODE DESCRIPTION],\"yes\",Table5[EEO CATEGORY],B303))))","v":""},null,null,{"$f":"IF('IMPORTED DATA'!N325<>\"\",'IMPORTED DATA'!N325,\"\")","v":""},{"$f":"IF('IMPORTED DATA'!O325<>\"\",'IMPORTED DATA'!O325,IF('IMPORTED DATA'!$B$461=0,\"\",IF(CUSTOMIZATIONS!P15=\"yes\",COUNTIFS(Table5[VETERAN''S STATUS],\"Y\",Table5[EEO CATEGORY],B303),COUNTIFS(Table5[VETERAN''S STATUS],\"Veteran\",Table5[EEO CATEGORY],B303))))","v":""}]
[null,"Paraprofessional",{"$f":"IF('IMPORTED DATA'!N301<>\"\",'IMPORTED DATA'!N301,\"\")","v":""},{"$f":"IF('IMPORTED DATA'!O301<>\"\",'IMPORTED DATA'!O301,IF('IMPORTED DATA'!$B$461=0,\"\",IF(CUSTOMIZATIONS!P16=\"yes\",COUNTIFS(Table5[DISABILITY CODE DESCRIPTION],12,Table5[EEO CATEGORY],B304),COUNTIFS(Table5[DISABILITY CODE DESCRIPTION],\"yes\",Table5[EEO CATEGORY],B304))))","v":""},null,null,{"$f":"IF('IMPORTED DATA'!N326<>\"\",'IMPORTED DATA'!N326,\"\")","v":""},{"$f":"IF('IMPORTED DATA'!O326<>\"\",'IMPORTED DATA'!O326,IF('IMPORTED DATA'!$B$461=0,\"\",IF(CUSTOMIZATIONS!P16=\"yes\",COUNTIFS(Table5[VETERAN''S STATUS],\"Y\",Table5[EEO CATEGORY],B304),COUNTIFS(Table5[VETERAN''S STATUS],\"Veteran\",Table5[EEO CATEGORY],B304))))","v":""}]
[null,"Office or Clerical",{"$f":"IF('IMPORTED DATA'!N302<>\"\",'IMPORTED DATA'!N302,\"\")","v":""},{"$f":"IF('IMPORTED DATA'!O302<>\"\",'IMPORTED DATA'!O302,IF('IMPORTED DATA'!$B$461=0,\"\",IF(CUSTOMIZATIONS!P17=\"yes\",COUNTIFS(Table5[DISABILITY CODE DESCRIPTION],12,Table5[EEO CATEGORY],B305),COUNTIFS(Table5[DISABILITY CODE DESCRIPTION],\"yes\",Table5[EEO CATEGORY],B305))))","v":""},null,null,{"$f":"IF('IMPORTED DATA'!N327<>\"\",'IMPORTED DATA'!N327,\"\")","v":""},{"$f":"IF('IMPORTED DATA'!O327<>\"\",'IMPORTED DATA'!O327,IF('IMPORTED DATA'!$B$461=0,\"\",IF(CUSTOMIZATIONS!P17=\"yes\",COUNTIFS(Table5[VETERAN''S STATUS],\"Y\",Table5[EEO CATEGORY],B305),COUNTIFS(Table5[VETERAN''S STATUS],\"Veteran\",Table5[EEO CATEGORY],B305))))","v":""}]
[null,"Skilled Craft Worker",{"$f":"IF('IMPORTED DATA'!N303<>\"\",'IMPORTED DATA'!N303,\"\")","v":""},{"$f":"IF('IMPORTED DATA'!O303<>\"\",'IMPORTED DATA'!O303,IF('IMPORTED DATA'!$B$461=0,\"\",IF(CUSTOMIZATIONS!P18=\"yes\",COUNTIFS(Table5[DISABILITY CODE DESCRIPTION],12,Table5[EEO CATEGORY],B306),COUNTIFS(Table5[DISABILITY CODE DESCRIPTION],\"yes\",Table5[EEO CATEGORY],B306))))","v":""},null,null,{"$f":"IF('IMPORTED DATA'!N328<>\"\",'IMPORTED DATA'!N328,\"\")","v":""},{"$f":"IF('IMPORTED DATA'!O328<>\"\",'IMPORTED DATA'!O328,IF('IMPORTED DATA'!$B$461=0,\"\",IF(CUSTOMIZATIONS!P18=\"yes\",COUNTIFS(Table5[VETERAN''S STATUS],\"Y\",Table5[EEO CATEGORY],B306),COUNTIFS(Table5[VETERAN''S STATUS],\"Veteran\",Table5[EEO CATEGORY],B306))))","v":""}]
[null,"Service/Maintenance",{"$f":"IF('IMPORTED DATA'!N304<>\"\",'IMPORTED DATA'!N304,\"\")","v":""},{"$f":"IF('IMPORTED DATA'!O304<>\"\",'IMPORTED DATA'!O304,IF('IMPORTED DATA'!$B$461=0,\"\",IF(CUSTOMIZATIONS!P19=\"yes\",COUNTIFS(Table5[DISABILITY CODE DESCRIPTION],12,Table5[EEO CATEGORY],B307),COUNTIFS(Table5[DISABILITY CODE DESCRIPTION],\"yes\",Table5[EEO CATEGORY],B307))))","v":""},null,null,{"$f":"IF('IMPORTED DATA'!N329<>\"\",'IMPORTED DATA'!N329,\"\")","v":""},{"$f":"IF('IMPORTED DATA'!O329<>\"\",'IMPORTED DATA'!O329,IF('IMPORTED DATA'!$B$461=0,\"\",IF(CUSTOMIZATIONS!P19=\"yes\",COUNTIFS(Table5[VETERAN''S STATUS],\"Y\",Table5[EEO CATEGORY],B307),COUNTIFS(Table5[VETERAN''S STATUS],\"Veteran\",Table5[EEO CATEGORY],B307))))","v":""},null,null,null,null,null,null,null,null,null,null,null,{"$f":"IF('IMPORTED DATA'!$O$162=\"\",\"\",'IMPORTED DATA'!$O$162)","v":""}]
[null,"Faculty",{"$f":"IF('IMPORTED DATA'!N305<>\"\",'IMPORTED DATA'!N305,\"\")","v":""},{"$f":"IF('IMPORTED DATA'!O305<>\"\",'IMPORTED DATA'!O305,IF('IMPORTED DATA'!$B$461=0,\"\",IF(CUSTOMIZATIONS!P21=\"yes\",COUNTIFS(Table5[DISABILITY CODE DESCRIPTION],12,Table5[EEO CATEGORY],B308),COUNTIFS(Table5[DISABILITY CODE DESCRIPTION],\"yes\",Table5[EEO CATEGORY],B308))))","v":""},null,null,{"$f":"IF('IMPORTED DATA'!N330<>\"\",'IMPORTED DATA'!N330,\"\")","v":""},{"$f":"IF('IMPORTED DATA'!O330<>\"\",'IMPORTED DATA'!O330,IF('IMPORTED DATA'!$B$461=0,\"\",IF(CUSTOMIZATIONS!P21=\"yes\",COUNTIFS(Table5[VETERAN''S STATUS],\"Y\",Table5[EEO CATEGORY],B308),COUNTIFS(Table5[VETERAN''S STATUS],\"Veteran\",Table5[EEO CATEGORY],B308))))","v":""}]
[null,"Other",{"$f":"IF('IMPORTED DATA'!N306<>\"\",'IMPORTED DATA'!N306,\"\")","v":""},{"$f":"IF('IMPORTED DATA'!O306<>\"\",'IMPORTED DATA'!O306,IF('IMPORTED DATA'!$B$461=0,\"\",IF(CUSTOMIZATIONS!P22=\"yes\",COUNTIFS(Table5[DISABILITY CODE DESCRIPTION],12,Table5[EEO CATEGORY],B309),COUNTIFS(Table5[DISABILITY CODE DESCRIPTION],\"yes\",Table5[EEO CATEGORY],B309))))","v":""},null,null,{"$f":"IF('IMPORTED DATA'!N331<>\"\",'IMPORTED DATA'!N331,\"\")","v":""},{"$f":"IF('IMPORTED DATA'!O331<>\"\",'IMPORTED DATA'!O331,IF('IMPORTED DATA'!$B$461=0,\"\",IF(CUSTOMIZATIONS!P22=\"yes\",COUNTIFS(Table5[VETERAN''S STATUS],\"Y\",Table5[EEO CATEGORY],B309),COUNTIFS(Table5[VETERAN''S STATUS],\"Veteran\",Table5[EEO CATEGORY],B309))))","v":""}]
[]
[]
[null,null,{"$f":"CONCATENATE(\"FY\",RIGHT('DHRM ADMIN'!$P$15,2)-2)","v":"FY21"},{"$f":"CONCATENATE(\"FY\",RIGHT('DHRM ADMIN'!$P$15,2)-1)","v":"FY22"},{"$f":"CONCATENATE(\"FY\",RIGHT('DHRM ADMIN'!$P$15,2))","v":"FY23"},null,{"$f":"CONCATENATE(\"FY\",RIGHT('DHRM ADMIN'!$P$15,2)-2)","v":"FY21"},{"$f":"CONCATENATE(\"FY\",RIGHT('DHRM ADMIN'!$P$15,2)-1)","v":"FY22"},{"$f":"CONCATENATE(\"FY\",RIGHT('DHRM ADMIN'!$P$15,2))","v":"FY23"}]
[null,{"$f":"CUSTOMIZATIONS!C28","v":0},{"$f":"IF('IMPORTED DATA'!N307<>\"\",'IMPORTED DATA'!N307,IF(AND('TRANSFORMED DATA'!$B313=\"classified\",'IMPORTED DATA'!O358<>\"\"),'IMPORTED DATA'!O358,\"\"))","v":""},{"$f":"IF('IMPORTED DATA'!O307<>\"\",'IMPORTED DATA'!O307,IF('IMPORTED DATA'!$B$461=0,\"\",IF(CUSTOMIZATIONS!P26=\"yes\",COUNTIFS(Table5[DISABILITY CODE DESCRIPTION],12,Table5[EMPLOYEE CATEGORY],B313),COUNTIFS(Table5[DISABILITY CODE DESCRIPTION],\"yes\",Table5[EMPLOYEE CATEGORY],B313))))","v":""},null,null,{"$f":"IF('IMPORTED DATA'!N332<>\"\",'IMPORTED DATA'!N332,\"\")","v":""},{"$f":"IF('IMPORTED DATA'!O332<>\"\",'IMPORTED DATA'!O332,IF('IMPORTED DATA'!$B$461=0,\"\",IF(CUSTOMIZATIONS!P26=\"yes\",COUNTIFS(Table5[VETERAN''S STATUS],\"Y\",Table5[EMPLOYEE CATEGORY],B313),COUNTIFS(Table5[VETERAN''S STATUS],\"Veteran\",Table5[EMPLOYEE CATEGORY],B313))))","v":""},null,null,null,null,null,null,null,null,null,null,null,null,null,{"$f":"IF('IMPORTED DATA'!$O$163=\"\",\"\",'IMPORTED DATA'!$O$163)","v":""}]
[null,{"$f":"CUSTOMIZATIONS!C29","v":0},{"$f":"IF('IMPORTED DATA'!N308<>\"\",'IMPORTED DATA'!N308,IF(AND('TRANSFORMED DATA'!$B314=\"classified\",'IMPORTED DATA'!O359<>\"\"),'IMPORTED DATA'!O359,\"\"))","v":""},{"$f":"IF('IMPORTED DATA'!O308<>\"\",'IMPORTED DATA'!O308,IF('IMPORTED DATA'!$B$461=0,\"\",IF(CUSTOMIZATIONS!P27=\"yes\",COUNTIFS(Table5[DISABILITY CODE DESCRIPTION],12,Table5[EMPLOYEE CATEGORY],B314),COUNTIFS(Table5[DISABILITY CODE DESCRIPTION],\"yes\",Table5[EMPLOYEE CATEGORY],B314))))","v":""},null,null,{"$f":"IF('IMPORTED DATA'!N333<>\"\",'IMPORTED DATA'!N333,\"\")","v":""},{"$f":"IF('IMPORTED DATA'!O333<>\"\",'IMPORTED DATA'!O333,IF('IMPORTED DATA'!$B$461=0,\"\",IF(CUSTOMIZATIONS!P27=\"yes\",COUNTIFS(Table5[VETERAN''S STATUS],\"Y\",Table5[EMPLOYEE CATEGORY],B314),COUNTIFS(Table5[VETERAN''S STATUS],\"Veteran\",Table5[EMPLOYEE CATEGORY],B314))))","v":""}]
[null,{"$f":"CUSTOMIZATIONS!C30","v":""},{"$f":"IF('IMPORTED DATA'!N309<>\"\",'IMPORTED DATA'!N309,IF(AND('TRANSFORMED DATA'!$B315=\"classified\",'IMPORTED DATA'!O360<>\"\"),'IMPORTED DATA'!O360,\"\"))","v":""},{"$f":"IF('IMPORTED DATA'!O309<>\"\",'IMPORTED DATA'!O309,IF('IMPORTED DATA'!$B$461=0,\"\",IF(CUSTOMIZATIONS!P28=\"yes\",COUNTIFS(Table5[DISABILITY CODE DESCRIPTION],12,Table5[EMPLOYEE CATEGORY],B315),COUNTIFS(Table5[DISABILITY CODE DESCRIPTION],\"yes\",Table5[EMPLOYEE CATEGORY],B315))))","v":""},null,null,{"$f":"IF('IMPORTED DATA'!N334<>\"\",'IMPORTED DATA'!N334,\"\")","v":""},{"$f":"IF('IMPORTED DATA'!O334<>\"\",'IMPORTED DATA'!O334,IF('IMPORTED DATA'!$B$461=0,\"\",IF(CUSTOMIZATIONS!P28=\"yes\",COUNTIFS(Table5[VETERAN''S STATUS],\"Y\",Table5[EMPLOYEE CATEGORY],B315),COUNTIFS(Table5[VETERAN''S STATUS],\"Veteran\",Table5[EMPLOYEE CATEGORY],B315))))","v":""}]
[null,{"$f":"CUSTOMIZATIONS!C31","v":""},{"$f":"IF('IMPORTED DATA'!N310<>\"\",'IMPORTED DATA'!N310,IF(AND('TRANSFORMED DATA'!$B316=\"classified\",'IMPORTED DATA'!O361<>\"\"),'IMPORTED DATA'!O361,\"\"))","v":""},{"$f":"IF('IMPORTED DATA'!O310<>\"\",'IMPORTED DATA'!O310,IF('IMPORTED DATA'!$B$461=0,\"\",IF(CUSTOMIZATIONS!P29=\"yes\",COUNTIFS(Table5[DISABILITY CODE DESCRIPTION],12,Table5[EMPLOYEE CATEGORY],B316),COUNTIFS(Table5[DISABILITY CODE DESCRIPTION],\"yes\",Table5[EMPLOYEE CATEGORY],B316))))","v":""},null,null,{"$f":"IF('IMPORTED DATA'!N335<>\"\",'IMPORTED DATA'!N335,\"\")","v":""},{"$f":"IF('IMPORTED DATA'!O335<>\"\",'IMPORTED DATA'!O335,IF('IMPORTED DATA'!$B$461=0,\"\",IF(CUSTOMIZATIONS!P29=\"yes\",COUNTIFS(Table5[VETERAN''S STATUS],\"Y\",Table5[EMPLOYEE CATEGORY],B316),COUNTIFS(Table5[VETERAN''S STATUS],\"Veteran\",Table5[EMPLOYEE CATEGORY],B316))))","v":""},null,null,null,null,null,null,null,null,null,null,null,null,null,{"$f":"IF('IMPORTED DATA'!$O$164=\"\",\"\",'IMPORTED DATA'!$O$164)","v":""}]
[null,{"$f":"CUSTOMIZATIONS!C32","v":""},{"$f":"IF('IMPORTED DATA'!N311<>\"\",'IMPORTED DATA'!N311,IF(AND('TRANSFORMED DATA'!$B317=\"classified\",'IMPORTED DATA'!O362<>\"\"),'IMPORTED DATA'!O362,\"\"))","v":""},{"$f":"IF('IMPORTED DATA'!O311<>\"\",'IMPORTED DATA'!O311,IF('IMPORTED DATA'!$B$461=0,\"\",IF(CUSTOMIZATIONS!P30=\"yes\",COUNTIFS(Table5[DISABILITY CODE DESCRIPTION],12,Table5[EMPLOYEE CATEGORY],B317),COUNTIFS(Table5[DISABILITY CODE DESCRIPTION],\"yes\",Table5[EMPLOYEE CATEGORY],B317))))","v":""},null,null,{"$f":"IF('IMPORTED DATA'!N336<>\"\",'IMPORTED DATA'!N336,\"\")","v":""},{"$f":"IF('IMPORTED DATA'!O336<>\"\",'IMPORTED DATA'!O336,IF('IMPORTED DATA'!$B$461=0,\"\",IF(CUSTOMIZATIONS!P30=\"yes\",COUNTIFS(Table5[VETERAN''S STATUS],\"Y\",Table5[EMPLOYEE CATEGORY],B317),COUNTIFS(Table5[VETERAN''S STATUS],\"Veteran\",Table5[EMPLOYEE CATEGORY],B317))))","v":""}]
[null,{"$f":"CUSTOMIZATIONS!C33","v":""},{"$f":"IF('IMPORTED DATA'!N312<>\"\",'IMPORTED DATA'!N312,IF(AND('TRANSFORMED DATA'!$B318=\"classified\",'IMPORTED DATA'!O363<>\"\"),'IMPORTED DATA'!O363,\"\"))","v":""},{"$f":"IF('IMPORTED DATA'!O312<>\"\",'IMPORTED DATA'!O312,IF('IMPORTED DATA'!$B$461=0,\"\",IF(CUSTOMIZATIONS!P31=\"yes\",COUNTIFS(Table5[DISABILITY CODE DESCRIPTION],12,Table5[EMPLOYEE CATEGORY],B318),COUNTIFS(Table5[DISABILITY CODE DESCRIPTION],\"yes\",Table5[EMPLOYEE CATEGORY],B318))))","v":""},null,null,{"$f":"IF('IMPORTED DATA'!N337<>\"\",'IMPORTED DATA'!N337,\"\")","v":""},{"$f":"IF('IMPORTED DATA'!O337<>\"\",'IMPORTED DATA'!O337,IF('IMPORTED DATA'!$B$461=0,\"\",IF(CUSTOMIZATIONS!P31=\"yes\",COUNTIFS(Table5[VETERAN''S STATUS],\"Y\",Table5[EMPLOYEE CATEGORY],B318),COUNTIFS(Table5[VETERAN''S STATUS],\"Veteran\",Table5[EMPLOYEE CATEGORY],B318))))","v":""}]
[null,{"$f":"CUSTOMIZATIONS!C34","v":""},{"$f":"IF('IMPORTED DATA'!N313<>\"\",'IMPORTED DATA'!N313,IF(AND('TRANSFORMED DATA'!$B319=\"classified\",'IMPORTED DATA'!O364<>\"\"),'IMPORTED DATA'!O364,\"\"))","v":""},{"$f":"IF('IMPORTED DATA'!O313<>\"\",'IMPORTED DATA'!O313,IF('IMPORTED DATA'!$B$461=0,\"\",IF(CUSTOMIZATIONS!P32=\"yes\",COUNTIFS(Table5[DISABILITY CODE DESCRIPTION],12,Table5[EMPLOYEE CATEGORY],B319),COUNTIFS(Table5[DISABILITY CODE DESCRIPTION],\"yes\",Table5[EMPLOYEE CATEGORY],B319))))","v":""},null,null,{"$f":"IF('IMPORTED DATA'!N338<>\"\",'IMPORTED DATA'!N338,\"\")","v":""},{"$f":"IF('IMPORTED DATA'!O338<>\"\",'IMPORTED DATA'!O338,IF('IMPORTED DATA'!$B$461=0,\"\",IF(CUSTOMIZATIONS!P32=\"yes\",COUNTIFS(Table5[VETERAN''S STATUS],\"Y\",Table5[EMPLOYEE CATEGORY],B319),COUNTIFS(Table5[VETERAN''S STATUS],\"Veteran\",Table5[EMPLOYEE CATEGORY],B319))))","v":""},null,null,null,null,null,null,null,null,null,null,null,null,null,{"$f":"IF('IMPORTED DATA'!$O$165=\"\",\"\",'IMPORTED DATA'!$O$165)","v":""}]
[null,{"$f":"CUSTOMIZATIONS!C35","v":""},{"$f":"IF('IMPORTED DATA'!N314<>\"\",'IMPORTED DATA'!N314,IF(AND('TRANSFORMED DATA'!$B320=\"classified\",'IMPORTED DATA'!O365<>\"\"),'IMPORTED DATA'!O365,\"\"))","v":""},{"$f":"IF('IMPORTED DATA'!O314<>\"\",'IMPORTED DATA'!O314,IF('IMPORTED DATA'!$B$461=0,\"\",IF(CUSTOMIZATIONS!P33=\"yes\",COUNTIFS(Table5[DISABILITY CODE DESCRIPTION],12,Table5[EMPLOYEE CATEGORY],B320),COUNTIFS(Table5[DISABILITY CODE DESCRIPTION],\"yes\",Table5[EMPLOYEE CATEGORY],B320))))","v":""},null,null,{"$f":"IF('IMPORTED DATA'!N339<>\"\",'IMPORTED DATA'!N339,\"\")","v":""},{"$f":"IF('IMPORTED DATA'!O339<>\"\",'IMPORTED DATA'!O339,IF('IMPORTED DATA'!$B$461=0,\"\",IF(CUSTOMIZATIONS!P33=\"yes\",COUNTIFS(Table5[VETERAN''S STATUS],\"Y\",Table5[EMPLOYEE CATEGORY],B320),COUNTIFS(Table5[VETERAN''S STATUS],\"Veteran\",Table5[EMPLOYEE CATEGORY],B320))))","v":""}]
[null,{"$f":"CUSTOMIZATIONS!C36","v":""},{"$f":"IF('IMPORTED DATA'!N315<>\"\",'IMPORTED DATA'!N315,IF(AND('TRANSFORMED DATA'!$B321=\"classified\",'IMPORTED DATA'!O366<>\"\"),'IMPORTED DATA'!O366,\"\"))","v":""},{"$f":"IF('IMPORTED DATA'!O315<>\"\",'IMPORTED DATA'!O315,IF('IMPORTED DATA'!$B$461=0,\"\",IF(CUSTOMIZATIONS!P34=\"yes\",COUNTIFS(Table5[DISABILITY CODE DESCRIPTION],12,Table5[EMPLOYEE CATEGORY],B321),COUNTIFS(Table5[DISABILITY CODE DESCRIPTION],\"yes\",Table5[EMPLOYEE CATEGORY],B321))))","v":""},null,null,{"$f":"IF('IMPORTED DATA'!N340<>\"\",'IMPORTED DATA'!N340,\"\")","v":""},{"$f":"IF('IMPORTED DATA'!O340<>\"\",'IMPORTED DATA'!O340,IF('IMPORTED DATA'!$B$461=0,\"\",IF(CUSTOMIZATIONS!P34=\"yes\",COUNTIFS(Table5[VETERAN''S STATUS],\"Y\",Table5[EMPLOYEE CATEGORY],B321),COUNTIFS(Table5[VETERAN''S STATUS],\"Veteran\",Table5[EMPLOYEE CATEGORY],B321))))","v":""}]
[null,{"$f":"CUSTOMIZATIONS!C37","v":""},{"$f":"IF('IMPORTED DATA'!N316<>\"\",'IMPORTED DATA'!N316,IF(AND('TRANSFORMED DATA'!$B322=\"classified\",'IMPORTED DATA'!O367<>\"\"),'IMPORTED DATA'!O367,\"\"))","v":""},{"$f":"IF('IMPORTED DATA'!O316<>\"\",'IMPORTED DATA'!O316,IF('IMPORTED DATA'!$B$461=0,\"\",IF(CUSTOMIZATIONS!P35=\"yes\",COUNTIFS(Table5[DISABILITY CODE DESCRIPTION],12,Table5[EMPLOYEE CATEGORY],B322),COUNTIFS(Table5[DISABILITY CODE DESCRIPTION],\"yes\",Table5[EMPLOYEE CATEGORY],B322))))","v":""},null,null,{"$f":"IF('IMPORTED DATA'!N341<>\"\",'IMPORTED DATA'!N341,\"\")","v":""},{"$f":"IF('IMPORTED DATA'!O341<>\"\",'IMPORTED DATA'!O341,IF('IMPORTED DATA'!$B$461=0,\"\",IF(CUSTOMIZATIONS!P35=\"yes\",COUNTIFS(Table5[VETERAN''S STATUS],\"Y\",Table5[EMPLOYEE CATEGORY],B322),COUNTIFS(Table5[VETERAN''S STATUS],\"Veteran\",Table5[EMPLOYEE CATEGORY],B322))))","v":""},null,null,null,null,null,null,null,null,null,null,null,null,null,{"$f":"IF('IMPORTED DATA'!$O$166=\"\",\"\",'IMPORTED DATA'!$O$166)","v":""}]
[null,{"$f":"CUSTOMIZATIONS!C38","v":""},{"$f":"IF('IMPORTED DATA'!N317<>\"\",'IMPORTED DATA'!N317,IF(AND('TRANSFORMED DATA'!$B323=\"classified\",'IMPORTED DATA'!O368<>\"\"),'IMPORTED DATA'!O368,\"\"))","v":""},{"$f":"IF('IMPORTED DATA'!O317<>\"\",'IMPORTED DATA'!O317,IF('IMPORTED DATA'!$B$461=0,\"\",IF(CUSTOMIZATIONS!P36=\"yes\",COUNTIFS(Table5[DISABILITY CODE DESCRIPTION],12,Table5[EMPLOYEE CATEGORY],B323),COUNTIFS(Table5[DISABILITY CODE DESCRIPTION],\"yes\",Table5[EMPLOYEE CATEGORY],B323))))","v":""},null,null,{"$f":"IF('IMPORTED DATA'!N342<>\"\",'IMPORTED DATA'!N342,\"\")","v":""},{"$f":"IF('IMPORTED DATA'!O342<>\"\",'IMPORTED DATA'!O342,IF('IMPORTED DATA'!$B$461=0,\"\",IF(CUSTOMIZATIONS!P36=\"yes\",COUNTIFS(Table5[VETERAN''S STATUS],\"Y\",Table5[EMPLOYEE CATEGORY],B323),COUNTIFS(Table5[VETERAN''S STATUS],\"Veteran\",Table5[EMPLOYEE CATEGORY],B323))))","v":""}]
[null,{"$f":"CUSTOMIZATIONS!C39","v":""},{"$f":"IF('IMPORTED DATA'!N318<>\"\",'IMPORTED DATA'!N318,IF(AND('TRANSFORMED DATA'!$B324=\"classified\",'IMPORTED DATA'!O369<>\"\"),'IMPORTED DATA'!O369,\"\"))","v":""},{"$f":"IF('IMPORTED DATA'!O318<>\"\",'IMPORTED DATA'!O318,IF('IMPORTED DATA'!$B$461=0,\"\",IF(CUSTOMIZATIONS!P37=\"yes\",COUNTIFS(Table5[DISABILITY CODE DESCRIPTION],12,Table5[EMPLOYEE CATEGORY],B324),COUNTIFS(Table5[DISABILITY CODE DESCRIPTION],\"yes\",Table5[EMPLOYEE CATEGORY],B324))))","v":""},null,null,{"$f":"IF('IMPORTED DATA'!N343<>\"\",'IMPORTED DATA'!N343,\"\")","v":""},{"$f":"IF('IMPORTED DATA'!O343<>\"\",'IMPORTED DATA'!O343,IF('IMPORTED DATA'!$B$461=0,\"\",IF(CUSTOMIZATIONS!P37=\"yes\",COUNTIFS(Table5[VETERAN''S STATUS],\"Y\",Table5[EMPLOYEE CATEGORY],B324),COUNTIFS(Table5[VETERAN''S STATUS],\"Veteran\",Table5[EMPLOYEE CATEGORY],B324))))","v":""}]
[null,{"$f":"CUSTOMIZATIONS!C40","v":""},{"$f":"IF('IMPORTED DATA'!N319<>\"\",'IMPORTED DATA'!N319,IF(AND('TRANSFORMED DATA'!$B325=\"classified\",'IMPORTED DATA'!O370<>\"\"),'IMPORTED DATA'!O370,\"\"))","v":""},{"$f":"IF('IMPORTED DATA'!O319<>\"\",'IMPORTED DATA'!O319,IF('IMPORTED DATA'!$B$461=0,\"\",IF(CUSTOMIZATIONS!P38=\"yes\",COUNTIFS(Table5[DISABILITY CODE DESCRIPTION],12,Table5[EMPLOYEE CATEGORY],B325),COUNTIFS(Table5[DISABILITY CODE DESCRIPTION],\"yes\",Table5[EMPLOYEE CATEGORY],B325))))","v":""},null,null,{"$f":"IF('IMPORTED DATA'!N344<>\"\",'IMPORTED DATA'!N344,\"\")","v":""},{"$f":"IF('IMPORTED DATA'!O344<>\"\",'IMPORTED DATA'!O344,IF('IMPORTED DATA'!$B$461=0,\"\",IF(CUSTOMIZATIONS!P38=\"yes\",COUNTIFS(Table5[VETERAN''S STATUS],\"Y\",Table5[EMPLOYEE CATEGORY],B325),COUNTIFS(Table5[VETERAN''S STATUS],\"Veteran\",Table5[EMPLOYEE CATEGORY],B325))))","v":""},null,null,null,null,null,null,null,null,null,null,null,null,null,{"$f":"IF('IMPORTED DATA'!$O$167=\"\",\"\",'IMPORTED DATA'!$O$167)","v":""}]
[null,{"$f":"CUSTOMIZATIONS!C41","v":""},{"$f":"IF('IMPORTED DATA'!N320<>\"\",'IMPORTED DATA'!N320,IF(AND('TRANSFORMED DATA'!$B326=\"classified\",'IMPORTED DATA'!O371<>\"\"),'IMPORTED DATA'!O371,\"\"))","v":""},{"$f":"IF('IMPORTED DATA'!O320<>\"\",'IMPORTED DATA'!O320,IF('IMPORTED DATA'!$B$461=0,\"\",IF(CUSTOMIZATIONS!P39=\"yes\",COUNTIFS(Table5[DISABILITY CODE DESCRIPTION],12,Table5[EMPLOYEE CATEGORY],B326),COUNTIFS(Table5[DISABILITY CODE DESCRIPTION],\"yes\",Table5[EMPLOYEE CATEGORY],B326))))","v":""},null,null,{"$f":"IF('IMPORTED DATA'!N345<>\"\",'IMPORTED DATA'!N345,\"\")","v":""},{"$f":"IF('IMPORTED DATA'!O345<>\"\",'IMPORTED DATA'!O345,IF('IMPORTED DATA'!$B$461=0,\"\",IF(CUSTOMIZATIONS!P39=\"yes\",COUNTIFS(Table5[VETERAN''S STATUS],\"Y\",Table5[EMPLOYEE CATEGORY],B326),COUNTIFS(Table5[VETERAN''S STATUS],\"Veteran\",Table5[EMPLOYEE CATEGORY],B326))))","v":""}]
[null,{"$f":"CUSTOMIZATIONS!C42","v":""},{"$f":"IF('IMPORTED DATA'!N321<>\"\",'IMPORTED DATA'!N321,IF(AND('TRANSFORMED DATA'!$B327=\"classified\",'IMPORTED DATA'!O372<>\"\"),'IMPORTED DATA'!O372,\"\"))","v":""},{"$f":"IF('IMPORTED DATA'!O321<>\"\",'IMPORTED DATA'!O321,IF('IMPORTED DATA'!$B$461=0,\"\",IF(CUSTOMIZATIONS!P40=\"yes\",COUNTIFS(Table5[DISABILITY CODE DESCRIPTION],12,Table5[EMPLOYEE CATEGORY],B327),COUNTIFS(Table5[DISABILITY CODE DESCRIPTION],\"yes\",Table5[EMPLOYEE CATEGORY],B327))))","v":""},null,null,{"$f":"IF('IMPORTED DATA'!N346<>\"\",'IMPORTED DATA'!N346,\"\")","v":""},{"$f":"IF('IMPORTED DATA'!O346<>\"\",'IMPORTED DATA'!O346,IF('IMPORTED DATA'!$B$461=0,\"\",IF(CUSTOMIZATIONS!P40=\"yes\",COUNTIFS(Table5[VETERAN''S STATUS],\"Y\",Table5[EMPLOYEE CATEGORY],B327),COUNTIFS(Table5[VETERAN''S STATUS],\"Veteran\",Table5[EMPLOYEE CATEGORY],B327))))","v":""}]
[]
[]
[]
[null,null,{"$f":"'IMPORTED DATA'!B156","v":"00:00:00"},null,null,null,null,null,null,null,null,{"$f":"'IMPORTED DATA'!C156","v":0}]
[null,null,{"$f":"'IMPORTED DATA'!B157","v":"00:00:00"},null,null,null,null,null,null,null,null,{"$f":"'IMPORTED DATA'!C157","v":0}]
[null,null,{"$f":"'IMPORTED DATA'!B158","v":"00:00:00"},null,null,null,null,null,null,null,null,{"$f":"'IMPORTED DATA'!C158","v":0}]
[null,null,{"$f":"'IMPORTED DATA'!B159","v":"00:00:00"},null,null,null,null,null,null,null,null,{"$f":"'IMPORTED DATA'!C159","v":0},null,null,null,null,null,null,null,{"$f":"IF('IMPORTED DATA'!$O$168=\"\",\"\",'IMPORTED DATA'!$O$168)","v":""}]
[null,null,{"$f":"'IMPORTED DATA'!B160","v":"00:00:00"},null,null,null,null,null,null,null,null,{"$f":"'IMPORTED DATA'!C160","v":0}]
[null,null,{"$f":"'IMPORTED DATA'!B161","v":"00:00:00"},null,null,null,null,null,null,null,null,{"$f":"'IMPORTED DATA'!C161","v":0}]
[]
[]
[]
[null,null,null,null,null,null,null,null,null,null,null,null,null,null,null,null,null,null,null,null,null,{"$f":"IF('IMPORTED DATA'!$O$169=\"\",\"\",'IMPORTED DATA'!$O$169)","v":""}]
[]
[]
[null,null,null,null,null,null,null,null,null,null,null,null,null,null,null,null,null,null,null,null,null,{"$f":"IF('IMPORTED DATA'!$O$170=\"\",\"\",'IMPORTED DATA'!$O$170)","v":""}]
[]
[]
[null,null,null,null,null,null,null,null,null,null,null,null,null,null,null,null,null,null,null,null,null,{"$f":"IF('IMPORTED DATA'!$O$171=\"\",\"\",'IMPORTED DATA'!$O$171)","v":""}]
[]
[]
[null,null,null,null,null,null,null,null,null,null,null,null,null,null,null,null,null,null,null,null,null,{"$f":"IF('IMPORTED DATA'!$O$172=\"\",\"\",'IMPORTED DATA'!$O$172)","v":""}]
[]
[]
[null,null,null,null,null,null,null,null,null,null,null,null,null,null,null,null,null,null,null,null,null,{"$f":"IF('IMPORTED DATA'!$O$173=\"\",\"\",'IMPORTED DATA'!$O$173)","v":""}]
[]
[]
[]
[]
[]
[]
[]
[]
[null,null,null,null,null,null,null,null,null,null,null,null,null,null,null,null,null,null,null,{"$f":"IF('IMPORTED DATA'!$O$174=\"\",\"\",'IMPORTED DATA'!$O$174)","v":""}]
[]
[]
[]
[]
[]
[null,null,null,null,null,null,null,null,null,null,null,null,null,null,null,null,null,null,null,null,null,{"$f":"IF('IMPORTED DATA'!$O$175=\"\",\"\",'IMPORTED DATA'!$O$175)","v":""}]
[]
[]
[null,null,null,null,null,null,null,null,null,null,null,null,null,null,null,null,null,null,null,null,null,{"$f":"IF('IMPORTED DATA'!$O$176=\"\",\"\",'IMPORTED DATA'!$O$176)","v":""}]
[]
[]
[null,null,null,null,null,null,null,null,null,null,null,null,null,null,null,null,null,null,null,null,null,{"$f":"IF('IMPORTED DATA'!$O$177=\"\",\"\",'IMPORTED DATA'!$O$177)","v":""}]
[]
[]
[null,null,null,null,null,null,null,null,null,null,null,null,null,null,null,null,null,null,null,null,null,{"$f":"IF('IMPORTED DATA'!$O$178=\"\",\"\",'IMPORTED DATA'!$O$178)","v":""}]
[]
[]
[null,null,null,null,null,null,null,null,null,null,null,null,null,null,null,null,null,null,null,null,null,{"$f":"IF('IMPORTED DATA'!$O$179=\"\",\"\",'IMPORTED DATA'!$O$179)","v":""}]
[]
[]
[]
[]
[]
[]
[]
[]
[null,null,null,null,null,null,null,null,null,null,null,null,null,null,null,null,null,null,null,{"$f":"IF('IMPORTED DATA'!$O$180=\"\",\"\",'IMPORTED DATA'!$O$180)","v":""}]
[]
[]
[]
[]
[]
[null,null,null,null,null,null,null,null,null,null,null,null,null,null,null,null,null,null,null,null,null,{"$f":"IF('IMPORTED DATA'!$O$181=\"\",\"\",'IMPORTED DATA'!$O$181)","v":""}]
[]
[]
[null,null,null,null,null,null,null,null,null,null,null,null,null,null,null,null,null,null,null,null,null,{"$f":"IF('IMPORTED DATA'!$O$182=\"\",\"\",'IMPORTED DATA'!$O$182)","v":""}]
[]
[]
[null,null,null,null,null,null,null,null,null,null,null,null,null,null,null,null,null,null,null,null,null,{"$f":"IF('IMPORTED DATA'!$O$183=\"\",\"\",'IMPORTED DATA'!$O$183)","v":""}]
[]
[]
[null,null,null,null,null,null,null,null,null,null,null,null,null,null,null,null,null,null,null,null,null,{"$f":"IF('IMPORTED DATA'!$O$184=\"\",\"\",'IMPORTED DATA'!$O$184)","v":""}]
[]
[]
[null,null,null,null,null,null,null,null,null,null,null,null,null,null,null,null,null,null,null,null,null,{"$f":"IF('IMPORTED DATA'!$O$185=\"\",\"\",'IMPORTED DATA'!$O$185)","v":""}]

{"sheet":"DATA EXPORT","index":14,"n_rows":346,"n_cols":16,"rows_kept":346,"cut":false,"hidden":true,"merged":[[5,2,7,14],[8,2,9,14]]}
[]
[]
[]
[]
[]
[null,null,"DATA EXPORT"]
[]
[]
[null,null,"The Data Export tab compilies information on this tool to be imported into other tools or templates."]
[]
[]
[null,null,null,null,null,null,null,null,null,null,null,null,null,{"$f":"CONCATENATE(\"FY\",RIGHT('DHRM ADMIN'!$P$15,2)-2)","v":"FY21"},{"$f":"CONCATENATE(\"FY\",RIGHT('DHRM ADMIN'!$P$15,2)-1)","v":"FY22"},{"$f":"CONCATENATE(\"FY\",RIGHT('DHRM ADMIN'!$P$15,2))","v":"FY23"}]
[null,"Classifications","Descirption","Executive Team Position #","Workign Title","Degree of Sep","Appointed","Age","YOS","And/OR","Age+YOS",null,"Is the Agency current using the Cardinal Human Capital Management System?"]
[null,{"$f":"IF(CUSTOMIZATIONS!C28=\"\",\"\",CUSTOMIZATIONS!C28)","v":""},{"$f":"IF(CUSTOMIZATIONS!G28=\"\",\"\",CUSTOMIZATIONS!G28)","v":""},{"$f":"IF(CUSTOMIZATIONS!C70=\"\",\"\",CUSTOMIZATIONS!C70)","v":""},{"$f":"IF(CUSTOMIZATIONS!E70=\"\",\"\",CUSTOMIZATIONS!E70)","v":""},{"$f":"IF(CUSTOMIZATIONS!L70=\"\",\"\",CUSTOMIZATIONS!L70)","v":""},{"$f":"IF(CUSTOMIZATIONS!O70=\"\",\"\",CUSTOMIZATIONS!O70)","v":""},null,null,null,null,null,"Does the Agency utilize its own HRIS (Not PMIS or Cardinal)?"]
[null,{"$f":"IF(CUSTOMIZATIONS!C29=\"\",\"\",CUSTOMIZATIONS!C29)","v":""},{"$f":"IF(CUSTOMIZATIONS!G29=\"\",\"\",CUSTOMIZATIONS!G29)","v":""},{"$f":"IF(CUSTOMIZATIONS!C71=\"\",\"\",CUSTOMIZATIONS!C71)","v":""},{"$f":"IF(CUSTOMIZATIONS!E71=\"\",\"\",CUSTOMIZATIONS!E71)","v":""},{"$f":"IF(CUSTOMIZATIONS!L71=\"\",\"\",CUSTOMIZATIONS!L71)","v":""},{"$f":"IF(CUSTOMIZATIONS!O71=\"\",\"\",CUSTOMIZATIONS!O71)","v":""},null,null,null,null,null,"Executive Team Description",null,null,{"$f":"IF(CUSTOMIZATIONS!E61=\"\",\"\",CUSTOMIZATIONS!E61)","v":""}]
[null,{"$f":"IF(CUSTOMIZATIONS!C30=\"\",\"\",CUSTOMIZATIONS!C30)","v":""},{"$f":"IF(CUSTOMIZATIONS!G30=\"\",\"\",CUSTOMIZATIONS!G30)","v":""},{"$f":"IF(CUSTOMIZATIONS!C72=\"\",\"\",CUSTOMIZATIONS!C72)","v":""},{"$f":"IF(CUSTOMIZATIONS!E72=\"\",\"\",CUSTOMIZATIONS!E72)","v":""},{"$f":"IF(CUSTOMIZATIONS!L72=\"\",\"\",CUSTOMIZATIONS!L72)","v":""},{"$f":"IF(CUSTOMIZATIONS!O72=\"\",\"\",CUSTOMIZATIONS!O72)","v":""},null,null,null,null,null,"Agency Name",null,null,{"$f":"IF('AGENCY DETAILS'!J26=\"\",\"\",'AGENCY DETAILS'!J26)","v":""}]
[null,{"$f":"IF(CUSTOMIZATIONS!C31=\"\",\"\",CUSTOMIZATIONS!C31)","v":""},{"$f":"IF(CUSTOMIZATIONS!G31=\"\",\"\",CUSTOMIZATIONS!G31)","v":""},{"$f":"IF(CUSTOMIZATIONS!C73=\"\",\"\",CUSTOMIZATIONS!C73)","v":""},{"$f":"IF(CUSTOMIZATIONS!E73=\"\",\"\",CUSTOMIZATIONS!E73)","v":""},{"$f":"IF(CUSTOMIZATIONS!L73=\"\",\"\",CUSTOMIZATIONS!L73)","v":""},{"$f":"IF(CUSTOMIZATIONS!O73=\"\",\"\",CUSTOMIZATIONS!O73)","v":""},null,null,null,null,null,"Secretariate",null,null,{"$f":"IF('AGENCY DETAILS'!J27=\"\",\"\",'AGENCY DETAILS'!J27)","v":""}]
[null,{"$f":"IF(CUSTOMIZATIONS!C32=\"\",\"\",CUSTOMIZATIONS!C32)","v":""},{"$f":"IF(CUSTOMIZATIONS!G32=\"\",\"\",CUSTOMIZATIONS!G32)","v":""},{"$f":"IF(CUSTOMIZATIONS!C74=\"\",\"\",CUSTOMIZATIONS!C74)","v":""},{"$f":"IF(CUSTOMIZATIONS!E74=\"\",\"\",CUSTOMIZATIONS!E74)","v":""},{"$f":"IF(CUSTOMIZATIONS!L74=\"\",\"\",CUSTOMIZATIONS!L74)","v":""},{"$f":"IF(CUSTOMIZATIONS!O74=\"\",\"\",CUSTOMIZATIONS!O74)","v":""},null,null,null,null,null,"Number",null,null,{"$f":"IF('AGENCY DETAILS'!P28=\"\",\"\",'AGENCY DETAILS'!P28)","v":""}]
[null,{"$f":"IF(CUSTOMIZATIONS!C33=\"\",\"\",CUSTOMIZATIONS!C33)","v":""},{"$f":"IF(CUSTOMIZATIONS!G33=\"\",\"\",CUSTOMIZATIONS!G33)","v":""},{"$f":"IF(CUSTOMIZATIONS!C75=\"\",\"\",CUSTOMIZATIONS!C75)","v":""},{"$f":"IF(CUSTOMIZATIONS!E75=\"\",\"\",CUSTOMIZATIONS!E75)","v":""},{"$f":"IF(CUSTOMIZATIONS!L75=\"\",\"\",CUSTOMIZATIONS!L75)","v":""},{"$f":"IF(CUSTOMIZATIONS!O75=\"\",\"\",CUSTOMIZATIONS!O75)","v":""},null,null,null,null,null,"Agency Mission",null,null,{"$f":"IF('AGENCY DETAILS'!E46=\"\",\"\",'AGENCY DETAILS'!E46)","v":""}]
[null,{"$f":"IF(CUSTOMIZATIONS!C34=\"\",\"\",CUSTOMIZATIONS!C34)","v":""},{"$f":"IF(CUSTOMIZATIONS!G34=\"\",\"\",CUSTOMIZATIONS!G34)","v":""},{"$f":"IF(CUSTOMIZATIONS!C76=\"\",\"\",CUSTOMIZATIONS!C76)","v":""},{"$f":"IF(CUSTOMIZATIONS!E76=\"\",\"\",CUSTOMIZATIONS!E76)","v":""},{"$f":"IF(CUSTOMIZATIONS!L76=\"\",\"\",CUSTOMIZATIONS!L76)","v":""},{"$f":"IF(CUSTOMIZATIONS!O76=\"\",\"\",CUSTOMIZATIONS!O76)","v":""},null,null,null,null,null,"MEL",{"$f":"IF('AGENCY DETAILS'!N148=\"\",\"\",'AGENCY DETAILS'!N148)","v":""},{"$f":"IF('AGENCY DETAILS'!O148=\"\",\"\",'AGENCY DETAILS'!O148)","v":""},{"$f":"IF('AGENCY DETAILS'!P148=\"\",\"\",'AGENCY DETAILS'!P148)","v":""}]
[null,{"$f":"IF(CUSTOMIZATIONS!C35=\"\",\"\",CUSTOMIZATIONS!C35)","v":""},{"$f":"IF(CUSTOMIZATIONS!G35=\"\",\"\",CUSTOMIZATIONS!G35)","v":""},{"$f":"IF(CUSTOMIZATIONS!C77=\"\",\"\",CUSTOMIZATIONS!C77)","v":""},{"$f":"IF(CUSTOMIZATIONS!E77=\"\",\"\",CUSTOMIZATIONS!E77)","v":""},{"$f":"IF(CUSTOMIZATIONS!L77=\"\",\"\",CUSTOMIZATIONS!L77)","v":""},{"$f":"IF(CUSTOMIZATIONS!O77=\"\",\"\",CUSTOMIZATIONS!O77)","v":""},null,null,null,null,null,"Total Positions with EEO Code \"Officials and Administrators\"",{"$f":"IF('AGENCY DETAILS'!N157=\"\",\"\",'AGENCY DETAILS'!N157)","v":""},{"$f":"IF('AGENCY DETAILS'!O157=\"\",\"\",'AGENCY DETAILS'!O157)","v":""},{"$f":"IF('AGENCY DETAILS'!P157=\"\",\"\",'AGENCY DETAILS'!P157)","v":""}]
[null,{"$f":"IF(CUSTOMIZATIONS!C36=\"\",\"\",CUSTOMIZATIONS!C36)","v":""},{"$f":"IF(CUSTOMIZATIONS!G36=\"\",\"\",CUSTOMIZATIONS!G36)","v":""},{"$f":"IF(CUSTOMIZATIONS!C78=\"\",\"\",CUSTOMIZATIONS!C78)","v":""},{"$f":"IF(CUSTOMIZATIONS!E78=\"\",\"\",CUSTOMIZATIONS!E78)","v":""},{"$f":"IF(CUSTOMIZATIONS!L78=\"\",\"\",CUSTOMIZATIONS!L78)","v":""},{"$f":"IF(CUSTOMIZATIONS!O78=\"\",\"\",CUSTOMIZATIONS!O78)","v":""},null,null,null,null,null,"Total Positions with EEO Code \"Professionals\"",{"$f":"IF('AGENCY DETAILS'!N158=\"\",\"\",'AGENCY DETAILS'!N158)","v":""},{"$f":"IF('AGENCY DETAILS'!O158=\"\",\"\",'AGENCY DETAILS'!O158)","v":""},{"$f":"IF('AGENCY DETAILS'!P158=\"\",\"\",'AGENCY DETAILS'!P158)","v":""}]
[null,{"$f":"IF(CUSTOMIZATIONS!C37=\"\",\"\",CUSTOMIZATIONS!C37)","v":""},{"$f":"IF(CUSTOMIZATIONS!G37=\"\",\"\",CUSTOMIZATIONS!G37)","v":""},{"$f":"IF(CUSTOMIZATIONS!C79=\"\",\"\",CUSTOMIZATIONS!C79)","v":""},{"$f":"IF(CUSTOMIZATIONS!E79=\"\",\"\",CUSTOMIZATIONS!E79)","v":""},{"$f":"IF(CUSTOMIZATIONS!L79=\"\",\"\",CUSTOMIZATIONS!L79)","v":""},{"$f":"IF(CUSTOMIZATIONS!O79=\"\",\"\",CUSTOMIZATIONS!O79)","v":""},null,null,null,null,null,"Total Positions with EEO Code \"Technicians\"",{"$f":"IF('AGENCY DETAILS'!N159=\"\",\"\",'AGENCY DETAILS'!N159)","v":""},{"$f":"IF('AGENCY DETAILS'!O159=\"\",\"\",'AGENCY DETAILS'!O159)","v":""},{"$f":"IF('AGENCY DETAILS'!P159=\"\",\"\",'AGENCY DETAILS'!P159)","v":""}]
[null,{"$f":"IF(CUSTOMIZATIONS!C38=\"\",\"\",CUSTOMIZATIONS!C38)","v":""},{"$f":"IF(CUSTOMIZATIONS!G38=\"\",\"\",CUSTOMIZATIONS!G38)","v":""},{"$f":"IF(CUSTOMIZATIONS!C80=\"\",\"\",CUSTOMIZATIONS!C80)","v":""},{"$f":"IF(CUSTOMIZATIONS!E80=\"\",\"\",CUSTOMIZATIONS!E80)","v":""},{"$f":"IF(CUSTOMIZATIONS!L80=\"\",\"\",CUSTOMIZATIONS!L80)","v":""},{"$f":"IF(CUSTOMIZATIONS!O80=\"\",\"\",CUSTOMIZATIONS!O80)","v":""},null,null,null,null,null,"Total Positions with EEO Code \"Protective Service Workers\"",{"$f":"IF('AGENCY DETAILS'!N160=\"\",\"\",'AGENCY DETAILS'!N160)","v":""},{"$f":"IF('AGENCY DETAILS'!O160=\"\",\"\",'AGENCY DETAILS'!O160)","v":""},{"$f":"IF('AGENCY DETAILS'!P160=\"\",\"\",'AGENCY DETAILS'!P160)","v":""}]
[null,{"$f":"IF(CUSTOMIZATIONS!C39=\"\",\"\",CUSTOMIZATIONS!C39)","v":""},{"$f":"IF(CUSTOMIZATIONS!G39=\"\",\"\",CUSTOMIZATIONS!G39)","v":""},{"$f":"IF(CUSTOMIZATIONS!C81=\"\",\"\",CUSTOMIZATIONS!C81)","v":""},{"$f":"IF(CUSTOMIZATIONS!E81=\"\",\"\",CUSTOMIZATIONS!E81)","v":""},{"$f":"IF(CUSTOMIZATIONS!L81=\"\",\"\",CUSTOMIZATIONS!L81)","v":""},{"$f":"IF(CUSTOMIZATIONS!O81=\"\",\"\",CUSTOMIZATIONS!O81)","v":""},null,null,null,null,null,"Total Positions with EEO Code \"Paraprofessionals\"",{"$f":"IF('AGENCY DETAILS'!N161=\"\",\"\",'AGENCY DETAILS'!N161)","v":""},{"$f":"IF('AGENCY DETAILS'!O161=\"\",\"\",'AGENCY DETAILS'!O161)","v":""},{"$f":"IF('AGENCY DETAILS'!P161=\"\",\"\",'AGENCY DETAILS'!P161)","v":""}]
[null,{"$f":"IF(CUSTOMIZATIONS!C40=\"\",\"\",CUSTOMIZATIONS!C40)","v":""},{"$f":"IF(CUSTOMIZATIONS!G40=\"\",\"\",CUSTOMIZATIONS!G40)","v":""},{"$f":"IF(CUSTOMIZATIONS!C82=\"\",\"\",CUSTOMIZATIONS!C82)","v":""},{"$f":"IF(CUSTOMIZATIONS!E82=\"\",\"\",CUSTOMIZATIONS!E82)","v":""},{"$f":"IF(CUSTOMIZATIONS!L82=\"\",\"\",CUSTOMIZATIONS!L82)","v":""},{"$f":"IF(CUSTOMIZATIONS!O82=\"\",\"\",CUSTOMIZATIONS!O82)","v":""},null,null,null,null,null,"Total Positions with EEO Code \"Administrative Support\"",{"$f":"IF('AGENCY DETAILS'!N162=\"\",\"\",'AGENCY DETAILS'!N162)","v":""},{"$f":"IF('AGENCY DETAILS'!O162=\"\",\"\",'AGENCY DETAILS'!O162)","v":""},{"$f":"IF('AGENCY DETAILS'!P162=\"\",\"\",'AGENCY DETAILS'!P162)","v":""}]
[null,{"$f":"IF(CUSTOMIZATIONS!C41=\"\",\"\",CUSTOMIZATIONS!C41)","v":""},{"$f":"IF(CUSTOMIZATIONS!G41=\"\",\"\",CUSTOMIZATIONS!G41)","v":""},{"$f":"IF(CUSTOMIZATIONS!C83=\"\",\"\",CUSTOMIZATIONS!C83)","v":""},{"$f":"IF(CUSTOMIZATIONS!E83=\"\",\"\",CUSTOMIZATIONS!E83)","v":""},{"$f":"IF(CUSTOMIZATIONS!L83=\"\",\"\",CUSTOMIZATIONS!L83)","v":""},{"$f":"IF(CUSTOMIZATIONS!O83=\"\",\"\",CUSTOMIZATIONS!O83)","v":""},null,null,null,null,null,"Total Positions with EEO Code \"Skilled Craft Workers\"",{"$f":"IF('AGENCY DETAILS'!N163=\"\",\"\",'AGENCY DETAILS'!N163)","v":""},{"$f":"IF('AGENCY DETAILS'!O163=\"\",\"\",'AGENCY DETAILS'!O163)","v":""},{"$f":"IF('AGENCY DETAILS'!P163=\"\",\"\",'AGENCY DETAILS'!P163)","v":""}]
[null,{"$f":"IF(CUSTOMIZATIONS!C42=\"\",\"\",CUSTOMIZATIONS!C42)","v":""},{"$f":"IF(CUSTOMIZATIONS!G42=\"\",\"\",CUSTOMIZATIONS!G42)","v":""},{"$f":"IF(CUSTOMIZATIONS!C84=\"\",\"\",CUSTOMIZATIONS!C84)","v":""},{"$f":"IF(CUSTOMIZATIONS!E84=\"\",\"\",CUSTOMIZATIONS!E84)","v":""},{"$f":"IF(CUSTOMIZATIONS!L84=\"\",\"\",CUSTOMIZATIONS!L84)","v":""},{"$f":"IF(CUSTOMIZATIONS!O84=\"\",\"\",CUSTOMIZATIONS!O84)","v":""},null,null,null,null,null,"Total Positions with EEO Code \"Service/Maintenance\"",{"$f":"IF('AGENCY DETAILS'!N164=\"\",\"\",'AGENCY DETAILS'!N164)","v":""},{"$f":"IF('AGENCY DETAILS'!O164=\"\",\"\",'AGENCY DETAILS'!O164)","v":""},{"$f":"IF('AGENCY DETAILS'!P164=\"\",\"\",'AGENCY DETAILS'!P164)","v":""}]
[null,null,null,{"$f":"IF(CUSTOMIZATIONS!C85=\"\",\"\",CUSTOMIZATIONS!C85)","v":""},{"$f":"IF(CUSTOMIZATIONS!E85=\"\",\"\",CUSTOMIZATIONS!E85)","v":""},{"$f":"IF(CUSTOMIZATIONS!L85=\"\",\"\",CUSTOMIZATIONS!L85)","v":""},{"$f":"IF(CUSTOMIZATIONS!O85=\"\",\"\",CUSTOMIZATIONS!O85)","v":""},null,null,null,null,null,"Total Positions with EEO Code \"Faculty\"",{"$f":"IF('AGENCY DETAILS'!N165=\"\",\"\",'AGENCY DETAILS'!N165)","v":""},{"$f":"IF('AGENCY DETAILS'!O165=\"\",\"\",'AGENCY DETAILS'!O165)","v":""},{"$f":"IF('AGENCY DETAILS'!P165=\"\",\"\",'AGENCY DETAILS'!P165)","v":""}]
[null,null,null,{"$f":"IF(CUSTOMIZATIONS!C86=\"\",\"\",CUSTOMIZATIONS!C86)","v":""},{"$f":"IF(CUSTOMIZATIONS!E86=\"\",\"\",CUSTOMIZATIONS!E86)","v":""},{"$f":"IF(CUSTOMIZATIONS!L86=\"\",\"\",CUSTOMIZATIONS!L86)","v":""},{"$f":"IF(CUSTOMIZATIONS!O86=\"\",\"\",CUSTOMIZATIONS!O86)","v":""},null,null,null,null,null,"Total Positions with EEO Code \"Other\"",{"$f":"IF('AGENCY DETAILS'!N166=\"\",\"\",'AGENCY DETAILS'!N166)","v":""},{"$f":"IF('AGENCY DETAILS'!O166=\"\",\"\",'AGENCY DETAILS'!O166)","v":""},{"$f":"IF('AGENCY DETAILS'!P166=\"\",\"\",'AGENCY DETAILS'!P166)","v":""}]
[null,null,null,{"$f":"IF(CUSTOMIZATIONS!C87=\"\",\"\",CUSTOMIZATIONS!C87)","v":""},{"$f":"IF(CUSTOMIZATIONS!E87=\"\",\"\",CUSTOMIZATIONS!E87)","v":""},{"$f":"IF(CUSTOMIZATIONS!L87=\"\",\"\",CUSTOMIZATIONS!L87)","v":""},{"$f":"IF(CUSTOMIZATIONS!O87=\"\",\"\",CUSTOMIZATIONS!O87)","v":""},null,null,null,null,null,{"$f":"'AGENCY DETAILS'!M170","v":"Total  Positions"},{"$f":"IF('AGENCY DETAILS'!N170=\"\",\"\",'AGENCY DETAILS'!N170)","v":""},{"$f":"IF('AGENCY DETAILS'!O170=\"\",\"\",'AGENCY DETAILS'!O170)","v":""},{"$f":"IF('AGENCY DETAILS'!P170=\"\",\"\",'AGENCY DETAILS'!P170)","v":""}]
[null,null,null,{"$f":"IF(CUSTOMIZATIONS!C88=\"\",\"\",CUSTOMIZATIONS!C88)","v":""},{"$f":"IF(CUSTOMIZATIONS!E88=\"\",\"\",CUSTOMIZATIONS!E88)","v":""},{"$f":"IF(CUSTOMIZATIONS!L88=\"\",\"\",CUSTOMIZATIONS!L88)","v":""},{"$f":"IF(CUSTOMIZATIONS!O88=\"\",\"\",CUSTOMIZATIONS!O88)","v":""},null,null,null,null,null,{"$f":"'AGENCY DETAILS'!M171","v":"Total  Positions"},{"$f":"IF('AGENCY DETAILS'!N171=\"\",\"\",'AGENCY DETAILS'!N171)","v":""},{"$f":"IF('AGENCY DETAILS'!O171=\"\",\"\",'AGENCY DETAILS'!O171)","v":""},{"$f":"IF('AGENCY DETAILS'!P171=\"\",\"\",'AGENCY DETAILS'!P171)","v":""}]
[null,null,null,{"$f":"IF(CUSTOMIZATIONS!C89=\"\",\"\",CUSTOMIZATIONS!C89)","v":""},{"$f":"IF(CUSTOMIZATIONS!E89=\"\",\"\",CUSTOMIZATIONS!E89)","v":""},{"$f":"IF(CUSTOMIZATIONS!L89=\"\",\"\",CUSTOMIZATIONS!L89)","v":""},{"$f":"IF(CUSTOMIZATIONS!O89=\"\",\"\",CUSTOMIZATIONS!O89)","v":""},null,null,null,null,null,{"$f":"'AGENCY DETAILS'!M172","v":"Total  Positions"},{"$f":"IF('AGENCY DETAILS'!N172=\"\",\"\",'AGENCY DETAILS'!N172)","v":""},{"$f":"IF('AGENCY DETAILS'!O172=\"\",\"\",'AGENCY DETAILS'!O172)","v":""},{"$f":"IF('AGENCY DETAILS'!P172=\"\",\"\",'AGENCY DETAILS'!P172)","v":""}]
[null,null,null,{"$f":"IF(CUSTOMIZATIONS!C90=\"\",\"\",CUSTOMIZATIONS!C90)","v":""},{"$f":"IF(CUSTOMIZATIONS!E90=\"\",\"\",CUSTOMIZATIONS!E90)","v":""},{"$f":"IF(CUSTOMIZATIONS!L90=\"\",\"\",CUSTOMIZATIONS!L90)","v":""},{"$f":"IF(CUSTOMIZATIONS!O90=\"\",\"\",CUSTOMIZATIONS!O90)","v":""},null,null,null,null,null,{"$f":"'AGENCY DETAILS'!M173","v":"Total  Positions"},{"$f":"IF('AGENCY DETAILS'!N173=\"\",\"\",'AGENCY DETAILS'!N173)","v":""},{"$f":"IF('AGENCY DETAILS'!O173=\"\",\"\",'AGENCY DETAILS'!O173)","v":""},{"$f":"IF('AGENCY DETAILS'!P173=\"\",\"\",'AGENCY DETAILS'!P173)","v":""}]
[null,null,null,{"$f":"IF(CUSTOMIZATIONS!C91=\"\",\"\",CUSTOMIZATIONS!C91)","v":""},{"$f":"IF(CUSTOMIZATIONS!E91=\"\",\"\",CUSTOMIZATIONS!E91)","v":""},{"$f":"IF(CUSTOMIZATIONS!L91=\"\",\"\",CUSTOMIZATIONS!L91)","v":""},{"$f":"IF(CUSTOMIZATIONS!O91=\"\",\"\",CUSTOMIZATIONS!O91)","v":""},null,null,null,null,null,{"$f":"'AGENCY DETAILS'!M174","v":"Total  Positions"},{"$f":"IF('AGENCY DETAILS'!N174=\"\",\"\",'AGENCY DETAILS'!N174)","v":""},{"$f":"IF('AGENCY DETAILS'!O174=\"\",\"\",'AGENCY DETAILS'!O174)","v":""},{"$f":"IF('AGENCY DETAILS'!P174=\"\",\"\",'AGENCY DETAILS'!P174)","v":""}]
[null,null,null,{"$f":"IF(CUSTOMIZATIONS!C92=\"\",\"\",CUSTOMIZATIONS!C92)","v":""},{"$f":"IF(CUSTOMIZATIONS!E92=\"\",\"\",CUSTOMIZATIONS!E92)","v":""},{"$f":"IF(CUSTOMIZATIONS!L92=\"\",\"\",CUSTOMIZATIONS!L92)","v":""},{"$f":"IF(CUSTOMIZATIONS!O92=\"\",\"\",CUSTOMIZATIONS!O92)","v":""},null,null,null,null,null,{"$f":"'AGENCY DETAILS'!M175","v":"Total  Positions"},{"$f":"IF('AGENCY DETAILS'!N175=\"\",\"\",'AGENCY DETAILS'!N175)","v":""},{"$f":"IF('AGENCY DETAILS'!O175=\"\",\"\",'AGENCY DETAILS'!O175)","v":""},{"$f":"IF('AGENCY DETAILS'!P175=\"\",\"\",'AGENCY DETAILS'!P175)","v":""}]
[null,null,null,{"$f":"IF(CUSTOMIZATIONS!C93=\"\",\"\",CUSTOMIZATIONS!C93)","v":""},{"$f":"IF(CUSTOMIZATIONS!E93=\"\",\"\",CUSTOMIZATIONS!E93)","v":""},{"$f":"IF(CUSTOMIZATIONS!L93=\"\",\"\",CUSTOMIZATIONS!L93)","v":""},{"$f":"IF(CUSTOMIZATIONS!O93=\"\",\"\",CUSTOMIZATIONS!O93)","v":""},null,null,null,null,null,{"$f":"'AGENCY DETAILS'!M176","v":"Total  Positions"},{"$f":"IF('AGENCY DETAILS'!N176=\"\",\"\",'AGENCY DETAILS'!N176)","v":""},{"$f":"IF('AGENCY DETAILS'!O176=\"\",\"\",'AGENCY DETAILS'!O176)","v":""},{"$f":"IF('AGENCY DETAILS'!P176=\"\",\"\",'AGENCY DETAILS'!P176)","v":""}]
[null,null,null,{"$f":"IF(CUSTOMIZATIONS!C94=\"\",\"\",CUSTOMIZATIONS!C94)","v":""},{"$f":"IF(CUSTOMIZATIONS!E94=\"\",\"\",CUSTOMIZATIONS!E94)","v":""},{"$f":"IF(CUSTOMIZATIONS!L94=\"\",\"\",CUSTOMIZATIONS!L94)","v":""},{"$f":"IF(CUSTOMIZATIONS!O94=\"\",\"\",CUSTOMIZATIONS!O94)","v":""},null,null,null,null,null,{"$f":"'AGENCY DETAILS'!M177","v":"Total  Positions"},{"$f":"IF('AGENCY DETAILS'!N177=\"\",\"\",'AGENCY DETAILS'!N177)","v":""},{"$f":"IF('AGENCY DETAILS'!O177=\"\",\"\",'AGENCY DETAILS'!O177)","v":""},{"$f":"IF('AGENCY DETAILS'!P177=\"\",\"\",'AGENCY DETAILS'!P177)","v":""}]
[null,null,null,{"$f":"IF(CUSTOMIZATIONS!C95=\"\",\"\",CUSTOMIZATIONS!C95)","v":""},{"$f":"IF(CUSTOMIZATIONS!E95=\"\",\"\",CUSTOMIZATIONS!E95)","v":""},{"$f":"IF(CUSTOMIZATIONS!L95=\"\",\"\",CUSTOMIZATIONS!L95)","v":""},{"$f":"IF(CUSTOMIZATIONS!O95=\"\",\"\",CUSTOMIZATIONS!O95)","v":""},null,null,null,null,null,{"$f":"'AGENCY DETAILS'!M178","v":"Total  Positions"},{"$f":"IF('AGENCY DETAILS'!N178=\"\",\"\",'AGENCY DETAILS'!N178)","v":""},{"$f":"IF('AGENCY DETAILS'!O178=\"\",\"\",'AGENCY DETAILS'!O178)","v":""},{"$f":"IF('AGENCY DETAILS'!P178=\"\",\"\",'AGENCY DETAILS'!P178)","v":""}]
[null,null,null,{"$f":"IF(CUSTOMIZATIONS!C96=\"\",\"\",CUSTOMIZATIONS!C96)","v":""},{"$f":"IF(CUSTOMIZATIONS!E96=\"\",\"\",CUSTOMIZATIONS!E96)","v":""},{"$f":"IF(CUSTOMIZATIONS!L96=\"\",\"\",CUSTOMIZATIONS!L96)","v":""},{"$f":"IF(CUSTOMIZATIONS!O96=\"\",\"\",CUSTOMIZATIONS!O96)","v":""},null,null,null,null,null,{"$f":"'AGENCY DETAILS'!M179","v":"Total  Positions"},{"$f":"IF('AGENCY DETAILS'!N179=\"\",\"\",'AGENCY DETAILS'!N179)","v":""},{"$f":"IF('AGENCY DETAILS'!O179=\"\",\"\",'AGENCY DETAILS'!O179)","v":""},{"$f":"IF('AGENCY DETAILS'!P179=\"\",\"\",'AGENCY DETAILS'!P179)","v":""}]
[null,null,null,{"$f":"IF(CUSTOMIZATIONS!C97=\"\",\"\",CUSTOMIZATIONS!C97)","v":""},{"$f":"IF(CUSTOMIZATIONS!E97=\"\",\"\",CUSTOMIZATIONS!E97)","v":""},{"$f":"IF(CUSTOMIZATIONS!L97=\"\",\"\",CUSTOMIZATIONS!L97)","v":""},{"$f":"IF(CUSTOMIZATIONS!O97=\"\",\"\",CUSTOMIZATIONS!O97)","v":""},null,null,null,null,null,{"$f":"'AGENCY DETAILS'!M180","v":"Total  Positions"},{"$f":"IF('AGENCY DETAILS'!N180=\"\",\"\",'AGENCY DETAILS'!N180)","v":""},{"$f":"IF('AGENCY DETAILS'!O180=\"\",\"\",'AGENCY DETAILS'!O180)","v":""},{"$f":"IF('AGENCY DETAILS'!P180=\"\",\"\",'AGENCY DETAILS'!P180)","v":""}]
[null,null,null,{"$f":"IF(CUSTOMIZATIONS!C98=\"\",\"\",CUSTOMIZATIONS!C98)","v":""},{"$f":"IF(CUSTOMIZATIONS!E98=\"\",\"\",CUSTOMIZATIONS!E98)","v":""},{"$f":"IF(CUSTOMIZATIONS!L98=\"\",\"\",CUSTOMIZATIONS!L98)","v":""},{"$f":"IF(CUSTOMIZATIONS!O98=\"\",\"\",CUSTOMIZATIONS!O98)","v":""},null,null,null,null,null,{"$f":"'AGENCY DETAILS'!M181","v":"Total  Positions"},{"$f":"IF('AGENCY DETAILS'!N181=\"\",\"\",'AGENCY DETAILS'!N181)","v":""},{"$f":"IF('AGENCY DETAILS'!O181=\"\",\"\",'AGENCY DETAILS'!O181)","v":""},{"$f":"IF('AGENCY DETAILS'!P181=\"\",\"\",'AGENCY DETAILS'!P181)","v":""}]
[null,null,null,{"$f":"IF(CUSTOMIZATIONS!C99=\"\",\"\",CUSTOMIZATIONS!C99)","v":""},{"$f":"IF(CUSTOMIZATIONS!E99=\"\",\"\",CUSTOMIZATIONS!E99)","v":""},{"$f":"IF(CUSTOMIZATIONS!L99=\"\",\"\",CUSTOMIZATIONS!L99)","v":""},{"$f":"IF(CUSTOMIZATIONS!O99=\"\",\"\",CUSTOMIZATIONS!O99)","v":""},null,null,null,null,null,{"$f":"'AGENCY DETAILS'!M182","v":"Total  Positions"},{"$f":"IF('AGENCY DETAILS'!N182=\"\",\"\",'AGENCY DETAILS'!N182)","v":""},{"$f":"IF('AGENCY DETAILS'!O182=\"\",\"\",'AGENCY DETAILS'!O182)","v":""},{"$f":"IF('AGENCY DETAILS'!P182=\"\",\"\",'AGENCY DETAILS'!P182)","v":""}]
[null,null,null,{"$f":"IF(CUSTOMIZATIONS!C100=\"\",\"\",CUSTOMIZATIONS!C100)","v":""},{"$f":"IF(CUSTOMIZATIONS!E100=\"\",\"\",CUSTOMIZATIONS!E100)","v":""},{"$f":"IF(CUSTOMIZATIONS!L100=\"\",\"\",CUSTOMIZATIONS!L100)","v":""},{"$f":"IF(CUSTOMIZATIONS!O100=\"\",\"\",CUSTOMIZATIONS!O100)","v":""},null,null,null,null,null,{"$f":"'AGENCY DETAILS'!M183","v":"Total  Positions"},{"$f":"IF('AGENCY DETAILS'!N183=\"\",\"\",'AGENCY DETAILS'!N183)","v":""},{"$f":"IF('AGENCY DETAILS'!O183=\"\",\"\",'AGENCY DETAILS'!O183)","v":""},{"$f":"IF('AGENCY DETAILS'!P183=\"\",\"\",'AGENCY DETAILS'!P183)","v":""}]
[null,null,null,{"$f":"IF(CUSTOMIZATIONS!C101=\"\",\"\",CUSTOMIZATIONS!C101)","v":""},{"$f":"IF(CUSTOMIZATIONS!E101=\"\",\"\",CUSTOMIZATIONS!E101)","v":""},{"$f":"IF(CUSTOMIZATIONS!L101=\"\",\"\",CUSTOMIZATIONS!L101)","v":""},{"$f":"IF(CUSTOMIZATIONS!O101=\"\",\"\",CUSTOMIZATIONS!O101)","v":""},null,null,null,null,null,{"$f":"'AGENCY DETAILS'!M184","v":"Total  Positions"},{"$f":"IF('AGENCY DETAILS'!N184=\"\",\"\",'AGENCY DETAILS'!N184)","v":""},{"$f":"IF('AGENCY DETAILS'!O184=\"\",\"\",'AGENCY DETAILS'!O184)","v":""},{"$f":"IF('AGENCY DETAILS'!P184=\"\",\"\",'AGENCY DETAILS'!P184)","v":""}]
[null,null,null,{"$f":"IF(CUSTOMIZATIONS!C102=\"\",\"\",CUSTOMIZATIONS!C102)","v":""},{"$f":"IF(CUSTOMIZATIONS!E102=\"\",\"\",CUSTOMIZATIONS!E102)","v":""},{"$f":"IF(CUSTOMIZATIONS!L102=\"\",\"\",CUSTOMIZATIONS!L102)","v":""},{"$f":"IF(CUSTOMIZATIONS!O102=\"\",\"\",CUSTOMIZATIONS!O102)","v":""},null,null,null,null,null,"Total Leader Positions with EEO Code \"Officials and Administrators\"",{"$f":"IF('AGENCY DETAILS'!N193=\"\",\"\",'AGENCY DETAILS'!N193)","v":""},{"$f":"IF('AGENCY DETAILS'!O193=\"\",\"\",'AGENCY DETAILS'!O193)","v":""},{"$f":"IF('AGENCY DETAILS'!P193=\"\",\"\",'AGENCY DETAILS'!P193)","v":""}]
[null,null,null,{"$f":"IF(CUSTOMIZATIONS!C103=\"\",\"\",CUSTOMIZATIONS!C103)","v":""},{"$f":"IF(CUSTOMIZATIONS!E103=\"\",\"\",CUSTOMIZATIONS!E103)","v":""},{"$f":"IF(CUSTOMIZATIONS!L103=\"\",\"\",CUSTOMIZATIONS!L103)","v":""},{"$f":"IF(CUSTOMIZATIONS!O103=\"\",\"\",CUSTOMIZATIONS!O103)","v":""},null,null,null,null,null,"Total Leader Positions with EEO Code \"Professionals\"",{"$f":"IF('AGENCY DETAILS'!N194=\"\",\"\",'AGENCY DETAILS'!N194)","v":""},{"$f":"IF('AGENCY DETAILS'!O194=\"\",\"\",'AGENCY DETAILS'!O194)","v":""},{"$f":"IF('AGENCY DETAILS'!P194=\"\",\"\",'AGENCY DETAILS'!P194)","v":""}]
[null,null,null,{"$f":"IF(CUSTOMIZATIONS!C104=\"\",\"\",CUSTOMIZATIONS!C104)","v":""},{"$f":"IF(CUSTOMIZATIONS!E104=\"\",\"\",CUSTOMIZATIONS!E104)","v":""},{"$f":"IF(CUSTOMIZATIONS!L104=\"\",\"\",CUSTOMIZATIONS!L104)","v":""},{"$f":"IF(CUSTOMIZATIONS!O104=\"\",\"\",CUSTOMIZATIONS!O104)","v":""},null,null,null,null,null,"Total Leader Positions with EEO Code \"Technicians\"",{"$f":"IF('AGENCY DETAILS'!N195=\"\",\"\",'AGENCY DETAILS'!N195)","v":""},{"$f":"IF('AGENCY DETAILS'!O195=\"\",\"\",'AGENCY DETAILS'!O195)","v":""},{"$f":"IF('AGENCY DETAILS'!P195=\"\",\"\",'AGENCY DETAILS'!P195)","v":""}]
[null,null,null,{"$f":"IF(CUSTOMIZATIONS!C105=\"\",\"\",CUSTOMIZATIONS!C105)","v":""},{"$f":"IF(CUSTOMIZATIONS!E105=\"\",\"\",CUSTOMIZATIONS!E105)","v":""},{"$f":"IF(CUSTOMIZATIONS!L105=\"\",\"\",CUSTOMIZATIONS!L105)","v":""},{"$f":"IF(CUSTOMIZATIONS!O105=\"\",\"\",CUSTOMIZATIONS!O105)","v":""},null,null,null,null,null,"Total Leader Positions with EEO Code \"Protective Service Workers\"",{"$f":"IF('AGENCY DETAILS'!N196=\"\",\"\",'AGENCY DETAILS'!N196)","v":""},{"$f":"IF('AGENCY DETAILS'!O196=\"\",\"\",'AGENCY DETAILS'!O196)","v":""},{"$f":"IF('AGENCY DETAILS'!P196=\"\",\"\",'AGENCY DETAILS'!P196)","v":""}]
[null,null,null,{"$f":"IF(CUSTOMIZATIONS!C106=\"\",\"\",CUSTOMIZATIONS!C106)","v":""},{"$f":"IF(CUSTOMIZATIONS!E106=\"\",\"\",CUSTOMIZATIONS!E106)","v":""},{"$f":"IF(CUSTOMIZATIONS!L106=\"\",\"\",CUSTOMIZATIONS!L106)","v":""},{"$f":"IF(CUSTOMIZATIONS!O106=\"\",\"\",CUSTOMIZATIONS!O106)","v":""},null,null,null,null,null,"Total Leader Positions with EEO Code \"Paraprofessionals\"",{"$f":"IF('AGENCY DETAILS'!N197=\"\",\"\",'AGENCY DETAILS'!N197)","v":""},{"$f":"IF('AGENCY DETAILS'!O197=\"\",\"\",'AGENCY DETAILS'!O197)","v":""},{"$f":"IF('AGENCY DETAILS'!P197=\"\",\"\",'AGENCY DETAILS'!P197)","v":""}]
[null,null,null,{"$f":"IF(CUSTOMIZATIONS!C107=\"\",\"\",CUSTOMIZATIONS!C107)","v":""},{"$f":"IF(CUSTOMIZATIONS!E107=\"\",\"\",CUSTOMIZATIONS!E107)","v":""},{"$f":"IF(CUSTOMIZATIONS!L107=\"\",\"\",CUSTOMIZATIONS!L107)","v":""},{"$f":"IF(CUSTOMIZATIONS!O107=\"\",\"\",CUSTOMIZATIONS!O107)","v":""},null,null,null,null,null,"Total Leader Positions with EEO Code \"Administrative Support\"",{"$f":"IF('AGENCY DETAILS'!N198=\"\",\"\",'AGENCY DETAILS'!N198)","v":""},{"$f":"IF('AGENCY DETAILS'!O198=\"\",\"\",'AGENCY DETAILS'!O198)","v":""},{"$f":"IF('AGENCY DETAILS'!P198=\"\",\"\",'AGENCY DETAILS'!P198)","v":""}]
[null,null,null,{"$f":"IF(CUSTOMIZATIONS!C108=\"\",\"\",CUSTOMIZATIONS!C108)","v":""},{"$f":"IF(CUSTOMIZATIONS!E108=\"\",\"\",CUSTOMIZATIONS!E108)","v":""},{"$f":"IF(CUSTOMIZATIONS!L108=\"\",\"\",CUSTOMIZATIONS!L108)","v":""},{"$f":"IF(CUSTOMIZATIONS!O108=\"\",\"\",CUSTOMIZATIONS!O108)","v":""},null,null,null,null,null,"Total Leader Positions with EEO Code \"Skilled Craft Workers\"",{"$f":"IF('AGENCY DETAILS'!N199=\"\",\"\",'AGENCY DETAILS'!N199)","v":""},{"$f":"IF('AGENCY DETAILS'!O199=\"\",\"\",'AGENCY DETAILS'!O199)","v":""},{"$f":"IF('AGENCY DETAILS'!P199=\"\",\"\",'AGENCY DETAILS'!P199)","v":""}]
[null,null,null,{"$f":"IF(CUSTOMIZATIONS!C109=\"\",\"\",CUSTOMIZATIONS!C109)","v":""},{"$f":"IF(CUSTOMIZATIONS!E109=\"\",\"\",CUSTOMIZATIONS!E109)","v":""},{"$f":"IF(CUSTOMIZATIONS!L109=\"\",\"\",CUSTOMIZATIONS!L109)","v":""},{"$f":"IF(CUSTOMIZATIONS!O109=\"\",\"\",CUSTOMIZATIONS!O109)","v":""},null,null,null,null,null,"Total Leader Positions with EEO Code \"Service/Maintenance\"",{"$f":"IF('AGENCY DETAILS'!N200=\"\",\"\",'AGENCY DETAILS'!N200)","v":""},{"$f":"IF('AGENCY DETAILS'!O200=\"\",\"\",'AGENCY DETAILS'!O200)","v":""},{"$f":"IF('AGENCY DETAILS'!P200=\"\",\"\",'AGENCY DETAILS'!P200)","v":""}]
[null,null,null,null,null,null,null,null,null,null,null,null,"Total Leader Positions with EEO Code \"Faculty\"",{"$f":"IF('AGENCY DETAILS'!N201=\"\",\"\",'AGENCY DETAILS'!N201)","v":""},{"$f":"IF('AGENCY DETAILS'!O201=\"\",\"\",'AGENCY DETAILS'!O201)","v":""},{"$f":"IF('AGENCY DETAILS'!P201=\"\",\"\",'AGENCY DETAILS'!P201)","v":""}]
[null,null,null,null,null,null,"Department Name","Sub Division Name",null,null,null,null,"Total Leader Positions with EEO Code \"Other\"",{"$f":"IF('AGENCY DETAILS'!N202=\"\",\"\",'AGENCY DETAILS'!N202)","v":""},{"$f":"IF('AGENCY DETAILS'!O202=\"\",\"\",'AGENCY DETAILS'!O202)","v":""},{"$f":"IF('AGENCY DETAILS'!P202=\"\",\"\",'AGENCY DETAILS'!P202)","v":""}]
[null,null,null,null,null,null,null,null,null,null,null,null,{"$f":"'AGENCY DETAILS'!M206","v":"Total Leader  Positions"},{"$f":"IF('AGENCY DETAILS'!N206=\"\",\"\",'AGENCY DETAILS'!N206)","v":""},{"$f":"IF('AGENCY DETAILS'!O206=\"\",\"\",'AGENCY DETAILS'!O206)","v":""},{"$f":"IF('AGENCY DETAILS'!P206=\"\",\"\",'AGENCY DETAILS'!P206)","v":""}]
[null,null,null,null,null,null,null,null,null,null,null,null,{"$f":"'AGENCY DETAILS'!M207","v":"Total Leader  Positions"},{"$f":"IF('AGENCY DETAILS'!N207=\"\",\"\",'AGENCY DETAILS'!N207)","v":""},{"$f":"IF('AGENCY DETAILS'!O207=\"\",\"\",'AGENCY DETAILS'!O207)","v":""},{"$f":"IF('AGENCY DETAILS'!P207=\"\",\"\",'AGENCY DETAILS'!P207)","v":""}]
[null,null,null,null,null,null,null,null,null,null,null,null,{"$f":"'AGENCY DETAILS'!M208","v":"Total Leader  Positions"},{"$f":"IF('AGENCY DETAILS'!N208=\"\",\"\",'AGENCY DETAILS'!N208)","v":""},{"$f":"IF('AGENCY DETAILS'!O208=\"\",\"\",'AGENCY DETAILS'!O208)","v":""},{"$f":"IF('AGENCY DETAILS'!P208=\"\",\"\",'AGENCY DETAILS'!P208)","v":""}]
[null,null,null,null,null,null,null,null,null,null,null,null,{"$f":"'AGENCY DETAILS'!M209","v":"Total Leader  Positions"},{"$f":"IF('AGENCY DETAILS'!N209=\"\",\"\",'AGENCY DETAILS'!N209)","v":""},{"$f":"IF('AGENCY DETAILS'!O209=\"\",\"\",'AGENCY DETAILS'!O209)","v":""},{"$f":"IF('AGENCY DETAILS'!P209=\"\",\"\",'AGENCY DETAILS'!P209)","v":""}]
[null,null,null,null,null,null,null,null,null,null,null,null,{"$f":"'AGENCY DETAILS'!M210","v":"Total Leader  Positions"},{"$f":"IF('AGENCY DETAILS'!N210=\"\",\"\",'AGENCY DETAILS'!N210)","v":""},{"$f":"IF('AGENCY DETAILS'!O210=\"\",\"\",'AGENCY DETAILS'!O210)","v":""},{"$f":"IF('AGENCY DETAILS'!P210=\"\",\"\",'AGENCY DETAILS'!P210)","v":""}]
[null,null,null,null,null,null,null,null,null,null,null,null,{"$f":"'AGENCY DETAILS'!M211","v":"Total Leader  Positions"},{"$f":"IF('AGENCY DETAILS'!N211=\"\",\"\",'AGENCY DETAILS'!N211)","v":""},{"$f":"IF('AGENCY DETAILS'!O211=\"\",\"\",'AGENCY DETAILS'!O211)","v":""},{"$f":"IF('AGENCY DETAILS'!P211=\"\",\"\",'AGENCY DETAILS'!P211)","v":""}]
[null,null,null,null,null,null,null,null,null,null,null,null,{"$f":"'AGENCY DETAILS'!M212","v":"Total Leader  Positions"},{"$f":"IF('AGENCY DETAILS'!N212=\"\",\"\",'AGENCY DETAILS'!N212)","v":""},{"$f":"IF('AGENCY DETAILS'!O212=\"\",\"\",'AGENCY DETAILS'!O212)","v":""},{"$f":"IF('AGENCY DETAILS'!P212=\"\",\"\",'AGENCY DETAILS'!P212)","v":""}]
[null,null,null,null,null,null,null,null,null,null,null,null,{"$f":"'AGENCY DETAILS'!M213","v":"Total Leader  Positions"},{"$f":"IF('AGENCY DETAILS'!N213=\"\",\"\",'AGENCY DETAILS'!N213)","v":""},{"$f":"IF('AGENCY DETAILS'!O213=\"\",\"\",'AGENCY DETAILS'!O213)","v":""},{"$f":"IF('AGENCY DETAILS'!P213=\"\",\"\",'AGENCY DETAILS'!P213)","v":""}]
[null,null,null,null,null,null,null,null,null,null,null,null,{"$f":"'AGENCY DETAILS'!M214","v":"Total Leader  Positions"},{"$f":"IF('AGENCY DETAILS'!N214=\"\",\"\",'AGENCY DETAILS'!N214)","v":""},{"$f":"IF('AGENCY DETAILS'!O214=\"\",\"\",'AGENCY DETAILS'!O214)","v":""},{"$f":"IF('AGENCY DETAILS'!P214=\"\",\"\",'AGENCY DETAILS'!P214)","v":""}]
[null,null,null,null,null,null,null,null,null,null,null,null,{"$f":"'AGENCY DETAILS'!M215","v":"Total Leader  Positions"},{"$f":"IF('AGENCY DETAILS'!N215=\"\",\"\",'AGENCY DETAILS'!N215)","v":""},{"$f":"IF('AGENCY DETAILS'!O215=\"\",\"\",'AGENCY DETAILS'!O215)","v":""},{"$f":"IF('AGENCY DETAILS'!P215=\"\",\"\",'AGENCY DETAILS'!P215)","v":""}]
[null,null,null,null,null,null,null,null,null,null,null,null,{"$f":"'AGENCY DETAILS'!M216","v":"Total Leader  Positions"},{"$f":"IF('AGENCY DETAILS'!N216=\"\",\"\",'AGENCY DETAILS'!N216)","v":""},{"$f":"IF('AGENCY DETAILS'!O216=\"\",\"\",'AGENCY DETAILS'!O216)","v":""},{"$f":"IF('AGENCY DETAILS'!P216=\"\",\"\",'AGENCY DETAILS'!P216)","v":""}]
[null,null,null,null,null,null,null,null,null,null,null,null,{"$f":"'AGENCY DETAILS'!M217","v":"Total Leader  Positions"},{"$f":"IF('AGENCY DETAILS'!N217=\"\",\"\",'AGENCY DETAILS'!N217)","v":""},{"$f":"IF('AGENCY DETAILS'!O217=\"\",\"\",'AGENCY DETAILS'!O217)","v":""},{"$f":"IF('AGENCY DETAILS'!P217=\"\",\"\",'AGENCY DETAILS'!P217)","v":""}]
[null,"Cardinal",null,null,null,null,null,null,null,null,null,null,{"$f":"'AGENCY DETAILS'!M218","v":"Total Leader  Positions"},{"$f":"IF('AGENCY DETAILS'!N218=\"\",\"\",'AGENCY DETAILS'!N218)","v":""},{"$f":"IF('AGENCY DETAILS'!O218=\"\",\"\",'AGENCY DETAILS'!O218)","v":""},{"$f":"IF('AGENCY DETAILS'!P218=\"\",\"\",'AGENCY DETAILS'!P218)","v":""}]
[null,"Internal Transfer","Internal Promotion","External Transfer","Voluntary Separation",null,null,null,null,null,null,null,{"$f":"'AGENCY DETAILS'!M219","v":"Total Leader  Positions"},{"$f":"IF('AGENCY DETAILS'!N219=\"\",\"\",'AGENCY DETAILS'!N219)","v":""},{"$f":"IF('AGENCY DETAILS'!O219=\"\",\"\",'AGENCY DETAILS'!O219)","v":""},{"$f":"IF('AGENCY DETAILS'!P219=\"\",\"\",'AGENCY DETAILS'!P219)","v":""}]
[null,null,null,null,null,null,null,null,null,null,null,null,{"$f":"'AGENCY DETAILS'!M220","v":"Total Leader  Positions"},{"$f":"IF('AGENCY DETAILS'!N220=\"\",\"\",'AGENCY DETAILS'!N220)","v":""},{"$f":"IF('AGENCY DETAILS'!O220=\"\",\"\",'AGENCY DETAILS'!O220)","v":""},{"$f":"IF('AGENCY DETAILS'!P220=\"\",\"\",'AGENCY DETAILS'!P220)","v":""}]
[null,null,null,null,null,null,null,null,null,null,null,null,"Total Executive Positions with EEO Code \"Officials and Administrators\"",{"$f":"IF('AGENCY DETAILS'!N229=\"\",\"\",'AGENCY DETAILS'!N229)","v":""},{"$f":"IF('AGENCY DETAILS'!O229=\"\",\"\",'AGENCY DETAILS'!O229)","v":""},{"$f":"IF('AGENCY DETAILS'!P229=\"\",\"\",'AGENCY DETAILS'!P229)","v":""}]
[null,null,null,null,null,null,null,null,null,null,null,null,"Total Executive Positions with EEO Code \"Professionals\"",{"$f":"IF('AGENCY DETAILS'!N230=\"\",\"\",'AGENCY DETAILS'!N230)","v":""},{"$f":"IF('AGENCY DETAILS'!O230=\"\",\"\",'AGENCY DETAILS'!O230)","v":""},{"$f":"IF('AGENCY DETAILS'!P230=\"\",\"\",'AGENCY DETAILS'!P230)","v":""}]
[null,null,null,null,null,null,null,null,null,null,null,null,"Total Executive Positions with EEO Code \"Technicians\"",{"$f":"IF('AGENCY DETAILS'!N231=\"\",\"\",'AGENCY DETAILS'!N231)","v":""},{"$f":"IF('AGENCY DETAILS'!O231=\"\",\"\",'AGENCY DETAILS'!O231)","v":""},{"$f":"IF('AGENCY DETAILS'!P231=\"\",\"\",'AGENCY DETAILS'!P231)","v":""}]
[null,null,null,null,null,null,null,null,null,null,null,null,"Total Executive Positions with EEO Code \"Protective Service Workers\"",{"$f":"IF('AGENCY DETAILS'!N232=\"\",\"\",'AGENCY DETAILS'!N232)","v":""},{"$f":"IF('AGENCY DETAILS'!O232=\"\",\"\",'AGENCY DETAILS'!O232)","v":""},{"$f":"IF('AGENCY DETAILS'!P232=\"\",\"\",'AGENCY DETAILS'!P232)","v":""}]
[null,null,null,null,null,null,null,null,null,null,null,null,"Total Executive Positions with EEO Code \"Paraprofessionals\"",{"$f":"IF('AGENCY DETAILS'!N233=\"\",\"\",'AGENCY DETAILS'!N233)","v":""},{"$f":"IF('AGENCY DETAILS'!O233=\"\",\"\",'AGENCY DETAILS'!O233)","v":""},{"$f":"IF('AGENCY DETAILS'!P233=\"\",\"\",'AGENCY DETAILS'!P233)","v":""}]
[null,null,null,null,null,null,null,null,null,null,null,null,"Total Executive Positions with EEO Code \"Administrative Support\"",{"$f":"IF('AGENCY DETAILS'!N234=\"\",\"\",'AGENCY DETAILS'!N234)","v":""},{"$f":"IF('AGENCY DETAILS'!O234=\"\",\"\",'AGENCY DETAILS'!O234)","v":""},{"$f":"IF('AGENCY DETAILS'!P234=\"\",\"\",'AGENCY DETAILS'!P234)","v":""}]
[null,null,null,null,null,null,null,null,null,null,null,null,"Total Executive Positions with EEO Code \"Skilled Craft Workers\"",{"$f":"IF('AGENCY DETAILS'!N235=\"\",\"\",'AGENCY DETAILS'!N235)","v":""},{"$f":"IF('AGENCY DETAILS'!O235=\"\",\"\",'AGENCY DETAILS'!O235)","v":""},{"$f":"IF('AGENCY DETAILS'!P235=\"\",\"\",'AGENCY DETAILS'!P235)","v":""}]
[null,null,null,null,null,null,null,null,null,null,null,null,"Total Executive Positions with EEO Code \"Service/Maintenance\"",{"$f":"IF('AGENCY DETAILS'!N236=\"\",\"\",'AGENCY DETAILS'!N236)","v":""},{"$f":"IF('AGENCY DETAILS'!O236=\"\",\"\",'AGENCY DETAILS'!O236)","v":""},{"$f":"IF('AGENCY DETAILS'!P236=\"\",\"\",'AGENCY DETAILS'!P236)","v":""}]
[null,null,null,null,null,null,null,null,null,null,null,null,"Total Executive Positions with EEO Code \"Faculty\"",{"$f":"IF('AGENCY DETAILS'!N237=\"\",\"\",'AGENCY DETAILS'!N237)","v":""},{"$f":"IF('AGENCY DETAILS'!O237=\"\",\"\",'AGENCY DETAILS'!O237)","v":""},{"$f":"IF('AGENCY DETAILS'!P237=\"\",\"\",'AGENCY DETAILS'!P237)","v":""}]
[null,null,null,null,null,null,null,null,null,null,null,null,"Total Executive Positions with EEO Code \"Other\"",{"$f":"IF('AGENCY DETAILS'!N238=\"\",\"\",'AGENCY DETAILS'!N238)","v":""},{"$f":"IF('AGENCY DETAILS'!O238=\"\",\"\",'AGENCY DETAILS'!O238)","v":""},{"$f":"IF('AGENCY DETAILS'!P238=\"\",\"\",'AGENCY DETAILS'!P238)","v":""}]
[null,"Custom",null,null,null,null,null,null,null,null,null,null,{"$f":"'AGENCY DETAILS'!M242","v":"Total Executive  Positions"},{"$f":"IF('AGENCY DETAILS'!N242=\"\",\"\",'AGENCY DETAILS'!N242)","v":""},{"$f":"IF('AGENCY DETAILS'!O242=\"\",\"\",'AGENCY DETAILS'!O242)","v":""},{"$f":"IF('AGENCY DETAILS'!P242=\"\",\"\",'AGENCY DETAILS'!P242)","v":""}]
[null,"Internal Transfer","Internal Promotion","External Transfer","Voluntary Separation",null,null,null,null,null,null,null,{"$f":"'AGENCY DETAILS'!M243","v":"Total Executive  Positions"},{"$f":"IF('AGENCY DETAILS'!N243=\"\",\"\",'AGENCY DETAILS'!N243)","v":""},{"$f":"IF('AGENCY DETAILS'!O243=\"\",\"\",'AGENCY DETAILS'!O243)","v":""},{"$f":"IF('AGENCY DETAILS'!P243=\"\",\"\",'AGENCY DETAILS'!P243)","v":""}]
[null,null,null,null,null,null,null,null,null,null,null,null,{"$f":"'AGENCY DETAILS'!M244","v":"Total Executive  Positions"},{"$f":"IF('AGENCY DETAILS'!N244=\"\",\"\",'AGENCY DETAILS'!N244)","v":""},{"$f":"IF('AGENCY DETAILS'!O244=\"\",\"\",'AGENCY DETAILS'!O244)","v":""},{"$f":"IF('AGENCY DETAILS'!P244=\"\",\"\",'AGENCY DETAILS'!P244)","v":""}]
[null,null,null,null,null,null,null,null,null,null,null,null,{"$f":"'AGENCY DETAILS'!M245","v":"Total Executive  Positions"},{"$f":"IF('AGENCY DETAILS'!N245=\"\",\"\",'AGENCY DETAILS'!N245)","v":""},{"$f":"IF('AGENCY DETAILS'!O245=\"\",\"\",'AGENCY DETAILS'!O245)","v":""},{"$f":"IF('AGENCY DETAILS'!P245=\"\",\"\",'AGENCY DETAILS'!P245)","v":""}]
[null,null,null,null,null,null,null,null,null,null,null,null,{"$f":"'AGENCY DETAILS'!M246","v":"Total Executive  Positions"},{"$f":"IF('AGENCY DETAILS'!N246=\"\",\"\",'AGENCY DETAILS'!N246)","v":""},{"$f":"IF('AGENCY DETAILS'!O246=\"\",\"\",'AGENCY DETAILS'!O246)","v":""},{"$f":"IF('AGENCY DETAILS'!P246=\"\",\"\",'AGENCY DETAILS'!P246)","v":""}]
[null,null,null,null,null,null,null,null,null,null,null,null,{"$f":"'AGENCY DETAILS'!M247","v":"Total Executive  Positions"},{"$f":"IF('AGENCY DETAILS'!N247=\"\",\"\",'AGENCY DETAILS'!N247)","v":""},{"$f":"IF('AGENCY DETAILS'!O247=\"\",\"\",'AGENCY DETAILS'!O247)","v":""},{"$f":"IF('AGENCY DETAILS'!P247=\"\",\"\",'AGENCY DETAILS'!P247)","v":""}]
[null,null,null,null,null,null,null,null,null,null,null,null,{"$f":"'AGENCY DETAILS'!M248","v":"Total Executive  Positions"},{"$f":"IF('AGENCY DETAILS'!N248=\"\",\"\",'AGENCY DETAILS'!N248)","v":""},{"$f":"IF('AGENCY DETAILS'!O248=\"\",\"\",'AGENCY DETAILS'!O248)","v":""},{"$f":"IF('AGENCY DETAILS'!P248=\"\",\"\",'AGENCY DETAILS'!P248)","v":""}]
[null,null,null,null,null,null,null,null,null,null,null,null,{"$f":"'AGENCY DETAILS'!M249","v":"Total Executive  Positions"},{"$f":"IF('AGENCY DETAILS'!N249=\"\",\"\",'AGENCY DETAILS'!N249)","v":""},{"$f":"IF('AGENCY DETAILS'!O249=\"\",\"\",'AGENCY DETAILS'!O249)","v":""},{"$f":"IF('AGENCY DETAILS'!P249=\"\",\"\",'AGENCY DETAILS'!P249)","v":""}]
[null,null,null,null,null,null,null,null,null,null,null,null,{"$f":"'AGENCY DETAILS'!M250","v":"Total Executive  Positions"},{"$f":"IF('AGENCY DETAILS'!N250=\"\",\"\",'AGENCY DETAILS'!N250)","v":""},{"$f":"IF('AGENCY DETAILS'!O250=\"\",\"\",'AGENCY DETAILS'!O250)","v":""},{"$f":"IF('AGENCY DETAILS'!P250=\"\",\"\",'AGENCY DETAILS'!P250)","v":""}]
[null,null,null,null,null,null,null,null,null,null,null,null,{"$f":"'AGENCY DETAILS'!M251","v":"Total Executive  Positions"},{"$f":"IF('AGENCY DETAILS'!N251=\"\",\"\",'AGENCY DETAILS'!N251)","v":""},{"$f":"IF('AGENCY DETAILS'!O251=\"\",\"\",'AGENCY DETAILS'!O251)","v":""},{"$f":"IF('AGENCY DETAILS'!P251=\"\",\"\",'AGENCY DETAILS'!P251)","v":""}]
[null,null,null,null,null,null,null,null,null,null,null,null,{"$f":"'AGENCY DETAILS'!M252","v":"Total Executive  Positions"},{"$f":"IF('AGENCY DETAILS'!N252=\"\",\"\",'AGENCY DETAILS'!N252)","v":""},{"$f":"IF('AGENCY DETAILS'!O252=\"\",\"\",'AGENCY DETAILS'!O252)","v":""},{"$f":"IF('AGENCY DETAILS'!P252=\"\",\"\",'AGENCY DETAILS'!P252)","v":""}]
[null,null,null,null,null,null,null,null,null,null,null,null,{"$f":"'AGENCY DETAILS'!M253","v":"Total Executive  Positions"},{"$f":"IF('AGENCY DETAILS'!N253=\"\",\"\",'AGENCY DETAILS'!N253)","v":""},{"$f":"IF('AGENCY DETAILS'!O253=\"\",\"\",'AGENCY DETAILS'!O253)","v":""},{"$f":"IF('AGENCY DETAILS'!P253=\"\",\"\",'AGENCY DETAILS'!P253)","v":""}]
[null,null,null,null,null,null,null,null,null,null,null,null,{"$f":"'AGENCY DETAILS'!M254","v":"Total Executive  Positions"},{"$f":"IF('AGENCY DETAILS'!N254=\"\",\"\",'AGENCY DETAILS'!N254)","v":""},{"$f":"IF('AGENCY DETAILS'!O254=\"\",\"\",'AGENCY DETAILS'!O254)","v":""},{"$f":"IF('AGENCY DETAILS'!P254=\"\",\"\",'AGENCY DETAILS'!P254)","v":""}]
[null,null,null,null,null,null,null,null,null,null,null,null,{"$f":"'AGENCY DETAILS'!M255","v":"Total Executive  Positions"},{"$f":"IF('AGENCY DETAILS'!N255=\"\",\"\",'AGENCY DETAILS'!N255)","v":""},{"$f":"IF('AGENCY DETAILS'!O255=\"\",\"\",'AGENCY DETAILS'!O255)","v":""},{"$f":"IF('AGENCY DETAILS'!P255=\"\",\"\",'AGENCY DETAILS'!P255)","v":""}]
[null,null,null,null,null,null,null,null,null,null,null,null,{"$f":"'AGENCY DETAILS'!M256","v":"Total Executive  Positions"},{"$f":"IF('AGENCY DETAILS'!N256=\"\",\"\",'AGENCY DETAILS'!N256)","v":""},{"$f":"IF('AGENCY DETAILS'!O256=\"\",\"\",'AGENCY DETAILS'!O256)","v":""},{"$f":"IF('AGENCY DETAILS'!P256=\"\",\"\",'AGENCY DETAILS'!P256)","v":""}]
[null,null,null,null,null,null,null,null,null,null,null,null,"Strategic Plan Objective 1",null,null,{"$f":"IF('AGENCY DETAILS'!F278=\"\",\"\",'AGENCY DETAILS'!F278)","v":""}]
[null,null,null,null,null,null,null,null,null,null,null,null,"Action 1:1",null,null,{"$f":"IF('AGENCY DETAILS'!H284=\"\",\"\",'AGENCY DETAILS'!H284)","v":""}]
[null,null,null,null,null,null,null,null,null,null,null,null,"Action 1:2",null,null,{"$f":"IF('AGENCY DETAILS'!H287=\"\",\"\",'AGENCY DETAILS'!H287)","v":""}]
[null,null,null,null,null,null,null,null,null,null,null,null,"Action 1:3",null,null,{"$f":"IF('AGENCY DETAILS'!H290=\"\",\"\",'AGENCY DETAILS'!H290)","v":""}]
[null,null,null,null,null,null,null,null,null,null,null,null,"Action 1:4",null,null,{"$f":"IF('AGENCY DETAILS'!H293=\"\",\"\",'AGENCY DETAILS'!H293)","v":""}]
[null,null,null,null,null,null,null,null,null,null,null,null,"Action 1:5",null,null,{"$f":"IF('AGENCY DETAILS'!H296=\"\",\"\",'AGENCY DETAILS'!H296)","v":""}]
[null,null,null,null,null,null,null,null,null,null,null,null,"Strategic Plan Objective 2",null,null,{"$f":"IF('AGENCY DETAILS'!F305=\"\",\"\",'AGENCY DETAILS'!F305)","v":""}]
[null,null,null,null,null,null,null,null,null,null,null,null,"Action 2:1",null,null,{"$f":"IF('AGENCY DETAILS'!H311=\"\",\"\",'AGENCY DETAILS'!H311)","v":""}]
[null,null,null,null,null,null,null,null,null,null,null,null,"Action 2:2",null,null,{"$f":"IF('AGENCY DETAILS'!H314=\"\",\"\",'AGENCY DETAILS'!H314)","v":""}]
[null,null,null,null,null,null,null,null,null,null,null,null,"Action 2:3",null,null,{"$f":"IF('AGENCY DETAILS'!H317=\"\",\"\",'AGENCY DETAILS'!H317)","v":""}]
[null,null,null,null,null,null,null,null,null,null,null,null,"Action 2:4",null,null,{"$f":"IF('AGENCY DETAILS'!H320=\"\",\"\",'AGENCY DETAILS'!H320)","v":""}]
[null,null,null,null,null,null,null,null,null,null,null,null,"Action 2:5",null,null,{"$f":"IF('AGENCY DETAILS'!H323=\"\",\"\",'AGENCY DETAILS'!H323)","v":""}]
[null,null,null,null,null,null,null,null,null,null,null,null,"Strategic Plan Objective 3",null,null,{"$f":"IF('AGENCY DETAILS'!F332=\"\",\"\",'AGENCY DETAILS'!F332)","v":""}]
[null,null,null,null,null,null,null,null,null,null,null,null,"Action 3:1",null,null,{"$f":"IF('AGENCY DETAILS'!H338=\"\",\"\",'AGENCY DETAILS'!H338)","v":""}]
[null,"Lines of Service",null,null,"Agency Locations",null,null,null,null,null,null,null,"Action 3:2",null,null,{"$f":"IF('AGENCY DETAILS'!H341=\"\",\"\",'AGENCY DETAILS'!H341)","v":""}]
[null,"Name","Description",null,"Name","County","Lines of Service","Total Positions","Leader Positions","Executive Positions",null,null,"Action 3:3",null,null,{"$f":"IF('AGENCY DETAILS'!H344=\"\",\"\",'AGENCY DETAILS'!H344)","v":""}]
[null,{"$f":"IF('AGENCY DETAILS'!C64=\"\",\"\",'AGENCY DETAILS'!C64)","v":""},{"$f":"IF('AGENCY DETAILS'!G64=\"\",\"\",'AGENCY DETAILS'!G64)","v":""},null,{"$f":"IF('AGENCY DETAILS'!C100=\"\",\"\",'AGENCY DETAILS'!C100)","v":""},{"$f":"IF('AGENCY DETAILS'!E100=\"\",\"\",'AGENCY DETAILS'!E100)","v":""},{"$f":"IF('AGENCY DETAILS'!G100=\"\",\"\",'AGENCY DETAILS'!G100)","v":""},{"$f":"IF('AGENCY DETAILS'!K100=\"\",\"\",'AGENCY DETAILS'!K100)","v":""},{"$f":"IF('AGENCY DETAILS'!M100=\"\",\"\",'AGENCY DETAILS'!M100)","v":""},{"$f":"IF('AGENCY DETAILS'!O100=\"\",\"\",'AGENCY DETAILS'!O100)","v":""},null,null,"Action 3:4",null,null,{"$f":"IF('AGENCY DETAILS'!H347=\"\",\"\",'AGENCY DETAILS'!H347)","v":""}]
[null,{"$f":"IF('AGENCY DETAILS'!C65=\"\",\"\",'AGENCY DETAILS'!C65)","v":""},{"$f":"IF('AGENCY DETAILS'!G65=\"\",\"\",'AGENCY DETAILS'!G65)","v":""},null,{"$f":"IF('AGENCY DETAILS'!C101=\"\",\"\",'AGENCY DETAILS'!C101)","v":""},{"$f":"IF('AGENCY DETAILS'!E101=\"\",\"\",'AGENCY DETAILS'!E101)","v":""},{"$f":"IF('AGENCY DETAILS'!G101=\"\",\"\",'AGENCY DETAILS'!G101)","v":""},{"$f":"IF('AGENCY DETAILS'!K101=\"\",\"\",'AGENCY DETAILS'!K101)","v":""},{"$f":"IF('AGENCY DETAILS'!M101=\"\",\"\",'AGENCY DETAILS'!M101)","v":""},{"$f":"IF('AGENCY DETAILS'!O101=\"\",\"\",'AGENCY DETAILS'!O101)","v":""},null,null,"Action 3:5",null,null,{"$f":"IF('AGENCY DETAILS'!H350=\"\",\"\",'AGENCY DETAILS'!H350)","v":""}]
[null,{"$f":"IF('AGENCY DETAILS'!C66=\"\",\"\",'AGENCY DETAILS'!C66)","v":""},{"$f":"IF('AGENCY DETAILS'!G66=\"\",\"\",'AGENCY DETAILS'!G66)","v":""},null,{"$f":"IF('AGENCY DETAILS'!C102=\"\",\"\",'AGENCY DETAILS'!C102)","v":""},{"$f":"IF('AGENCY DETAILS'!E102=\"\",\"\",'AGENCY DETAILS'!E102)","v":""},{"$f":"IF('AGENCY DETAILS'!G102=\"\",\"\",'AGENCY DETAILS'!G102)","v":""},{"$f":"IF('AGENCY DETAILS'!K102=\"\",\"\",'AGENCY DETAILS'!K102)","v":""},{"$f":"IF('AGENCY DETAILS'!M102=\"\",\"\",'AGENCY DETAILS'!M102)","v":""},{"$f":"IF('AGENCY DETAILS'!O102=\"\",\"\",'AGENCY DETAILS'!O102)","v":""},null,null,"Strategic Plan Objective 4",null,null,{"$f":"IF('AGENCY DETAILS'!F359=\"\",\"\",'AGENCY DETAILS'!F359)","v":""}]
[null,{"$f":"IF('AGENCY DETAILS'!C67=\"\",\"\",'AGENCY DETAILS'!C67)","v":""},{"$f":"IF('AGENCY DETAILS'!G67=\"\",\"\",'AGENCY DETAILS'!G67)","v":""},null,{"$f":"IF('AGENCY DETAILS'!C103=\"\",\"\",'AGENCY DETAILS'!C103)","v":""},{"$f":"IF('AGENCY DETAILS'!E103=\"\",\"\",'AGENCY DETAILS'!E103)","v":""},{"$f":"IF('AGENCY DETAILS'!G103=\"\",\"\",'AGENCY DETAILS'!G103)","v":""},{"$f":"IF('AGENCY DETAILS'!K103=\"\",\"\",'AGENCY DETAILS'!K103)","v":""},{"$f":"IF('AGENCY DETAILS'!M103=\"\",\"\",'AGENCY DETAILS'!M103)","v":""},{"$f":"IF('AGENCY DETAILS'!O103=\"\",\"\",'AGENCY DETAILS'!O103)","v":""},null,null,"Action 4:1",null,null,{"$f":"IF('AGENCY DETAILS'!H365=\"\",\"\",'AGENCY DETAILS'!H365)","v":""}]
[null,{"$f":"IF('AGENCY DETAILS'!C68=\"\",\"\",'AGENCY DETAILS'!C68)","v":""},{"$f":"IF('AGENCY DETAILS'!G68=\"\",\"\",'AGENCY DETAILS'!G68)","v":""},null,{"$f":"IF('AGENCY DETAILS'!C104=\"\",\"\",'AGENCY DETAILS'!C104)","v":""},{"$f":"IF('AGENCY DETAILS'!E104=\"\",\"\",'AGENCY DETAILS'!E104)","v":""},{"$f":"IF('AGENCY DETAILS'!G104=\"\",\"\",'AGENCY DETAILS'!G104)","v":""},{"$f":"IF('AGENCY DETAILS'!K104=\"\",\"\",'AGENCY DETAILS'!K104)","v":""},{"$f":"IF('AGENCY DETAILS'!M104=\"\",\"\",'AGENCY DETAILS'!M104)","v":""},{"$f":"IF('AGENCY DETAILS'!O104=\"\",\"\",'AGENCY DETAILS'!O104)","v":""},null,null,"Action 4:2",null,null,{"$f":"IF('AGENCY DETAILS'!H368=\"\",\"\",'AGENCY DETAILS'!H368)","v":""}]
[null,{"$f":"IF('AGENCY DETAILS'!C69=\"\",\"\",'AGENCY DETAILS'!C69)","v":""},{"$f":"IF('AGENCY DETAILS'!G69=\"\",\"\",'AGENCY DETAILS'!G69)","v":""},null,{"$f":"IF('AGENCY DETAILS'!C105=\"\",\"\",'AGENCY DETAILS'!C105)","v":""},{"$f":"IF('AGENCY DETAILS'!E105=\"\",\"\",'AGENCY DETAILS'!E105)","v":""},{"$f":"IF('AGENCY DETAILS'!G105=\"\",\"\",'AGENCY DETAILS'!G105)","v":""},{"$f":"IF('AGENCY DETAILS'!K105=\"\",\"\",'AGENCY DETAILS'!K105)","v":""},{"$f":"IF('AGENCY DETAILS'!M105=\"\",\"\",'AGENCY DETAILS'!M105)","v":""},{"$f":"IF('AGENCY DETAILS'!O105=\"\",\"\",'AGENCY DETAILS'!O105)","v":""},null,null,"Action 4:3",null,null,{"$f":"IF('AGENCY DETAILS'!H371=\"\",\"\",'AGENCY DETAILS'!H371)","v":""}]
[null,{"$f":"IF('AGENCY DETAILS'!C70=\"\",\"\",'AGENCY DETAILS'!C70)","v":""},{"$f":"IF('AGENCY DETAILS'!G70=\"\",\"\",'AGENCY DETAILS'!G70)","v":""},null,{"$f":"IF('AGENCY DETAILS'!C106=\"\",\"\",'AGENCY DETAILS'!C106)","v":""},{"$f":"IF('AGENCY DETAILS'!E106=\"\",\"\",'AGENCY DETAILS'!E106)","v":""},{"$f":"IF('AGENCY DETAILS'!G106=\"\",\"\",'AGENCY DETAILS'!G106)","v":""},{"$f":"IF('AGENCY DETAILS'!K106=\"\",\"\",'AGENCY DETAILS'!K106)","v":""},{"$f":"IF('AGENCY DETAILS'!M106=\"\",\"\",'AGENCY DETAILS'!M106)","v":""},{"$f":"IF('AGENCY DETAILS'!O106=\"\",\"\",'AGENCY DETAILS'!O106)","v":""},null,null,"Action 4:4",null,null,{"$f":"IF('AGENCY DETAILS'!H374=\"\",\"\",'AGENCY DETAILS'!H374)","v":""}]
[null,{"$f":"IF('AGENCY DETAILS'!C71=\"\",\"\",'AGENCY DETAILS'!C71)","v":""},{"$f":"IF('AGENCY DETAILS'!G71=\"\",\"\",'AGENCY DETAILS'!G71)","v":""},null,{"$f":"IF('AGENCY DETAILS'!C107=\"\",\"\",'AGENCY DETAILS'!C107)","v":""},{"$f":"IF('AGENCY DETAILS'!E107=\"\",\"\",'AGENCY DETAILS'!E107)","v":""},{"$f":"IF('AGENCY DETAILS'!G107=\"\",\"\",'AGENCY DETAILS'!G107)","v":""},{"$f":"IF('AGENCY DETAILS'!K107=\"\",\"\",'AGENCY DETAILS'!K107)","v":""},{"$f":"IF('AGENCY DETAILS'!M107=\"\",\"\",'AGENCY DETAILS'!M107)","v":""},{"$f":"IF('AGENCY DETAILS'!O107=\"\",\"\",'AGENCY DETAILS'!O107)","v":""},null,null,"Action 4:5",null,null,{"$f":"IF('AGENCY DETAILS'!H377=\"\",\"\",'AGENCY DETAILS'!H377)","v":""}]
[null,{"$f":"IF('AGENCY DETAILS'!C72=\"\",\"\",'AGENCY DETAILS'!C72)","v":""},{"$f":"IF('AGENCY DETAILS'!G72=\"\",\"\",'AGENCY DETAILS'!G72)","v":""},null,{"$f":"IF('AGENCY DETAILS'!C108=\"\",\"\",'AGENCY DETAILS'!C108)","v":""},{"$f":"IF('AGENCY DETAILS'!E108=\"\",\"\",'AGENCY DETAILS'!E108)","v":""},{"$f":"IF('AGENCY DETAILS'!G108=\"\",\"\",'AGENCY DETAILS'!G108)","v":""},{"$f":"IF('AGENCY DETAILS'!K108=\"\",\"\",'AGENCY DETAILS'!K108)","v":""},{"$f":"IF('AGENCY DETAILS'!M108=\"\",\"\",'AGENCY DETAILS'!M108)","v":""},{"$f":"IF('AGENCY DETAILS'!O108=\"\",\"\",'AGENCY DETAILS'!O108)","v":""},null,null,"Strategic Plan Objective 5",null,null,{"$f":"IF('AGENCY DETAILS'!F386=\"\",\"\",'AGENCY DETAILS'!F386)","v":""}]
[null,{"$f":"IF('AGENCY DETAILS'!C73=\"\",\"\",'AGENCY DETAILS'!C73)","v":""},{"$f":"IF('AGENCY DETAILS'!G73=\"\",\"\",'AGENCY DETAILS'!G73)","v":""},null,{"$f":"IF('AGENCY DETAILS'!C109=\"\",\"\",'AGENCY DETAILS'!C109)","v":""},{"$f":"IF('AGENCY DETAILS'!E109=\"\",\"\",'AGENCY DETAILS'!E109)","v":""},{"$f":"IF('AGENCY DETAILS'!G109=\"\",\"\",'AGENCY DETAILS'!G109)","v":""},{"$f":"IF('AGENCY DETAILS'!K109=\"\",\"\",'AGENCY DETAILS'!K109)","v":""},{"$f":"IF('AGENCY DETAILS'!M109=\"\",\"\",'AGENCY DETAILS'!M109)","v":""},{"$f":"IF('AGENCY DETAILS'!O109=\"\",\"\",'AGENCY DETAILS'!O109)","v":""},null,null,"Action 5:1",null,null,{"$f":"IF('AGENCY DETAILS'!H392=\"\",\"\",'AGENCY DETAILS'!H392)","v":""}]
[null,{"$f":"IF('AGENCY DETAILS'!C74=\"\",\"\",'AGENCY DETAILS'!C74)","v":""},{"$f":"IF('AGENCY DETAILS'!G74=\"\",\"\",'AGENCY DETAILS'!G74)","v":""},null,{"$f":"IF('AGENCY DETAILS'!C110=\"\",\"\",'AGENCY DETAILS'!C110)","v":""},{"$f":"IF('AGENCY DETAILS'!E110=\"\",\"\",'AGENCY DETAILS'!E110)","v":""},{"$f":"IF('AGENCY DETAILS'!G110=\"\",\"\",'AGENCY DETAILS'!G110)","v":""},{"$f":"IF('AGENCY DETAILS'!K110=\"\",\"\",'AGENCY DETAILS'!K110)","v":""},{"$f":"IF('AGENCY DETAILS'!M110=\"\",\"\",'AGENCY DETAILS'!M110)","v":""},{"$f":"IF('AGENCY DETAILS'!O110=\"\",\"\",'AGENCY DETAILS'!O110)","v":""},null,null,"Action 5:2",null,null,{"$f":"IF('AGENCY DETAILS'!H395=\"\",\"\",'AGENCY DETAILS'!H395)","v":""}]
[null,{"$f":"IF('AGENCY DETAILS'!C75=\"\",\"\",'AGENCY DETAILS'!C75)","v":""},{"$f":"IF('AGENCY DETAILS'!G75=\"\",\"\",'AGENCY DETAILS'!G75)","v":""},null,{"$f":"IF('AGENCY DETAILS'!C111=\"\",\"\",'AGENCY DETAILS'!C111)","v":""},{"$f":"IF('AGENCY DETAILS'!E111=\"\",\"\",'AGENCY DETAILS'!E111)","v":""},{"$f":"IF('AGENCY DETAILS'!G111=\"\",\"\",'AGENCY DETAILS'!G111)","v":""},{"$f":"IF('AGENCY DETAILS'!K111=\"\",\"\",'AGENCY DETAILS'!K111)","v":""},{"$f":"IF('AGENCY DETAILS'!M111=\"\",\"\",'AGENCY DETAILS'!M111)","v":""},{"$f":"IF('AGENCY DETAILS'!O111=\"\",\"\",'AGENCY DETAILS'!O111)","v":""},null,null,"Action 5:3",null,null,{"$f":"IF('AGENCY DETAILS'!H398=\"\",\"\",'AGENCY DETAILS'!H398)","v":""}]
[null,{"$f":"IF('AGENCY DETAILS'!C76=\"\",\"\",'AGENCY DETAILS'!C76)","v":""},{"$f":"IF('AGENCY DETAILS'!G76=\"\",\"\",'AGENCY DETAILS'!G76)","v":""},null,{"$f":"IF('AGENCY DETAILS'!C112=\"\",\"\",'AGENCY DETAILS'!C112)","v":""},{"$f":"IF('AGENCY DETAILS'!E112=\"\",\"\",'AGENCY DETAILS'!E112)","v":""},{"$f":"IF('AGENCY DETAILS'!G112=\"\",\"\",'AGENCY DETAILS'!G112)","v":""},{"$f":"IF('AGENCY DETAILS'!K112=\"\",\"\",'AGENCY DETAILS'!K112)","v":""},{"$f":"IF('AGENCY DETAILS'!M112=\"\",\"\",'AGENCY DETAILS'!M112)","v":""},{"$f":"IF('AGENCY DETAILS'!O112=\"\",\"\",'AGENCY DETAILS'!O112)","v":""},null,null,"Action 5:4",null,null,{"$f":"IF('AGENCY DETAILS'!H401=\"\",\"\",'AGENCY DETAILS'!H401)","v":""}]
[null,{"$f":"IF('AGENCY DETAILS'!C77=\"\",\"\",'AGENCY DETAILS'!C77)","v":""},{"$f":"IF('AGENCY DETAILS'!G77=\"\",\"\",'AGENCY DETAILS'!G77)","v":""},null,{"$f":"IF('AGENCY DETAILS'!C113=\"\",\"\",'AGENCY DETAILS'!C113)","v":""},{"$f":"IF('AGENCY DETAILS'!E113=\"\",\"\",'AGENCY DETAILS'!E113)","v":""},{"$f":"IF('AGENCY DETAILS'!G113=\"\",\"\",'AGENCY DETAILS'!G113)","v":""},{"$f":"IF('AGENCY DETAILS'!K113=\"\",\"\",'AGENCY DETAILS'!K113)","v":""},{"$f":"IF('AGENCY DETAILS'!M113=\"\",\"\",'AGENCY DETAILS'!M113)","v":""},{"$f":"IF('AGENCY DETAILS'!O113=\"\",\"\",'AGENCY DETAILS'!O113)","v":""},null,null,"Action 5:5",null,null,{"$f":"IF('AGENCY DETAILS'!H404=\"\",\"\",'AGENCY DETAILS'!H404)","v":""}]
[null,{"$f":"IF('AGENCY DETAILS'!C78=\"\",\"\",'AGENCY DETAILS'!C78)","v":""},{"$f":"IF('AGENCY DETAILS'!G78=\"\",\"\",'AGENCY DETAILS'!G78)","v":""},null,{"$f":"IF('AGENCY DETAILS'!C114=\"\",\"\",'AGENCY DETAILS'!C114)","v":""},{"$f":"IF('AGENCY DETAILS'!E114=\"\",\"\",'AGENCY DETAILS'!E114)","v":""},{"$f":"IF('AGENCY DETAILS'!G114=\"\",\"\",'AGENCY DETAILS'!G114)","v":""},{"$f":"IF('AGENCY DETAILS'!K114=\"\",\"\",'AGENCY DETAILS'!K114)","v":""},{"$f":"IF('AGENCY DETAILS'!M114=\"\",\"\",'AGENCY DETAILS'!M114)","v":""},{"$f":"IF('AGENCY DETAILS'!O114=\"\",\"\",'AGENCY DETAILS'!O114)","v":""},null,null,"Strategic Plan Objective 6",null,null,{"$f":"IF('AGENCY DETAILS'!F413=\"\",\"\",'AGENCY DETAILS'!F413)","v":""}]
[null,null,null,null,{"$f":"IF('AGENCY DETAILS'!C115=\"\",\"\",'AGENCY DETAILS'!C115)","v":""},{"$f":"IF('AGENCY DETAILS'!E115=\"\",\"\",'AGENCY DETAILS'!E115)","v":""},{"$f":"IF('AGENCY DETAILS'!G115=\"\",\"\",'AGENCY DETAILS'!G115)","v":""},{"$f":"IF('AGENCY DETAILS'!K115=\"\",\"\",'AGENCY DETAILS'!K115)","v":""},{"$f":"IF('AGENCY DETAILS'!M115=\"\",\"\",'AGENCY DETAILS'!M115)","v":""},{"$f":"IF('AGENCY DETAILS'!O115=\"\",\"\",'AGENCY DETAILS'!O115)","v":""},null,null,"Action 6:1",null,null,{"$f":"IF('AGENCY DETAILS'!H419=\"\",\"\",'AGENCY DETAILS'!H419)","v":""}]
[null,null,null,null,{"$f":"IF('AGENCY DETAILS'!C116=\"\",\"\",'AGENCY DETAILS'!C116)","v":""},{"$f":"IF('AGENCY DETAILS'!E116=\"\",\"\",'AGENCY DETAILS'!E116)","v":""},{"$f":"IF('AGENCY DETAILS'!G116=\"\",\"\",'AGENCY DETAILS'!G116)","v":""},{"$f":"IF('AGENCY DETAILS'!K116=\"\",\"\",'AGENCY DETAILS'!K116)","v":""},{"$f":"IF('AGENCY DETAILS'!M116=\"\",\"\",'AGENCY DETAILS'!M116)","v":""},{"$f":"IF('AGENCY DETAILS'!O116=\"\",\"\",'AGENCY DETAILS'!O116)","v":""},null,null,"Action 6:2",null,null,{"$f":"IF('AGENCY DETAILS'!H422=\"\",\"\",'AGENCY DETAILS'!H422)","v":""}]
[null,"Classifications",{"$f":"'CENTRAL ANALYSIS'!C23","v":0},null,{"$f":"IF('AGENCY DETAILS'!C117=\"\",\"\",'AGENCY DETAILS'!C117)","v":""},{"$f":"IF('AGENCY DETAILS'!E117=\"\",\"\",'AGENCY DETAILS'!E117)","v":""},{"$f":"IF('AGENCY DETAILS'!G117=\"\",\"\",'AGENCY DETAILS'!G117)","v":""},{"$f":"IF('AGENCY DETAILS'!K117=\"\",\"\",'AGENCY DETAILS'!K117)","v":""},{"$f":"IF('AGENCY DETAILS'!M117=\"\",\"\",'AGENCY DETAILS'!M117)","v":""},{"$f":"IF('AGENCY DETAILS'!O117=\"\",\"\",'AGENCY DETAILS'!O117)","v":""},null,null,"Action 6:3",null,null,{"$f":"IF('AGENCY DETAILS'!H425=\"\",\"\",'AGENCY DETAILS'!H425)","v":""}]
[null,"Executives",{"$f":"'CENTRAL ANALYSIS'!C29","v":0},null,{"$f":"IF('AGENCY DETAILS'!C118=\"\",\"\",'AGENCY DETAILS'!C118)","v":""},{"$f":"IF('AGENCY DETAILS'!E118=\"\",\"\",'AGENCY DETAILS'!E118)","v":""},{"$f":"IF('AGENCY DETAILS'!G118=\"\",\"\",'AGENCY DETAILS'!G118)","v":""},{"$f":"IF('AGENCY DETAILS'!K118=\"\",\"\",'AGENCY DETAILS'!K118)","v":""},{"$f":"IF('AGENCY DETAILS'!M118=\"\",\"\",'AGENCY DETAILS'!M118)","v":""},{"$f":"IF('AGENCY DETAILS'!O118=\"\",\"\",'AGENCY DETAILS'!O118)","v":""},null,null,"Action 6:4",null,null,{"$f":"IF('AGENCY DETAILS'!H428=\"\",\"\",'AGENCY DETAILS'!H428)","v":""}]
[null,"Retirement Parameters",{"$f":"'CENTRAL ANALYSIS'!C35","v":0},null,{"$f":"IF('AGENCY DETAILS'!C119=\"\",\"\",'AGENCY DETAILS'!C119)","v":""},{"$f":"IF('AGENCY DETAILS'!E119=\"\",\"\",'AGENCY DETAILS'!E119)","v":""},{"$f":"IF('AGENCY DETAILS'!G119=\"\",\"\",'AGENCY DETAILS'!G119)","v":""},{"$f":"IF('AGENCY DETAILS'!K119=\"\",\"\",'AGENCY DETAILS'!K119)","v":""},{"$f":"IF('AGENCY DETAILS'!M119=\"\",\"\",'AGENCY DETAILS'!M119)","v":""},{"$f":"IF('AGENCY DETAILS'!O119=\"\",\"\",'AGENCY DETAILS'!O119)","v":""},null,null,"Action 6:5",null,null,{"$f":"IF('AGENCY DETAILS'!H431=\"\",\"\",'AGENCY DETAILS'!H431)","v":""}]
[null,"Line of Service",{"$f":"'CENTRAL ANALYSIS'!C41","v":0},null,{"$f":"IF('AGENCY DETAILS'!C120=\"\",\"\",'AGENCY DETAILS'!C120)","v":""},{"$f":"IF('AGENCY DETAILS'!E120=\"\",\"\",'AGENCY DETAILS'!E120)","v":""},{"$f":"IF('AGENCY DETAILS'!G120=\"\",\"\",'AGENCY DETAILS'!G120)","v":""},{"$f":"IF('AGENCY DETAILS'!K120=\"\",\"\",'AGENCY DETAILS'!K120)","v":""},{"$f":"IF('AGENCY DETAILS'!M120=\"\",\"\",'AGENCY DETAILS'!M120)","v":""},{"$f":"IF('AGENCY DETAILS'!O120=\"\",\"\",'AGENCY DETAILS'!O120)","v":""},null,null,"Strategic Plan Objective 7",null,null,{"$f":"IF('AGENCY DETAILS'!F440=\"\",\"\",'AGENCY DETAILS'!F440)","v":""}]
[null,"Location",{"$f":"'CENTRAL ANALYSIS'!C47","v":0},null,{"$f":"IF('AGENCY DETAILS'!C121=\"\",\"\",'AGENCY DETAILS'!C121)","v":""},{"$f":"IF('AGENCY DETAILS'!E121=\"\",\"\",'AGENCY DETAILS'!E121)","v":""},{"$f":"IF('AGENCY DETAILS'!G121=\"\",\"\",'AGENCY DETAILS'!G121)","v":""},{"$f":"IF('AGENCY DETAILS'!K121=\"\",\"\",'AGENCY DETAILS'!K121)","v":""},{"$f":"IF('AGENCY DETAILS'!M121=\"\",\"\",'AGENCY DETAILS'!M121)","v":""},{"$f":"IF('AGENCY DETAILS'!O121=\"\",\"\",'AGENCY DETAILS'!O121)","v":""},null,null,"Action 7:1",null,null,{"$f":"IF('AGENCY DETAILS'!H446=\"\",\"\",'AGENCY DETAILS'!H446)","v":""}]
[null,"Internal dept.",{"$f":"'CENTRAL ANALYSIS'!C53","v":0},null,{"$f":"IF('AGENCY DETAILS'!C122=\"\",\"\",'AGENCY DETAILS'!C122)","v":""},{"$f":"IF('AGENCY DETAILS'!E122=\"\",\"\",'AGENCY DETAILS'!E122)","v":""},{"$f":"IF('AGENCY DETAILS'!G122=\"\",\"\",'AGENCY DETAILS'!G122)","v":""},{"$f":"IF('AGENCY DETAILS'!K122=\"\",\"\",'AGENCY DETAILS'!K122)","v":""},{"$f":"IF('AGENCY DETAILS'!M122=\"\",\"\",'AGENCY DETAILS'!M122)","v":""},{"$f":"IF('AGENCY DETAILS'!O122=\"\",\"\",'AGENCY DETAILS'!O122)","v":""},null,null,"Action 7:2",null,null,{"$f":"IF('AGENCY DETAILS'!H449=\"\",\"\",'AGENCY DETAILS'!H449)","v":""}]
[null,"Sub Division",{"$f":"'CENTRAL ANALYSIS'!C61","v":0},null,{"$f":"IF('AGENCY DETAILS'!C123=\"\",\"\",'AGENCY DETAILS'!C123)","v":""},{"$f":"IF('AGENCY DETAILS'!E123=\"\",\"\",'AGENCY DETAILS'!E123)","v":""},{"$f":"IF('AGENCY DETAILS'!G123=\"\",\"\",'AGENCY DETAILS'!G123)","v":""},{"$f":"IF('AGENCY DETAILS'!K123=\"\",\"\",'AGENCY DETAILS'!K123)","v":""},{"$f":"IF('AGENCY DETAILS'!M123=\"\",\"\",'AGENCY DETAILS'!M123)","v":""},{"$f":"IF('AGENCY DETAILS'!O123=\"\",\"\",'AGENCY DETAILS'!O123)","v":""},null,null,"Action 7:3",null,null,{"$f":"IF('AGENCY DETAILS'!H452=\"\",\"\",'AGENCY DETAILS'!H452)","v":""}]
[null,null,null,null,{"$f":"IF('AGENCY DETAILS'!C124=\"\",\"\",'AGENCY DETAILS'!C124)","v":""},{"$f":"IF('AGENCY DETAILS'!E124=\"\",\"\",'AGENCY DETAILS'!E124)","v":""},{"$f":"IF('AGENCY DETAILS'!G124=\"\",\"\",'AGENCY DETAILS'!G124)","v":""},{"$f":"IF('AGENCY DETAILS'!K124=\"\",\"\",'AGENCY DETAILS'!K124)","v":""},{"$f":"IF('AGENCY DETAILS'!M124=\"\",\"\",'AGENCY DETAILS'!M124)","v":""},{"$f":"IF('AGENCY DETAILS'!O124=\"\",\"\",'AGENCY DETAILS'!O124)","v":""},null,null,"Action 7:4",null,null,{"$f":"IF('AGENCY DETAILS'!H455=\"\",\"\",'AGENCY DETAILS'!H455)","v":""}]
[null,null,null,null,null,null,null,null,null,null,null,null,"Action 7:5",null,null,{"$f":"IF('AGENCY DETAILS'!H458=\"\",\"\",'AGENCY DETAILS'!H458)","v":""}]
[null,"Objectives",{"$f":"'CENTRAL ANALYSIS'!C98","v":0},null,null,null,null,null,null,null,null,null,"Strategic Plan Objective 8",null,null,{"$f":"IF('AGENCY DETAILS'!F467=\"\",\"\",'AGENCY DETAILS'!F467)","v":""}]
[null,"Action OBj1",{"$f":"'CENTRAL ANALYSIS'!C105","v":0},null,null,null,null,null,null,null,null,null,"Action 8:1",null,null,{"$f":"IF('AGENCY DETAILS'!H473=\"\",\"\",'AGENCY DETAILS'!H473)","v":""}]
[null,"Action OBj2",{"$f":"'CENTRAL ANALYSIS'!C113","v":0},null,null,null,null,null,null,null,null,null,"Action 8:2",null,null,{"$f":"IF('AGENCY DETAILS'!H476=\"\",\"\",'AGENCY DETAILS'!H476)","v":""}]
[null,"Action OBj3",{"$f":"'CENTRAL ANALYSIS'!C121","v":0},null,null,null,null,null,null,null,null,null,"Action 8:3",null,null,{"$f":"IF('AGENCY DETAILS'!H479=\"\",\"\",'AGENCY DETAILS'!H479)","v":""}]
[null,"Action OBj4",{"$f":"'CENTRAL ANALYSIS'!C129","v":0},null,null,null,null,null,null,null,null,null,"Action 8:4",null,null,{"$f":"IF('AGENCY DETAILS'!H482=\"\",\"\",'AGENCY DETAILS'!H482)","v":""}]
[null,"Action OBj5",{"$f":"'CENTRAL ANALYSIS'!C137","v":0},null,null,null,null,null,null,null,null,null,"Action 8:5",null,null,{"$f":"IF('AGENCY DETAILS'!H485=\"\",\"\",'AGENCY DETAILS'!H485)","v":""}]
[null,"Action OBj6",{"$f":"'CENTRAL ANALYSIS'!C145","v":0},null,null,null,null,null,null,null,null,null,"Strategic Plan Objective 9",null,null,{"$f":"IF('AGENCY DETAILS'!F494=\"\",\"\",'AGENCY DETAILS'!F494)","v":""}]
[null,"Action OBj7",{"$f":"'CENTRAL ANALYSIS'!C153","v":0},null,null,null,null,null,null,null,null,null,"Action 9:1",null,null,{"$f":"IF('AGENCY DETAILS'!H500=\"\",\"\",'AGENCY DETAILS'!H500)","v":""}]
[null,"Action OBj8",{"$f":"'CENTRAL ANALYSIS'!C161","v":0},null,null,null,null,null,null,null,null,null,"Action 9:2",null,null,{"$f":"IF('AGENCY DETAILS'!H503=\"\",\"\",'AGENCY DETAILS'!H503)","v":""}]
[null,"Action OBj9",{"$f":"'CENTRAL ANALYSIS'!C169","v":0},null,null,null,null,null,null,null,null,null,"Action 9:3",null,null,{"$f":"IF('AGENCY DETAILS'!H506=\"\",\"\",'AGENCY DETAILS'!H506)","v":""}]
[null,"Action OBj10",{"$f":"'CENTRAL ANALYSIS'!C177","v":0},null,null,null,null,null,null,null,null,null,"Action 9:4",null,null,{"$f":"IF('AGENCY DETAILS'!H509=\"\",\"\",'AGENCY DETAILS'!H509)","v":""}]
[null,"Action OBj11",{"$f":"'CENTRAL ANALYSIS'!C185","v":0},null,null,null,null,null,null,null,null,null,"Action 9:5",null,null,{"$f":"IF('AGENCY DETAILS'!H512=\"\",\"\",'AGENCY DETAILS'!H512)","v":""}]
[null,"Action OBj12",{"$f":"'CENTRAL ANALYSIS'!C193","v":0},null,null,null,null,null,null,null,null,null,"Strategic Plan Objective 10",null,null,{"$f":"IF('AGENCY DETAILS'!F521=\"\",\"\",'AGENCY DETAILS'!F521)","v":""}]
[null,"Action OBj13",{"$f":"'CENTRAL ANALYSIS'!C201","v":0},null,null,null,null,null,null,null,null,null,"Action 10:1",null,null,{"$f":"IF('AGENCY DETAILS'!H527=\"\",\"\",'AGENCY DETAILS'!H527)","v":""}]
[null,"Action OBj14",{"$f":"'CENTRAL ANALYSIS'!C209","v":0},null,null,null,null,null,null,null,null,null,"Action 10:2",null,null,{"$f":"IF('AGENCY DETAILS'!H530=\"\",\"\",'AGENCY DETAILS'!H530)","v":""}]
[null,"Action OBj15",{"$f":"'CENTRAL ANALYSIS'!C217","v":0},null,null,null,null,null,null,null,null,null,"Action 10:3",null,null,{"$f":"IF('AGENCY DETAILS'!H533=\"\",\"\",'AGENCY DETAILS'!H533)","v":""}]
[null,null,null,null,null,null,null,null,null,null,null,null,"Action 10:4",null,null,{"$f":"IF('AGENCY DETAILS'!H536=\"\",\"\",'AGENCY DETAILS'!H536)","v":""}]
[null,"Upload Date",null,null,null,null,null,null,null,null,null,null,"Action 10:5",null,null,{"$f":"IF('AGENCY DETAILS'!H539=\"\",\"\",'AGENCY DETAILS'!H539)","v":""}]
["SecurePass",null,null,null,null,null,null,null,null,null,null,null,"Strategic Plan Objective 11",null,null,{"$f":"IF('AGENCY DETAILS'!F548=\"\",\"\",'AGENCY DETAILS'!F548)","v":""}]
["Cardinal",null,null,null,null,null,null,null,null,null,null,null,"Action 11:1",null,null,{"$f":"IF('AGENCY DETAILS'!H554=\"\",\"\",'AGENCY DETAILS'!H554)","v":""}]
["Blank",null,null,null,null,null,null,null,null,null,null,null,"Action 11:2",null,null,{"$f":"IF('AGENCY DETAILS'!H557=\"\",\"\",'AGENCY DETAILS'!H557)","v":""}]
["RMS",null,null,null,null,null,null,null,null,null,null,null,"Action 11:3",null,null,{"$f":"IF('AGENCY DETAILS'!H560=\"\",\"\",'AGENCY DETAILS'!H560)","v":""}]
["EOP",{"$f":"'GETTING STARTED'!B180","v":"00:00:00"},{"$f":"'GETTING STARTED'!K180","v":"00:00:00"},null,null,null,null,null,null,null,null,null,"Action 11:4",null,null,{"$f":"IF('AGENCY DETAILS'!H563=\"\",\"\",'AGENCY DETAILS'!H563)","v":""}]
["PY Profile",{"$f":"'GETTING STARTED'!B136","v":"00:00:00"},{"$f":"'GETTING STARTED'!K136","v":"00:00:00"},null,null,null,null,null,null,null,null,null,"Action 11:5",null,null,{"$f":"IF('AGENCY DETAILS'!H566=\"\",\"\",'AGENCY DETAILS'!H566)","v":""}]
[null,null,null,null,null,null,null,null,null,null,null,null,"Strategic Plan Objective 12",null,null,{"$f":"IF('AGENCY DETAILS'!F575=\"\",\"\",'AGENCY DETAILS'!F575)","v":""}]
[null,null,null,null,null,null,null,null,null,null,null,null,"Action 12:1",null,null,{"$f":"IF('AGENCY DETAILS'!H581=\"\",\"\",'AGENCY DETAILS'!H581)","v":""}]
[null,null,null,null,null,null,null,null,null,null,null,null,"Action 12:2",null,null,{"$f":"IF('AGENCY DETAILS'!H584=\"\",\"\",'AGENCY DETAILS'!H584)","v":""}]
[null,null,null,null,null,null,null,null,null,null,null,null,"Action 12:3",null,null,{"$f":"IF('AGENCY DETAILS'!H587=\"\",\"\",'AGENCY DETAILS'!H587)","v":""}]
[null,null,null,null,null,null,null,null,null,null,null,null,"Action 12:4",null,null,{"$f":"IF('AGENCY DETAILS'!H590=\"\",\"\",'AGENCY DETAILS'!H590)","v":""}]
[null,null,null,null,null,null,null,null,null,null,null,null,"Action 12:5",null,null,{"$f":"IF('AGENCY DETAILS'!H593=\"\",\"\",'AGENCY DETAILS'!H593)","v":""}]
[null,null,null,null,null,null,null,null,null,null,null,null,"Strategic Plan Objective 13",null,null,{"$f":"IF('AGENCY DETAILS'!F602=\"\",\"\",'AGENCY DETAILS'!F602)","v":""}]
[null,null,null,null,null,null,null,null,null,null,null,null,"Action 13:1",null,null,{"$f":"IF('AGENCY DETAILS'!H608=\"\",\"\",'AGENCY DETAILS'!H608)","v":""}]
[null,null,null,null,null,null,null,null,null,null,null,null,"Action 13:2",null,null,{"$f":"IF('AGENCY DETAILS'!H611=\"\",\"\",'AGENCY DETAILS'!H611)","v":""}]
[null,null,null,null,null,null,null,null,null,null,null,null,"Action 13:3",null,null,{"$f":"IF('AGENCY DETAILS'!H614=\"\",\"\",'AGENCY DETAILS'!H614)","v":""}]
[null,null,null,null,null,null,null,null,null,null,null,null,"Action 13:4",null,null,{"$f":"IF('AGENCY DETAILS'!H617=\"\",\"\",'AGENCY DETAILS'!H617)","v":""}]
[null,null,null,null,null,null,null,null,null,null,null,null,"Action 13:5",null,null,{"$f":"IF('AGENCY DETAILS'!H620=\"\",\"\",'AGENCY DETAILS'!H620)","v":""}]
[null,null,null,null,null,null,null,null,null,null,null,null,"Strategic Plan Objective 14",null,null,{"$f":"IF('AGENCY DETAILS'!F629=\"\",\"\",'AGENCY DETAILS'!F629)","v":""}]
[null,null,null,null,null,null,null,null,null,null,null,null,"Action 14:1",null,null,{"$f":"IF('AGENCY DETAILS'!H635=\"\",\"\",'AGENCY DETAILS'!H635)","v":""}]
[null,null,null,null,null,null,null,null,null,null,null,null,"Action 14:2",null,null,{"$f":"IF('AGENCY DETAILS'!H638=\"\",\"\",'AGENCY DETAILS'!H638)","v":""}]
[null,null,null,null,null,null,null,null,null,null,null,null,"Action 14:3",null,null,{"$f":"IF('AGENCY DETAILS'!H641=\"\",\"\",'AGENCY DETAILS'!H641)","v":""}]
[null,null,null,null,null,null,null,null,null,null,null,null,"Action 14:4",null,null,{"$f":"IF('AGENCY DETAILS'!H644=\"\",\"\",'AGENCY DETAILS'!H644)","v":""}]
[null,null,null,null,null,null,null,null,null,null,null,null,"Action 14:5",null,null,{"$f":"IF('AGENCY DETAILS'!H647=\"\",\"\",'AGENCY DETAILS'!H647)","v":""}]
[null,null,null,null,null,null,null,null,null,null,null,null,"Strategic Plan Objective 15",null,null,{"$f":"IF('AGENCY DETAILS'!F656=\"\",\"\",'AGENCY DETAILS'!F656)","v":""}]
[null,null,null,null,null,null,null,null,null,null,null,null,"Action 15:1",null,null,{"$f":"IF('AGENCY DETAILS'!H662=\"\",\"\",'AGENCY DETAILS'!H662)","v":""}]
[null,null,null,null,null,null,null,null,null,null,null,null,"Action 15:2",null,null,{"$f":"IF('AGENCY DETAILS'!H665=\"\",\"\",'AGENCY DETAILS'!H665)","v":""}]
[null,null,null,null,null,null,null,null,null,null,null,null,"Action 15:3",null,null,{"$f":"IF('AGENCY DETAILS'!H668=\"\",\"\",'AGENCY DETAILS'!H668)","v":""}]
[null,null,null,null,null,null,null,null,null,null,null,null,"Action 15:4",null,null,{"$f":"IF('AGENCY DETAILS'!H671=\"\",\"\",'AGENCY DETAILS'!H671)","v":""}]
[null,null,null,null,null,null,null,null,null,null,null,null,"Action 15:5",null,null,{"$f":"IF('AGENCY DETAILS'!H674=\"\",\"\",'AGENCY DETAILS'!H674)","v":""}]
[null,null,null,null,null,null,null,null,null,null,null,null,"Total Male Employees",{"$f":"IF('AGENCY WORKFORCE'!N28=\"\",\"\",'AGENCY WORKFORCE'!N28)","v":""},{"$f":"IF('AGENCY WORKFORCE'!O28=\"\",\"\",'AGENCY WORKFORCE'!O28)","v":""},{"$f":"IF('AGENCY WORKFORCE'!P28=\"\",\"\",'AGENCY WORKFORCE'!P28)","v":""}]
[null,null,null,null,null,null,null,null,null,null,null,null,"Total Female Employees",{"$f":"IF('AGENCY WORKFORCE'!N29=\"\",\"\",'AGENCY WORKFORCE'!N29)","v":""},{"$f":"IF('AGENCY WORKFORCE'!O29=\"\",\"\",'AGENCY WORKFORCE'!O29)","v":""},{"$f":"IF('AGENCY WORKFORCE'!P29=\"\",\"\",'AGENCY WORKFORCE'!P29)","v":""}]
[null,null,null,null,null,null,null,null,null,null,null,null,"Total American Indian or Alaskan Native Employees",{"$f":"IF('AGENCY WORKFORCE'!N33=\"\",\"\",'AGENCY WORKFORCE'!N33)","v":""},{"$f":"IF('AGENCY WORKFORCE'!O33=\"\",\"\",'AGENCY WORKFORCE'!O33)","v":""},{"$f":"IF('AGENCY WORKFORCE'!P33=\"\",\"\",'AGENCY WORKFORCE'!P33)","v":""}]
[null,null,null,null,null,null,null,null,null,null,null,null,"Total Asian Employees",{"$f":"IF('AGENCY WORKFORCE'!N34=\"\",\"\",'AGENCY WORKFORCE'!N34)","v":""},{"$f":"IF('AGENCY WORKFORCE'!O34=\"\",\"\",'AGENCY WORKFORCE'!O34)","v":""},{"$f":"IF('AGENCY WORKFORCE'!P34=\"\",\"\",'AGENCY WORKFORCE'!P34)","v":""}]
[null,null,null,null,null,null,null,null,null,null,null,null,"Total Black or African American Employees",{"$f":"IF('AGENCY WORKFORCE'!N35=\"\",\"\",'AGENCY WORKFORCE'!N35)","v":""},{"$f":"IF('AGENCY WORKFORCE'!O35=\"\",\"\",'AGENCY WORKFORCE'!O35)","v":""},{"$f":"IF('AGENCY WORKFORCE'!P35=\"\",\"\",'AGENCY WORKFORCE'!P35)","v":""}]
[null,null,null,null,null,null,null,null,null,null,null,null,"Total Hispanic or Latino Employees",{"$f":"IF('AGENCY WORKFORCE'!N36=\"\",\"\",'AGENCY WORKFORCE'!N36)","v":""},{"$f":"IF('AGENCY WORKFORCE'!O36=\"\",\"\",'AGENCY WORKFORCE'!O36)","v":""},{"$f":"IF('AGENCY WORKFORCE'!P36=\"\",\"\",'AGENCY WORKFORCE'!P36)","v":""}]
[null,null,null,null,null,null,null,null,null,null,null,null,"Total Native Hawaiian or Other Pac. Islander Employees",{"$f":"IF('AGENCY WORKFORCE'!N37=\"\",\"\",'AGENCY WORKFORCE'!N37)","v":""},{"$f":"IF('AGENCY WORKFORCE'!O37=\"\",\"\",'AGENCY WORKFORCE'!O37)","v":""},{"$f":"IF('AGENCY WORKFORCE'!P37=\"\",\"\",'AGENCY WORKFORCE'!P37)","v":""}]
[null,null,null,null,null,null,null,null,null,null,null,null,"Total White Employees",{"$f":"IF('AGENCY WORKFORCE'!N38=\"\",\"\",'AGENCY WORKFORCE'!N38)","v":""},{"$f":"IF('AGENCY WORKFORCE'!O38=\"\",\"\",'AGENCY WORKFORCE'!O38)","v":""},{"$f":"IF('AGENCY WORKFORCE'!P38=\"\",\"\",'AGENCY WORKFORCE'!P38)","v":""}]
[null,null,null,null,null,null,null,null,null,null,null,null,"Two or More Races",{"$f":"IF('AGENCY WORKFORCE'!N39=\"\",\"\",'AGENCY WORKFORCE'!N39)","v":""},{"$f":"IF('AGENCY WORKFORCE'!O39=\"\",\"\",'AGENCY WORKFORCE'!O39)","v":""},{"$f":"IF('AGENCY WORKFORCE'!P39=\"\",\"\",'AGENCY WORKFORCE'!P39)","v":""}]
[null,null,null,null,null,null,null,null,null,null,null,null,"Total Race Unknown or not Entered Employees",{"$f":"IF('AGENCY WORKFORCE'!N40=\"\",\"\",'AGENCY WORKFORCE'!N40)","v":""},{"$f":"IF('AGENCY WORKFORCE'!O40=\"\",\"\",'AGENCY WORKFORCE'!O40)","v":""},{"$f":"IF('AGENCY WORKFORCE'!P40=\"\",\"\",'AGENCY WORKFORCE'!P40)","v":""}]
[null,null,null,null,null,null,null,null,null,null,null,null,"Total EEO Code Officials and Administrators",{"$f":"IF('AGENCY WORKFORCE'!N44=\"\",\"\",'AGENCY WORKFORCE'!N44)","v":""},{"$f":"IF('AGENCY WORKFORCE'!O44=\"\",\"\",'AGENCY WORKFORCE'!O44)","v":""},{"$f":"IF('AGENCY WORKFORCE'!P44=\"\",\"\",'AGENCY WORKFORCE'!P44)","v":""}]
[null,null,null,null,null,null,null,null,null,null,null,null,"Total EEO Code Professionals",{"$f":"IF('AGENCY WORKFORCE'!N45=\"\",\"\",'AGENCY WORKFORCE'!N45)","v":""},{"$f":"IF('AGENCY WORKFORCE'!O45=\"\",\"\",'AGENCY WORKFORCE'!O45)","v":""},{"$f":"IF('AGENCY WORKFORCE'!P45=\"\",\"\",'AGENCY WORKFORCE'!P45)","v":""}]
[null,null,null,null,null,null,null,null,null,null,null,null,"Total EEO Code Technicians",{"$f":"IF('AGENCY WORKFORCE'!N46=\"\",\"\",'AGENCY WORKFORCE'!N46)","v":""},{"$f":"IF('AGENCY WORKFORCE'!O46=\"\",\"\",'AGENCY WORKFORCE'!O46)","v":""},{"$f":"IF('AGENCY WORKFORCE'!P46=\"\",\"\",'AGENCY WORKFORCE'!P46)","v":""}]
[null,null,null,null,null,null,null,null,null,null,null,null,"Total EEO Code Protective Service Workers",{"$f":"IF('AGENCY WORKFORCE'!N47=\"\",\"\",'AGENCY WORKFORCE'!N47)","v":""},{"$f":"IF('AGENCY WORKFORCE'!O47=\"\",\"\",'AGENCY WORKFORCE'!O47)","v":""},{"$f":"IF('AGENCY WORKFORCE'!P47=\"\",\"\",'AGENCY WORKFORCE'!P47)","v":""}]
[null,null,null,null,null,null,null,null,null,null,null,null,"Total EEO Code Paraprofessionals",{"$f":"IF('AGENCY WORKFORCE'!N48=\"\",\"\",'AGENCY WORKFORCE'!N48)","v":""},{"$f":"IF('AGENCY WORKFORCE'!O48=\"\",\"\",'AGENCY WORKFORCE'!O48)","v":""},{"$f":"IF('AGENCY WORKFORCE'!P48=\"\",\"\",'AGENCY WORKFORCE'!P48)","v":""}]
[null,null,null,null,null,null,null,null,null,null,null,null,"Total EEO Code Administrative Support",{"$f":"IF('AGENCY WORKFORCE'!N49=\"\",\"\",'AGENCY WORKFORCE'!N49)","v":""},{"$f":"IF('AGENCY WORKFORCE'!O49=\"\",\"\",'AGENCY WORKFORCE'!O49)","v":""},{"$f":"IF('AGENCY WORKFORCE'!P49=\"\",\"\",'AGENCY WORKFORCE'!P49)","v":""}]
[null,null,null,null,null,null,null,null,null,null,null,null,"Total EEO Code Skilled Craft Workers",{"$f":"IF('AGENCY WORKFORCE'!N50=\"\",\"\",'AGENCY WORKFORCE'!N50)","v":""},{"$f":"IF('AGENCY WORKFORCE'!O50=\"\",\"\",'AGENCY WORKFORCE'!O50)","v":""},{"$f":"IF('AGENCY WORKFORCE'!P50=\"\",\"\",'AGENCY WORKFORCE'!P50)","v":""}]
[null,null,null,null,null,null,null,null,null,null,null,null,"Total EEO Code Service/Maintenance",{"$f":"IF('AGENCY WORKFORCE'!N51=\"\",\"\",'AGENCY WORKFORCE'!N51)","v":""},{"$f":"IF('AGENCY WORKFORCE'!O51=\"\",\"\",'AGENCY WORKFORCE'!O51)","v":""},{"$f":"IF('AGENCY WORKFORCE'!P51=\"\",\"\",'AGENCY WORKFORCE'!P51)","v":""}]
[null,null,null,null,null,null,null,null,null,null,null,null,"Total EEO Code Faculty",{"$f":"IF('AGENCY WORKFORCE'!N52=\"\",\"\",'AGENCY WORKFORCE'!N52)","v":""},{"$f":"IF('AGENCY WORKFORCE'!O52=\"\",\"\",'AGENCY WORKFORCE'!O52)","v":""},{"$f":"IF('AGENCY WORKFORCE'!P52=\"\",\"\",'AGENCY WORKFORCE'!P52)","v":""}]
[null,null,null,null,null,null,null,null,null,null,null,null,"Total EEO Code Other",{"$f":"IF('AGENCY WORKFORCE'!N53=\"\",\"\",'AGENCY WORKFORCE'!N53)","v":""},{"$f":"IF('AGENCY WORKFORCE'!O53=\"\",\"\",'AGENCY WORKFORCE'!O53)","v":""},{"$f":"IF('AGENCY WORKFORCE'!P53=\"\",\"\",'AGENCY WORKFORCE'!P53)","v":""}]
[null,null,null,null,null,null,null,null,null,null,null,null,{"$f":"'AGENCY WORKFORCE'!M57","v":"Total  Employees"},{"$f":"IF('AGENCY WORKFORCE'!N57=\"\",\"\",'AGENCY WORKFORCE'!N57)","v":""},{"$f":"IF('AGENCY WORKFORCE'!O57=\"\",\"\",'AGENCY WORKFORCE'!O57)","v":""},{"$f":"IF('AGENCY WORKFORCE'!P57=\"\",\"\",'AGENCY WORKFORCE'!P57)","v":""}]
[null,null,null,null,null,null,null,null,null,null,null,null,{"$f":"'AGENCY WORKFORCE'!M58","v":"Total  Employees"},{"$f":"IF('AGENCY WORKFORCE'!N58=\"\",\"\",'AGENCY WORKFORCE'!N58)","v":""},{"$f":"IF('AGENCY WORKFORCE'!O58=\"\",\"\",'AGENCY WORKFORCE'!O58)","v":""},{"$f":"IF('AGENCY WORKFORCE'!P58=\"\",\"\",'AGENCY WORKFORCE'!P58)","v":""}]
[null,null,null,null,null,null,null,null,null,null,null,null,{"$f":"'AGENCY WORKFORCE'!M59","v":"Total  Employees"},{"$f":"IF('AGENCY WORKFORCE'!N59=\"\",\"\",'AGENCY WORKFORCE'!N59)","v":""},{"$f":"IF('AGENCY WORKFORCE'!O59=\"\",\"\",'AGENCY WORKFORCE'!O59)","v":""},{"$f":"IF('AGENCY WORKFORCE'!P59=\"\",\"\",'AGENCY WORKFORCE'!P59)","v":""}]
[null,null,null,null,null,null,null,null,null,null,null,null,{"$f":"'AGENCY WORKFORCE'!M60","v":"Total  Employees"},{"$f":"IF('AGENCY WORKFORCE'!N60=\"\",\"\",'AGENCY WORKFORCE'!N60)","v":""},{"$f":"IF('AGENCY WORKFORCE'!O60=\"\",\"\",'AGENCY WORKFORCE'!O60)","v":""},{"$f":"IF('AGENCY WORKFORCE'!P60=\"\",\"\",'AGENCY WORKFORCE'!P60)","v":""}]
[null,null,null,null,null,null,null,null,null,null,null,null,{"$f":"'AGENCY WORKFORCE'!M61","v":"Total  Employees"},{"$f":"IF('AGENCY WORKFORCE'!N61=\"\",\"\",'AGENCY WORKFORCE'!N61)","v":""},{"$f":"IF('AGENCY WORKFORCE'!O61=\"\",\"\",'AGENCY WORKFORCE'!O61)","v":""},{"$f":"IF('AGENCY WORKFORCE'!P61=\"\",\"\",'AGENCY WORKFORCE'!P61)","v":""}]
[null,null,null,null,null,null,null,null,null,null,null,null,{"$f":"'AGENCY WORKFORCE'!M62","v":"Total  Employees"},{"$f":"IF('AGENCY WORKFORCE'!N62=\"\",\"\",'AGENCY WORKFORCE'!N62)","v":""},{"$f":"IF('AGENCY WORKFORCE'!O62=\"\",\"\",'AGENCY WORKFORCE'!O62)","v":""},{"$f":"IF('AGENCY WORKFORCE'!P62=\"\",\"\",'AGENCY WORKFORCE'!P62)","v":""}]
[null,null,null,null,null,null,null,null,null,null,null,null,{"$f":"'AGENCY WORKFORCE'!M63","v":"Total  Employees"},{"$f":"IF('AGENCY WORKFORCE'!N63=\"\",\"\",'AGENCY WORKFORCE'!N63)","v":""},{"$f":"IF('AGENCY WORKFORCE'!O63=\"\",\"\",'AGENCY WORKFORCE'!O63)","v":""},{"$f":"IF('AGENCY WORKFORCE'!P63=\"\",\"\",'AGENCY WORKFORCE'!P63)","v":""}]
[null,null,null,null,null,null,null,null,null,null,null,null,{"$f":"'AGENCY WORKFORCE'!M64","v":"Total  Employees"},{"$f":"IF('AGENCY WORKFORCE'!N64=\"\",\"\",'AGENCY WORKFORCE'!N64)","v":""},{"$f":"IF('AGENCY WORKFORCE'!O64=\"\",\"\",'AGENCY WORKFORCE'!O64)","v":""},{"$f":"IF('AGENCY WORKFORCE'!P64=\"\",\"\",'AGENCY WORKFORCE'!P64)","v":""}]
[null,null,null,null,null,null,null,null,null,null,null,null,{"$f":"'AGENCY WORKFORCE'!M65","v":"Total  Employees"},{"$f":"IF('AGENCY WORKFORCE'!N65=\"\",\"\",'AGENCY WORKFORCE'!N65)","v":""},{"$f":"IF('AGENCY WORKFORCE'!O65=\"\",\"\",'AGENCY WORKFORCE'!O65)","v":""},{"$f":"IF('AGENCY WORKFORCE'!P65=\"\",\"\",'AGENCY WORKFORCE'!P65)","v":""}]
[null,null,null,null,null,null,null,null,null,null,null,null,{"$f":"'AGENCY WORKFORCE'!M66","v":"Total  Employees"},{"$f":"IF('AGENCY WORKFORCE'!N66=\"\",\"\",'AGENCY WORKFORCE'!N66)","v":""},{"$f":"IF('AGENCY WORKFORCE'!O66=\"\",\"\",'AGENCY WORKFORCE'!O66)","v":""},{"$f":"IF('AGENCY WORKFORCE'!P66=\"\",\"\",'AGENCY WORKFORCE'!P66)","v":""}]
[null,null,null,null,null,null,null,null,null,null,null,null,{"$f":"'AGENCY WORKFORCE'!M67","v":"Total  Employees"},{"$f":"IF('AGENCY WORKFORCE'!N67=\"\",\"\",'AGENCY WORKFORCE'!N67)","v":""},{"$f":"IF('AGENCY WORKFORCE'!O67=\"\",\"\",'AGENCY WORKFORCE'!O67)","v":""},{"$f":"IF('AGENCY WORKFORCE'!P67=\"\",\"\",'AGENCY WORKFORCE'!P67)","v":""}]
[null,null,null,null,null,null,null,null,null,null,null,null,{"$f":"'AGENCY WORKFORCE'!M68","v":"Total  Employees"},{"$f":"IF('AGENCY WORKFORCE'!N68=\"\",\"\",'AGENCY WORKFORCE'!N68)","v":""},{"$f":"IF('AGENCY WORKFORCE'!O68=\"\",\"\",'AGENCY WORKFORCE'!O68)","v":""},{"$f":"IF('AGENCY WORKFORCE'!P68=\"\",\"\",'AGENCY WORKFORCE'!P68)","v":""}]
[null,null,null,null,null,null,null,null,null,null,null,null,{"$f":"'AGENCY WORKFORCE'!M69","v":"Total  Employees"},{"$f":"IF('AGENCY WORKFORCE'!N69=\"\",\"\",'AGENCY WORKFORCE'!N69)","v":""},{"$f":"IF('AGENCY WORKFORCE'!O69=\"\",\"\",'AGENCY WORKFORCE'!O69)","v":""},{"$f":"IF('AGENCY WORKFORCE'!P69=\"\",\"\",'AGENCY WORKFORCE'!P69)","v":""}]
[null,null,null,null,null,null,null,null,null,null,null,null,{"$f":"'AGENCY WORKFORCE'!M70","v":"Total  Employees"},{"$f":"IF('AGENCY WORKFORCE'!N70=\"\",\"\",'AGENCY WORKFORCE'!N70)","v":""},{"$f":"IF('AGENCY WORKFORCE'!O70=\"\",\"\",'AGENCY WORKFORCE'!O70)","v":""},{"$f":"IF('AGENCY WORKFORCE'!P70=\"\",\"\",'AGENCY WORKFORCE'!P70)","v":""}]
[null,null,null,null,null,null,null,null,null,null,null,null,{"$f":"'AGENCY WORKFORCE'!M71","v":"Total  Employees"},{"$f":"IF('AGENCY WORKFORCE'!N71=\"\",\"\",'AGENCY WORKFORCE'!N71)","v":""},{"$f":"IF('AGENCY WORKFORCE'!O71=\"\",\"\",'AGENCY WORKFORCE'!O71)","v":""},{"$f":"IF('AGENCY WORKFORCE'!P71=\"\",\"\",'AGENCY WORKFORCE'!P71)","v":""}]
[null,null,null,null,null,null,null,null,null,null,null,null,"Total Employees with Disabilities",{"$f":"IF('AGENCY WORKFORCE'!N75=\"\",\"\",'AGENCY WORKFORCE'!N75)","v":""},{"$f":"IF('AGENCY WORKFORCE'!O75=\"\",\"\",'AGENCY WORKFORCE'!O75)","v":""},{"$f":"IF('AGENCY WORKFORCE'!P75=\"\",\"\",'AGENCY WORKFORCE'!P75)","v":""}]
[null,null,null,null,null,null,null,null,null,null,null,null,"Total Veterans",{"$f":"IF('AGENCY WORKFORCE'!N76=\"\",\"\",'AGENCY WORKFORCE'!N76)","v":""},{"$f":"IF('AGENCY WORKFORCE'!O76=\"\",\"\",'AGENCY WORKFORCE'!O76)","v":""},{"$f":"IF('AGENCY WORKFORCE'!P76=\"\",\"\",'AGENCY WORKFORCE'!P76)","v":""}]
[null,null,null,null,null,null,null,null,null,null,null,null,"Total Male Leaders",{"$f":"IF('AGENCY WORKFORCE'!N87=\"\",\"\",'AGENCY WORKFORCE'!N87)","v":""},{"$f":"IF('AGENCY WORKFORCE'!O87=\"\",\"\",'AGENCY WORKFORCE'!O87)","v":""},{"$f":"IF('AGENCY WORKFORCE'!P87=\"\",\"\",'AGENCY WORKFORCE'!P87)","v":""}]
[null,null,null,null,null,null,null,null,null,null,null,null,"Total Female Leaders",{"$f":"IF('AGENCY WORKFORCE'!N88=\"\",\"\",'AGENCY WORKFORCE'!N88)","v":""},{"$f":"IF('AGENCY WORKFORCE'!O88=\"\",\"\",'AGENCY WORKFORCE'!O88)","v":""},{"$f":"IF('AGENCY WORKFORCE'!P88=\"\",\"\",'AGENCY WORKFORCE'!P88)","v":""}]
[null,null,null,null,null,null,null,null,null,null,null,null,"Total American Indian or Alaskan Native Leaders",{"$f":"IF('AGENCY WORKFORCE'!N92=\"\",\"\",'AGENCY WORKFORCE'!N92)","v":""},{"$f":"IF('AGENCY WORKFORCE'!O92=\"\",\"\",'AGENCY WORKFORCE'!O92)","v":""},{"$f":"IF('AGENCY WORKFORCE'!P92=\"\",\"\",'AGENCY WORKFORCE'!P92)","v":""}]
[null,null,null,null,null,null,null,null,null,null,null,null,"Total Asian Leaders",{"$f":"IF('AGENCY WORKFORCE'!N93=\"\",\"\",'AGENCY WORKFORCE'!N93)","v":""},{"$f":"IF('AGENCY WORKFORCE'!O93=\"\",\"\",'AGENCY WORKFORCE'!O93)","v":""},{"$f":"IF('AGENCY WORKFORCE'!P93=\"\",\"\",'AGENCY WORKFORCE'!P93)","v":""}]
[null,null,null,null,null,null,null,null,null,null,null,null,"Total Black or African American Leaders",{"$f":"IF('AGENCY WORKFORCE'!N94=\"\",\"\",'AGENCY WORKFORCE'!N94)","v":""},{"$f":"IF('AGENCY WORKFORCE'!O94=\"\",\"\",'AGENCY WORKFORCE'!O94)","v":""},{"$f":"IF('AGENCY WORKFORCE'!P94=\"\",\"\",'AGENCY WORKFORCE'!P94)","v":""}]
[null,null,null,null,null,null,null,null,null,null,null,null,"Total Hispanic or Latino Leaders",{"$f":"IF('AGENCY WORKFORCE'!N95=\"\",\"\",'AGENCY WORKFORCE'!N95)","v":""},{"$f":"IF('AGENCY WORKFORCE'!O95=\"\",\"\",'AGENCY WORKFORCE'!O95)","v":""},{"$f":"IF('AGENCY WORKFORCE'!P95=\"\",\"\",'AGENCY WORKFORCE'!P95)","v":""}]
[null,null,null,null,null,null,null,null,null,null,null,null,"Total Native Hawaiian or Other Pac. Islander Leaders",{"$f":"IF('AGENCY WORKFORCE'!N96=\"\",\"\",'AGENCY WORKFORCE'!N96)","v":""},{"$f":"IF('AGENCY WORKFORCE'!O96=\"\",\"\",'AGENCY WORKFORCE'!O96)","v":""},{"$f":"IF('AGENCY WORKFORCE'!P96=\"\",\"\",'AGENCY WORKFORCE'!P96)","v":""}]
[null,null,null,null,null,null,null,null,null,null,null,null,"Total White Leaders",{"$f":"IF('AGENCY WORKFORCE'!N97=\"\",\"\",'AGENCY WORKFORCE'!N97)","v":""},{"$f":"IF('AGENCY WORKFORCE'!O97=\"\",\"\",'AGENCY WORKFORCE'!O97)","v":""},{"$f":"IF('AGENCY WORKFORCE'!P97=\"\",\"\",'AGENCY WORKFORCE'!P97)","v":""}]
[null,null,null,null,null,null,null,null,null,null,null,null,"Two or More Races",{"$f":"IF('AGENCY WORKFORCE'!N98=\"\",\"\",'AGENCY WORKFORCE'!N98)","v":""},{"$f":"IF('AGENCY WORKFORCE'!O98=\"\",\"\",'AGENCY WORKFORCE'!O98)","v":""},{"$f":"IF('AGENCY WORKFORCE'!P98=\"\",\"\",'AGENCY WORKFORCE'!P98)","v":""}]
[null,null,null,null,null,null,null,null,null,null,null,null,"Total Race Unknown or not Entered Leaders",{"$f":"IF('AGENCY WORKFORCE'!N99=\"\",\"\",'AGENCY WORKFORCE'!N99)","v":""},{"$f":"IF('AGENCY WORKFORCE'!O99=\"\",\"\",'AGENCY WORKFORCE'!O99)","v":""},{"$f":"IF('AGENCY WORKFORCE'!P99=\"\",\"\",'AGENCY WORKFORCE'!P99)","v":""}]
[null,null,null,null,null,null,null,null,null,null,null,null,"Total Leader EEO Code Officials and Administrators",{"$f":"IF('AGENCY WORKFORCE'!N103=\"\",\"\",'AGENCY WORKFORCE'!N103)","v":""},{"$f":"IF('AGENCY WORKFORCE'!O103=\"\",\"\",'AGENCY WORKFORCE'!O103)","v":""},{"$f":"IF('AGENCY WORKFORCE'!P103=\"\",\"\",'AGENCY WORKFORCE'!P103)","v":""}]
[null,null,null,null,null,null,null,null,null,null,null,null,"Total Leader EEO Code Professionals",{"$f":"IF('AGENCY WORKFORCE'!N104=\"\",\"\",'AGENCY WORKFORCE'!N104)","v":""},{"$f":"IF('AGENCY WORKFORCE'!O104=\"\",\"\",'AGENCY WORKFORCE'!O104)","v":""},{"$f":"IF('AGENCY WORKFORCE'!P104=\"\",\"\",'AGENCY WORKFORCE'!P104)","v":""}]
[null,null,null,null,null,null,null,null,null,null,null,null,"Total Leader EEO Code Technicians",{"$f":"IF('AGENCY WORKFORCE'!N105=\"\",\"\",'AGENCY WORKFORCE'!N105)","v":""},{"$f":"IF('AGENCY WORKFORCE'!O105=\"\",\"\",'AGENCY WORKFORCE'!O105)","v":""},{"$f":"IF('AGENCY WORKFORCE'!P105=\"\",\"\",'AGENCY WORKFORCE'!P105)","v":""}]
[null,null,null,null,null,null,null,null,null,null,null,null,"Total Leader EEO Code Protective Service Workers",{"$f":"IF('AGENCY WORKFORCE'!N106=\"\",\"\",'AGENCY WORKFORCE'!N106)","v":""},{"$f":"IF('AGENCY WORKFORCE'!O106=\"\",\"\",'AGENCY WORKFORCE'!O106)","v":""},{"$f":"IF('AGENCY WORKFORCE'!P106=\"\",\"\",'AGENCY WORKFORCE'!P106)","v":""}]
[null,null,null,null,null,null,null,null,null,null,null,null,"Total Leader EEO Code Paraprofessionals",{"$f":"IF('AGENCY WORKFORCE'!N107=\"\",\"\",'AGENCY WORKFORCE'!N107)","v":""},{"$f":"IF('AGENCY WORKFORCE'!O107=\"\",\"\",'AGENCY WORKFORCE'!O107)","v":""},{"$f":"IF('AGENCY WORKFORCE'!P107=\"\",\"\",'AGENCY WORKFORCE'!P107)","v":""}]
[null,null,null,null,null,null,null,null,null,null,null,null,"Total Leader EEO Code Administrative Support",{"$f":"IF('AGENCY WORKFORCE'!N108=\"\",\"\",'AGENCY WORKFORCE'!N108)","v":""},{"$f":"IF('AGENCY WORKFORCE'!O108=\"\",\"\",'AGENCY WORKFORCE'!O108)","v":""},{"$f":"IF('AGENCY WORKFORCE'!P108=\"\",\"\",'AGENCY WORKFORCE'!P108)","v":""}]
[null,null,null,null,null,null,null,null,null,null,null,null,"Total Leader EEO Code Skilled Craft Workers",{"$f":"IF('AGENCY WORKFORCE'!N109=\"\",\"\",'AGENCY WORKFORCE'!N109)","v":""},{"$f":"IF('AGENCY WORKFORCE'!O109=\"\",\"\",'AGENCY WORKFORCE'!O109)","v":""},{"$f":"IF('AGENCY WORKFORCE'!P109=\"\",\"\",'AGENCY WORKFORCE'!P109)","v":""}]
[null,null,null,null,null,null,null,null,null,null,null,null,"Total Leader EEO Code Service/Maintenance",{"$f":"IF('AGENCY WORKFORCE'!N110=\"\",\"\",'AGENCY WORKFORCE'!N110)","v":""},{"$f":"IF('AGENCY WORKFORCE'!O110=\"\",\"\",'AGENCY WORKFORCE'!O110)","v":""},{"$f":"IF('AGENCY WORKFORCE'!P110=\"\",\"\",'AGENCY WORKFORCE'!P110)","v":""}]
[null,null,null,null,null,null,null,null,null,null,null,null,"Total Leader EEO Code Faculty",{"$f":"IF('AGENCY WORKFORCE'!N111=\"\",\"\",'AGENCY WORKFORCE'!N111)","v":""},{"$f":"IF('AGENCY WORKFORCE'!O111=\"\",\"\",'AGENCY WORKFORCE'!O111)","v":""},{"$f":"IF('AGENCY WORKFORCE'!P111=\"\",\"\",'AGENCY WORKFORCE'!P111)","v":""}]
[null,null,null,null,null,null,null,null,null,null,null,null,"Total Leader EEO Code Other",{"$f":"IF('AGENCY WORKFORCE'!N112=\"\",\"\",'AGENCY WORKFORCE'!N112)","v":""},{"$f":"IF('AGENCY WORKFORCE'!O112=\"\",\"\",'AGENCY WORKFORCE'!O112)","v":""},{"$f":"IF('AGENCY WORKFORCE'!P112=\"\",\"\",'AGENCY WORKFORCE'!P112)","v":""}]
[null,null,null,null,null,null,null,null,null,null,null,null,{"$f":"'AGENCY WORKFORCE'!M116","v":"Total  Leaders"},{"$f":"IF('AGENCY WORKFORCE'!N116=\"\",\"\",'AGENCY WORKFORCE'!N116)","v":""},{"$f":"IF('AGENCY WORKFORCE'!O116=\"\",\"\",'AGENCY WORKFORCE'!O116)","v":""},{"$f":"IF('AGENCY WORKFORCE'!P116=\"\",\"\",'AGENCY WORKFORCE'!P116)","v":""}]
[null,null,null,null,null,null,null,null,null,null,null,null,{"$f":"'AGENCY WORKFORCE'!M117","v":"Total  Leaders"},{"$f":"IF('AGENCY WORKFORCE'!N117=\"\",\"\",'AGENCY WORKFORCE'!N117)","v":""},{"$f":"IF('AGENCY WORKFORCE'!O117=\"\",\"\",'AGENCY WORKFORCE'!O117)","v":""},{"$f":"IF('AGENCY WORKFORCE'!P117=\"\",\"\",'AGENCY WORKFORCE'!P117)","v":""}]
[null,null,null,null,null,null,null,null,null,null,null,null,{"$f":"'AGENCY WORKFORCE'!M118","v":"Total  Leaders"},{"$f":"IF('AGENCY WORKFORCE'!N118=\"\",\"\",'AGENCY WORKFORCE'!N118)","v":""},{"$f":"IF('AGENCY WORKFORCE'!O118=\"\",\"\",'AGENCY WORKFORCE'!O118)","v":""},{"$f":"IF('AGENCY WORKFORCE'!P118=\"\",\"\",'AGENCY WORKFORCE'!P118)","v":""}]
[null,null,null,null,null,null,null,null,null,null,null,null,{"$f":"'AGENCY WORKFORCE'!M119","v":"Total  Leaders"},{"$f":"IF('AGENCY WORKFORCE'!N119=\"\",\"\",'AGENCY WORKFORCE'!N119)","v":""},{"$f":"IF('AGENCY WORKFORCE'!O119=\"\",\"\",'AGENCY WORKFORCE'!O119)","v":""},{"$f":"IF('AGENCY WORKFORCE'!P119=\"\",\"\",'AGENCY WORKFORCE'!P119)","v":""}]
[null,null,null,null,null,null,null,null,null,null,null,null,{"$f":"'AGENCY WORKFORCE'!M120","v":"Total  Leaders"},{"$f":"IF('AGENCY WORKFORCE'!N120=\"\",\"\",'AGENCY WORKFORCE'!N120)","v":""},{"$f":"IF('AGENCY WORKFORCE'!O120=\"\",\"\",'AGENCY WORKFORCE'!O120)","v":""},{"$f":"IF('AGENCY WORKFORCE'!P120=\"\",\"\",'AGENCY WORKFORCE'!P120)","v":""}]
[null,null,null,null,null,null,null,null,null,null,null,null,{"$f":"'AGENCY WORKFORCE'!M121","v":"Total  Leaders"},{"$f":"IF('AGENCY WORKFORCE'!N121=\"\",\"\",'AGENCY WORKFORCE'!N121)","v":""},{"$f":"IF('AGENCY WORKFORCE'!O121=\"\",\"\",'AGENCY WORKFORCE'!O121)","v":""},{"$f":"IF('AGENCY WORKFORCE'!P121=\"\",\"\",'AGENCY WORKFORCE'!P121)","v":""}]
[null,null,null,null,null,null,null,null,null,null,null,null,{"$f":"'AGENCY WORKFORCE'!M122","v":"Total  Leaders"},{"$f":"IF('AGENCY WORKFORCE'!N122=\"\",\"\",'AGENCY WORKFORCE'!N122)","v":""},{"$f":"IF('AGENCY WORKFORCE'!O122=\"\",\"\",'AGENCY WORKFORCE'!O122)","v":""},{"$f":"IF('AGENCY WORKFORCE'!P122=\"\",\"\",'AGENCY WORKFORCE'!P122)","v":""}]
[null,null,null,null,null,null,null,null,null,null,null,null,{"$f":"'AGENCY WORKFORCE'!M123","v":"Total  Leaders"},{"$f":"IF('AGENCY WORKFORCE'!N123=\"\",\"\",'AGENCY WORKFORCE'!N123)","v":""},{"$f":"IF('AGENCY WORKFORCE'!O123=\"\",\"\",'AGENCY WORKFORCE'!O123)","v":""},{"$f":"IF('AGENCY WORKFORCE'!P123=\"\",\"\",'AGENCY WORKFORCE'!P123)","v":""}]
[null,null,null,null,null,null,null,null,null,null,null,null,{"$f":"'AGENCY WORKFORCE'!M124","v":"Total  Leaders"},{"$f":"IF('AGENCY WORKFORCE'!N124=\"\",\"\",'AGENCY WORKFORCE'!N124)","v":""},{"$f":"IF('AGENCY WORKFORCE'!O124=\"\",\"\",'AGENCY WORKFORCE'!O124)","v":""},{"$f":"IF('AGENCY WORKFORCE'!P124=\"\",\"\",'AGENCY WORKFORCE'!P124)","v":""}]
[null,null,null,null,null,null,null,null,null,null,null,null,{"$f":"'AGENCY WORKFORCE'!M125","v":"Total  Leaders"},{"$f":"IF('AGENCY WORKFORCE'!N125=\"\",\"\",'AGENCY WORKFORCE'!N125)","v":""},{"$f":"IF('AGENCY WORKFORCE'!O125=\"\",\"\",'AGENCY WORKFORCE'!O125)","v":""},{"$f":"IF('AGENCY WORKFORCE'!P125=\"\",\"\",'AGENCY WORKFORCE'!P125)","v":""}]
[null,null,null,null,null,null,null,null,null,null,null,null,{"$f":"'AGENCY WORKFORCE'!M126","v":"Total  Leaders"},{"$f":"IF('AGENCY WORKFORCE'!N126=\"\",\"\",'AGENCY WORKFORCE'!N126)","v":""},{"$f":"IF('AGENCY WORKFORCE'!O126=\"\",\"\",'AGENCY WORKFORCE'!O126)","v":""},{"$f":"IF('AGENCY WORKFORCE'!P126=\"\",\"\",'AGENCY WORKFORCE'!P126)","v":""}]
[null,null,null,null,null,null,null,null,null,null,null,null,{"$f":"'AGENCY WORKFORCE'!M127","v":"Total  Leaders"},{"$f":"IF('AGENCY WORKFORCE'!N127=\"\",\"\",'AGENCY WORKFORCE'!N127)","v":""},{"$f":"IF('AGENCY WORKFORCE'!O127=\"\",\"\",'AGENCY WORKFORCE'!O127)","v":""},{"$f":"IF('AGENCY WORKFORCE'!P127=\"\",\"\",'AGENCY WORKFORCE'!P127)","v":""}]
[null,null,null,null,null,null,null,null,null,null,null,null,{"$f":"'AGENCY WORKFORCE'!M128","v":"Total  Leaders"},{"$f":"IF('AGENCY WORKFORCE'!N128=\"\",\"\",'AGENCY WORKFORCE'!N128)","v":""},{"$f":"IF('AGENCY WORKFORCE'!O128=\"\",\"\",'AGENCY WORKFORCE'!O128)","v":""},{"$f":"IF('AGENCY WORKFORCE'!P128=\"\",\"\",'AGENCY WORKFORCE'!P128)","v":""}]
[null,null,null,null,null,null,null,null,null,null,null,null,{"$f":"'AGENCY WORKFORCE'!M129","v":"Total  Leaders"},{"$f":"IF('AGENCY WORKFORCE'!N129=\"\",\"\",'AGENCY WORKFORCE'!N129)","v":""},{"$f":"IF('AGENCY WORKFORCE'!O129=\"\",\"\",'AGENCY WORKFORCE'!O129)","v":""},{"$f":"IF('AGENCY WORKFORCE'!P129=\"\",\"\",'AGENCY WORKFORCE'!P129)","v":""}]
[null,null,null,null,null,null,null,null,null,null,null,null,{"$f":"'AGENCY WORKFORCE'!M130","v":"Total  Leaders"},{"$f":"IF('AGENCY WORKFORCE'!N130=\"\",\"\",'AGENCY WORKFORCE'!N130)","v":""},{"$f":"IF('AGENCY WORKFORCE'!O130=\"\",\"\",'AGENCY WORKFORCE'!O130)","v":""},{"$f":"IF('AGENCY WORKFORCE'!P130=\"\",\"\",'AGENCY WORKFORCE'!P130)","v":""}]
[null,null,null,null,null,null,null,null,null,null,null,null,"Total Leaders with Disabilities",{"$f":"IF('AGENCY WORKFORCE'!N134=\"\",\"\",'AGENCY WORKFORCE'!N134)","v":""},{"$f":"IF('AGENCY WORKFORCE'!O134=\"\",\"\",'AGENCY WORKFORCE'!O134)","v":""},{"$f":"IF('AGENCY WORKFORCE'!P134=\"\",\"\",'AGENCY WORKFORCE'!P134)","v":""}]
[null,null,null,null,null,null,null,null,null,null,null,null,"Total Veterans Leaders",{"$f":"IF('AGENCY WORKFORCE'!N135=\"\",\"\",'AGENCY WORKFORCE'!N135)","v":""},{"$f":"IF('AGENCY WORKFORCE'!O135=\"\",\"\",'AGENCY WORKFORCE'!O135)","v":""},{"$f":"IF('AGENCY WORKFORCE'!P135=\"\",\"\",'AGENCY WORKFORCE'!P135)","v":""}]
[null,null,null,null,null,null,null,null,null,null,null,null,"Total Male Executives",{"$f":"IF('AGENCY WORKFORCE'!N146=\"\",\"\",'AGENCY WORKFORCE'!N146)","v":""},{"$f":"IF('AGENCY WORKFORCE'!O146=\"\",\"\",'AGENCY WORKFORCE'!O146)","v":""},{"$f":"IF('AGENCY WORKFORCE'!P146=\"\",\"\",'AGENCY WORKFORCE'!P146)","v":""}]
[null,null,null,null,null,null,null,null,null,null,null,null,"Total Female Executives",{"$f":"IF('AGENCY WORKFORCE'!N147=\"\",\"\",'AGENCY WORKFORCE'!N147)","v":""},{"$f":"IF('AGENCY WORKFORCE'!O147=\"\",\"\",'AGENCY WORKFORCE'!O147)","v":""},{"$f":"IF('AGENCY WORKFORCE'!P147=\"\",\"\",'AGENCY WORKFORCE'!P147)","v":""}]
[null,null,null,null,null,null,null,null,null,null,null,null,"Total American Indian or Alaskan Native Executives",{"$f":"IF('AGENCY WORKFORCE'!N151=\"\",\"\",'AGENCY WORKFORCE'!N151)","v":""},{"$f":"IF('AGENCY WORKFORCE'!O151=\"\",\"\",'AGENCY WORKFORCE'!O151)","v":""},{"$f":"IF('AGENCY WORKFORCE'!P151=\"\",\"\",'AGENCY WORKFORCE'!P151)","v":""}]
[null,null,null,null,null,null,null,null,null,null,null,null,"Total Asian Executives",{"$f":"IF('AGENCY WORKFORCE'!N152=\"\",\"\",'AGENCY WORKFORCE'!N152)","v":""},{"$f":"IF('AGENCY WORKFORCE'!O152=\"\",\"\",'AGENCY WORKFORCE'!O152)","v":""},{"$f":"IF('AGENCY WORKFORCE'!P152=\"\",\"\",'AGENCY WORKFORCE'!P152)","v":""}]
[null,null,null,null,null,null,null,null,null,null,null,null,"Total Black or African American Executives",{"$f":"IF('AGENCY WORKFORCE'!N153=\"\",\"\",'AGENCY WORKFORCE'!N153)","v":""},{"$f":"IF('AGENCY WORKFORCE'!O153=\"\",\"\",'AGENCY WORKFORCE'!O153)","v":""},{"$f":"IF('AGENCY WORKFORCE'!P153=\"\",\"\",'AGENCY WORKFORCE'!P153)","v":""}]
[null,null,null,null,null,null,null,null,null,null,null,null,"Total Hispanic or Latino Executives",{"$f":"IF('AGENCY WORKFORCE'!N154=\"\",\"\",'AGENCY WORKFORCE'!N154)","v":""},{"$f":"IF('AGENCY WORKFORCE'!O154=\"\",\"\",'AGENCY WORKFORCE'!O154)","v":""},{"$f":"IF('AGENCY WORKFORCE'!P154=\"\",\"\",'AGENCY WORKFORCE'!P154)","v":""}]
[null,null,null,null,null,null,null,null,null,null,null,null,"Total Native Hawaiian or Other Pac. Islander Executives",{"$f":"IF('AGENCY WORKFORCE'!N155=\"\",\"\",'AGENCY WORKFORCE'!N155)","v":""},{"$f":"IF('AGENCY WORKFORCE'!O155=\"\",\"\",'AGENCY WORKFORCE'!O155)","v":""},{"$f":"IF('AGENCY WORKFORCE'!P155=\"\",\"\",'AGENCY WORKFORCE'!P155)","v":""}]
[null,null,null,null,null,null,null,null,null,null,null,null,"Total White Executives",{"$f":"IF('AGENCY WORKFORCE'!N156=\"\",\"\",'AGENCY WORKFORCE'!N156)","v":""},{"$f":"IF('AGENCY WORKFORCE'!O156=\"\",\"\",'AGENCY WORKFORCE'!O156)","v":""},{"$f":"IF('AGENCY WORKFORCE'!P156=\"\",\"\",'AGENCY WORKFORCE'!P156)","v":""}]
[null,null,null,null,null,null,null,null,null,null,null,null,"Two or More Races",{"$f":"IF('AGENCY WORKFORCE'!N157=\"\",\"\",'AGENCY WORKFORCE'!N157)","v":""},{"$f":"IF('AGENCY WORKFORCE'!O157=\"\",\"\",'AGENCY WORKFORCE'!O157)","v":""},{"$f":"IF('AGENCY WORKFORCE'!P157=\"\",\"\",'AGENCY WORKFORCE'!P157)","v":""}]
[null,null,null,null,null,null,null,null,null,null,null,null,"Total Race Unknown or not Entered Executives",{"$f":"IF('AGENCY WORKFORCE'!N158=\"\",\"\",'AGENCY WORKFORCE'!N158)","v":""},{"$f":"IF('AGENCY WORKFORCE'!O158=\"\",\"\",'AGENCY WORKFORCE'!O158)","v":""},{"$f":"IF('AGENCY WORKFORCE'!P158=\"\",\"\",'AGENCY WORKFORCE'!P158)","v":""}]
[null,null,null,null,null,null,null,null,null,null,null,null,"Total Executive EEO Code Officials and Administrators",{"$f":"IF('AGENCY WORKFORCE'!N162=\"\",\"\",'AGENCY WORKFORCE'!N162)","v":""},{"$f":"IF('AGENCY WORKFORCE'!O162=\"\",\"\",'AGENCY WORKFORCE'!O162)","v":""},{"$f":"IF('AGENCY WORKFORCE'!P162=\"\",\"\",'AGENCY WORKFORCE'!P162)","v":""}]
[null,null,null,null,null,null,null,null,null,null,null,null,"Total Executive EEO Code Professionals",{"$f":"IF('AGENCY WORKFORCE'!N163=\"\",\"\",'AGENCY WORKFORCE'!N163)","v":""},{"$f":"IF('AGENCY WORKFORCE'!O163=\"\",\"\",'AGENCY WORKFORCE'!O163)","v":""},{"$f":"IF('AGENCY WORKFORCE'!P163=\"\",\"\",'AGENCY WORKFORCE'!P163)","v":""}]
[null,null,null,null,null,null,null,null,null,null,null,null,"Total Executive EEO Code Technicians",{"$f":"IF('AGENCY WORKFORCE'!N164=\"\",\"\",'AGENCY WORKFORCE'!N164)","v":""},{"$f":"IF('AGENCY WORKFORCE'!O164=\"\",\"\",'AGENCY WORKFORCE'!O164)","v":""},{"$f":"IF('AGENCY WORKFORCE'!P164=\"\",\"\",'AGENCY WORKFORCE'!P164)","v":""}]
[null,null,null,null,null,null,null,null,null,null,null,null,"Total Executive EEO Code Protective Service Workers",{"$f":"IF('AGENCY WORKFORCE'!N165=\"\",\"\",'AGENCY WORKFORCE'!N165)","v":""},{"$f":"IF('AGENCY WORKFORCE'!O165=\"\",\"\",'AGENCY WORKFORCE'!O165)","v":""},{"$f":"IF('AGENCY WORKFORCE'!P165=\"\",\"\",'AGENCY WORKFORCE'!P165)","v":""}]
[null,null,null,null,null,null,null,null,null,null,null,null,"Total Executive EEO Code Paraprofessionals",{"$f":"IF('AGENCY WORKFORCE'!N166=\"\",\"\",'AGENCY WORKFORCE'!N166)","v":""},{"$f":"IF('AGENCY WORKFORCE'!O166=\"\",\"\",'AGENCY WORKFORCE'!O166)","v":""},{"$f":"IF('AGENCY WORKFORCE'!P166=\"\",\"\",'AGENCY WORKFORCE'!P166)","v":""}]
[null,null,null,null,null,null,null,null,null,null,null,null,"Total Executive EEO Code Administrative Support",{"$f":"IF('AGENCY WORKFORCE'!N167=\"\",\"\",'AGENCY WORKFORCE'!N167)","v":""},{"$f":"IF('AGENCY WORKFORCE'!O167=\"\",\"\",'AGENCY WORKFORCE'!O167)","v":""},{"$f":"IF('AGENCY WORKFORCE'!P167=\"\",\"\",'AGENCY WORKFORCE'!P167)","v":""}]
[null,null,null,null,null,null,null,null,null,null,null,null,"Total Executive EEO Code Skilled Craft Workers",{"$f":"IF('AGENCY WORKFORCE'!N168=\"\",\"\",'AGENCY WORKFORCE'!N168)","v":""},{"$f":"IF('AGENCY WORKFORCE'!O168=\"\",\"\",'AGENCY WORKFORCE'!O168)","v":""},{"$f":"IF('AGENCY WORKFORCE'!P168=\"\",\"\",'AGENCY WORKFORCE'!P168)","v":""}]
[null,null,null,null,null,null,null,null,null,null,null,null,"Total Executive EEO Code Service/Maintenance",{"$f":"IF('AGENCY WORKFORCE'!N169=\"\",\"\",'AGENCY WORKFORCE'!N169)","v":""},{"$f":"IF('AGENCY WORKFORCE'!O169=\"\",\"\",'AGENCY WORKFORCE'!O169)","v":""},{"$f":"IF('AGENCY WORKFORCE'!P169=\"\",\"\",'AGENCY WORKFORCE'!P169)","v":""}]
[null,null,null,null,null,null,null,null,null,null,null,null,"Total Executive EEO Code Faculty",{"$f":"IF('AGENCY WORKFORCE'!N170=\"\",\"\",'AGENCY WORKFORCE'!N170)","v":""},{"$f":"IF('AGENCY WORKFORCE'!O170=\"\",\"\",'AGENCY WORKFORCE'!O170)","v":""},{"$f":"IF('AGENCY WORKFORCE'!P170=\"\",\"\",'AGENCY WORKFORCE'!P170)","v":""}]
[null,null,null,null,null,null,null,null,null,null,null,null,"Total Executive EEO Code Other",{"$f":"IF('AGENCY WORKFORCE'!N171=\"\",\"\",'AGENCY WORKFORCE'!N171)","v":""},{"$f":"IF('AGENCY WORKFORCE'!O171=\"\",\"\",'AGENCY WORKFORCE'!O171)","v":""},{"$f":"IF('AGENCY WORKFORCE'!P171=\"\",\"\",'AGENCY WORKFORCE'!P171)","v":""}]
[null,null,null,null,null,null,null,null,null,null,null,null,{"$f":"'AGENCY WORKFORCE'!M175","v":"Total  Executives"},{"$f":"IF('AGENCY WORKFORCE'!N175=\"\",\"\",'AGENCY WORKFORCE'!N175)","v":""},{"$f":"IF('AGENCY WORKFORCE'!O175=\"\",\"\",'AGENCY WORKFORCE'!O175)","v":""},{"$f":"IF('AGENCY WORKFORCE'!P175=\"\",\"\",'AGENCY WORKFORCE'!P175)","v":""}]
[null,null,null,null,null,null,null,null,null,null,null,null,{"$f":"'AGENCY WORKFORCE'!M176","v":"Total  Executives"},{"$f":"IF('AGENCY WORKFORCE'!N176=\"\",\"\",'AGENCY WORKFORCE'!N176)","v":""},{"$f":"IF('AGENCY WORKFORCE'!O176=\"\",\"\",'AGENCY WORKFORCE'!O176)","v":""},{"$f":"IF('AGENCY WORKFORCE'!P176=\"\",\"\",'AGENCY WORKFORCE'!P176)","v":""}]
[null,null,null,null,null,null,null,null,null,null,null,null,{"$f":"'AGENCY WORKFORCE'!M177","v":"Total  Executives"},{"$f":"IF('AGENCY WORKFORCE'!N177=\"\",\"\",'AGENCY WORKFORCE'!N177)","v":""},{"$f":"IF('AGENCY WORKFORCE'!O177=\"\",\"\",'AGENCY WORKFORCE'!O177)","v":""},{"$f":"IF('AGENCY WORKFORCE'!P177=\"\",\"\",'AGENCY WORKFORCE'!P177)","v":""}]
[null,null,null,null,null,null,null,null,null,null,null,null,{"$f":"'AGENCY WORKFORCE'!M178","v":"Total  Executives"},{"$f":"IF('AGENCY WORKFORCE'!N178=\"\",\"\",'AGENCY WORKFORCE'!N178)","v":""},{"$f":"IF('AGENCY WORKFORCE'!O178=\"\",\"\",'AGENCY WORKFORCE'!O178)","v":""},{"$f":"IF('AGENCY WORKFORCE'!P178=\"\",\"\",'AGENCY WORKFORCE'!P178)","v":""}]
[null,null,null,null,null,null,null,null,null,null,null,null,{"$f":"'AGENCY WORKFORCE'!M179","v":"Total  Executives"},{"$f":"IF('AGENCY WORKFORCE'!N179=\"\",\"\",'AGENCY WORKFORCE'!N179)","v":""},{"$f":"IF('AGENCY WORKFORCE'!O179=\"\",\"\",'AGENCY WORKFORCE'!O179)","v":""},{"$f":"IF('AGENCY WORKFORCE'!P179=\"\",\"\",'AGENCY WORKFORCE'!P179)","v":""}]
[null,null,null,null,null,null,null,null,null,null,null,null,{"$f":"'AGENCY WORKFORCE'!M180","v":"Total  Executives"},{"$f":"IF('AGENCY WORKFORCE'!N180=\"\",\"\",'AGENCY WORKFORCE'!N180)","v":""},{"$f":"IF('AGENCY WORKFORCE'!O180=\"\",\"\",'AGENCY WORKFORCE'!O180)","v":""},{"$f":"IF('AGENCY WORKFORCE'!P180=\"\",\"\",'AGENCY WORKFORCE'!P180)","v":""}]
[null,null,null,null,null,null,null,null,null,null,null,null,{"$f":"'AGENCY WORKFORCE'!M181","v":"Total  Executives"},{"$f":"IF('AGENCY WORKFORCE'!N181=\"\",\"\",'AGENCY WORKFORCE'!N181)","v":""},{"$f":"IF('AGENCY WORKFORCE'!O181=\"\",\"\",'AGENCY WORKFORCE'!O181)","v":""},{"$f":"IF('AGENCY WORKFORCE'!P181=\"\",\"\",'AGENCY WORKFORCE'!P181)","v":""}]
[null,null,null,null,null,null,null,null,null,null,null,null,{"$f":"'AGENCY WORKFORCE'!M182","v":"Total  Executives"},{"$f":"IF('AGENCY WORKFORCE'!N182=\"\",\"\",'AGENCY WORKFORCE'!N182)","v":""},{"$f":"IF('AGENCY WORKFORCE'!O182=\"\",\"\",'AGENCY WORKFORCE'!O182)","v":""},{"$f":"IF('AGENCY WORKFORCE'!P182=\"\",\"\",'AGENCY WORKFORCE'!P182)","v":""}]
[null,null,null,null,null,null,null,null,null,null,null,null,{"$f":"'AGENCY WORKFORCE'!M183","v":"Total  Executives"},{"$f":"IF('AGENCY WORKFORCE'!N183=\"\",\"\",'AGENCY WORKFORCE'!N183)","v":""},{"$f":"IF('AGENCY WORKFORCE'!O183=\"\",\"\",'AGENCY WORKFORCE'!O183)","v":""},{"$f":"IF('AGENCY WORKFORCE'!P183=\"\",\"\",'AGENCY WORKFORCE'!P183)","v":""}]
[null,null,null,null,null,null,null,null,null,null,null,null,{"$f":"'AGENCY WORKFORCE'!M184","v":"Total  Executives"},{"$f":"IF('AGENCY WORKFORCE'!N184=\"\",\"\",'AGENCY WORKFORCE'!N184)","v":""},{"$f":"IF('AGENCY WORKFORCE'!O184=\"\",\"\",'AGENCY WORKFORCE'!O184)","v":""},{"$f":"IF('AGENCY WORKFORCE'!P184=\"\",\"\",'AGENCY WORKFORCE'!P184)","v":""}]
[null,null,null,null,null,null,null,null,null,null,null,null,{"$f":"'AGENCY WORKFORCE'!M185","v":"Total  Executives"},{"$f":"IF('AGENCY WORKFORCE'!N185=\"\",\"\",'AGENCY WORKFORCE'!N185)","v":""},{"$f":"IF('AGENCY WORKFORCE'!O185=\"\",\"\",'AGENCY WORKFORCE'!O185)","v":""},{"$f":"IF('AGENCY WORKFORCE'!P185=\"\",\"\",'AGENCY WORKFORCE'!P185)","v":""}]
[null,null,null,null,null,null,null,null,null,null,null,null,{"$f":"'AGENCY WORKFORCE'!M186","v":"Total  Executives"},{"$f":"IF('AGENCY WORKFORCE'!N186=\"\",\"\",'AGENCY WORKFORCE'!N186)","v":""},{"$f":"IF('AGENCY WORKFORCE'!O186=\"\",\"\",'AGENCY WORKFORCE'!O186)","v":""},{"$f":"IF('AGENCY WORKFORCE'!P186=\"\",\"\",'AGENCY WORKFORCE'!P186)","v":""}]
[null,null,null,null,null,null,null,null,null,null,null,null,{"$f":"'AGENCY WORKFORCE'!M187","v":"Total  Executives"},{"$f":"IF('AGENCY WORKFORCE'!N187=\"\",\"\",'AGENCY WORKFORCE'!N187)","v":""},{"$f":"IF('AGENCY WORKFORCE'!O187=\"\",\"\",'AGENCY WORKFORCE'!O187)","v":""},{"$f":"IF('AGENCY WORKFORCE'!P187=\"\",\"\",'AGENCY WORKFORCE'!P187)","v":""}]
[null,null,null,null,null,null,null,null,null,null,null,null,{"$f":"'AGENCY WORKFORCE'!M188","v":"Total  Executives"},{"$f":"IF('AGENCY WORKFORCE'!N188=\"\",\"\",'AGENCY WORKFORCE'!N188)","v":""},{"$f":"IF('AGENCY WORKFORCE'!O188=\"\",\"\",'AGENCY WORKFORCE'!O188)","v":""},{"$f":"IF('AGENCY WORKFORCE'!P188=\"\",\"\",'AGENCY WORKFORCE'!P188)","v":""}]
[null,null,null,null,null,null,null,null,null,null,null,null,{"$f":"'AGENCY WORKFORCE'!M189","v":"Total  Executives"},{"$f":"IF('AGENCY WORKFORCE'!N189=\"\",\"\",'AGENCY WORKFORCE'!N189)","v":""},{"$f":"IF('AGENCY WORKFORCE'!O189=\"\",\"\",'AGENCY WORKFORCE'!O189)","v":""},{"$f":"IF('AGENCY WORKFORCE'!P189=\"\",\"\",'AGENCY WORKFORCE'!P189)","v":""}]
[null,null,null,null,null,null,null,null,null,null,null,null,"Total Executives with Disabilities",{"$f":"IF('AGENCY WORKFORCE'!N193=\"\",\"\",'AGENCY WORKFORCE'!N193)","v":""},{"$f":"IF('AGENCY WORKFORCE'!O193=\"\",\"\",'AGENCY WORKFORCE'!O193)","v":""},{"$f":"IF('AGENCY WORKFORCE'!P193=\"\",\"\",'AGENCY WORKFORCE'!P193)","v":""}]
[null,null,null,null,null,null,null,null,null,null,null,null,"Total Veterans",{"$f":"IF('AGENCY WORKFORCE'!N194=\"\",\"\",'AGENCY WORKFORCE'!N194)","v":""},{"$f":"IF('AGENCY WORKFORCE'!O194=\"\",\"\",'AGENCY WORKFORCE'!O194)","v":""},{"$f":"IF('AGENCY WORKFORCE'!P194=\"\",\"\",'AGENCY WORKFORCE'!P194)","v":""}]
[null,null,null,null,null,null,null,null,null,null,null,null,"Total Employees with Disabilities EEO Code Officials and Administrators",{"$f":"IF('AGENCY WORKFORCE'!N204=\"\",\"\",'AGENCY WORKFORCE'!N204)","v":""},{"$f":"IF('AGENCY WORKFORCE'!O204=\"\",\"\",'AGENCY WORKFORCE'!O204)","v":""},{"$f":"IF('AGENCY WORKFORCE'!P204=\"\",\"\",'AGENCY WORKFORCE'!P204)","v":""}]
[null,null,null,null,null,null,null,null,null,null,null,null,"Total Employees with Disabilities EEO Code Professionals",{"$f":"IF('AGENCY WORKFORCE'!N205=\"\",\"\",'AGENCY WORKFORCE'!N205)","v":""},{"$f":"IF('AGENCY WORKFORCE'!O205=\"\",\"\",'AGENCY WORKFORCE'!O205)","v":""},{"$f":"IF('AGENCY WORKFORCE'!P205=\"\",\"\",'AGENCY WORKFORCE'!P205)","v":""}]
[null,null,null,null,null,null,null,null,null,null,null,null,"Total Employees with Disabilities EEO Code Technicians",{"$f":"IF('AGENCY WORKFORCE'!N206=\"\",\"\",'AGENCY WORKFORCE'!N206)","v":""},{"$f":"IF('AGENCY WORKFORCE'!O206=\"\",\"\",'AGENCY WORKFORCE'!O206)","v":""},{"$f":"IF('AGENCY WORKFORCE'!P206=\"\",\"\",'AGENCY WORKFORCE'!P206)","v":""}]
[null,null,null,null,null,null,null,null,null,null,null,null,"Total Employees with Disabilities EEO Code Protective Service Workers",{"$f":"IF('AGENCY WORKFORCE'!N207=\"\",\"\",'AGENCY WORKFORCE'!N207)","v":""},{"$f":"IF('AGENCY WORKFORCE'!O207=\"\",\"\",'AGENCY WORKFORCE'!O207)","v":""},{"$f":"IF('AGENCY WORKFORCE'!P207=\"\",\"\",'AGENCY WORKFORCE'!P207)","v":""}]
[null,null,null,null,null,null,null,null,null,null,null,null,"Total Employees with Disabilities EEO Code Paraprofessionals",{"$f":"IF('AGENCY WORKFORCE'!N208=\"\",\"\",'AGENCY WORKFORCE'!N208)","v":""},{"$f":"IF('AGENCY WORKFORCE'!O208=\"\",\"\",'AGENCY WORKFORCE'!O208)","v":""},{"$f":"IF('AGENCY WORKFORCE'!P208=\"\",\"\",'AGENCY WORKFORCE'!P208)","v":""}]
[null,null,null,null,null,null,null,null,null,null,null,null,"Total Employees with Disabilities EEO Code Administrative Support",{"$f":"IF('AGENCY WORKFORCE'!N209=\"\",\"\",'AGENCY WORKFORCE'!N209)","v":""},{"$f":"IF('AGENCY WORKFORCE'!O209=\"\",\"\",'AGENCY WORKFORCE'!O209)","v":""},{"$f":"IF('AGENCY WORKFORCE'!P209=\"\",\"\",'AGENCY WORKFORCE'!P209)","v":""}]
[null,null,null,null,null,null,null,null,null,null,null,null,"Total Employees with Disabilities EEO Code Skilled Craft Workers",{"$f":"IF('AGENCY WORKFORCE'!N210=\"\",\"\",'AGENCY WORKFORCE'!N210)","v":""},{"$f":"IF('AGENCY WORKFORCE'!O210=\"\",\"\",'AGENCY WORKFORCE'!O210)","v":""},{"$f":"IF('AGENCY WORKFORCE'!P210=\"\",\"\",'AGENCY WORKFORCE'!P210)","v":""}]
[null,null,null,null,null,null,null,null,null,null,null,null,"Total Employees with Disabilities EEO Code Service/Maintenance",{"$f":"IF('AGENCY WORKFORCE'!N211=\"\",\"\",'AGENCY WORKFORCE'!N211)","v":""},{"$f":"IF('AGENCY WORKFORCE'!O211=\"\",\"\",'AGENCY WORKFORCE'!O211)","v":""},{"$f":"IF('AGENCY WORKFORCE'!P211=\"\",\"\",'AGENCY WORKFORCE'!P211)","v":""}]
[null,null,null,null,null,null,null,null,null,null,null,null,"Total Employees with Disabilities EEO Code Faculty",{"$f":"IF('AGENCY WORKFORCE'!N212=\"\",\"\",'AGENCY WORKFORCE'!N212)","v":""},{"$f":"IF('AGENCY WORKFORCE'!O212=\"\",\"\",'AGENCY WORKFORCE'!O212)","v":""},{"$f":"IF('AGENCY WORKFORCE'!P212=\"\",\"\",'AGENCY WORKFORCE'!P212)","v":""}]
[null,null,null,null,null,null,null,null,null,null,null,null,"Total Employees with Disabilities EEO Code Other",{"$f":"IF('AGENCY WORKFORCE'!N213=\"\",\"\",'AGENCY WORKFORCE'!N213)","v":""},{"$f":"IF('AGENCY WORKFORCE'!O213=\"\",\"\",'AGENCY WORKFORCE'!O213)","v":""},{"$f":"IF('AGENCY WORKFORCE'!P213=\"\",\"\",'AGENCY WORKFORCE'!P213)","v":""}]
[null,null,null,null,null,null,null,null,null,null,null,null,{"$f":"'AGENCY WORKFORCE'!M217","v":"Total  Employees with Disabilities"},{"$f":"IF('AGENCY WORKFORCE'!N217=\"\",\"\",'AGENCY WORKFORCE'!N217)","v":""},{"$f":"IF('AGENCY WORKFORCE'!O217=\"\",\"\",'AGENCY WORKFORCE'!O217)","v":""},{"$f":"IF('AGENCY WORKFORCE'!P217=\"\",\"\",'AGENCY WORKFORCE'!P217)","v":""}]
[null,null,null,null,null,null,null,null,null,null,null,null,{"$f":"'AGENCY WORKFORCE'!M218","v":"Total  Employees with Disabilities"},{"$f":"IF('AGENCY WORKFORCE'!N218=\"\",\"\",'AGENCY WORKFORCE'!N218)","v":""},{"$f":"IF('AGENCY WORKFORCE'!O218=\"\",\"\",'AGENCY WORKFORCE'!O218)","v":""},{"$f":"IF('AGENCY WORKFORCE'!P218=\"\",\"\",'AGENCY WORKFORCE'!P218)","v":""}]
[null,null,null,null,null,null,null,null,null,null,null,null,{"$f":"'AGENCY WORKFORCE'!M219","v":"Total  Employees with Disabilities"},{"$f":"IF('AGENCY WORKFORCE'!N219=\"\",\"\",'AGENCY WORKFORCE'!N219)","v":""},{"$f":"IF('AGENCY WORKFORCE'!O219=\"\",\"\",'AGENCY WORKFORCE'!O219)","v":""},{"$f":"IF('AGENCY WORKFORCE'!P219=\"\",\"\",'AGENCY WORKFORCE'!P219)","v":""}]
[null,null,null,null,null,null,null,null,null,null,null,null,{"$f":"'AGENCY WORKFORCE'!M220","v":"Total  Employees with Disabilities"},{"$f":"IF('AGENCY WORKFORCE'!N220=\"\",\"\",'AGENCY WORKFORCE'!N220)","v":""},{"$f":"IF('AGENCY WORKFORCE'!O220=\"\",\"\",'AGENCY WORKFORCE'!O220)","v":""},{"$f":"IF('AGENCY WORKFORCE'!P220=\"\",\"\",'AGENCY WORKFORCE'!P220)","v":""}]
[null,null,null,null,null,null,null,null,null,null,null,null,{"$f":"'AGENCY WORKFORCE'!M221","v":"Total  Employees with Disabilities"},{"$f":"IF('AGENCY WORKFORCE'!N221=\"\",\"\",'AGENCY WORKFORCE'!N221)","v":""},{"$f":"IF('AGENCY WORKFORCE'!O221=\"\",\"\",'AGENCY WORKFORCE'!O221)","v":""},{"$f":"IF('AGENCY WORKFORCE'!P221=\"\",\"\",'AGENCY WORKFORCE'!P221)","v":""}]
[null,null,null,null,null,null,null,null,null,null,null,null,{"$f":"'AGENCY WORKFORCE'!M222","v":"Total  Employees with Disabilities"},{"$f":"IF('AGENCY WORKFORCE'!N222=\"\",\"\",'AGENCY WORKFORCE'!N222)","v":""},{"$f":"IF('AGENCY WORKFORCE'!O222=\"\",\"\",'AGENCY WORKFORCE'!O222)","v":""},{"$f":"IF('AGENCY WORKFORCE'!P222=\"\",\"\",'AGENCY WORKFORCE'!P222)","v":""}]
[null,null,null,null,null,null,null,null,null,null,null,null,{"$f":"'AGENCY WORKFORCE'!M223","v":"Total  Employees with Disabilities"},{"$f":"IF('AGENCY WORKFORCE'!N223=\"\",\"\",'AGENCY WORKFORCE'!N223)","v":""},{"$f":"IF('AGENCY WORKFORCE'!O223=\"\",\"\",'AGENCY WORKFORCE'!O223)","v":""},{"$f":"IF('AGENCY WORKFORCE'!P223=\"\",\"\",'AGENCY WORKFORCE'!P223)","v":""}]
[null,null,null,null,null,null,null,null,null,null,null,null,{"$f":"'AGENCY WORKFORCE'!M224","v":"Total  Employees with Disabilities"},{"$f":"IF('AGENCY WORKFORCE'!N224=\"\",\"\",'AGENCY WORKFORCE'!N224)","v":""},{"$f":"IF('AGENCY WORKFORCE'!O224=\"\",\"\",'AGENCY WORKFORCE'!O224)","v":""},{"$f":"IF('AGENCY WORKFORCE'!P224=\"\",\"\",'AGENCY WORKFORCE'!P224)","v":""}]
[null,null,null,null,null,null,null,null,null,null,null,null,{"$f":"'AGENCY WORKFORCE'!M225","v":"Total  Employees with Disabilities"},{"$f":"IF('AGENCY WORKFORCE'!N225=\"\",\"\",'AGENCY WORKFORCE'!N225)","v":""},{"$f":"IF('AGENCY WORKFORCE'!O225=\"\",\"\",'AGENCY WORKFORCE'!O225)","v":""},{"$f":"IF('AGENCY WORKFORCE'!P225=\"\",\"\",'AGENCY WORKFORCE'!P225)","v":""}]
[null,null,null,null,null,null,null,null,null,null,null,null,{"$f":"'AGENCY WORKFORCE'!M226","v":"Total  Employees with Disabilities"},{"$f":"IF('AGENCY WORKFORCE'!N226=\"\",\"\",'AGENCY WORKFORCE'!N226)","v":""},{"$f":"IF('AGENCY WORKFORCE'!O226=\"\",\"\",'AGENCY WORKFORCE'!O226)","v":""},{"$f":"IF('AGENCY WORKFORCE'!P226=\"\",\"\",'AGENCY WORKFORCE'!P226)","v":""}]
[null,null,null,null,null,null,null,null,null,null,null,null,{"$f":"'AGENCY WORKFORCE'!M227","v":"Total  Employees with Disabilities"},{"$f":"IF('AGENCY WORKFORCE'!N227=\"\",\"\",'AGENCY WORKFORCE'!N227)","v":""},{"$f":"IF('AGENCY WORKFORCE'!O227=\"\",\"\",'AGENCY WORKFORCE'!O227)","v":""},{"$f":"IF('AGENCY WORKFORCE'!P227=\"\",\"\",'AGENCY WORKFORCE'!P227)","v":""}]
[null,null,null,null,null,null,null,null,null,null,null,null,{"$f":"'AGENCY WORKFORCE'!M228","v":"Total  Employees with Disabilities"},{"$f":"IF('AGENCY WORKFORCE'!N228=\"\",\"\",'AGENCY WORKFORCE'!N228)","v":""},{"$f":"IF('AGENCY WORKFORCE'!O228=\"\",\"\",'AGENCY WORKFORCE'!O228)","v":""},{"$f":"IF('AGENCY WORKFORCE'!P228=\"\",\"\",'AGENCY WORKFORCE'!P228)","v":""}]
[null,null,null,null,null,null,null,null,null,null,null,null,{"$f":"'AGENCY WORKFORCE'!M229","v":"Total  Employees with Disabilities"},{"$f":"IF('AGENCY WORKFORCE'!N229=\"\",\"\",'AGENCY WORKFORCE'!N229)","v":""},{"$f":"IF('AGENCY WORKFORCE'!O229=\"\",\"\",'AGENCY WORKFORCE'!O229)","v":""},{"$f":"IF('AGENCY WORKFORCE'!P229=\"\",\"\",'AGENCY WORKFORCE'!P229)","v":""}]
[null,null,null,null,null,null,null,null,null,null,null,null,{"$f":"'AGENCY WORKFORCE'!M230","v":"Total  Employees with Disabilities"},{"$f":"IF('AGENCY WORKFORCE'!N230=\"\",\"\",'AGENCY WORKFORCE'!N230)","v":""},{"$f":"IF('AGENCY WORKFORCE'!O230=\"\",\"\",'AGENCY WORKFORCE'!O230)","v":""},{"$f":"IF('AGENCY WORKFORCE'!P230=\"\",\"\",'AGENCY WORKFORCE'!P230)","v":""}]
[null,null,null,null,null,null,null,null,null,null,null,null,{"$f":"'AGENCY WORKFORCE'!M231","v":"Total  Employees with Disabilities"},{"$f":"IF('AGENCY WORKFORCE'!N231=\"\",\"\",'AGENCY WORKFORCE'!N231)","v":""},{"$f":"IF('AGENCY WORKFORCE'!O231=\"\",\"\",'AGENCY WORKFORCE'!O231)","v":""},{"$f":"IF('AGENCY WORKFORCE'!P231=\"\",\"\",'AGENCY WORKFORCE'!P231)","v":""}]
[null,null,null,null,null,null,null,null,null,null,null,null,"Total Veteran EEO Code Officials and Administrators",{"$f":"IF('AGENCY WORKFORCE'!N241=\"\",\"\",'AGENCY WORKFORCE'!N241)","v":""},{"$f":"IF('AGENCY WORKFORCE'!O241=\"\",\"\",'AGENCY WORKFORCE'!O241)","v":""},{"$f":"IF('AGENCY WORKFORCE'!P241=\"\",\"\",'AGENCY WORKFORCE'!P241)","v":""}]
[null,null,null,null,null,null,null,null,null,null,null,null,"Total Veteran EEO Code Professionals",{"$f":"IF('AGENCY WORKFORCE'!N242=\"\",\"\",'AGENCY WORKFORCE'!N242)","v":""},{"$f":"IF('AGENCY WORKFORCE'!O242=\"\",\"\",'AGENCY WORKFORCE'!O242)","v":""},{"$f":"IF('AGENCY WORKFORCE'!P242=\"\",\"\",'AGENCY WORKFORCE'!P242)","v":""}]
[null,null,null,null,null,null,null,null,null,null,null,null,"Total Veteran EEO Code Technicians",{"$f":"IF('AGENCY WORKFORCE'!N243=\"\",\"\",'AGENCY WORKFORCE'!N243)","v":""},{"$f":"IF('AGENCY WORKFORCE'!O243=\"\",\"\",'AGENCY WORKFORCE'!O243)","v":""},{"$f":"IF('AGENCY WORKFORCE'!P243=\"\",\"\",'AGENCY WORKFORCE'!P243)","v":""}]
[null,null,null,null,null,null,null,null,null,null,null,null,"Total Veteran EEO Code Protective Service Workers",{"$f":"IF('AGENCY WORKFORCE'!N244=\"\",\"\",'AGENCY WORKFORCE'!N244)","v":""},{"$f":"IF('AGENCY WORKFORCE'!O244=\"\",\"\",'AGENCY WORKFORCE'!O244)","v":""},{"$f":"IF('AGENCY WORKFORCE'!P244=\"\",\"\",'AGENCY WORKFORCE'!P244)","v":""}]
[null,null,null,null,null,null,null,null,null,null,null,null,"Total Veteran EEO Code Paraprofessionals",{"$f":"IF('AGENCY WORKFORCE'!N245=\"\",\"\",'AGENCY WORKFORCE'!N245)","v":""},{"$f":"IF('AGENCY WORKFORCE'!O245=\"\",\"\",'AGENCY WORKFORCE'!O245)","v":""},{"$f":"IF('AGENCY WORKFORCE'!P245=\"\",\"\",'AGENCY WORKFORCE'!P245)","v":""}]
[null,null,null,null,null,null,null,null,null,null,null,null,"Total Veteran EEO Code Administrative Support",{"$f":"IF('AGENCY WORKFORCE'!N246=\"\",\"\",'AGENCY WORKFORCE'!N246)","v":""},{"$f":"IF('AGENCY WORKFORCE'!O246=\"\",\"\",'AGENCY WORKFORCE'!O246)","v":""},{"$f":"IF('AGENCY WORKFORCE'!P246=\"\",\"\",'AGENCY WORKFORCE'!P246)","v":""}]
[null,null,null,null,null,null,null,null,null,null,null,null,"Total Veteran EEO Code Skilled Craft Workers",{"$f":"IF('AGENCY WORKFORCE'!N247=\"\",\"\",'AGENCY WORKFORCE'!N247)","v":""},{"$f":"IF('AGENCY WORKFORCE'!O247=\"\",\"\",'AGENCY WORKFORCE'!O247)","v":""},{"$f":"IF('AGENCY WORKFORCE'!P247=\"\",\"\",'AGENCY WORKFORCE'!P247)","v":""}]
[null,null,null,null,null,null,null,null,null,null,null,null,"Total Veteran EEO Code Service/Maintenance",{"$f":"IF('AGENCY WORKFORCE'!N248=\"\",\"\",'AGENCY WORKFORCE'!N248)","v":""},{"$f":"IF('AGENCY WORKFORCE'!O248=\"\",\"\",'AGENCY WORKFORCE'!O248)","v":""},{"$f":"IF('AGENCY WORKFORCE'!P248=\"\",\"\",'AGENCY WORKFORCE'!P248)","v":""}]
[null,null,null,null,null,null,null,null,null,null,null,null,"Total Veteran EEO Code Faculty",{"$f":"IF('AGENCY WORKFORCE'!N249=\"\",\"\",'AGENCY WORKFORCE'!N249)","v":""},{"$f":"IF('AGENCY WORKFORCE'!O249=\"\",\"\",'AGENCY WORKFORCE'!O249)","v":""},{"$f":"IF('AGENCY WORKFORCE'!P249=\"\",\"\",'AGENCY WORKFORCE'!P249)","v":""}]
[null,null,null,null,null,null,null,null,null,null,null,null,"Total Veteran EEO Code Other",{"$f":"IF('AGENCY WORKFORCE'!N250=\"\",\"\",'AGENCY WORKFORCE'!N250)","v":""},{"$f":"IF('AGENCY WORKFORCE'!O250=\"\",\"\",'AGENCY WORKFORCE'!O250)","v":""},{"$f":"IF('AGENCY WORKFORCE'!P250=\"\",\"\",'AGENCY WORKFORCE'!P250)","v":""}]
[null,null,null,null,null,null,null,null,null,null,null,null,{"$f":"'AGENCY WORKFORCE'!M254","v":"Total  Veterans"},{"$f":"IF('AGENCY WORKFORCE'!N254=\"\",\"\",'AGENCY WORKFORCE'!N254)","v":""},{"$f":"IF('AGENCY WORKFORCE'!O254=\"\",\"\",'AGENCY WORKFORCE'!O254)","v":""},{"$f":"IF('AGENCY WORKFORCE'!P254=\"\",\"\",'AGENCY WORKFORCE'!P254)","v":""}]
[null,null,null,null,null,null,null,null,null,null,null,null,{"$f":"'AGENCY WORKFORCE'!M255","v":"Total  Veterans"},{"$f":"IF('AGENCY WORKFORCE'!N255=\"\",\"\",'AGENCY WORKFORCE'!N255)","v":""},{"$f":"IF('AGENCY WORKFORCE'!O255=\"\",\"\",'AGENCY WORKFORCE'!O255)","v":""},{"$f":"IF('AGENCY WORKFORCE'!P255=\"\",\"\",'AGENCY WORKFORCE'!P255)","v":""}]
[null,null,null,null,null,null,null,null,null,null,null,null,{"$f":"'AGENCY WORKFORCE'!M256","v":"Total  Veterans"},{"$f":"IF('AGENCY WORKFORCE'!N256=\"\",\"\",'AGENCY WORKFORCE'!N256)","v":""},{"$f":"IF('AGENCY WORKFORCE'!O256=\"\",\"\",'AGENCY WORKFORCE'!O256)","v":""},{"$f":"IF('AGENCY WORKFORCE'!P256=\"\",\"\",'AGENCY WORKFORCE'!P256)","v":""}]
[null,null,null,null,null,null,null,null,null,null,null,null,{"$f":"'AGENCY WORKFORCE'!M257","v":"Total  Veterans"},{"$f":"IF('AGENCY WORKFORCE'!N257=\"\",\"\",'AGENCY WORKFORCE'!N257)","v":""},{"$f":"IF('AGENCY WORKFORCE'!O257=\"\",\"\",'AGENCY WORKFORCE'!O257)","v":""},{"$f":"IF('AGENCY WORKFORCE'!P257=\"\",\"\",'AGENCY WORKFORCE'!P257)","v":""}]
[null,null,null,null,null,null,null,null,null,null,null,null,{"$f":"'AGENCY WORKFORCE'!M258","v":"Total  Veterans"},{"$f":"IF('AGENCY WORKFORCE'!N258=\"\",\"\",'AGENCY WORKFORCE'!N258)","v":""},{"$f":"IF('AGENCY WORKFORCE'!O258=\"\",\"\",'AGENCY WORKFORCE'!O258)","v":""},{"$f":"IF('AGENCY WORKFORCE'!P258=\"\",\"\",'AGENCY WORKFORCE'!P258)","v":""}]
[null,null,null,null,null,null,null,null,null,null,null,null,{"$f":"'AGENCY WORKFORCE'!M259","v":"Total  Veterans"},{"$f":"IF('AGENCY WORKFORCE'!N259=\"\",\"\",'AGENCY WORKFORCE'!N259)","v":""},{"$f":"IF('AGENCY WORKFORCE'!O259=\"\",\"\",'AGENCY WORKFORCE'!O259)","v":""},{"$f":"IF('AGENCY WORKFORCE'!P259=\"\",\"\",'AGENCY WORKFORCE'!P259)","v":""}]
[null,null,null,null,null,null,null,null,null,null,null,null,{"$f":"'AGENCY WORKFORCE'!M260","v":"Total  Veterans"},{"$f":"IF('AGENCY WORKFORCE'!N260=\"\",\"\",'AGENCY WORKFORCE'!N260)","v":""},{"$f":"IF('AGENCY WORKFORCE'!O260=\"\",\"\",'AGENCY WORKFORCE'!O260)","v":""},{"$f":"IF('AGENCY WORKFORCE'!P260=\"\",\"\",'AGENCY WORKFORCE'!P260)","v":""}]
[null,null,null,null,null,null,null,null,null,null,null,null,{"$f":"'AGENCY WORKFORCE'!M261","v":"Total  Veterans"},{"$f":"IF('AGENCY WORKFORCE'!N261=\"\",\"\",'AGENCY WORKFORCE'!N261)","v":""},{"$f":"IF('AGENCY WORKFORCE'!O261=\"\",\"\",'AGENCY WORKFORCE'!O261)","v":""},{"$f":"IF('AGENCY WORKFORCE'!P261=\"\",\"\",'AGENCY WORKFORCE'!P261)","v":""}]
[null,null,null,null,null,null,null,null,null,null,null,null,{"$f":"'AGENCY WORKFORCE'!M262","v":"Total  Veterans"},{"$f":"IF('AGENCY WORKFORCE'!N262=\"\",\"\",'AGENCY WORKFORCE'!N262)","v":""},{"$f":"IF('AGENCY WORKFORCE'!O262=\"\",\"\",'AGENCY WORKFORCE'!O262)","v":""},{"$f":"IF('AGENCY WORKFORCE'!P262=\"\",\"\",'AGENCY WORKFORCE'!P262)","v":""}]
[null,null,null,null,null,null,null,null,null,null,null,null,{"$f":"'AGENCY WORKFORCE'!M263","v":"Total  Veterans"},{"$f":"IF('AGENCY WORKFORCE'!N263=\"\",\"\",'AGENCY WORKFORCE'!N263)","v":""},{"$f":"IF('AGENCY WORKFORCE'!O263=\"\",\"\",'AGENCY WORKFORCE'!O263)","v":""},{"$f":"IF('AGENCY WORKFORCE'!P263=\"\",\"\",'AGENCY WORKFORCE'!P263)","v":""}]
[null,null,null,null,null,null,null,null,null,null,null,null,{"$f":"'AGENCY WORKFORCE'!M264","v":"Total  Veterans"},{"$f":"IF('AGENCY WORKFORCE'!N264=\"\",\"\",'AGENCY WORKFORCE'!N264)","v":""},{"$f":"IF('AGENCY WORKFORCE'!O264=\"\",\"\",'AGENCY WORKFORCE'!O264)","v":""},{"$f":"IF('AGENCY WORKFORCE'!P264=\"\",\"\",'AGENCY WORKFORCE'!P264)","v":""}]
[null,null,null,null,null,null,null,null,null,null,null,null,{"$f":"'AGENCY WORKFORCE'!M265","v":"Total  Veterans"},{"$f":"IF('AGENCY WORKFORCE'!N265=\"\",\"\",'AGENCY WORKFORCE'!N265)","v":""},{"$f":"IF('AGENCY WORKFORCE'!O265=\"\",\"\",'AGENCY WORKFORCE'!O265)","v":""},{"$f":"IF('AGENCY WORKFORCE'!P265=\"\",\"\",'AGENCY WORKFORCE'!P265)","v":""}]
[null,null,null,null,null,null,null,null,null,null,null,null,{"$f":"'AGENCY WORKFORCE'!M266","v":"Total  Veterans"},{"$f":"IF('AGENCY WORKFORCE'!N266=\"\",\"\",'AGENCY WORKFORCE'!N266)","v":""},{"$f":"IF('AGENCY WORKFORCE'!O266=\"\",\"\",'AGENCY WORKFORCE'!O266)","v":""},{"$f":"IF('AGENCY WORKFORCE'!P266=\"\",\"\",'AGENCY WORKFORCE'!P266)","v":""}]
[null,null,null,null,null,null,null,null,null,null,null,null,{"$f":"'AGENCY WORKFORCE'!M267","v":"Total  Veterans"},{"$f":"IF('AGENCY WORKFORCE'!N267=\"\",\"\",'AGENCY WORKFORCE'!N267)","v":""},{"$f":"IF('AGENCY WORKFORCE'!O267=\"\",\"\",'AGENCY WORKFORCE'!O267)","v":""},{"$f":"IF('AGENCY WORKFORCE'!P267=\"\",\"\",'AGENCY WORKFORCE'!P267)","v":""}]
[null,null,null,null,null,null,null,null,null,null,null,null,{"$f":"'AGENCY WORKFORCE'!M268","v":"Total  Veterans"},{"$f":"IF('AGENCY WORKFORCE'!N268=\"\",\"\",'AGENCY WORKFORCE'!N268)","v":""},{"$f":"IF('AGENCY WORKFORCE'!O268=\"\",\"\",'AGENCY WORKFORCE'!O268)","v":""},{"$f":"IF('AGENCY WORKFORCE'!P268=\"\",\"\",'AGENCY WORKFORCE'!P268)","v":""}]

{"sheet":"INTERNAL TOOL SETTINGS","index":15,"n_rows":1,"n_cols":91,"rows_kept":1,"cut":false,"hidden":true,"merged":[]}
["Name","Add Data","Agency Name","Agency Mission","All Positions","Leader Positions","Executive Positions","Employee Demographics","Leader Demographics","Executive Demographics","Employee with Disabilities Demographics","Veteran Demographics","Critical Roles","Critical Roles Assessment","Retirements","Leader Critical Roles","Leader Retirements","Executive Details","Executive Critical Roles","Executive Retirements","COO SWOT","COO Risk/Prep/Needs","Filled Positions","Vacant Positions","Applicants","Applicant Demographics","Hires","Hire Demographics","Fiscal Year Time to Fill","Quarterly Time to Fill","Leader Filled Positions","Leader Vacant Positions","Leader Applicants","Leader Applicant Demographics","Leader Hires","Leader Hire Demographics","Leader FY Time to Fill","Leader Quarterly Time to Fill","Executive Filled Positions","Executive Vacant Positions","Executive Applicants","Executive Applicant Demographics","Executive Hires","Executive Hire Demographics","Executive FY Time to Fill","Executive Quarterly Time to Fill","Recruitment SWOT","Recruitment Risk/Prep/Needs","All Average Years of Service ","All Internal Promotions / Transfers","All External Transfers / Voluntary Separations","All Leader","All Exec","All Demo","F5Y Average Years of Service ","F5Y All Internal Promotions/Transfers","F5Y All External Transfers/Separations","F5Y Leader","F5Y Exec","F5Y Demographics","FY All Average Years of Service ","FY All Internal Promotions","FY All External Transfers","FY Leader","FY Executive","FY Demographics","Exit Survey Information","Agency Survey","Engagement Events","Employee Recognition","Retention SWOT","Retention Risk/Prep/Needs","Internships","Internship Demographics","Development Programs","Development Demographics","Critical Role Development","Critical Role Dev Demographics","Retirement Development","Retirement Dev Demographics","Executive Development","Executive Development Demographics","Dev Support","Dev Support Demo","Devleopment SWOT","Development Risk/Prep/Needs","Future Direction Objectives","Future Direction Actions Items","Future Direction Needs","Workforce Strategy","WFP Summary"]